{"text_format":"1","workbook":"xlsx","n_sheets":25,"sheets":["NOMBRE","A01","A02","A03","A04","A05","A06","A07","A08","A09","A11","A19a","A19b","A21","A23","A24","A25","A26","A27","A28","A29","A30","A31","Contro","MACROS"],"not_rendered":{"charts":0,"images":0,"macros":1,"external_links":0,"defined_names":2,"comments":5,"pivot_tables":0},"unopened":[],"bounds":{"document_bytes":16777216,"sheet_cells":100000,"rows_first":2000,"rows_last":500,"rows_between":2000,"halvings":0,"cell_chars":16384,"cell_head_chars":4096},"cells_cut":0,"cells_raw":0,"read":"whole","date_system":"1900"}

{"sheet":"NOMBRE","index":0,"n_rows":40,"n_cols":33,"rows_kept":40,"cut":false,"hidden":false,"merged":[[0,2,0,7],[16,1,18,1],[0,0,0,1],[8,0,8,1],[14,0,14,1],[8,6,13,9],[16,6,16,9]]}
["DATOS DEL ESTABLECIMIENTO",null,"CÓDIGOS"]
["NOMBRE DE COMUNA",null,null,null,null,null,null,null,{"$f":"IF(OR(NOMBRE!C2=\"\",NOMBRE!D2=\"\",NOMBRE!E2=\"\",NOMBRE!F2=\"\",NOMBRE!G2=\"\"),\"Falta Cód. Com.\",\"\")","v":"Falta Cód. Com."},null,null,null,null,null,null,null,null,null,null,null,null,null,null,null,null,null,null,null,null,null,null,null,{"$f":"IF(I2>\"\",1,0)","v":1}]
["NOMBRE ESTABLECIMIENTO/ESTRATEGIA",null,null,null,null,null,null,null,{"$f":"IF(OR(NOMBRE!C3=\"\",NOMBRE!D3=\"\",NOMBRE!E3=\"\",NOMBRE!F3=\"\",NOMBRE!G3=\"\",NOMBRE!H3=\"\"),\"Falta Cód. Est.\",\"\")","v":"Falta Cód. Est."},null,null,null,null,null,null,null,null,null,null,null,null,null,null,null,null,null,null,null,null,null,null,null,{"$f":"IF(I3>\"\",1,0)","v":1}]
["TIPO DE ESTABLECIMIENTO/ESTRATEGIA",null,null,null,null,null,null,null,{"$f":"IF(OR(NOMBRE!B4=\"\"),\"Falta Tipo. Est.\",\"\")","v":"Falta Tipo. Est."},null,null,null,null,null,null,null,null,null,null,null,null,null,null,null,null,null,null,null,null,null,null,null,{"$f":"IF(I4>\"\",1,0)","v":1}]
["DEPENDENCIA",null,null,null,null,null,null,null,{"$f":"IF(OR(NOMBRE!B5=\"\"),\"Falta Dependencia. Est.\",\"\")","v":"Falta Dependencia. Est."},null,null,null,null,null,null,null,null,null,null,null,null,null,null,null,null,null,null,null,null,null,null,null,{"$f":"IF(I5>\"\",1,0)","v":1}]
["MES:",null,null,null,null,null,null,null,{"$f":"IF(OR(NOMBRE!C6=\"\",NOMBRE!D6=\"\"),\"Falta Cód. Mes.\",\"\")","v":"Falta Cód. Mes."},null,null,null,null,null,null,null,null,null,null,null,null,null,null,null,null,null,null,null,null,null,null,null,{"$f":"IF(I6>\"\",1,0)","v":1}]
["AÑO:",2019,null,null,null,null,null,null,null,null,null,null,null,null,null,null,null,null,null,null,null,null,null,null,null,null,null,null,null,null,null,null,{"$f":"SUM(AG2:AG6)","v":5}]
[]
["Versión 1.0: ENERO 2019",null,null,null,null,null,"Para habilitar el contenido de las celdas \"Tipo de Establecimiento\", \"Dependencia\" y \"Mes\", presione el boton \"Verificar Habilitacion de Macros\".                                   Para poder tener un 100% de funcionalidad debe hablitar la opcion Macros en esta planilla."]
[]
["Director Servicio de Salud o Director Establecimiento",null,null,null,null,null,null,null,null,null,null,null,null,null,null,null,null,null,null,null,null,null,null,null,null,null,"ENERO","Establecimiento de Mayor Complejidad (EMAYC)","SERVICIO DE SALUD"]
["Jefe de Estadísticas",null,null,null,null,null,null,null,null,null,null,null,null,null,null,null,null,null,null,null,null,null,null,null,null,null,"FEBRERO","Establecimiento de Mediana Complejidad (EMEDC)","MUNICIPAL"]
[null,null,null,null,null,null,null,null,null,null,null," ",null,null,null,null,null,null,null,null,null,null,null,null,null,null,"MARZO","Establecimiento de Menor Complejidad (EMENC)","OTRA INSTITUCIÓN (Delegado)"]
[null,null,null,null,null,null,null,null,null,null,null,null,null,null,null,null,null,null,null,null,null,null,null,null,null,null,"ABRIL","Centros de Diagnóstico Terapéutico (CDT)"]
["MINSAL - DEIS",null,null,null,null,null,null,null,null,null,null,null,null,null,null,null,null,null,null,null,null,null,null,null,null,null,"MAYO","Centro de Referencia de Salud (CRS)"]
[null,null,null,null,null,null,null,null,null,null,null,null,null,null,null,null,null,null,null,null,null,null,null,null,null,null,"JUNIO","Consultorio General Urbano (CGU)"]
[null,"SERIE A",null,null,null,null,"ESTADO MACROS:",null,null,null,null,null,null,null,null,null,null,null,null,null,null,null,null,null,null,null,"JULIO","Consultorio General Urbano (CGU) - CESFAM"]
[null,null,null,null,null,null,null,null,"HABILITADO",null,null,null,null,null,null,null,null,null,null,null,null,null,null,null,null,null,"AGOSTO","Consultorio General Urbano(CGU) con SAPU/SUR/SAR"]
[null,null,null,null,null,null,null,null,null,null,null,null,null,null,null,null,null,null,null,null,null,null,null,null,null,null,"SEPTIEMBRE","Consultorio General Urbano (CGU) - CESFAM con SAPU/SAR"]
[null,null,null,null,null,null,null,null,null,null,null,null,null,null,null,null,null,null,null,null,null,null,null,null,null,null,"OCTUBRE","Consultorio General Rural (CGR)"]
[null,null,null,null,null,null,null,null,null,null,null,null,null,null,null,null,null,null,null,null,null,null,null,null,null,null,"NOVIEMBRE","Consultorio General Rural (CGR) - CESFAM"]
[null,null,null,null,null,null,null,null,null,null,null,null,null,null,null,null,null,null,null,null,null,null,null,null,null,null,"DICIEMBRE","Consultorio General Rural (CGR) con SAPU/SAR/SUR"]
[null,null,null,null,null,null,null,null,null,null,null,null,null,null,null,null,null,null,null,null,null,null,null,null,null,null,null,"Consultorio General Rural (CGR) - CESFAM con SAPU/SAR/SUR"]
[null,null,null,null,null,null,null,null,null,null,null,null,null,null,null,null,null,null,null,null,null,null,null,null,null,null,null,"Posta de Salud Rural (PSR)"]
[null,null,null,null,null,null,null,null,null,null,null,null,null,null,null,null,null,null,null,null,null,null,null,null,null,null,null,"Centro Comunitario de Salud Familiar (CECOF)"]
[null,null,null,null,null,null,null,null,null,null,null,null,null,null,null,null,null,null,null,null,null,null,null,null,null,null,null,"Consultorio de Salud Mental (COSAM)"]
[null,null,null,null,null,null,null,null,null,null,null,null,null,null,null,null,null,null,null,null,null,null,null,null,null,null,null,"Programa de Reparación y Atención Integral de Salud (PRAIS)"]
[null,null,null,null,null,null,null,null,null,null,null,null,null,null,null,null,null,null,null,null,null,null,null,null,null,null,null,"Centro de Atención Funcionarios (CAF)"]
[null,null,null,null,null,null,null,null,null,null,null,null,null,null,null,null,null,null,null,null,null,null,null,null,null,null,null,"Clínica Dental Móvil (CDM)"]
[null,null,null,null,null,null,null,null,null,null,null,null,null,null,null,null,null,null,null,null,null,null,null,null,null,null,null,"Dirección Servicio de Salud (DSS)"]
[null,null,null,null,null,null,null,null,null,null,null,null,null,null,null,null,null,null,null,null,null,null,null,null,null,null,null,"Centro de salud familiar"]
[null,null,null,null,null,null,null,null,null,null,null,null,null,null,null,null,null,null,null,null,null,null,null,null,null,null,null,"Centro de salud rural (CSR)"]
[null,null,null,null,null,null,null,null,null,null,null,null,null,null,null,null,null,null,null,null,null,null,null,null,null,null,null,"Centro de salud urbano (CSU)"]
[null,null,null,null,null,null,null,null,null,null,null,null,null,null,null,null,null,null,null,null,null,null,null,null,null,null,null,"Hospital delegado"]
[null,null,null,null,null,null,null,null,null,null,null,null,null,null,null,null,null,null,null,null,null,null,null,null,null,null,null,"Servicio de Atención Primaria de Urgencia (SAPU)"]
[null,null,null,null,null,null,null,null,null,null,null,null,null,null,null,null,null,null,null,null,null,null,null,null,null,null,null,"SAPU Alta Resolución (SAR)"]
[null,null,null,null,null,null,null,null,null,null,null,null,null,null,null,null,null,null,null,null,null,null,null,null,null,null,null,"Laboratorio Clínico o Dental"]
[null,null,null,null,null,null,null,null,null,null,null,null,null,null,null,null,null,null,null,null,null,null,null,null,null,null,null,"Servicio de Atención Primaria de Urgencia Dental (SAPUDENT)"]
[null,null,null,null,null,null,null,null,null,null,null,null,null,null,null,null,null,null,null,null,null,null,null,null,null,null,null,"Centro de Rehabilitación (CR)"]
[null,null,null,null,null,null,null,null,null,null,null,null,null,null,null,null,null,null,null,null,null,null,null,null,null,null,null,"Hospital de Campaña"]

{"sheet":"A01","index":1,"n_rows":195,"n_cols":98,"rows_kept":195,"cut":false,"hidden":false,"merged":[[5,0,5,36],[19,0,20,0],[21,0,22,0],[25,0,26,0],[28,0,29,0],[9,24,9,26],[11,0,12,0],[13,0,14,0],[15,0,16,0],[17,0,18,0],[9,22,10,22],[9,23,10,23],[9,19,9,20],[9,0,10,0],[9,1,10,1],[9,2,10,2],[23,0,24,0],[28,2,28,4],[28,1,29,1],[28,35,28,36],[28,5,28,33],[28,34,29,34],[9,3,9,18],[9,21,10,21],[77,0,81,0],[70,0,71,0],[70,1,71,1],[70,2,71,2],[66,0,66,1],[67,0,67,1],[62,2,62,4],[62,5,62,7],[36,11,36,12],[36,7,36,8],[48,0,50,0],[35,0,37,0],[35,1,37,1],[42,0,43,0],[38,0,41,0],[44,0,45,0],[46,0,47,0],[36,9,36,10],[72,0,76,0],[68,0,68,1],[35,2,36,4],[35,5,35,38],[64,0,64,1],[62,0,63,1],[65,0,65,1],[51,0,55,0],[56,0,60,0],[36,21,36,22],[36,23,36,24],[36,5,36,6],[70,3,71,3],[70,4,70,5],[35,39,37,39],[28,37,29,37],[30,0,33,0],[36,13,36,14],[36,15,36,16],[36,29,36,30],[36,31,36,32],[36,37,36,38],[36,25,36,26],[36,27,36,28],[36,17,36,18],[36,19,36,20],[36,33,36,34],[36,35,36,36]]}
["SERVICIO DE SALUD"]
[{"$f":"CONCATENATE(\"COMUNA: \",NOMBRE!B2,\" - \",\"( \",NOMBRE!C2,NOMBRE!D2,NOMBRE!E2,NOMBRE!F2,NOMBRE!G2,\" )\")","v":"COMUNA:  - (  )"}]
[{"$f":"CONCATENATE(\"ESTABLECIMIENTO/ESTRATEGIA: \",NOMBRE!B3,\" - \",\"( \",NOMBRE!C3,NOMBRE!D3,NOMBRE!E3,NOMBRE!F3,NOMBRE!G3,NOMBRE!H3,\" )\")","v":"ESTABLECIMIENTO/ESTRATEGIA:  - (  )"}]
[{"$f":"CONCATENATE(\"MES: \",NOMBRE!B6,\" - \",\"( \",NOMBRE!C6,NOMBRE!D6,\" )\")","v":"MES:  - (  )"}]
[{"$f":"CONCATENATE(\"AÑO: \",NOMBRE!B7)","v":"AÑO: 2019"}]
["REM-A01.   CONTROLES DE SALUD"]
[]
[]
["SECCIÓN A: CONTROLES DE SALUD SEXUAL Y REPRODUCTIVA"]
["TIPO DE CONTROL","PROFESIONAL","TOTAL      ","POR EDAD",null,null,null,null,null,null,null,null,null,null,null,null,null,null,null,"SEXO",null,"Beneficiarios","Control con pareja familiar u otro","Control de diada con presencia del padre","TIPOS DE LACTANCIA"]
[null,null,null," 5  -  9"," 10 - 14","15 a 19","20 - 24","25 - 29","30 - 34","35 - 39","40 - 44","45 - 49","50 - 54","55 - 59","60 - 64","65 - 69","70 - 74","75 - 79","80 y mas","HOMBRES","MUJERES",null,null,null,"Lactancia Materna Exclusiva","Lactancia Materna / Formula Lactea","Formula Lactea"]
[" PRE-\nCONCEPCIONAL ","MÉDICO",{"$f":"SUM(E12:M12)","v":0},null,null,null,null,null,null,null,null,null,null,null,null,null,null,null,null,null,null,null,null,null,null,null,null,null,null,null,null,null,null,null,null,null,null,null,null,null,null,null,null,null,null,null,null,null,null,null,null,null,null,null,null,null,null,null,null,null,null,null,null,null,null,null,null,null,null,null,null,null,null,null,null,null,null,null,null,null,null,null,null,null,null,null,null,null,null,0,0,null,null,null,0]
[null,"MATRONA /ÓN",{"$f":"SUM(E13:M13)","v":0},null,null,null,null,null,null,null,null,null,null,null,null,null,null,null,null,null,null,null,null,null,null,null,null,null,null,null,null,null,null,null,null,null,null,null,null,null,null,null,null,null,null,null,null,null,null,null,null,null,null,null,null,null,null,null,null,null,null,null,null,null,null,null,null,null,null,null,null,null,null,null,null,null,null,null,null,null,null,null,null,null,null,null,null,null,null,0,0,null,null,null,0]
["PRENATAL","MÉDICO",{"$f":"SUM(E14:N14)","v":0},null,null,null,null,null,null,null,null,null,null,null,null,null,null,null,null,null,null,null,null,null,null,null,null,null,null,null,null,null,null,null,null,null,null,null,null,null,null,null,null,null,null,null,null,null,null,null,null,null,null,null,null,null,null,null,null,null,null,null,null,null,null,null,null,null,null,null,null,null,null,null,null,null,null,null,null,null,null,null,null,null,null,null,null,null,null,0,0,0,null,null,0,0]
[null,"MATRONA /ÓN",{"$f":"SUM(E15:N15)","v":0},null,null,null,null,null,null,null,null,null,null,null,null,null,null,null,null,null,null,null,null,null,null,null,null,null,null,null,null,null,null,null,null,null,null,null,null,null,null,null,null,null,null,null,null,null,null,null,null,null,null,null,null,null,null,null,null,null,null,null,null,null,null,null,null,null,null,null,null,null,null,null,null,null,null,null,null,null,null,null,null,null,null,null,null,null,null,0,0,0,null,null,0,0]
["POST PARTO Y POST ABORTO","MÉDICO",0,null,null,null,null,null,null,null,null,null,null,null,null,null,null,null,null,null,null,null,null,null,null,null,null,null,null,null,null,null,null,null,null,null,null,null,null,null,null,null,null,null,null,null,null,null,null,null,null,null,null,null,null,null,null,null,null,null,null,null,null,null,null,null,null,null,null,null,null,null,null,null,null,null,null,null,null,null,null,null,null,null,null,null,null,null,null,0,0,null,null,null,0]
[null,"MATRONA /ÓN",0,null,null,null,null,null,null,null,null,null,null,null,null,null,null,null,null,null,null,null,null,null,null,null,null,null,null,null,null,null,null,null,null,null,null,null,null,null,null,null,null,null,null,null,null,null,null,null,null,null,null,null,null,null,null,null,null,null,null,null,null,null,null,null,null,null,null,null,null,null,null,null,null,null,null,null,null,null,null,null,null,null,null,null,null,null,null,0,0,null,null,null,0]
["PUÉRPERA CON RECIÉN NACIDO HASTA 10 DÍAS DE VIDA","MÉDICO",0,null,null,null,null,null,null,null,null,null,null,null,null,null,null,null,null,null,null,null,null,null,null,null,null,null,null,null,null,null,null,null,null,null,null,null,null,null,null,null,null,null,null,null,null,null,null,null,null,null,null,null,null,null,null,null,null,null,null,null,null,null,null,null,null,null,null,null,null,null,null,null,null,null,null,null,null,null,null,null,null,{"$f":"IF(AND(C18<>0,'A05'!C50=\"\"),\"* No olvide registrar ingresos a control de salud de los respectivos RN, en REM A05-sección E. \",\"\")","v":""},null,null,null,null,null,0,0,null,0,0,0,null,0,0]
[null,"MATRONA /ÓN",0,null,null,null,null,null,null,null,null,null,null,null,null,null,null,null,null,null,null,null,null,null,null,null,null,null,null,null,null,null,null,null,null,null,null,null,null,null,null,null,null,null,null,null,null,null,null,null,null,null,null,null,null,null,null,null,null,null,null,null,null,null,null,null,null,null,null,null,null,null,null,null,null,null,null,null,null,null,null,null,null,{"$f":"IF(AND(C19<>0,'A05'!C50=\"\"),\"* No olvide registrar ingresos a control de salud de los respectivos RN, en REM A05-sección E. \",\"\")","v":""},null,null,null,null,null,0,0,null,0,0,0,null,0,0]
["PUÉRPERA CON RECIÉN NACIDO ENTRE 11 y 28 DÍAS","MÉDICO",0,null,null,null,null,null,null,null,null,null,null,null,null,null,null,null,null,null,null,null,null,null,null,null,null,null,null,null,null,null,null,null,null,null,null,null,null,null,null,null,null,null,null,null,null,null,null,null,null,null,null,null,null,null,null,null,null,null,null,null,null,null,null,null,null,null,null,null,null,null,null,null,null,null,null,null,null,null,null,null,null,{"$f":"IF(AND(C20<>0,'A05'!C50=\"\"),\"* No olvide registrar ingresos a control de salud de los respectivos RN, en REM A05-sección E. \",\"\")","v":""},null,null,null,null,null,0,0,null,0,0,0,null,0,0]
[null,"MATRONA /ÓN",0,null,null,null,null,null,null,null,null,null,null,null,null,null,null,null,null,null,null,null,null,null,null,null,null,null,null,null,null,null,null,null,null,null,null,null,null,null,null,null,null,null,null,null,null,null,null,null,null,null,null,null,null,null,null,null,null,null,null,null,null,null,null,null,null,null,null,null,null,null,null,null,null,null,null,null,null,null,null,null,null,{"$f":"IF(AND(C21<>0,'A05'!C50=\"\"),\"* No olvide registrar ingresos a control de salud de los respectivos RN, en REM A05-sección E. \",\"\")","v":""},null,null,null,null,null,0,0,null,0,0,0,null,0,0]
["GINECOLÓGICO ","MÉDICO ",{"$f":"SUM(E22:S22)","v":0},null,null,null,null,null,null,null,null,null,null,null,null,null,null,null,null,null,null,null,null,null,null,null,null,null,null,null,null,null,null,null,null,null,null,null,null,null,null,null,null,null,null,null,null,null,null,null,null,null,null,null,null,null,null,null,null,null,null,null,null,null,null,null,null,null,null,null,null,null,null,null,null,null,null,null,null,null,null,null,null,null,null,null,null,null,null,0,0,null,null,null,0]
[null,"MATRONA /ÓN",{"$f":"SUM(E23:S23)","v":0},null,null,null,null,null,null,null,null,null,null,null,null,null,null,null,null,null,null,null,null,null,null,null,null,null,null,null,null,null,null,null,null,null,null,null,null,null,null,null,null,null,null,null,null,null,null,null,null,null,null,null,null,null,null,null,null,null,null,null,null,null,null,null,null,null,null,null,null,null,null,null,null,null,null,null,null,null,null,null,null,null,null,null,null,null,null,0,0,null,null,null,0]
["CLIMATERIO ","MÉDICO",{"$f":"SUM(L24:O24)","v":0},null,null,null,null,null,null,null,null,null,null,null,null,null,null,null,null,null,null,null,null,null,null,null,null,null,null,null,null,null,null,null,null,null,null,null,null,null,null,null,null,null,null,null,null,null,null,null,null,null,null,null,null,null,null,null,null,null,null,null,null,null,null,null,null,null,null,null,null,null,null,null,null,null,null,null,null,null,null,null,null,null,null,null,null,null,null,0,0,null,null,null,0]
[null,"MATRONA /ÓN",{"$f":"SUM(L25:O25)","v":0},null,null,null,null,null,null,null,null,null,null,null,null,null,null,null,null,null,null,null,null,null,null,null,null,null,null,null,null,null,null,null,null,null,null,null,null,null,null,null,null,null,null,null,null,null,null,null,null,null,null,null,null,null,null,null,null,null,null,null,null,null,null,null,null,null,null,null,null,null,null,null,null,null,null,null,null,null,null,null,null,null,null,null,null,null,null,0,0,null,null,null,0]
["REGULACIÓN DE FECUNDIDAD","MÉDICO",{"$f":"SUM(E26:S26)","v":0},null,null,null,null,null,null,null,null,null,null,null,null,null,null,null,null,null,null,null,null,null,null,null,null,null,null,null,null,null,null,null,null,null,null,null,null,null,null,null,null,null,null,null,null,null,null,null,null,null,null,null,null,null,null,null,null,null,null,null,null,null,null,null,null,null,null,null,null,null,null,null,null,null,null,null,null,null,null,null,null,null,null,null,null,null,null,0,0,null,null,null,0]
[null,"MATRONA /ÓN",{"$f":"SUM(E27:S27)","v":0},null,null,null,null,null,null,null,null,null,null,null,null,null,null,null,null,null,null,null,null,null,null,null,null,null,null,null,null,null,null,null,null,null,null,null,null,null,null,null,null,null,null,null,null,null,null,null,null,null,null,null,null,null,null,null,null,null,null,null,null,null,null,null,null,null,null,null,null,null,null,null,null,null,null,null,null,null,null,null,null,null,null,null,null,null,null,0,0,null,null,null,0]
["SECCIÓN B: CONTROLES DE SALUD SEGÚN CICLO VITAL"]
["TIPO DE CONTROL","PROFESIONAL","TOTAL",null,null,"POR EDAD ",null,null,null,null,null,null,null,null,null,null,null,null,null,null,null,null,null,null,null,null,null,null,null,null,null,null,null,null,"Beneficiarios","CONTROL CON PRESENCIA DEL PADRE",null,"Niños, Niñas, Adolescentes y Jóvenes Población SENAME"]
[null,null,"Ambos Sexos","Hombres","Mujeres","Menor de 1 mes","1 mes","2 meses","3 meses","4 meses"," 5 meses","6 meses"," 7  -  11 meses","12 a 17 meses","18  - 23  meses","24  - 47  meses","48  - 59  meses","60  - 71  meses"," 6  -  9 "," 10 - 14 ","15 - 19","20 - 24","25 - 29","30 - 34","35 - 39","40 - 44","45 - 49","50 - 54","55 - 59","60 - 64","65 - 69","70 - 74","75 - 79","80 y mas",null,"menor 1 año","1 año a 3 años 11 meses 29 días"]
["DE SALUD","MÉDICO",{"$f":"SUM(F31:AH31)","v":0},null,null,null,null,null,null,null,null,null,null,null,null,null,null,null,null,null,null,null,null,null,null,null,null,null,null,null,null,null,null,null,null,null,null,null,null,null,null,null,null,null,null,null,null,null,null,null,null,null,null,null,null,null,null,null,null,null,null,null,null,null,null,null,null,null,null,null,null,null,null,null,null,null,null,null,null,null,{"$f":"IF(AJ31>SUM(F31:M31),\"* Los controles con presencia del padre NO DEBE ser mayor que el total Controles Menor 1 año. \",IF(AK31>SUM(N31:P31),\"* Los controles con presencia del padre NO DEBE ser mayor que el total Controles 1 año a 3 años 11 meses 29 días. \",\"\"))","v":""},{"$f":"IF(AND(F31<>0,'A05'!C50=\"\"),\"* NO OLVIDE REGISTRAR INGRESOS A CONTROL DE SALUD DE LOS RESPECTIVOS RN, EN REM A05-SECCIÓN E. \",\"\")","v":""},null,null,null,0,{"$f":"IF(AJ31>SUM(F31:M31),1,IF(AK31>SUM(N31:P31),1,0))","v":0},0]
[null,"ENFERMERA /O",{"$f":"SUM(F32:AH32)","v":0},null,null,null,null,null,null,null,null,null,null,null,null,null,null,null,null,null,null,null,null,null,null,null,null,null,null,null,null,null,null,null,null,null,null,null,null,null,null,null,null,null,null,null,null,null,null,null,null,null,null,null,null,null,null,null,null,null,null,null,null,null,null,null,null,null,null,null,null,null,null,null,null,null,null,null,null,null,{"$f":"IF(AJ32>SUM(F32:M32),\"* Los controles con presencia del padre NO DEBE ser mayor que el total Controles Menor 1 año. \",IF(AK32>SUM(N32:P32),\"* Los controles con presencia del padre NO DEBE ser mayor que el total Controles 1 año a 3 años 11 meses 29 días. \",\"\"))","v":""},{"$f":"IF(AND(F32<>0,'A05'!C50=\"\"),\"* NO OLVIDE REGISTRAR INGRESOS A CONTROL DE SALUD DE LOS RESPECTIVOS RN, EN REM A05-SECCIÓN E. \",\"\")","v":""},null,null,null,0,{"$f":"IF(AJ32>SUM(F32:M32),1,IF(AK31>SUM(N32:P32),1,0))","v":0},0]
[null,"MATRONA /ÓN",{"$f":"SUM(F33+T33+U33+V33+W33+X33+Y33+Z33+AA33+AB33+AC33+AD33+AE33+AF33+AG33+AH33)","v":0},null,null,null,null,null,null,null,null,null,null,null,null,null,null,null,null,null,null,null,null,null,null,null,null,null,null,null,null,null,null,null,null,null,null,null,null,null,null,null,null,null,null,null,null,null,null,null,null,null,null,null,null,null,null,null,null,null,null,null,null,null,null,null,null,null,null,null,null,null,null,null,null,null,null,null,null,null,{"$f":"IF((AJ33>F33),\"* Los controles con presencia del padre NO DEBE ser mayor que el total Controles Menor 1 año. \",\"\")","v":""},{"$f":"IF(AND(F33<>0,'A05'!C50=\"\"),\"* NO OLVIDE REGISTRAR INGRESOS A CONTROL DE SALUD DE LOS RESPECTIVOS RN, EN REM A05-SECCIÓN E. \",\"\")","v":""},null,null,null,0,{"$f":"IF(AJ33>SUM(F33:M33),1,0)","v":0},0]
[null,"TÉCNICO PARAMÉDICO",{"$f":"SUM(N34:S34)","v":0},null,null,null,null,null,null,null,null,null,null,null,null,null,null,null,null,null,null,null,null,null,null,null,null,null,null,null,null,null,null,null,null,null,null,null,null,null,null,null,null,null,null,null,null,null,null,null,null,null,null,null,null,null,null,null,null,null,null,null,null,null,null,null,null,null,null,null,null,null,null,null,null,null,null,null,null,null,{"$f":"IF(AK34>SUM(N34:S34),\"* Los controles con presencia del padre NO DEBE ser mayor que el total Controles 1año a 3 años 11 meses 29 días. \",\"\")","v":""},null,null,null,null,0,{"$f":"IF(AJ34>SUM(F34:M34),1,0)","v":0},0]
["SECCIÓN C: CONTROLES SEGÚN PROBLEMA DE SALUD"]
["TIPO DE CONTROL","PROFESIONAL","TOTAL",null,null,"POR EDAD ",null,null,null,null,null,null,null,null,null,null,null,null,null,null,null,null,null,null,null,null,null,null,null,null,null,null,null,null,null,null,null,null,null,"Beneficiarios"]
[null,null,null,null,null," 0  -  4",null," 5  -  9",null," 10 - 14  ",null,"15 a 19",null,"20 - 24",null,"25 - 29",null,"30 - 34",null,"35 - 39",null,"40 - 44",null,"45 - 49",null,"50 - 54",null,"55 - 59",null,"60 - 64",null,"65 - 69",null,"70 - 74",null,"75 - 79",null,"80 y mas"]
[null,null,"Ambos Sexos","Hombres","Mujeres","Hombres","Mujeres","Hombres","Mujeres","Hombres","Mujeres","Hombres","Mujeres","Hombres","Mujeres","Hombres","Mujeres","Hombres","Mujeres","Hombres","Mujeres","Hombres","Mujeres","Hombres","Mujeres","Hombres","Mujeres","Hombres","Mujeres","Hombres","Mujeres","Hombres","Mujeres","Hombres","Mujeres","Hombres","Mujeres","Hombres","Mujeres"]
["DE SALUD CARDIOVASCULAR","MÉDICO",{"$f":"SUM(D39:E39)","v":0},{"$f":"SUM(L39+N39+P39+R39+T39+V39+X39+Z39+AB39+AD39+AF39+AH39+AJ39+AL39)","v":0},0,null,null,null,null,null,null,null,null,null,null,null,null,null,null,null,null,null,null,null,null,null,null,null,null,null,null,null,null,null,null,null,null,null,null,null,null,null,null,null,null,null,null,null,null,null,null,null,null,null,null,null,null,null,null,null,null,null,null,null,null,null,null,null,null,null,null,null,null,null,null,null,null,null,null,null,null,null,null,null,null,null,0]
[null,"ENFERMERA /O",{"$f":"SUM(D40:E40)","v":0},0,0,null,null,null,null,null,null,null,null,null,null,null,null,null,null,null,null,null,null,null,null,null,null,null,null,null,null,null,null,null,null,null,null,null,null,null,null,null,null,null,null,null,null,null,null,null,null,null,null,null,null,null,null,null,null,null,null,null,null,null,null,null,null,null,null,null,null,null,null,null,null,null,null,null,null,null,null,null,null,null,null,null,0]
[null,"NUTRICIONISTA",{"$f":"SUM(D41:E41)","v":0},0,0,null,null,null,null,null,null,null,null,null,null,null,null,null,null,null,null,null,null,null,null,null,null,null,null,null,null,null,null,null,null,null,null,null,null,null,null,null,null,null,null,null,null,null,null,null,null,null,null,null,null,null,null,null,null,null,null,null,null,null,null,null,null,null,null,null,null,null,null,null,null,null,null,null,null,null,null,null,null,null,null,null,0]
[null,"TÉCNICO PARAMÉDICO",0,0,0,null,null,null,null,null,null,null,null,null,null,null,null,null,null,null,null,null,null,null,null,null,null,null,null,null,null,null,null,null,null,null,null,null,null,null,null,null,null,null,null,null,null,null,null,null,null,null,null,null,null,null,null,null,null,null,null,null,null,null,null,null,null,null,null,null,null,null,null,null,null,null,null,null,null,null,null,null,null,null,null,null,0]
["DE TUBERCULOSIS","MÉDICO",0,{"$f":"SUM(F43+H43+J43+L43+N43+P43+R43+T43+V43+X43+Z43+AB43+AD43+AF43+AH43+AJ43+AL43)","v":0},{"$f":"SUM(G43+I43+K43+M43+O43+Q43+S43+U43+W43+Y43+AA43+AC43+AE43+AG43+AI43+AK43+AM43)","v":0},null,null,null,null,null,null,null,null,null,null,null,null,null,null,null,null,null,null,null,null,null,null,null,null,null,null,null,null,null,null,null,null,null,null,null,null,null,null,null,null,null,null,null,null,null,null,null,null,null,null,null,null,null,null,null,null,null,null,null,null,null,null,null,null,null,null,null,null,null,null,null,null,null,null,null,null,null,null,null,null,null,0]
[null,"ENFERMERA /O",0,{"$f":"SUM(F44+H44+J44+L44+N44+P44+R44+T44+V44+X44+Z44+AB44+AD44+AF44+AH44+AJ44+AL44)","v":0},{"$f":"SUM(G44+I44+K44+M44+O44+Q44+S44+U44+W44+Y44+AA44+AC44+AE44+AG44+AI44+AK44+AM44)","v":0},null,null,null,null,null,null,null,null,null,null,null,null,null,null,null,null,null,null,null,null,null,null,null,null,null,null,null,null,null,null,null,null,null,null,null,null,null,null,null,null,null,null,null,null,null,null,null,null,null,null,null,null,null,null,null,null,null,null,null,null,null,null,null,null,null,null,null,null,null,null,null,null,null,null,null,null,null,null,null,null,null,0]
["SEGUIMIENTO AUTOVALENTE CON RIESGO","MÉDICO",0,{"$f":"SUM(AF45+AH45+AJ45+AL45)","v":0},0,null,null,null,null,null,null,null,null,null,null,null,null,null,null,null,null,null,null,null,null,null,null,null,null,null,null,null,null,null,null,null,null,null,null,null,null,null,null,null,null,null,null,null,null,null,null,null,null,null,null,null,null,null,null,null,null,null,null,null,null,null,null,null,null,null,null,null,null,null,null,null,null,null,null,null,null,null,null,null,null,null,0]
[null,"ENFERMERA /O",0,0,0,null,null,null,null,null,null,null,null,null,null,null,null,null,null,null,null,null,null,null,null,null,null,null,null,null,null,null,null,null,null,null,null,null,null,null,null,null,null,null,null,null,null,null,null,null,null,null,null,null,null,null,null,null,null,null,null,null,null,null,null,null,null,null,null,null,null,null,null,null,null,null,null,null,null,null,null,null,null,null,null,null,0]
["SEGUIMIENTO RIESGO DEPENDENCIA","MÉDICO",0,0,0,null,null,null,null,null,null,null,null,null,null,null,null,null,null,null,null,null,null,null,null,null,null,null,null,null,null,null,null,null,null,null,null,null,null,null,null,null,null,null,null,null,null,null,null,null,null,null,null,null,null,null,null,null,null,null,null,null,null,null,null,null,null,null,null,null,null,null,null,null,null,null,null,null,null,null,null,null,null,null,null,null,0]
[null,"ENFERMERA /O",0,0,0,null,null,null,null,null,null,null,null,null,null,null,null,null,null,null,null,null,null,null,null,null,null,null,null,null,null,null,null,null,null,null,null,null,null,null,null,null,null,null,null,null,null,null,null,null,null,null,null,null,null,null,null,null,null,null,null,null,null,null,null,null,null,null,null,null,null,null,null,null,null,null,null,null,null,null,null,null,null,null,null,null,0]
["DE  INFECCIÓN TRANSMISIÓN SEXUAL","MÉDICO",0,{"$f":"SUM(F49+H49+J49+L49+N49+P49+R49+T49+V49+X49+Z49+AB49+AD49+AF49+AH49+AJ49+AL49)","v":0},0,null,null,null,null,null,null,null,null,null,null,null,null,null,null,null,null,null,null,null,null,null,null,null,null,null,null,null,null,null,null,null,null,null,null,null,null,null,null,null,null,null,null,null,null,null,null,null,null,null,null,null,null,null,null,null,null,null,null,null,null,null,null,null,null,null,null,null,null,null,null,null,null,null,null,null,null,null,null,null,null,null,0]
[null,"ENFERMERA /O",0,0,0,null,null,null,null,null,null,null,null,null,null,null,null,null,null,null,null,null,null,null,null,null,null,null,null,null,null,null,null,null,null,null,null,null,null,null,null,null,null,null,null,null,null,null,null,null,null,null,null,null,null,null,null,null,null,null,null,null,null,null,null,null,null,null,null,null,null,null,null,null,null,null,null,null,null,null,null,null,null,null,null,null,0]
[null,"MATRONA /ÓN",0,0,0,null,null,null,null,null,null,null,null,null,null,null,null,null,null,null,null,null,null,null,null,null,null,null,null,null,null,null,null,null,null,null,null,null,null,null,null,null,null,null,null,null,null,null,null,null,null,null,null,null,null,null,null,null,null,null,null,null,null,null,null,null,null,null,null,null,null,null,null,null,null,null,null,null,null,null,null,null,null,null,null,null,0]
["OTROS PROBLEMAS DE SALUD","MÉDICO",0,0,0,null,null,null,null,null,null,null,null,null,null,null,null,null,null,null,null,null,null,null,null,null,null,null,null,null,null,null,null,null,null,null,null,null,null,null,null,null,null,null,null,null,null,null,null,null,null,null,null,null,null,null,null,null,null,null,null,null,null,null,null,null,null,null,null,null,null,null,null,null,null,null,null,null,null,null,null,null,null,null,null,null,0]
[null,"ENFERMERA /O",0,0,0,null,null,null,null,null,null,null,null,null,null,null,null,null,null,null,null,null,null,null,null,null,null,null,null,null,null,null,null,null,null,null,null,null,null,null,null,null,null,null,null,null,null,null,null,null,null,null,null,null,null,null,null,null,null,null,null,null,null,null,null,null,null,null,null,null,null,null,null,null,null,null,null,null,null,null,null,null,null,null,null,null,0]
[null,"MATRONA /ÓN",0,0,0,null,null,null,null,null,null,null,null,null,null,null,null,null,null,null,null,null,null,null,null,null,null,null,null,null,null,null,null,null,null,null,null,null,null,null,null,null,null,null,null,null,null,null,null,null,null,null,null,null,null,null,null,null,null,null,null,null,null,null,null,null,null,null,null,null,null,null,null,null,null,null,null,null,null,null,null,null,null,null,null,null,0]
[null,"NUTRICIONISTA",0,0,0,null,null,null,null,null,null,null,null,null,null,null,null,null,null,null,null,null,null,null,null,null,null,null,null,null,null,null,null,null,null,null,null,null,null,null,null,null,null,null,null,null,null,null,null,null,null,null,null,null,null,null,null,null,null,null,null,null,null,null,null,null,null,null,null,null,null,null,null,null,null,null,null,null,null,null,null,null,null,null,null,null,0]
[null,"TÉCNICO PARAMÉDICO",0,0,0,null,null,null,null,null,null,null,null,null,null,null,null,null,null,null,null,null,null,null,null,null,null,null,null,null,null,null,null,null,null,null,null,null,null,null,null,null,null,null,null,null,null,null,null,null,null,null,null,null,null,null,null,null,null,null,null,null,null,null,null,null,null,null,null,null,null,null,null,null,null,null,null,null,null,null,null,null,null,null,null,null,0]
["NIÑOS CON NECESIDADES ESPECIALES","MÉDICO",0,{"$f":"SUM(F57+H57+J57+L57+N57)","v":0},0,null,null,null,null,null,null,null,null,null,null,null,null,null,null,null,null,null,null,null,null,null,null,null,null,null,null,null,null,null,null,null,null,null,null,null,null,null,null,null,null,null,null,null,null,null,null,null,null,null,null,null,null,null,null,null,null,null,null,null,null,null,null,null,null,null,null,null,null,null,null,null,null,null,null,null,null,null,null,null,null,null,0]
[null,"ENFERMERA /O",0,0,0,null,null,null,null,null,null,null,null,null,null,null,null,null,null,null,null,null,null,null,null,null,null,null,null,null,null,null,null,null,null,null,null,null,null,null,null,null,null,null,null,null,null,null,null,null,null,null,null,null,null,null,null,null,null,null,null,null,null,null,null,null,null,null,null,null,null,null,null,null,null,null,null,null,null,null,null,null,null,null,null,null,0]
[null,"MATRONA /ÓN",0,0,0,null,null,null,null,null,null,null,null,null,null,null,null,null,null,null,null,null,null,null,null,null,null,null,null,null,null,null,null,null,null,null,null,null,null,null,null,null,null,null,null,null,null,null,null,null,null,null,null,null,null,null,null,null,null,null,null,null,null,null,null,null,null,null,null,null,null,null,null,null,null,null,null,null,null,null,null,null,null,null,null,null,0]
[null,"NUTRICIONISTA",0,0,0,null,null,null,null,null,null,null,null,null,null,null,null,null,null,null,null,null,null,null,null,null,null,null,null,null,null,null,null,null,null,null,null,null,null,null,null,null,null,null,null,null,null,null,null,null,null,null,null,null,null,null,null,null,null,null,null,null,null,null,null,null,null,null,null,null,null,null,null,null,null,null,null,null,null,null,null,null,null,null,null,null,0]
[null,"TÉCNICO PARAMÉDICO",0,0,0,null,null,null,null,null,null,null,null,null,null,null,null,null,null,null,null,null,null,null,null,null,null,null,null,null,null,null,null,null,null,null,null,null,null,null,null,null,null,null,null,null,null,null,null,null,null,null,null,null,null,null,null,null,null,null,null,null,null,null,null,null,null,null,null,null,null,null,null,null,null,null,null,null,null,null,null,null,null,null,null,null,0]
["SECCIÓN D: CONTROL DE SALUD INTEGRAL DE ADOLESCENTES (incluidos en sección B)"]
["LUGAR DEL CONTROL, SEGÚN EDAD",null,"10 A 14 AÑOS",null,null,"15 A 19 AÑOS"]
[null,null,"Ambos Sexos","Hombres","Mujeres","Ambos Sexos","Hombres","Mujeres"]
["EN ESPACIO AMIGABLE",null,{"$f":"SUM(D65:E65)","v":0},null,null,{"$f":"SUM(G65:H65)","v":0}]
["EN OTROS ESPACIOS DEL ESTABLECIMIENTO DE SALUD",null,{"$f":"SUM(D66:E66)","v":0},null,null,{"$f":"SUM(G66:H66)","v":0}]
["EN ESTABLECIMIENTOS EDUCACIONALES",null,{"$f":"SUM(D67:E67)","v":0},null,null,{"$f":"SUM(G67:H67)","v":0}]
["EN OTROS LUGARES FUERA DEL ESTABLECIMIENTO DE SALUD",null,{"$f":"SUM(D68:E68)","v":0},null,null,{"$f":"SUM(G68:H68)","v":0}]
["TOTAL",null,{"$f":"SUM(C65:C68)","v":0},0,0,0,0,0]
["SECCIÓN E: CONTROLES DE SALUD EN ESTABLECIMIENTO EDUCACIONAL (Los controles individuales deben estar incluídos en la Sección B)"]
["TIPO DE CONTROLES","CURSO","TOTAL*","TOTAL NIÑOS Y NIÑAS","SEXO"]
[null,null,null,null,"Hombres","Mujeres"]
["CONTROLES INDIVIDUALES","KÍNDER",{"$f":"SUM(E73:F73)","v":0}]
[null,"PRIMERO BÁSICO ",0]
[null,"SEGUNDO BÁSICO",0]
[null,"TERCERO BÁSICO",0]
[null,"CUARTO BÁSICO",0]
["CONTROLES \nGRUPALES *","KÍNDER",null,{"$f":"SUM(E78:F78)","v":0}]
[null,"PRIMERO BÁSICO ",null,{"$f":"SUM(E79:F79)","v":0}]
[null,"SEGUNDO BÁSICO",null,{"$f":"SUM(E80:F80)","v":0}]
[null,"TERCERO BÁSICO",null,{"$f":"SUM(E81:F81)","v":0}]
[null,"CUARTO BÁSICO",null,{"$f":"SUM(E82:F82)","v":0}]
[" En Total* se registra el número de controles grupales"]
[]
[]
[]
[]
[]
[]
[]
[]
[]
[]
[]
[]
[]
[]
[]
[]
[]
[]
[]
[]
[]
[]
[]
[]
[]
[]
[]
[]
[]
[]
[]
[]
[]
[]
[]
[]
[]
[]
[]
[]
[]
[]
[]
[]
[]
[]
[]
[]
[]
[]
[]
[]
[]
[]
[]
[]
[]
[]
[]
[]
[]
[]
[]
[]
[]
[]
[]
[]
[]
[]
[]
[]
[]
[]
[]
[]
[]
[]
[]
[]
[]
[]
[]
[]
[]
[]
[]
[]
[]
[]
[]
[]
[]
[]
[]
[]
[]
[]
[]
[]
[]
[]
[]
[]
[]
[]
[]
[]
[]
[]
[]
[{"$f":"SUM(C12:C27,V12:V27,T26:U27,X18:AA21,W14:W15,C31:C34,D31:E34,AI31:AI34,C39:E61,C65:C69,F65:F69,C73:C77,D78:D82)","v":0},{"$f":"SUM(CG1:CU82)","v":0}]

{"sheet":"A02","index":2,"n_rows":195,"n_cols":87,"rows_kept":195,"cut":false,"hidden":false,"merged":[[5,0,5,29],[8,0,9,0],[8,1,8,3],[18,0,19,0],[18,1,18,3],[18,4,18,5],[18,6,18,7],[18,8,18,9],[18,10,18,11],[18,12,18,13],[18,14,18,15],[18,16,18,17],[18,18,18,19],[18,20,18,21],[18,22,18,23],[18,24,18,25],[26,0,27,0],[26,1,26,3],[26,4,26,5],[26,6,26,7],[26,8,26,9],[26,10,26,11],[31,12,31,13],[26,14,26,15],[26,16,26,17],[26,18,26,19],[31,10,31,11],[26,20,26,21],[26,22,26,23],[26,12,26,13],[31,14,31,15],[31,16,31,17],[31,18,31,19],[31,20,31,21],[31,22,31,23],[31,0,32,0],[31,1,31,3],[31,4,31,5],[31,6,31,7],[31,8,31,9],[31,24,31,25],[26,24,26,25],[18,26,18,27],[18,28,18,29],[18,30,18,31],[31,26,31,27],[31,28,31,29],[31,30,31,31],[26,26,26,27],[26,28,26,29],[26,30,26,31]]}
["SERVICIO DE SALUD"]
[{"$f":"CONCATENATE(\"COMUNA: \",NOMBRE!B2,\" - \",\"( \",NOMBRE!C2,NOMBRE!D2,NOMBRE!E2,NOMBRE!F2,NOMBRE!G2,\" )\")","v":"COMUNA:  - (  )"}]
[{"$f":"CONCATENATE(\"ESTABLECIMIENTO/ESTRATEGIA: \",NOMBRE!B3,\" - \",\"( \",NOMBRE!C3,NOMBRE!D3,NOMBRE!E3,NOMBRE!F3,NOMBRE!G3,NOMBRE!H3,\" )\")","v":"ESTABLECIMIENTO/ESTRATEGIA:  - (  )"}]
[{"$f":"CONCATENATE(\"MES: \",NOMBRE!B6,\" - \",\"( \",NOMBRE!C6,NOMBRE!D6,\" )\")","v":"MES:  - (  )"}]
[{"$f":"CONCATENATE(\"AÑO: \",NOMBRE!B7)","v":"AÑO: 2019"}]
["REM-A02.   EXAMEN DE MEDICINA PREVENTIVA EN MAYORES DE 15 AÑOS"]
[]
["SECCIÓN A: EMP REALIZADO POR PROFESIONAL"]
["PROFESIONAL","TOTAL"]
[null,"Ambos Sexos","Hombres","Mujeres"]
["TOTAL ",{"$f":"SUM(B12:B17)","v":0},{"$f":"SUM(C12:C17)","v":0},{"$f":"SUM(D12:D17)","v":0}]
["MÉDICO",{"$f":"SUM(C12:D12)","v":0}]
["ENFERMERA /O",0]
["MATRONA /ÓN",0]
["NUTRICIONISTA ",0]
["OTRO PROFESIONAL",0]
["TÉCNICO PARAMÉDICO",0]
["SECCIÓN B: EMP SEGÚN RESULTADO DEL ESTADO NUTRICIONAL"]
["ESTADO \nNUTRICIONAL","TOTAL",null,null,"15 a 19",null,"20 a 24",null,"25 a 29",null,"30 a 34",null,"35 a 39",null,"40 a 44",null,"45 a 49",null,"50 a 54",null,"55 a 59",null,"60 a 64",null,"65 a 69",null,"70 a 74",null,"75 a 79",null,"80 y más"]
[null,"Ambos Sexos","Hombres","Mujeres","Hombres","Mujeres","Hombres","Mujeres","Hombres","Mujeres","Hombres","Mujeres","Hombres","Mujeres","Hombres","Mujeres","Hombres","Mujeres","Hombres","Mujeres","Hombres","Mujeres","Hombres","Mujeres","Hombres","Mujeres","Hombres","Mujeres","Hombres","Mujeres","Hombres","Mujeres"]
["TOTAL",{"$f":"SUM(B22:B25)","v":0},0,0,0,0,0,0,0,0,0,0,0,{"$f":"SUM(N22:N25)","v":0},0,0,0,0,0,0,0,0,0,0,0,0,0,0,0,0,0,0,null,null,null,null,null,null,null,null,null,null,null,null,null,null,null,null,null,null,null,null,null,null,null,null,null,null,null,null,null,null,null,null,null,null,null,null,null,null,null,null,null,null,null,null,null,null,null,null,null,null,null,null,null,null,0]
["NORMAL",{"$f":"SUM(C22:D22)","v":0},{"$f":"SUM(E22+G22+I22+K22+M22+O22+Q22+S22+U22+W22+Y22+AA22+AC22+AE22)","v":0},0]
["BAJO PESO",{"$f":"SUM(C23:D23)","v":0},0,0]
["SOBREPESO",{"$f":"SUM(C24:D24)","v":0},0,0]
["OBESOS",{"$f":"SUM(C25:D25)","v":0},0,0]
["SECCIÓN C: RESULTADOS DE EMP SEGÚN ESTADO DE SALUD"]
["ESTADO \nDE SALUD","TOTAL",null,null,"15 a 19",null,"20 a 24",null,"25 a 29",null,"30 a 34",null,"35 a 39",null,"40 a 44",null,"45 a 49",null,"50 a 54",null,"55 a 59",null,"60 a 64",null,"65 a 69",null,"70 a 74",null,"75 a 79",null,"80 y más"]
[null,"Ambos Sexos","Hombres","Mujeres","Hombres","Mujeres","Hombres","Mujeres","Hombres","Mujeres","Hombres","Mujeres","Hombres","Mujeres","Hombres","Mujeres","Hombres","Mujeres","Hombres","Mujeres","Hombres","Mujeres","Hombres","Mujeres","Hombres","Mujeres","Hombres","Mujeres","Hombres","Mujeres","Hombres","Mujeres"]
["TABAQUISMO",{"$f":"SUM(C29:D29)","v":0},{"$f":"SUM(E29+G29+I29+K29+M29+O29+Q29+S29+U29+W29+Y29+AA29+AC29+AE29)","v":0},{"$f":"SUM(F29+H29+J29+L29+N29+P29+R29+T29+V29+X29+Z29+AB29+AD29+AF29)","v":0},null,null,null,null,null,null,null,null,null,null,null,null,null,null,null,null,null,null,null,null,null,null,null,null,null,null,null,null,null,null,null,null,null,null,null,null,null,null,null,null,null,null,null,null,null,null,null,null,null,null,null,null,null,null,null,null,null,null,null,null,null,null,null,null,null,null,null,null,null,null,null,null,null,null,null,null,null,null,null,null,0]
["PRESIÓN ARTERIAL ELEVADA (= >140/90 mmHg)",{"$f":"SUM(C30:D30)","v":0},{"$f":"SUM(E30+G30+I30+K30+M30+O30+Q30+S30+U30+W30+Y30+AA30+AC30+AE30)","v":0},{"$f":"SUM(F30+H30+J30+L30+N30+P30+R30+T30+V30+X30+Z30+AB30+AD30+AF30)","v":0},null,null,null,null,null,null,null,null,null,null,null,null,null,null,null,null,null,null,null,null,null,null,null,null,null,null,null,null,null,null,null,null,null,null,null,null,null,null,null,null,null,null,null,null,null,null,null,null,null,null,null,null,null,null,null,null,null,null,null,null,null,null,null,null,null,null,null,null,null,null,null,null,null,null,null,null,null,null,null,null,0]
["SECCIÓN D: RESULTADOS DE EMP SEGÚN ESTADO DE SALUD (EXÁMENES DE LABORATORIO)"]
["ESTADO \nDE SALUD","TOTAL",null,null,"15 a 19 años",null,"20 a 24 años",null,"25 a 29",null,"30 a 34",null,"35 a 39",null,"40 a 44",null,"45 a 49",null,"50 a 54",null,"55 a 59",null,"60 a 64",null,"65 a 69",null,"70 a 74",null,"75 a 79",null,"80 y más"]
[null,"Ambos Sexos","Hombres","Mujeres","Hombres","Mujeres","Hombres","Mujeres","Hombres","Mujeres","Hombres","Mujeres","Hombres","Mujeres","Hombres","Mujeres","Hombres","Mujeres","Hombres","Mujeres","Hombres","Mujeres","Hombres","Mujeres","Hombres","Mujeres","Hombres","Mujeres","Hombres","Mujeres","Hombres","Mujeres"]
["GLICEMIA ALTERADA (= > a 100 mg/dl)",{"$f":"SUM(C34:D34)","v":0},{"$f":"SUM(E34+G34+I34+K34+M34+O34+Q34+S34+U34+W34+Y34+AA34+AC34+AE34)","v":0},{"$f":"SUM(F34+H34+J34+L34+N34+P34+R34+T34+V34+X34+Z34+AB34+AD34+AF34)","v":0}]
["COLESTEROL ELEVADO (= > 200 mg/dl)",{"$f":"SUM(C35:D35)","v":0},{"$f":"SUM(E35+G35+I35+K35+M35+O35+Q35+S35+U35+W35+Y35+AA35+AC35+AE35)","v":0},{"$f":"SUM(F35+H35+J35+L35+N35+P35+R35+T35+V35+X35+Z35+AB35+AD35+AF35)","v":0}]
[]
[]
[]
[]
[]
[]
[]
[]
[]
[]
[]
[]
[]
[]
[]
[]
[]
[]
[]
[]
[]
[]
[]
[]
[]
[]
[]
[]
[]
[]
[]
[]
[]
[]
[]
[]
[]
[]
[]
[]
[]
[]
[]
[]
[]
[]
[]
[]
[]
[]
[]
[]
[]
[]
[]
[]
[]
[]
[]
[]
[]
[]
[]
[]
[]
[]
[]
[]
[]
[]
[]
[]
[]
[]
[]
[]
[]
[]
[]
[]
[]
[]
[]
[]
[]
[]
[]
[]
[]
[]
[]
[]
[]
[]
[]
[]
[]
[]
[]
[]
[]
[]
[]
[]
[]
[]
[]
[]
[]
[]
[]
[]
[]
[]
[]
[]
[]
[]
[]
[]
[]
[]
[]
[]
[]
[]
[]
[]
[]
[]
[]
[]
[]
[]
[]
[]
[]
[]
[]
[]
[]
[]
[]
[]
[]
[]
[]
[]
[]
[]
[]
[]
[]
[]
[]
[]
[]
[]
[]
[{"$f":"SUM(B12:B17,B21:B25,B29:B30,B34:B35)","v":0},{"$f":"SUM(CG7:CM52)","v":0}]

{"sheet":"A03","index":3,"n_rows":210,"n_cols":129,"rows_kept":210,"cut":false,"hidden":false,"merged":[[197,0,197,1],[195,19,196,19],[195,20,196,20],[195,21,196,21],[195,22,196,22],[194,19,194,22],[194,5,194,14],[194,15,195,16],[194,17,195,18],[194,0,196,1],[194,2,195,4],[195,5,195,6],[195,7,195,8],[195,9,195,10],[195,11,195,12],[195,13,195,14],[190,0,191,0],[192,0,192,1],[188,17,188,18],[187,5,187,18],[171,5,171,16],[176,0,176,1],[177,0,177,1],[181,7,181,8],[180,0,182,1],[183,0,183,1],[184,0,184,1],[185,0,185,1],[188,11,188,12],[188,13,188,14],[188,15,188,16],[187,2,188,4],[188,5,188,6],[188,7,188,8],[188,9,188,10],[187,0,189,1],[171,0,173,1],[172,15,172,16],[181,9,181,10],[181,11,181,12],[16,0,18,0],[16,1,18,1],[16,2,17,4],[16,5,16,16],[17,5,17,6],[17,7,17,8],[17,9,17,10],[17,11,17,12],[17,13,17,14],[17,15,17,16],[43,0,43,1],[44,0,44,1],[45,0,45,1],[46,0,46,1],[48,0,50,1],[19,0,19,1],[20,0,23,0],[24,0,33,0],[34,0,35,0],[36,0,38,0],[40,0,42,1],[41,13,41,14],[41,15,41,16],[9,23,9,24],[11,0,11,1],[12,0,13,0],[8,0,10,1],[8,2,9,4],[8,5,8,24],[9,5,9,6],[9,7,9,8],[9,9,9,10],[9,11,9,12],[9,13,9,14],[9,15,9,16],[9,17,9,18],[9,19,9,20],[9,21,9,22],[16,17,18,17],[40,2,41,4],[40,5,40,16],[41,5,41,6],[41,7,41,8],[41,9,41,10],[41,11,41,12],[48,2,49,4],[48,5,48,8],[49,5,49,6],[49,7,49,8],[51,0,51,1],[52,0,52,1],[53,0,53,1],[54,0,54,1],[56,0,58,1],[56,2,57,4],[56,5,56,14],[57,5,57,6],[57,7,57,8],[57,9,57,10],[57,11,57,12],[57,13,57,14],[59,0,59,1],[60,0,60,1],[63,0,63,1],[61,0,61,1],[62,0,62,1],[66,0,67,1],[66,2,67,2],[68,0,68,1],[69,0,69,1],[70,0,70,1],[71,0,71,1],[72,0,72,1],[74,0,74,1],[75,0,75,1],[90,0,90,1],[91,0,91,15],[93,0,95,1],[93,2,94,4],[93,5,93,16],[77,0,77,1],[78,0,79,0],[80,0,81,0],[94,5,94,6],[94,7,94,8],[94,9,94,10],[94,11,94,12],[94,13,94,14],[94,15,94,16],[83,2,83,4],[83,5,83,6],[83,7,83,8],[87,0,87,1],[86,0,86,1],[83,0,84,1],[85,0,85,1],[96,0,96,1],[97,0,97,1],[152,29,152,30],[152,31,152,32],[106,21,106,22],[106,23,106,24],[98,0,98,1],[101,0,103,0],[105,0,107,0],[105,1,107,1],[105,2,106,4],[105,5,105,26],[106,5,106,6],[106,7,106,8],[106,25,106,26],[106,17,106,18],[106,19,106,20],[99,0,99,1],[100,0,100,1],[106,13,106,14],[106,15,106,16],[108,0,112,0],[113,0,117,0],[118,0,122,0],[123,0,127,0],[128,0,132,0],[161,1,163,1],[161,2,162,4],[152,11,152,12],[88,0,88,1],[89,0,89,1],[106,9,106,10],[106,11,106,12],[92,0,92,16],[171,2,172,4],[172,13,172,14],[5,0,5,24],[162,13,162,14],[164,0,166,0],[167,0,169,0],[170,0,170,14],[151,0,153,1],[151,2,152,4],[152,5,152,6],[152,9,152,10],[151,5,151,38],[152,7,152,8],[152,13,152,14],[152,15,152,16],[152,17,152,18],[152,19,152,20],[152,21,152,22],[152,23,152,24],[152,25,152,26],[152,27,152,28],[152,33,152,34],[152,35,152,36],[152,37,152,38],[181,13,181,14],[181,15,181,16],[180,2,181,4],[180,5,180,16],[181,5,181,6],[174,0,174,1],[175,0,175,1],[133,0,137,0],[138,0,138,1],[172,11,172,12],[139,0,143,0],[144,0,148,0],[154,0,156,0],[157,0,159,0],[162,5,162,6],[162,7,162,8],[162,9,162,10],[162,11,162,12],[149,0,149,1],[161,5,161,14],[172,5,172,6],[172,7,172,8],[172,9,172,10],[161,0,163,0],[205,0,205,1],[206,0,206,1],[208,0,208,1],[209,0,209,1],[201,0,201,3],[204,0,204,3],[207,0,207,3],[199,0,200,1],[199,2,199,3]]}
["SERVICIO DE SALUD"]
[{"$f":"CONCATENATE(\"COMUNA: \",NOMBRE!B2,\" - \",\"( \",NOMBRE!C2,NOMBRE!D2,NOMBRE!E2,NOMBRE!F2,NOMBRE!G2,\" )\")","v":"COMUNA:  - (  )"}]
[{"$f":"CONCATENATE(\"ESTABLECIMIENTO/ESTRATEGIA: \",NOMBRE!B3,\" - \",\"( \",NOMBRE!C3,NOMBRE!D3,NOMBRE!E3,NOMBRE!F3,NOMBRE!G3,NOMBRE!H3,\" )\")","v":"ESTABLECIMIENTO/ESTRATEGIA:  - (  )"},null,null,null,null,null,null,null,null,null,null,null,null,null,null,null,null,null,null,null,null,null,null,null,null,null,null,null,null,null,null,null,null,null,null,null,null,null,null,null,null,null,null,null,null,null,null,null,null,null,null,null,null,null,null,null,null,null,null,null,null,null,null,null,null,null,null,null,null,null,null,null,null,null,null,null,null,null,null,null,null,null,null,null,null,null,null,null,null,null,null,null,null,null,null,null,null,null,null,null,null,null,null,null,null,null,null,null,null,null,null,0]
[{"$f":"CONCATENATE(\"MES: \",NOMBRE!B6,\" - \",\"( \",NOMBRE!C6,NOMBRE!D6,\" )\")","v":"MES:  - (  )"}]
[{"$f":"CONCATENATE(\"AÑO: \",NOMBRE!B7)","v":"AÑO: 2019"}]
["REM-A03.   APLICACIÓN Y RESULTADOS DE ESCALAS DE EVALUACIÓN "]
["SECCION A: APLICACIÓN DE INSTRUMENTO Y RESULTADO EN EL NIÑO (A)"]
["SECCIÓN A1: APLICACIÓN Y RESULTADOS DE PAUTA BREVE"]
["EVALUACIONES POR EDAD DEL NIÑO",null,"TOTAL  ",null,null,"GRUPO DE EDAD"]
[null,null,null,null,null,"Menor de 1 mes",null,"1 mes",null,"2 meses",null,"3 meses",null,"4 meses",null," 5 meses",null,"6 meses",null," 7 - 11 meses",null,"12 - 17 meses",null,"18 - 24 meses"]
[null,null,"Ambos Sexos","Hombres","Mujeres","Hombres","Mujeres","Hombres","Mujeres","Hombres","Mujeres","Hombres","Mujeres","Hombres","Mujeres","Hombres","Mujeres","Hombres","Mujeres","Hombres","Mujeres","Hombres","Mujeres","Hombres","Mujeres"]
["APLICACIÓN PAUTA BREVE",null,{"$f":"SUM(D12+E12)","v":0},{"$f":"SUM(F12+H12+J12+L12+N12+P12+R12+T12+V12+X12)","v":0},{"$f":"SUM(G12+I12+K12+M12+O12+Q12+S12+U12+W12+Y12)","v":0},null,null,null,null,null,null,null,null,null,null,null,null,null,null,null,null,null,null,null,null,null,null,null,null,null,null,null,null,null,null,null,null,null,null,null,null,null,null,null,null,null,null,null,null,null,null,null,null,null,null,null,null,null,null,null,null,null,null,null,null,null,null,null,null,null,null,null,null,null,null,null,null,null,null,null,null,null,"* Aplicacion de Pauta Breve 4 meses debe ser igual a la suma de resultados. "]
["RESULTADOS","NORMAL",{"$f":"SUM(D13+E13)","v":0},0,0,null,null,null,null,null,null,null,null,null,null,null,null,null,null,null,null,null,null,null,null,null,null,null,null,null,null,null,null,null,null,null,null,null,null,null,null,null,null,null,null,null,null,null,null,null,null,null,null,null,null,null,null,null,null,null,null,null,null,null,null,null,null,null,null,null,null,null,null,null,null,null,null,null,null,null,null,null,null,null,null,null,null,null,null,null,null,null,null,null,null,null,null,null,null,null,null,null,null,null,null,null,null,null,null,0,0,null,0,0,0,0,0,0,0,0,0,0,0,0,0,0,0,0,0]
[null,"ALTERADO",{"$f":"SUM(D14+E14)","v":0},0,0]
[]
["SECCIÓN A2: RESULTADOS DE LA APLICACIÓN DE ESCALA DE EVALUACIÓN DEL DESARROLLO PSICOMOTOR"]
["ACTIVIDAD","RESULTADO","TOTAL    ",null,null,"POR EDAD",null,null,null,null,null,null,null,null,null,null,null,"MIGRANTES"]
[null,null,null,null,null,"Menor 7 meses",null,"7 - 11 meses",null,"12 - 17 meses",null,"18 - 23 meses",null,"24 - 47 meses",null,"48 - 59 meses"]
[null,null,"Ambos Sexos","Hombres","Mujeres","Hombres","Mujeres","Hombres","Mujeres","Hombres","Mujeres","Hombres","Mujeres","Hombres","Mujeres","Hombres","Mujeres"]
["APLICACIÓN TEST DE DESARROLLO PSICOMOTOR",null,{"$f":"SUM(D20+E20)","v":0},{"$f":"SUM(F20+H20+J20+L20+N20+P20)","v":0},{"$f":"SUM(G20+I20+K20+M20+O20+Q20)","v":0},null,null,null,null,null,null,null,null,null,null,null,null,null,null,null,null,null,null,null,null,null,null,null,null,null,null,null,null,null,null,null,null,null,null,null,null,null,null,null,null,null,null,null,null,null,null,null,null,null,null,null,null,null,null,null,null,null,null,null,null,null,null,null,null,null,null,null,null,null,null,null,null,null,null,null,null,null,null,null,0,0,0,0,0,0]
["PRIMERA EVALUACIÓN","NORMAL",0,0,0]
[null,"NORMAL CON REZAGO",0,0,0]
[null,"RIESGO",0,0,0]
[null,"RETRASO",0,0,0]
["REEVALUACIÓN","NORMAL (desde normal con rezago)",0,0,0]
[null,"NORMAL (desde riesgo)",0,0,0]
[null,"NORMAL (desde retraso)",0,0,0]
[null,"NORMAL CON REZAGO (desde riesgo)",0,0,0]
[null,"NORMAL CON REZAGO (desde retraso)",0,{"$f":"+F29+H29+J29+L29+N29+P29","v":0},{"$f":"+G29+I29+K29+M29+O29+Q29","v":0}]
[null,"RIESGO (desde retraso)",{"$f":"SUM(D30:E30)","v":0},{"$f":"+F30+H30+J30+L30+N30+P30","v":0},{"$f":"+G30+I30+K30+M30+O30+Q30","v":0}]
[null,"NORMAL CON REZAGO",{"$f":"SUM(D31:E31)","v":0},{"$f":"SUM(F31+H31+J31+L31+N31+P31)","v":0},0]
[null,"NORMAL",0,{"$f":"SUM(F32+H32+J32+L32+N32+P32)","v":0},0]
[null,"RIESGO",0,0,0]
[null,"RETRASO",0,0,0]
["DERIVADOS A ESPECIALIDAD","RIESGO",0,0,0]
[null,"RETRASO",0,0,0]
["TRASLADO DE ESTABLECIMIENTO","REZAGO",0,0,0]
[null,"RIESGO",0,0,0]
[null,"RETRASO",0,0,0]
["SECCIÓN A3: NIÑOS Y NIÑAS CON REZAGO, DÉFICIT U OTRA VULNERABILIDAD DERIVADOS A ALGUNA MODALIDAD DE ESTIMULACIÓN EN LA PRIMERA EVALUACIÓN"]
["NIÑO / A",null,"TOTAL    ",null,null,"POR EDAD"]
[null,null,null,null,null,"Menor 7 meses",null,"7 - 11 meses",null,"12 - 17 meses",null,"18 - 23 meses",null,"24 - 47 meses",null,"48 - 59 meses"]
[null,null,"Ambos Sexos","Hombres","Mujeres","Hombres","Mujeres","Hombres","Mujeres","Hombres","Mujeres","Hombres","Mujeres","Hombres","Mujeres","Hombres","Mujeres"]
["NORMAL CON REZAGO",null,{"$f":"SUM(D44+E44)","v":0},{"$f":"SUM(F44+H44+J44+L44+N44+P44)","v":0},0]
["RIESGO",null,{"$f":"SUM(D45+E45)","v":0},0,0]
["RETRASO",null,{"$f":"SUM(D46+E46)","v":0},0,0]
["OTRA VULNERABILIDAD",null,{"$f":"SUM(D47:E47)","v":0},{"$f":"SUM(F47+H47+J47+L47+N47+P47)","v":0},{"$f":"SUM(G47+I47+K47+M47+O47+Q47)","v":0}]
["SECCIÓN A.4: RESULTADOS DE LA APLICACIÓN DE PROTOCOLO NEUROSENSORIAL"]
["RESULTADOS",null,"TOTAL  ",null,null,"POR EDAD"]
[null,null,null,null,null,"1 mes",null,"2 meses"]
[null,null,"Ambos Sexos","Hombres","Mujeres","Hombres","Mujeres","Hombres","Mujeres"]
["APLICACIÓN DE PROTOCOLO NEUROSENSORIAL (1-2 MESES)",null,{"$f":"SUM(D52+E52)","v":0},{"$f":"SUM(F52+H52)","v":0},0,{"$f":"SUM(F53:F55)","v":0},{"$f":"SUM(G53:G55)","v":0},{"$f":"SUM(H53:H55)","v":0},{"$f":"SUM(I53:I55)","v":0}]
["NORMAL",null,{"$f":"SUM(D53+E53)","v":0},0,0]
["ANORMAL",null,{"$f":"SUM(D54+E54)","v":0},0,0]
["MUY ANORMAL",null,{"$f":"SUM(D55+E55)","v":0},0,0]
["SECCIÓN A.5:  LACTANCIA MATERNA EN MENORES CONTROLADOS"]
["TIPO DE ALIMENTACIÓN",null,"TOTAL",null,null,"SEGÚN CONTROL PROGRAMÁTICO"]
[null,null,null,null,null,"Del 1° mes",null,"Del 3° mes",null,"Del 6° mes",null,"Del 12° mes",null,"Del 24° mes"]
[null,null,"Ambos Sexos","Hombres","Mujeres","Hombres","Mujeres","Hombres","Mujeres","Hombres","Mujeres","Hombres","Mujeres","Hombres","Mujeres"]
["MENORES CONTROLADOS",null,{"$f":"SUM(D60+E60)","v":0},{"$f":"SUM(F60+H60+J60+L60+N60)","v":0},{"$f":"SUM(G60+I60+K60+M60+O60)","v":0}]
["LACTANCIA MATERNA EXCLUSIVA",null,{"$f":"SUM(D61+E61)","v":0},{"$f":"SUM(F61+H61+J61)","v":0},0]
["LACTANCIA MATERNA / FORMULA LACTEA",null,{"$f":"SUM(D62+E62)","v":0},0,0]
["FORMULA LACTEA",null,{"$f":"SUM(D63+E63)","v":0},0,0]
["LACTANCIA MATERNA MAS SÓLIDOS",null,{"$f":"SUM(D64+E64)","v":0},{"$f":"SUM(J64+L64+N64)","v":0},{"$f":"SUM(K64+M64+O64)","v":0}]
["SECCION B: EVALUACIÓN, APLICACIÓN Y RESULTADOS DE ESCALAS EN  LA MUJER"]
["SECCIÓN B.1: EVALUACIÓN DEL ESTADO NUTRICIONAL A MUJERES CONTROLADAS AL OCTAVO MES POST PARTO"]
["ESTADO NUTRICIONAL",null,"TOTAL"]
[]
["TOTAL",null,{"$f":"SUM(C70:C73)","v":0}]
["OBESA"]
["SOBREPESO"]
["NORMAL"]
["BAJO PESO"]
["SECCIÓN B.2: APLICACIÓN DE ESCALA SEGÚN EVALUACION DE RIESGO PSICOSOCIAL ABREVIADA A GESTANTES"]
["TIPO",null,"TOTAL DE APLICACIONES","RIESGO","DERIVADAS A EQUIPO DE CABECERA"]
["EVALUACIÓN AL INGRESO"]
["SECCIÓN B.3: APLICACIÓN DE ESCALA DE EDIMBURGO A GESTANTES Y MUJERES POST PARTO"]
["CONCEPTO",null,"TOTAL DE APLICACIONES","RESULTADOS  \n10 O MÁS PTOS. O RESULTADO DISTINTO DE 0 EN PREG 10 . (PUERPERAS)","RESULTADOS  \n13 O MÁS PTOS O RESULTADO DISTINTO DE 0 EN PREG 10. (GESTANTES)"]
["EVALUACIÓN A GESTANTES","PRIMERA EVALUACIÓN (2º control prenatal)",null,null,null,null,null,null,null,null,null,null,null,null,null,null,null,null,null,null,null,null,null,null,null,null,null,null,null,null,null,null,null,null,null,null,null,null,null,null,null,null,null,null,null,null,null,null,null,null,null,null,null,null,null,null,null,null,null,null,null,null,null,null,null,null,null,null,null,null,null,null,null,null,null,null,null,null,null,null,null,null,null,null,0]
[null,"REEVALUACIÓN (con puntaje elevado en la primera evaluación)",null,null,null,null,null,null,null,null,null,null,null,null,null,null,null,null,null,null,null,null,null,null,null,null,null,null,null,null,null,null,null,null,null,null,null,null,null,null,null,null,null,null,null,null,null,null,null,null,null,null,null,null,null,null,null,null,null,null,null,null,null,null,null,null,null,null,null,null,null,null,null,null,null,null,null,null,null,null,null,null,null,null,0]
["EVALUACIÓN A MUJERES POST PARTO O SÍNTOMAS DE DEPRESIÓN","A los 2 meses",null,null,null,null,null,null,null,null,null,null,null,null,null,null,null,null,null,null,null,null,null,null,null,null,null,null,null,null,null,null,null,null,null,null,null,null,null,null,null,null,null,null,null,null,null,null,null,null,null,null,null,null,null,null,null,null,null,null,null,null,null,null,null,null,null,null,null,null,null,null,null,null,null,null,null,null,null,null,null,null,null,null,0]
[null,"A los 6 meses",null,null,null,null,null,null,null,null,null,null,null,null,null,null,null,null,null,null,null,null,null,null,null,null,null,null,null,null,null,null,null,null,null,null,null,null,null,null,null,null,null,null,null,null,null,null,null,null,null,null,null,null,null,null,null,null,null,null,null,null,null,null,null,null,null,null,null,null,null,null,null,null,null,null,null,null,null,null,null,null,null,null,0]
["SECCIÓN C: RESULTADOS DE LA EVALUACIÓN DEL ESTADO NUTRICIONAL DEL ADOLESCENTE CON CONTROL SALUD INTEGRAL"]
["ESTADO \nNUTRICIONAL",null,"TOTAL",null,null,"10 A 14",null,"15 A 19"]
[null,null,"Ambos Sexos","Hombres","Mujeres","Hombres","Mujeres","Hombres","Mujeres"]
["TOTAL",null,{"$f":"SUM(C87:C91)","v":0},0,0,0,0,0,0]
["NORMAL",null,{"$f":"SUM(D87+E87)","v":0},{"$f":"SUM(F87+H87)","v":0},0]
["BAJO PESO",null,{"$f":"SUM(D88+E88)","v":0},0,0]
["SOBREPESO",null,{"$f":"SUM(D89+E89)","v":0},0,0]
["OBESOS",null,{"$f":"SUM(D90+E90)","v":0},0,0]
["OBESOS SEVEROS",null,{"$f":"SUM(D91+E91)","v":0},0,0]
["SECCIÓN D: OTRAS EVALUACIONES, APLICACIONES Y RESULTADOS DE ESCALAS EN TODAS LAS EDADES"]
["SECCIÓN D.1: APLICACIÓN DE TAMIZAJE PARA EVALUAR EL NIVEL DE RIESGO DE CONSUMO DE  ALCOHOL, TABACO Y OTRAS DROGAS"]
["COMPONENTE",null,"TOTAL              ",null,null,"POR EDAD"]
[null,null,null,null,null,"10-14 años",null,"15-19 años",null,"20-24 años",null,"25-44 años",null,"45-64 años",null,"65 o más"]
[null,null,"Ambos Sexos","Hombres","Mujeres","Hombres","Mujeres","Hombres","Mujeres","Hombres","Mujeres","Hombres","Mujeres","Hombres","Mujeres","Hombres","Mujeres"]
["Nº DE AUDIT (EMP/EMPAM)",null,{"$f":"SUM(D97+E97)","v":0},{"$f":"SUM(F97+H97+J97+L97+N97+P97)","v":0},0]
["Nº DE AUDIT APLICADO",null,0,0,0]
["Nº DE ASSIST ",null,0,{"$f":"SUM(F99+H99+J99+L99+N99+P99)","v":0},{"$f":"SUM(G99+I99+K99+M99+O99+Q99)","v":0}]
["N° DE CRAFFT",null,0,0,0]
["Nº DE ASSIST/CRAFF (EMP/EMPAM)",null,{"$f":"SUM(D101:E101)","v":0},{"$f":"SUM(F101+H101+J101+L101+N101+P101)","v":0},{"$f":"SUM(G101+I101+K101+M101+O101+Q101)","v":0}]
["RESULTADOS DE EVALUACIÓN","BAJO RIESGO ",0,0,0]
[null,"CONSUMO RIESGOSO / INTERMEDIO",0,{"$f":"SUM(F103+H103+J103+L103+N103+P103)","v":0},{"$f":"SUM(G103+I103+K103+M103+O103+Q103)","v":0}]
[null,"POSIBLE CONSUMO PERJUDICIAL O DEPENDENCIA ",0,{"$f":"SUM(F104+H104+J104+L104+N104+P104)","v":0},{"$f":"SUM(G104+I104+K104+M104+O104+Q104)","v":0}]
["SECCIÓN D.2: RESULTADOS DE LA APLICACIÓN DE INSTRUMENTO DE VALORACIÓN DE DESEMPEÑO EN COMUNIDAD (IVADEC-CIF)"]
["ACTIVIDAD","RESULTADO","TOTAL    ",null,null,"POR EDAD"]
[null,null,null,null,null,"6 -11 meses",null,"12 - 23 meses",null,"2 - 4 años",null,"5 - 9 años",null,"10 a 14 años",null,"15 a 19 años",null,"20 a 24 años",null,"25 a 64 años",null,"65 a 69 años",null,"70 a 79 años",null,"80 y más años"]
[null,null,"Ambos Sexos","Hombres","Mujeres","Hombres","Mujeres","Hombres","Mujeres","Hombres","Mujeres","Hombres","Mujeres","Hombres","Mujeres","Hombres","Mujeres","Hombres","Mujeres","Hombres","Mujeres","Hombres","Mujeres","Hombres","Mujeres","Hombres","Mujeres"]
["ORIGEN FÍSICO","SIN DISCAPACIDAD",{"$f":"SUM(D109+E109)","v":0},{"$f":"SUM(F109+H109+J109+L109+N109+P109+R109+T109+V109+X109+Z109)","v":0},{"$f":"SUM(G109+I109+K109+M109+O109+Q109+S109+U109+W109+Y109+AA109)","v":0}]
[null,"DISCAPACIDAD LEVE",0,0,0]
[null,"DISCAPACIDAD MODERADA",0,0,0]
[null,"DISCAPACIDAD SEVERA",0,0,0]
[null,"DISCAPACIDAD PROFUNDA",0,0,0]
["ORIGEN SENSORIAL VISUAL","SIN DISCAPACIDAD",0,0,0]
[null,"DISCAPACIDAD LEVE",0,0,0]
[null,"DISCAPACIDAD MODERADA",0,0,0]
[null,"DISCAPACIDAD SEVERA",0,0,0]
[null,"DISCAPACIDAD PROFUNDA",0,0,0]
["ORIGEN SENSORIAL AUDITIVO","SIN DISCAPACIDAD",0,0,0]
[null,"DISCAPACIDAD LEVE",0,0,0]
[null,"DISCAPACIDAD MODERADA",0,0,0]
[null,"DISCAPACIDAD SEVERA",0,0,0]
[null,"DISCAPACIDAD PROFUNDA",0,0,0]
["ORIGEN MENTAL PSÍQUICO","SIN DISCAPACIDAD",0,0,0]
[null,"DISCAPACIDAD LEVE",0,0,0]
[null,"DISCAPACIDAD MODERADA",0,0,0]
[null,"DISCAPACIDAD SEVERA",0,0,0]
[null,"DISCAPACIDAD PROFUNDA",0,0,0]
["ORIGEN MENTAL INTELECTUAL","SIN DISCAPACIDAD",0,0,0]
[null,"DISCAPACIDAD LEVE",0,0,0]
[null,"DISCAPACIDAD MODERADA",0,0,0]
[null,"DISCAPACIDAD SEVERA",0,0,0]
[null,"DISCAPACIDAD PROFUNDA",0,0,0]
["ORIGEN MÚLTIPLE","SIN DISCAPACIDAD",0,0,0]
[null,"DISCAPACIDAD LEVE",0,0,0]
[null,"DISCAPACIDAD MODERADA",0,0,0]
[null,"DISCAPACIDAD SEVERA",0,0,0]
[null,"DISCAPACIDAD PROFUNDA",0,0,0]
["TOTAL DE EVALUACIONES",null,{"$f":"SUM(C109:C138)","v":0},0,0,0,0,0,0,0,0,0,0,0,0,0,0,0,0,0,0,0,0,0,0,0,0]
["EVALUACIÓN INGRESO","SIN DISCAPACIDAD",{"$f":"SUM(D140+E140)","v":0},{"$f":"SUM(F140+H140+J140+L140+N140+P140+R140+T140+V140+X140+Z140)","v":0},{"$f":"SUM(G140+I140+K140+M140+O140+Q140+S140+U140+W140+Y140+AA140)","v":0}]
[null,"DISCAPACIDAD LEVE",0,0,0]
[null,"DISCAPACIDAD MODERADA",0,0,0]
[null,"DISCAPACIDAD SEVERA",0,0,0]
[null,"DISCAPACIDAD PROFUNDA",0,0,0]
["EVALUACIÓN EGRESO","SIN DISCAPACIDAD",0,0,0]
[null,"DISCAPACIDAD LEVE",0,0,0]
[null,"DISCAPACIDAD MODERADA",0,0,0]
[null,"DISCAPACIDAD SEVERA",0,0,0]
[null,"DISCAPACIDAD PROFUNDA",0,0,0]
["TOTAL DE EVALUACIONES",null,{"$f":"SUM(C140:C149)","v":0},0,0,0,0,0,0,0,0,0,0,0,0,0,0,0,0,0,0,0,0,0,0,0,0]
["SECCION D.3: APLICACIÓN Y RESULTADO DE PAUTA DE EVALUACIÓN Y SALUD MENTAL"]
["RESULTADOS",null,"TOTAL",null,null,"POR EDAD"]
[null,null,null,null,null,"0 a 4 años",null,"5 a 9 años",null,"10 a 14 años",null,"15 a 19 años",null,"20 a 24 años",null,"25 a 29 años",null,"30 a 34 años",null,"35 a 39 años",null,"40 a 44 años",null,"45 a 49 años",null,"50 a 54 años",null,"55 a 59 años",null,"60 a 64 años",null,"65 a 69 años",null,"70 a 74 años",null,"75 a 79 años",null,"80 y más años"]
[null,null,"Ambos Sexos","Hombres","Mujeres","Hombres","Mujeres","Hombres","Mujeres","Hombres","Mujeres","Hombres","Mujeres","Hombres","Mujeres","Hombres","Mujeres","Hombres","Mujeres","Hombres","Mujeres","Hombres","Mujeres","Hombres","Mujeres","Hombres","Mujeres","Hombres","Mujeres","Hombres","Mujeres","Hombres","Mujeres","Hombres","Mujeres","Hombres","Mujeres","Hombres","Mujeres"]
["EVALUACION AL INGRESO","BAJO",{"$f":"SUM(D155+E155)","v":0},{"$f":"SUM(F155+H155+J155+L155+N155+P155+R155+T155+V155+X155+Z155+AB155+AD155+AF155+AH155+AJ155+AL155)","v":0},{"$f":"SUM(G155+I155+K155+M155+O155+Q155+S155+U155+W155+Y155+AA155+AC155+AE155+AG155+AI155+AK155+AM155)","v":0}]
[null,"MEDIO",0,{"$f":"SUM(F156+H156+J156+L156+N156+P156+R156+T156+V156+X156+Z156+AB156+AD156+AF156+AH156+AJ156+AL156)","v":0},{"$f":"SUM(G156+I156+K156+M156+O156+Q156+S156+U156+W156+Y156+AA156+AC156+AE156+AG156+AI156+AK156+AM156)","v":0}]
[null,"ALTO",0,0,0]
["EVALUACION AL EGRESO","BAJO",0,0,0]
[null,"MEDIO",0,0,0]
[null,"ALTO",0,0,0]
["SECCION D.4: RESULTADO DE APLICACIÓN DE CONDICIÓN DE FUNCIONALIDAD AL EGRESO PROGRAMA \"MÁS ADULTOS MAYORES AUTOVALENTES\""]
["ACTIVIDAD","RESULTADO","TOTAL",null,null,"POR EDAD"]
[null,null,null,null,null,"60 a 64 años",null,"65 a 69 años",null,"70 a 74 años",null,"75 a 79 años",null,"80 y más años"]
[null,null,"Ambos Sexos","Hombres","Mujeres","Hombres","Mujeres","Hombres","Mujeres","Hombres","Mujeres","Hombres","Mujeres","Hombres","Mujeres"]
["TIMED UP AND GO","MEJORA",{"$f":"SUM(D165+E165)","v":0},{"$f":"SUM(F165+H165+J165+L165+N165)","v":0},0]
[null,"MANTIENE",0,0,0]
[null,"DISMINUYE",0,0,0]
["CUESTIONARIO ","MEJORA",0,0,0]
[null,"MANTIENE",0,0,0]
[null,"DISMINUYE",0,0,0]
["SECCION D.5: VARIACION  DE RESULTADO DE APLICACIÓN DEL ÍNDICE DE BARTHEL ENTRE EL INGRESO Y EGRESO HOSPITALARIO"]
["INDICE DE BARTHEL",null,"TOTAL",null,null,"POR EDAD"]
[null,null,null,null,null,"65 a 69 años",null,"70 a 74 años",null,"75 a 79 años",null,"80 a 84 años",null,"85 a 89 años",null,"90 y mas años"]
[null,null,"Ambos Sexos","Hombres","Mujeres","Hombres","Mujeres","Hombres","Mujeres","Hombres","Mujeres","Hombres","Mujeres","Hombres","Mujeres","Hombres","Mujeres"]
["MEJORA PUNTUACIÓN ÍNDICE DE BARTHEL",null,{"$f":"SUM(D175+E175)","v":0},{"$f":"SUM(F175+H175+J175+L175+N175+P175)","v":0},0]
["MANTIENE PUNTUACIÓN ÍNDICE DE BARTHEL",null,{"$f":"SUM(D176+E176)","v":0},0,0]
["DISMINUYE PUNTUACIÓN ÍNDICE DE BARTHEL",null,{"$f":"SUM(D177+E177)","v":0},0,0]
["TOTAL",null,{"$f":"SUM(C175:C177)","v":0},0,0,0,0,0,0,0,0,{"$f":"SUM(L175:L177)","v":0},0,0,0,0,0]
["** * El resultado que se consigna es la comparacion del indice de Barthel aplicado al Ingreso y Egreso de la Hospitalizacion"]
["SECCIÓN D.6: APLICACIÓN DE ESCALA ZARIT ABREVIADO EN CUIDADORES DE PERSONAS CON DEPENDENCIA SEVERA"]
["ESCALA DE SOBRECARGA DEL CUIDADOR \"ZARIT ABREVIADO\"",null,"TOTAL              ",null,null,"POR EDAD"]
[null,null,null,null,null,"10-14 años",null,"15-19 años",null,"20-24 años",null,"25-44 años",null,"45-64 años",null,"65 o más"]
[null,null,"Ambos Sexos","Hombres","Mujeres","Hombres","Mujeres","Hombres","Mujeres","Hombres","Mujeres","Hombres","Mujeres","Hombres","Mujeres","Hombres","Mujeres"]
["CUIDADORA (O) CON SOBRECARGA INTENSA",null,{"$f":"SUM(D184+E184)","v":0},{"$f":"SUM(F184+H184+J184+L184+N184+P184)","v":0},0]
["CUIDADORA (O) SIN SOBRECARGA INTENSA",null,{"$f":"SUM(D185+E185)","v":0},0,0]
["TOTAL CUIDADORES EVALUADOS",null,{"$f":"SUM(D186+E186)","v":0},0,0,{"$f":"SUM(F184:F185)","v":0},0,0,0,0,0,0,0,0,0,0,0]
["SECCION D.7: APLICACIÓN Y RESULTADOS DE PAUTA DE EVALUACION CON ENFOQUE DE RIESGO ODONTOLOGICO (CERO)"]
["PAUTA CERO ",null,"TOTAL",null,null,"POR EDAD"]
[null,null,null,null,null,"<1 año",null,"1 año",null,"2 años",null,"3 años ",null,"4 años",null,"5 años",null,"6 años"]
[null,null,"Ambos sexos","Hombres","Mujeres","Hombres","Mujeres","Hombres","Mujeres","Hombres","Mujeres","Hombres","Mujeres","Hombres","Mujeres","Hombres","Mujeres","Hombres","Mujeres"]
["EVALUACIÓN DE RIESGO","BAJO RIESGO ",{"$f":"SUM(D191+E191)","v":0},{"$f":"SUM(F191+H191+J191+L191+N191+P191+R191)","v":0},{"$f":"SUM(G191+I191+K191+M191+O191+Q191+S191)","v":0}]
[null,"ALTO RIESGO",{"$f":"SUM(D192+E192)","v":0},{"$f":"SUM(F192+H192+J192+L192+N192+P192+R192)","v":0},{"$f":"SUM(G192+I192+K192+M192+O192+Q192+S192)","v":0}]
["TOTAL ",null,{"$f":"SUM(C191+C192)","v":0},{"$f":"SUM(D191+D192)","v":0},{"$f":"SUM(E191+E192)","v":0},{"$f":"SUM(F191+F192)","v":0},{"$f":"SUM(G191+G192)","v":0},0,0,0,0,0,0,0,0,0,0,{"$f":"SUM(R191+R192)","v":0},{"$f":"SUM(S191+S192)","v":0}]
["SECCION E: APLICACIÓN DE PAUTA DETECCIÓN DE FACTORES DE RIESGO PSICOSOCIAL INFANTIL"]
["EVALUACIÓN",null,"TOTAL",null,null,"POR EDAD",null,null,null,null,null,null,null,null,null,"Pueblo originarios",null,"Migrantes",null,"DERIVACIÓN"]
[null,null,null,null,null,"Menor 7 meses",null,"7 - 11 meses",null,"12 - 23 meses",null,"24- 48 meses",null,"5 A 9 AÑOS",null,null,null,null,null,"Riesgo","Derivadas a equipos de cabecera","derivada a MADI  0  4 años","Derivado a Salud Mental 5 a 9 años"]
[null,null,"Ambos sexos","Hombres","Mujeres","Hombres","Mujeres","Hombres","Mujeres","Hombres","Mujeres","Hombres","Mujeres","Hombres","Mujeres","Hombres","Mujeres","Hombres","Mujeres"]
["EVALUACIÓN RIESGO PSICOSOCIAL EN CONTROL DE SALUD MENTAL",null,{"$f":"SUM(D198+E198)","v":0},{"$f":"SUM(F198+H198+J198+L198+N198+P198+R198)","v":0},{"$f":"SUM(G198+I198+K198+M198+O198+Q198+S198)","v":0}]
["SECCIÓN G: TAMIZAJE TRASTORNO ESPECTRO AUTISTA  (MCHAT) "]
["EVALUACIÓN",null,"18 - 23 meses"]
[null,null,"Hombres","Mujeres"]
["PORCENTAJE DE NIÑOS CON ALTERACION EN AREA DEL DSM"]
["Niños con Control "]
["Niños con alteracion de area Lenguaje y/o Social en Control "]
["PORCENTAJE DE NIÑOS CON EXAMEN MCHAT REALIZADO"]
["Niños con Tamizaje Trastorno Espectro Autista (MCHAT) realizado en niños con alteracion del area de lenguaje y/o Social en el control "]
["Niños con alteracion de area Lenguaje y/o Social en Control "]
["PORCENTAJE DE NIÑOS CON TAMIZAJE TRASTORNO ESPECTRO AUTISTA  (MCHAT) ALTERADO"]
["Niños con Tamizaje Trastorno Espectro Autista (MCHAT) ALTERADO en niños con alteracion del area de lenguaje y/o Social en el control "]
["Niños con Tamizaje Trastorno Espectro Autista (MCHAT) REALIZADO en niños con alteracion del area de lenguaje y/o Social en el control "]

{"sheet":"A04","index":4,"n_rows":208,"n_cols":88,"rows_kept":208,"cut":false,"hidden":false,"merged":[[8,44,10,44],[89,0,89,3],[83,0,83,3],[27,42,29,42],[8,43,10,43],[27,44,29,44],[119,0,121,0],[122,0,125,0],[115,0,118,1],[115,2,117,4],[115,5,116,14],[117,5,117,6],[117,7,117,8],[117,9,117,10],[117,11,117,12],[117,13,117,14],[102,0,103,0],[102,1,103,1],[102,11,103,11],[93,0,93,5],[94,0,96,0],[94,1,95,2],[94,3,95,4],[94,5,96,5],[102,2,102,10],[74,33,74,34],[74,29,74,30],[69,1,70,1],[69,2,70,2],[69,3,70,3],[74,5,74,6],[73,5,73,34],[77,0,78,0],[81,0,82,0],[81,1,82,1],[81,2,82,2],[81,3,82,3],[74,25,74,26],[74,9,74,10],[74,11,74,12],[74,13,74,14],[74,15,74,16],[74,31,74,32],[74,23,74,24],[74,27,74,28],[74,21,74,22],[74,17,74,18],[74,19,74,20],[69,0,70,0],[74,7,74,8],[72,0,72,6],[73,0,75,0],[73,1,75,1],[73,2,74,4],[51,13,52,13],[51,14,52,14],[51,15,52,15],[51,16,52,16],[60,5,60,6],[60,0,61,0],[60,1,60,2],[60,3,60,4],[50,0,52,0],[9,8,9,9],[9,10,9,11],[51,9,52,9],[51,7,52,7],[50,1,51,3],[51,4,52,4],[51,5,52,5],[51,6,52,6],[28,10,28,11],[9,12,9,13],[9,14,9,15],[50,4,50,21],[51,19,52,19],[51,20,52,20],[51,21,52,21],[8,41,10,41],[9,20,9,21],[9,22,9,23],[9,24,9,25],[9,26,9,27],[9,38,9,39],[9,30,9,31],[9,32,9,33],[9,34,9,35],[5,0,5,22],[8,0,10,0],[8,1,9,3],[8,4,8,39],[28,30,28,31],[9,36,9,37],[45,0,46,0],[45,1,46,1],[45,2,45,5],[45,6,45,9],[27,0,29,0],[27,1,28,3],[28,20,28,21],[28,22,28,23],[28,24,28,25],[28,26,28,27],[28,28,28,29],[28,38,28,39],[45,11,45,17],[28,18,28,19],[9,4,9,5],[9,6,9,7],[28,12,28,13],[28,14,28,15],[50,22,52,22],[51,10,52,10],[51,11,52,11],[51,12,52,12],[51,8,52,8],[51,18,52,18],[51,17,52,17],[108,0,110,0],[108,1,109,3],[108,4,108,39],[109,10,109,11],[109,12,109,13],[109,4,109,5],[109,6,109,7],[109,8,109,9],[109,36,109,37],[109,38,109,39],[109,14,109,15],[109,20,109,21],[109,22,109,23],[109,24,109,25],[109,16,109,17],[109,18,109,19],[109,26,109,27],[27,41,29,41],[73,35,75,35],[73,36,75,36],[8,42,10,42],[9,16,9,17],[27,43,29,43],[108,41,110,41],[109,28,109,29],[109,30,109,31],[109,32,109,33],[109,34,109,35],[108,40,110,40],[9,18,9,19],[9,28,9,29],[8,40,10,40],[27,40,29,40],[27,4,27,39],[28,4,28,5],[28,6,28,7],[28,8,28,9],[28,32,28,33],[28,34,28,35],[28,36,28,37],[28,16,28,17]]}
["SERVICIO DE SALUD"]
[{"$f":"CONCATENATE(\"COMUNA: \",NOMBRE!B2,\" - \",\"( \",NOMBRE!C2,NOMBRE!D2,NOMBRE!E2,NOMBRE!F2,NOMBRE!G2,\" )\")","v":"COMUNA:  - (  )"}]
[{"$f":"CONCATENATE(\"ESTABLECIMIENTO/ESTRATEGIA: \",NOMBRE!B3,\" - \",\"( \",NOMBRE!C3,NOMBRE!D3,NOMBRE!E3,NOMBRE!F3,NOMBRE!G3,NOMBRE!H3,\" )\")","v":"ESTABLECIMIENTO/ESTRATEGIA:  - (  )"}]
[{"$f":"CONCATENATE(\"MES: \",NOMBRE!B6,\" - \",\"( \",NOMBRE!C6,NOMBRE!D6,\" )\")","v":"MES:  - (  )"}]
[{"$f":"CONCATENATE(\"AÑO: \",NOMBRE!B7)","v":"AÑO: 2019"}]
["REM-A04.   CONSULTAS Y OTRAS ATENCIONES EN LA RED"]
[]
["SECCIÓN A: CONSULTAS MÉDICAS "]
["TIPO DE CONSULTA","TOTAL      ",null,null,"POR DE EDAD (en años)",null,null,null,null,null,null,null,null,null,null,null,null,null,null,null,null,null,null,null,null,null,null,null,null,null,null,null,null,null,null,null,null,null,null,null,"Beneficiarios","Pueblos Originarios","Migrantes","Niños, Niñas, Adolescentes y Jóvenes Población SENAME","Por Campaña de Invierno"]
[null,null,null,null,"Menor \nde 1",null,"1 a 4",null,"5 a 9",null,"10 a 14",null,"15 a 19",null,"20 a 24",null,"25 - 29",null,"30 - 34",null,"35 - 39",null,"40 - 44",null,"45 - 49",null,"50 - 54",null,"55 - 59",null,"60 - 64",null,"65 - 69",null,"70 - 74",null,"75 - 79",null,"80 y mas"]
[null,"Ambos Sexos","Hombres","Mujeres","Hombres","Mujeres","Hombres","Mujeres","Hombres","Mujeres","Hombres","Mujeres","Hombres","Mujeres","Hombres","Mujeres","Hombres","Mujeres","Hombres","Mujeres","Hombres","Mujeres","Hombres","Mujeres","Hombres","Mujeres","Hombres","Mujeres","Hombres","Mujeres","Hombres","Mujeres","Hombres","Mujeres","Hombres","Mujeres","Hombres","Mujeres","Hombres","Mujeres"]
["TOTAL",{"$f":"+B13+B14+B15+B16+B17+B18+B21+B22+B23+B24+B25+B26","v":0},{"$f":"+C13+C14+C15+C16+C17+C18+C21+C22+C23+C24+C25+C26","v":0},{"$f":"SUM(D13:D26)","v":0},{"$f":"SUM(E13:E26)","v":0},{"$f":"SUM(F13:F26)","v":0},{"$f":"SUM(G13:G26)","v":0},0,0,0,0,0,0,0,0,0,0,0,0,0,{"$f":"SUM(U13:U26)","v":0},{"$f":"SUM(V13:V26)","v":0},0,0,0,0,0,0,0,0,0,0,0,0,0,0,0,0,0,0,0,{"$f":"SUM(AP13:AP26)","v":0},{"$f":"SUM(AQ13:AQ26)","v":0},{"$f":"SUM(AR13:AR26)","v":0},{"$f":"SUM(AS13:AS26)","v":0}]
["IRA ALTA",{"$f":"SUM(C13:D13)","v":0},{"$f":"SUM(E13+G13+I13+K13+M13+O13+Q13+S13+U13+W13+Y13+AA13+AC13+AE13+AG13+AI13+AK13+AM13)","v":0},{"$f":"SUM(F13+H13+J13+L13+N13+P13+R13+T13+V13+X13+Z13+AB13+AD13+AF13+AH13+AJ13+AL13+AN13)","v":0},null,null,null,null,null,null,null,null,null,null,null,null,null,null,null,null,null,null,null,null,null,null,null,null,null,null,null,null,null,null,null,null,null,null,null,null,null,null,null,null,null,null,null,null,null,null,null,null,null,null,null,null,null,null,null,null,null,null,null,null,null,null,null,null,null,null,null,null,null,null,null,null,null,null,null,null,null,null,null,0,0,0,0,0]
["SÍNDROME BRONQUIAL OBSTRUCTIVO ",0,{"$f":"SUM(E14+G14+I14)","v":0},{"$f":"SUM(F14+H14+J14)","v":0},null,null,null,null,null,null,null,null,null,null,null,null,null,null,null,null,null,null,null,null,null,null,null,null,null,null,null,null,null,null,null,null,null,null,null,null,null,null,null,null,null,null,null,null,null,null,null,null,null,null,null,null,null,null,null,null,null,null,null,null,null,null,null,null,null,null,null,null,null,null,null,null,null,null,null,null,null,null,null,0,0,0,0,0]
["NEUMONÍA",0,{"$f":"SUM(E15+G15+I15+K15+M15+O15+Q15+S15+U15+W15+Y15+AA15+AC15+AE15+AG15+AI15+AK15+AM15)","v":0},{"$f":"SUM(F15+H15+J15+L15+N15+P15+R15+T15+V15+X15+Z15+AB15+AD15+AF15+AH15+AJ15+AL15+AN15)","v":0},null,null,null,null,null,null,null,null,null,null,null,null,null,null,null,null,null,null,null,null,null,null,null,null,null,null,null,null,null,null,null,null,null,null,null,null,null,null,null,null,null,null,null,null,null,null,null,null,null,null,null,null,null,null,null,null,null,null,null,null,null,null,null,null,null,null,null,null,null,null,null,null,null,null,null,null,null,null,null,0,0,0,0,0]
["ASMA",0,{"$f":"SUM(I16+K16+M16+O16+Q16+S16+U16+W16+Y16+AA16+AC16+AE16+AG16+AI16+AK16+AM16)","v":0},{"$f":"SUM(J16+L16+N16+P16+R16+T16+V16+X16+Z16+AB16+AD16+AF16+AH16+AJ16+AL16+AN16)","v":0},null,null,null,null,null,null,null,null,null,null,null,null,null,null,null,null,null,null,null,null,null,null,null,null,null,null,null,null,null,null,null,null,null,null,null,null,null,null,null,null,null,null,null,null,null,null,null,null,null,null,null,null,null,null,null,null,null,null,null,null,null,null,null,null,null,null,null,null,null,null,null,null,null,null,null,null,null,null,null,0,0,0,0,0]
["ENFERMEDAD PULMONAR OBSTRUCTIVA CRÓNICA",0,{"$f":"SUM(U17+W17+Y17+AA17+AC17+AE17+AG17+AI17+AK17+AM17)","v":0},{"$f":"SUM(V17+X17+Z17+AB17+AD17+AF17+AH17+AJ17+AL17+AN17)","v":0},null,null,null,null,null,null,null,null,null,null,null,null,null,null,null,null,null,null,null,null,null,null,null,null,null,null,null,null,null,null,null,null,null,null,null,null,null,null,null,null,null,null,null,null,null,null,null,null,null,null,null,null,null,null,null,null,null,null,null,null,null,null,null,null,null,null,null,null,null,null,null,null,null,null,null,null,null,null,null,0,0,0,0,0]
["OTRAS RESPIRATORIAS",0,{"$f":"SUM(E18+G18+I18+K18+M18+O18+Q18+S18+U18+W18+Y18+AA18+AC18+AE18+AG18+AI18+AK18+AM18)","v":0},{"$f":"SUM(F18+H18+J18+L18+N18+P18+R18+T18+V18+X18+Z18+AB18+AD18+AF18+AH18+AJ18+AL18+AN18)","v":0},null,null,null,null,null,null,null,null,null,null,null,null,null,null,null,null,null,null,null,null,null,null,null,null,null,null,null,null,null,null,null,null,null,null,null,null,null,null,null,null,null,null,null,null,null,null,null,null,null,null,null,null,null,null,null,null,null,null,null,null,null,null,null,null,null,null,null,null,null,null,null,null,null,null,null,null,null,null,null,0,0,0,0,0]
["OBSTETRICA",null,null,{"$f":"SUM(L19+N19+P19+R19+T19+V19+X19+Z19+AB19+AD19+AF19)","v":0},null,null,null,null,null,null,null,null,null,null,null,null,null,null,null,null,null,null,null,null,null,null,null,null,null,null,null,null,null,null,null,null,null,null,null,null,null,null,null,null,null,null,null,null,null,null,null,null,null,null,null,null,null,null,null,null,null,null,null,null,null,null,null,null,null,null,null,null,null,null,null,null,null,null,null,null,null,null,null,0,0,0,0,0]
["GINECOLÓGICA",null,null,{"$f":"SUM(F20+H20+J20+L20+N20+P20+R20+T20+V20+X20+Z20+AB20+AD20+AF20+AH20+AJ20+AL20+AN20)","v":0},null,null,null,null,null,null,null,null,null,null,null,null,null,null,null,null,null,null,null,null,null,null,null,null,null,null,null,null,null,null,null,null,null,null,null,null,null,null,null,null,null,null,null,null,null,null,null,null,null,null,null,null,null,null,null,null,null,null,null,null,null,null,null,null,null,null,null,null,null,null,null,null,null,null,null,null,null,null,null,0,0,0,0,0]
["GINECOLÓGICA  POR INFERTILIDAD",0,{"$f":"SUM(O21+Q21+S21+U21+W21+Y21+AA21)","v":0},{"$f":"SUM(P21+R21+T21+V21+X21+Z21+AB21)","v":0},null,null,null,null,null,null,null,null,null,null,null,null,null,null,null,null,null,null,null,null,null,null,null,null,null,null,null,null,null,null,null,null,null,null,null,null,null,null,null,null,null,null,null,null,null,null,null,null,null,null,null,null,null,null,null,null,null,null,null,null,null,null,null,null,null,null,null,null,null,null,null,null,null,null,null,null,null,null,null,0,0,0,0,0]
["INFECCIÓN TRANSMISIÓN SEXUAL",0,{"$f":"SUM(E22+G22+I22+K22+M22+O22+Q22+S22+U22+W22+Y22+AA22+AC22+AE22+AG22+AI22+AK22+AM22)","v":0},{"$f":"SUM(F22+H22+J22+L22+N22+P22+R22+T22+V22+X22+Z22+AB22+AD22+AF22+AH22+AJ22+AL22+AN22)","v":0},null,null,null,null,null,null,null,null,null,null,null,null,null,null,null,null,null,null,null,null,null,null,null,null,null,null,null,null,null,null,null,null,null,null,null,null,null,null,null,null,null,null,null,null,null,null,null,null,null,null,null,null,null,null,null,null,null,null,null,null,null,null,null,null,null,null,null,null,null,null,null,null,null,null,null,null,null,null,null,0,0,0,0,0]
["VIH-SIDA",0,{"$f":"SUM(E23+G23+I23+K23+M23+O23+Q23+S23+U23+W23+Y23+AA23+AC23+AE23+AG23+AI23+AK23+AM23)","v":0},{"$f":"SUM(F23+H23+J23+L23+N23+P23+R23+T23+V23+X23+Z23+AB23+AD23+AF23+AH23+AJ23+AL23+AN23)","v":0},null,null,null,null,null,null,null,null,null,null,null,null,null,null,null,null,null,null,null,null,null,null,null,null,null,null,null,null,null,null,null,null,null,null,null,null,null,null,null,null,null,null,null,null,null,null,null,null,null,null,null,null,null,null,null,null,null,null,null,null,null,null,null,null,null,null,null,null,null,null,null,null,null,null,null,null,null,null,null,0,0,0,0,0]
["SALUD MENTAL",0,{"$f":"SUM(G24+I24+K24+M24+O24+Q24+S24+U24+W24+Y24+AA24+AC24+AE24+AG24+AI24+AK24+AM24)","v":0},{"$f":"SUM(H24+J24+L24+N24+P24+R24+T24+V24+X24+Z24+AB24+AD24+AF24+AH24+AJ24+AL24+AN24)","v":0},null,null,null,null,null,null,null,null,null,null,null,null,null,null,null,null,null,null,null,null,null,null,null,null,null,null,null,null,null,null,null,null,null,null,null,null,null,null,null,null,null,null,null,null,null,null,null,null,null,null,null,null,null,null,null,null,null,null,null,null,null,null,null,null,null,null,null,null,null,null,null,null,null,null,null,null,null,null,null,0,0,0,0,0]
["CARDIOVASCULAR",0,{"$f":"SUM(M25+O25+Q25+S25+U25+W25+Y25+AA25+AC25+AE25+AG25+AI25+AK25+AM25)","v":0},{"$f":"SUM(N25+P25+R25+T25+V25+X25+Z25+AB25+AD25+AF25+AH25+AJ25+AL25+AN25)","v":0},null,null,null,null,null,null,null,null,null,null,null,null,null,null,null,null,null,null,null,null,null,null,null,null,null,null,null,null,null,null,null,null,null,null,null,null,null,null,null,null,null,null,null,null,null,null,null,null,null,null,null,null,null,null,null,null,null,null,null,null,null,null,null,null,null,null,null,null,null,null,null,null,null,null,null,null,null,null,null,0,0,0,0,0]
["OTRAS MORBILIDADES",0,{"$f":"SUM(E26+G26+I26+K26+M26+O26+Q26+S26+U26+W26+Y26+AA26+AC26+AE26+AG26+AI26+AK26+AM26)","v":0},{"$f":"SUM(F26+H26+J26+L26+N26+P26+R26+T26+V26+X26+Z26+AB26+AD26+AF26+AH26+AJ26+AL26+AN26)","v":0},null,null,null,null,null,null,null,null,null,null,null,null,null,null,null,null,null,null,null,null,null,null,null,null,null,null,null,null,null,null,null,null,null,null,null,null,null,null,null,null,null,null,null,null,null,null,null,null,null,null,null,null,null,null,null,null,null,null,null,null,null,null,null,null,null,null,null,null,null,null,null,null,null,null,null,null,null,null,null,0,0,0,0,0]
["SECCIÓN B: CONSULTAS DE PROFESIONALES NO MÉDICOS ",null,null,null,null,null," "]
["PROFESIONAL","TOTAL      ",null,null,"POR DE EDAD (en años)",null,null,null,null,null,null,null,null,null,null,null,null,null,null,null,null,null,null,null,null,null,null,null,null,null,null,null,null,null,null,null,null,null,null,null,"Beneficiarios","Pueblos Originarios","Migrantes","Espacios Amigables","Niños, Niñas, Adolescentes y Jóvenes Población SENAME"]
[null,null,null,null,"Menor \nde 1",null,"1 a 4",null,"5 a 9",null,"10 a 14",null,"15 a 19",null,"20 a 24",null,"25 - 29",null,"30 - 34",null,"35 - 39",null,"40 - 44",null,"45 - 49",null,"50 - 54",null,"55 - 59",null,"60 - 64",null,"65 - 69",null,"70 - 74",null,"75 - 79",null,"80 y mas"]
[null,"Ambos Sexos","Hombres","Mujeres","Hombres","Mujeres","Hombres","Mujeres","Hombres","Mujeres","Hombres","Mujeres","Hombres","Mujeres","Hombres","Mujeres","Hombres","Mujeres","Hombres","Mujeres","Hombres","Mujeres","Hombres","Mujeres","Hombres","Mujeres","Hombres","Mujeres","Hombres","Mujeres","Hombres","Mujeres","Hombres","Mujeres","Hombres","Mujeres","Hombres","Mujeres","Hombres","Mujeres"]
["ENFERMERA /O",{"$f":"SUM(C31:D31)","v":0},{"$f":"SUM(E31+G31+I31+K31+M31+O31+Q31+S31+U31+W31+Y31+AA31+AC31+AE31+AG31+AI31+AK31+AM31)","v":0},0,null,null,null,null,null,null,null,null,null,null,null,null,null,null,null,null,null,null,null,null,null,null,null,null,null,null,null,null,null,null,null,null,null,null,null,null,null,null,null,null,null,null,null,null,null,null,null,null,null,null,null,null,null,null,null,null,null,null,null,null,null,null,null,null,null,null,null,null,null,null,null,null,null,null,null,null,null,null,null,null,0,0]
["MATRONA /ÓN (MORB.GINECOLÓGICA)",0,0,0,null,null,null,null,null,null,null,null,null,null,null,null,null,null,null,null,null,null,null,null,null,null,null,null,null,null,null,null,null,null,null,null,null,null,null,null,null,null,null,null,null,null,null,null,null,null,null,null,null,null,null,null,null,null,null,null,null,null,null,null,null,null,null,null,null,null,null,null,null,null,null,null,null,null,null,null,null,null,null,null,0,0]
["MATRONA /ÓN (ITS)",0,0,0,null,null,null,null,null,null,null,null,null,null,null,null,null,null,null,null,null,null,null,null,null,null,null,null,null,null,null,null,null,null,null,null,null,null,null,null,null,null,null,null,null,null,null,null,null,null,null,null,null,null,null,null,null,null,null,null,null,null,null,null,null,null,null,null,null,null,null,null,null,null,null,null,null,null,null,null,null,null,null,null,0,0]
["MATRONA /ÓN (INFERTILIDAD)",0,{"$f":"SUM(O34+Q34+S34+U34+W34+Y34+AA34)","v":0},{"$f":"SUM(P34+R34+T34+V34+X34+Z34+AB34)","v":0},null,null,null,null,null,null,null,null,null,null,null,null,null,null,null,null,null,null,null,null,null,null,null,null,null,null,null,null,null,null,null,null,null,null,null,null,null,null,null,null,null,null,null,null,null,null,null,null,null,null,null,null,null,null,null,null,null,null,null,null,null,null,null,null,null,null,null,null,null,null,null,null,null,null,null,null,null,null,null,null,0,0]
["MATRONA /ÓN (OTRAS CONSULTAS)",{"$f":"SUM(C35:D35)","v":0},{"$f":"SUM(E35+G35+I35+K35+M35+O35+Q35+S35+U35+W35+Y35+AA35+AC35+AE35+AG35+AI35+AK35+AM35)","v":0},{"$f":"SUM(F35+H35+J35+L35+N35+P35+R35+T35+V35+X35+Z35+AB35+AD35+AF35+AH35+AJ35+AL35+AN35)","v":0},null,null,null,null,null,null,null,null,null,null,null,null,null,null,null,null,null,null,null,null,null,null,null,null,null,null,null,null,null,null,null,null,null,null,null,null,null,null,null,null,null,null,null,null,null,null,null,null,null,null,null,null,null,null,null,null,null,null,null,null,null,null,null,null,null,null,null,null,null,null,null,null,null,null,null,null,null,null,null,null,0,0]
["MATRONA /ÓN (SALUD SEXUAL)",{"$f":"SUM(C36:D36)","v":0},{"$f":"SUM(K36+M36+O36+Q36+S36+U36+W36+Y36+AA36+AC36+AE36+AG36+AI36+AK36+AM36)","v":0},{"$f":"SUM(L36+N36+P36+R36+T36+V36+X36+Z36+AB36+AD36+AF36+AH36+AJ36+AL36+AN36)","v":0},null,null,null,null,null,null,null,null,null,null,null,null,null,null,null,null,null,null,null,null,null,null,null,null,null,null,null,null,null,null,null,null,null,null,null,null,null,null,null,null,null,null,null,null,null,null,null,null,null,null,null,null,null,null,null,null,null,null,null,null,null,null,null,null,null,null,null,null,null,null,null,null,null,null,null,null,null,null,null,null,0,0]
["NUTRICIONISTA (OTRAS CONSULTAS)",0,0,0,null,null,null,null,null,null,null,null,null,null,null,null,null,null,null,null,null,null,null,null,null,null,null,null,null,null,null,null,null,null,null,null,null,null,null,null,null,null,null,null,null,null,null,null,null,null,null,null,null,null,null,null,null,null,null,null,null,null,null,null,null,null,null,null,null,null,null,null,null,null,null,null,null,null,null,null,null,null,null,null,0,0]
["NUTRICIONISTA MAULNUTRICIÓN POR EXCESO",{"$f":"SUM(C38:D38)","v":0},{"$f":"SUM(E38+G38+I38+K38+M38+O38+Q38+S38+U38+W38+Y38+AA38+AC38+AE38+AG38+AI38+AK38+AM38)","v":0},{"$f":"SUM(F38+H38+J38+L38+N38+P38+R38+T38+V38+X38+Z38+AB38+AD38+AF38+AH38+AJ38+AL38+AN38)","v":0},null,null,null,null,null,null,null,null,null,null,null,null,null,null,null,null,null,null,null,null,null,null,null,null,null,null,null,null,null,null,null,null,null,null,null,null,null,null,null,null,null,null,null,null,null,null,null,null,null,null,null,null,null,null,null,null,null,null,null,null,null,null,null,null,null,null,null,null,null,null,null,null,null,null,null,null,null,null,null,null,0,0]
["NUTRICIONISTA MALNUTRICIÓN POR DEFICIT",{"$f":"SUM(C39:D39)","v":0},{"$f":"SUM(E39+G39+I39+K39+M39+O39+Q39+S39+U39+W39+Y39+AA39+AC39+AE39+AG39+AI39+AK39+AM39)","v":0},{"$f":"SUM(F39+H39+J39+L39+N39+P39+R39+T39+V39+X39+Z39+AB39+AD39+AF39+AH39+AJ39+AL39+AN39)","v":0},null,null,null,null,null,null,null,null,null,null,null,null,null,null,null,null,null,null,null,null,null,null,null,null,null,null,null,null,null,null,null,null,null,null,null,null,null,null,null,null,null,null,null,null,null,null,null,null,null,null,null,null,null,null,null,null,null,null,null,null,null,null,null,null,null,null,null,null,null,null,null,null,null,null,null,null,null,null,null,null,0,0]
["PSICÓLOGO/A",0,0,0,null,null,null,null,null,null,null,null,null,null,null,null,null,null,null,null,null,null,null,null,null,null,null,null,null,null,null,null,null,null,null,null,null,null,null,null,null,null,null,null,null,null,null,null,null,null,null,null,null,null,null,null,null,null,null,null,null,null,null,null,null,null,null,null,null,null,null,null,null,null,null,null,null,null,null,null,null,null,null,null,0,0]
["FONOAUDIÓLOGO",0,0,0,null,null,null,null,null,null,null,null,null,null,null,null,null,null,null,null,null,null,null,null,null,null,null,null,null,null,null,null,null,null,null,null,null,null,null,null,null,null,null,null,null,null,null,null,null,null,null,null,null,null,null,null,null,null,null,null,null,null,null,null,null,null,null,null,null,null,null,null,null,null,null,null,null,null,null,null,null,null,null,null,0,0]
["TERAPEUTA OCUPACIONAL",0,0,0,null,null,null,null,null,null,null,null,null,null,null,null,null,null,null,null,null,null,null,null,null,null,null,null,null,null,null,null,null,null,null,null,null,null,null,null,null,null,null,null,null,null,null,null,null,null,null,null,null,null,null,null,null,null,null,null,null,null,null,null,null,null,null,null,null,null,null,null,null,null,null,null,null,null,null,null,null,null,null,null,0,0]
["TECNÓLOGO MÉDICO (EXCLUYE UAPO)",0,0,0,null,null,null,null,null,null,null,null,null,null,null,null,null,null,null,null,null,null,null,null,null,null,null,null,null,null,null,null,null,null,null,null,null,null,null,null,null,null,null,null,null,null,null,null,null,null,null,null,null,null,null,null,null,null,null,null,null,null,null,null,null,null,null,null,null,null,null,null,null,null,null,null,null,null,null,null,null,null,null,null,0,0]
["ASISTENTE SOCIAL",0,0,0,null,null,null,null,null,null,null,null,null,null,null,null,null,null,null,null,null,null,null,null,null,null,null,null,null,null,null,null,null,null,null,null,null,null,null,null,null,null,null,null,null,null,null,null,null,null,null,null,null,null,null,null,null,null,null,null,null,null,null,null,null,null,null,null,null,null,null,null,null,null,null,null,null,null,null,null,null,null,null,null,0,0]
["SECCIÓN C: CONSULTAS ANTICONCEPCIÓN DE EMERGENCIA (Incluidas en Sección A y B, respectivamente.)"]
["PROFESIONAL","TOTAL      ","CON ENTREGA ANTICONCEPCIÓN EMERGENCIA",null,null,null,"SIN ENTREGA ANTICONCEPCIÓN EMERGENCIA"]
[null,null,"10 a 14 años","15 a 19 años","20 a 24 años","25 y más años","10 a 14 años","15 a 19 años","20 a 24 años","25 y más años"]
["MÉDICO",{"$f":"SUM(C48:J48)","v":0}]
["MATRONA /ÓN",{"$f":"SUM(C49:J49)","v":0}]
["SECCIÓN D: CONSULTAS EN HORARIO CONTINUADO (Incluidas en las consultas de morbilidad de sección A y B)"]
["TIPO JORNADA","TOTAL",null,null,"POR DE EDAD (en años)",null,null,null,null,null,null,null,null,null,null,null,null,null,null,null,null,null,"Beneficiarios"]
[null,null,null,null,"Menor \nde 1","1 a 4","5 a 9","10 a 14","15 a 19","20 a 24","25 - 29","30 - 34","35 - 39","40 - 44","45 - 49","50 - 54","55 - 59","60 - 64","65 - 69","70 - 74","75 - 79","80 y mas"]
[null,"Ambos Sexos","Hombres","Mujeres"]
["HORARIO CONTINUADO",{"$f":"SUM(B55:B56)","v":0},{"$f":"SUM(C55:C56)","v":0},{"$f":"SUM(D55:D56)","v":0},0,0,0,0,0,0,0,0,0,0,0,0,0,0,0,0,0,0,0,"  "]
["MÉDICO",{"$f":"SUM(E55:V55)","v":0},null,null,null,null,null,null,null,null,null,null,null,null,null,null,null,null,null,null,null,null,null,null,null,null,null,null,null,null,null,null,null,null,null,null,null,null,null,null,null,null,null,null,null,null,null,null,null,null,null,null,null,null,null,null,null,null,null,null,null,null,null,null,null,null,null,null,null,null,null,null,null,null,null,null,null,null,null,null,null,null,null,null,0,0,0]
["OTROS PROFESIONALES",{"$f":"SUM(E56:V56)","v":0},null,null,null,null,null,null,null,null,null,null,null,null,null,null,null,null,null,null,null,null,null,null,null,null,null,null,null,null,null,null,null,null,null,null,null,null,null,null,null,null,null,null,null,null,null,null,null,null,null,null,null,null,null,null,null,null,null,null,null,null,null,null,null,null,null,null,null,null,null,null,null,null,null,null,null,null,null,null,null,null,null,null,0,0,0]
["SÁBADO, DOMINGO o FESTIVO",{"$f":"SUM(B58:B59)","v":0},0,0,0,0,0,0,0,0,0,0,0,0,0,0,0,0,0,0,0,0,0,"  "]
["MÉDICO",{"$f":"SUM(E58:V58)","v":0},null,null,null,null,null,null,null,null,null,null,null,null,null,null,null,null,null,null,null,null,null,null,null,null,null,null,null,null,null,null,null,null,null,null,null,null,null,null,null,null,null,null,null,null,null,null,null,null,null,null,null,null,null,null,null,null,null,null,null,null,null,null,null,null,null,null,null,null,null,null,null,null,null,null,null,null,null,null,null,null,null,null,0,0,0]
["OTROS PROFESIONALES",{"$f":"SUM(E59:V59)","v":0},null,null,null,null,null,null,null,null,null,null,null,null,null,null,null,null,null,null,null,null,null,null,null,null,null,null,null,null,null,null,null,null,null,null,null,null,null,null,null,null,null,null,null,null,null,null,null,null,null,null,null,null,null,null,null,null,null,null,null,null,null,null,null,null,null,null,null,null,null,null,null,null,null,null,null,null,null,null,null,null,null,null,0,0,0]
["SECCIÓN E: CONSULTAS DE MORBILIDAD SOLICITADAS Y RECHAZADAS DENTRO DE LAS 48 HORAS DE SOLICITADA LA ATENCIÓN"]
["TIPO JORNADA","MENOR 5 AÑOS",null,"65 Y MÁS AÑOS",null,"EMBARAZADAS"]
[null,"TOTAL\nATENCIÓN\nSOLICITADA","RECHAZOS","TOTAL\nATENCIÓN\nSOLICITADA","RECHAZOS","TOTAL\nATENCIÓN\nSOLICITADA","RECHAZOS","  "]
["HORARIO NORMAL ",null,null,null,null,null,null,null,null,null,null,null,null,null,null,null,null,null,null,null,null,null,null,null,null,null,null,null,null,null,null,null,null,null,null,null,null,null,null,null,null,null,null,null,null,null,null,null,null,null,null,null,null,null,null,null,null,null,null,null,null,null,null,null,null,null,null,null,null,null,null,null,null,null,null,null,null,null,null,null,null,null,null,null,{"$f":"IF(B63<C63,1,0)","v":0},{"$f":"IF(D63<E63,1,0)","v":0},{"$f":"IF(F63<G63,1,0)","v":0}]
["HORARIO CONTINUADO (Vespertina, Sábado, Domingo o Festivos)",null,null,null,null,null,null,null,null,null,null,null,null,null,null,null,null,null,null,null,null,null,null,null,null,null,null,null,null,null,null,null,null,null,null,null,null,null,null,null,null,null,null,null,null,null,null,null,null,null,null,null,null,null,null,null,null,null,null,null,null,null,null,null,null,null,null,null,null,null,null,null,null,null,null,null,null,null,null,null,null,null,null,null,{"$f":"IF(B64<C64,1,0)","v":0},{"$f":"IF(D64<E64,1,0)","v":0},{"$f":"IF(F64<G64,1,0)","v":0}]
["SECCIÓN F: CONSULTA  ABREVIADA"]
["PROFESIONAL","TOTAL"]
["MÉDICO"]
["MATRONA"]
["SECCIÓN G: ATENCIONES DE MEDICINA INDIGENA ASOCIADA AL PROGRAMA ESPECIAL DE SALUD Y PUEBLOS ORIGINARIOS"]
["COMPONENTE","TOTAL","PUEBLOS ORIGINARIOS","PUEBLOS NO ORIGINARIOS"]
[]
["ATENCIONES POR AGENTE MEDICINA INDIGENA",{"$f":"SUM(C72:D72)","v":0}]
["SECCIÓN H: INTERVENCIÓN INDIVIDUAL DEL USUARIO EN PROGRAMA ELIGE VIDA SANA"]
["PROFESIONAL","PRESTACIÒN","TOTAL",null,null,"POR DE EDAD (en años)",null,null,null,null,null,null,null,null,null,null,null,null,null,null,null,null,null,null,null,null,null,null,null,null,null,null,null,null,null,"Gestantes","Post Parto"]
[null,null,null,null,null,"Menor de 2 años",null,"2 a 4",null,"5 a 9",null,"10 a 14",null,"15 a 18",null,19,null,"20 a 24",null,"25 - 29",null,"30 - 34",null,"35 - 39",null,"40 - 44",null,"45 - 49",null,"50 - 54",null,"55 - 59",null,"60 - 64"]
[null,null,"Ambos Sexos","Hombres","Mujeres","Hombres","Mujeres","Hombres","Mujeres","Hombres","Mujeres","Hombres","Mujeres","Hombres","Mujeres","Hombres","Mujeres","Hombres","Mujeres","Hombres","Mujeres","Hombres","Mujeres","Hombres","Mujeres","Hombres","Mujeres","Hombres","Mujeres","Hombres","Mujeres","Hombres","Mujeres","Hombres","Mujeres"]
["PROFESIONAL DE LA ACTIVIDAD FISICA","EVALUACIÓN",{"$f":"SUM(D77:E77)","v":0},{"$f":"SUM(H77+J77+L77+N77+P77+R77+T77+V77+X77+Z77+AB77+AD77+AF77+AH77)","v":0},0]
["NUTRICIONISTA","CONSULTA NUTRICIONAL",{"$f":"SUM(D78:E78)","v":0},0,0]
[null,"CONSULTA NUTRICIONAL DE SEGUIMIENTO",{"$f":"SUM(D79:E79)","v":0},0,0]
["PSICÓLOGO/A","CONSULTA",{"$f":"SUM(D80:E80)","v":0},0,0]
["SECCIÓN I: SERVICIOS FARMACEÚTICOS"]
["COMPONENTE","TOTAL","ATENCION ABIERTA ","ATENCION CERRADA"]
[]
["ATENCIÓN FARMACÉUTICA"]
["REVISIÓN DE LA MEDICACIÓN SIN ENTREVISTA",{"$f":"SUM(C85:D85)","v":0}]
["REVISIÓN DE LA MEDICACIÓN CON ENTREVISTA",{"$f":"SUM(C86:D86)","v":0}]
["CONCILIACIÓN FARMACÉUTICA",0]
["EDUCACIÓN FARMACÉUTICA",0]
["SEGUIMIENTO FARMACOTERAPÉUTICO",0]
["FARMACOVIGILANCIA"]
["REPORTE REACCIÓN ADVERSA A MEDICAMENTOS",{"$f":"SUM(C91:D91)","v":0}]
["REPORTE FALLA DE CALIDAD",{"$f":"SUM(C92:D92)","v":0}]
["REPORTE DE EVENTOS ADVERSOS ASOCIADOS A MEDICAMENTOS",0]
["SECCIÓN J: DESPACHO DE RECETAS DE PACIENTES AMBULATORIOS"]
["TIPO DE RECETA","RECETAS DESPACHADAS",null,"PRESCRIPCIONES",null,"RECETAS DESPACHADAS CON OPORTUNIDAD  (Entregado el mismo día)"]
[]
[null,"DESPACHO TOTAL","DESPACHO\nPARCIAL","SOLICI-\nTADAS","RECHA-\nZADAS"]
["CRÓNICA"]
["MORBILIDAD"]
["BAJO CONTROL LEGAL",null,null,null,null,null,null,null,null,null,null,null,null,null,null,null,null,null,null,null,null,null,null,null,null,null,null,null,null,null,null,null,null,null,null,null,null,null,null,null,null,null,null,null,null,null,null,null,null,null,null,null,null,null,null,null,null,null,null,null,null,null,null,null,null,null,null,null,null,null,null,null,null,null,null,null,null,null,null,null,null,null,null,null,0,0,0]
["TOTAL",{"$f":"SUM(B98:B100)","v":0},{"$f":"SUM(C98:C100)","v":0},{"$f":"SUM(D98:D100)","v":0},{"$f":"SUM(E98:E100)","v":0}," ",null,null,null,null,null,null,null,null,null,null,null,null,null,null,null,null,null,null,null,null,null,null,null,null,null,null,null,null,null,null,null,null,null,null,null,null,null,null,null,null,null,null,null,null,null,null,null,null,null,null,null,null,null,null,null,null,null,null,null,null,null,null,null,null,null,null,null,null,null,null,null,null,null,null,null,null,null,null,0,0,0]
["SECCIÓN K: RONDAS POR TIPO Y PROFESIONAL",null,null,null,null,null,null,null,null,null,null,null,null,null,null,null,null,null,null,null,null,null,null,null,null,null,null,null,null,null,null,null,null,null,null,null,null,null,null,null,null,null,null,null,null,null,null,null,null,null,null,null,null,null,null,null,null,null,null,null,null,null,null,null,null,null,null,null,null,null,null,null,null,null,null,null,null,null,null,null,null,null,null,null,0,0,0]
["TIPO DE RONDA","Nº Rondas","TOTAL DE PROFESIONALES QUE PARTICIPARON EN RONDAS, SEGÚN TIPO DE PROFESIONAL",null,null,null,null,null,null,null,null,"Compra de Servicio - Nº Traslados profesionales en Ronda"]
[null,null,"Médico","Dentista","Enfermera","Matrona","Nutricionista","Tec. Paramed.","Asis. Soc","Psicólogo","Otros"]
["TERRESTRE"]
["AÉREA"]
["MARÍTIMA"]
["SECCION L: CLASIFICACION DE CONSULTA NUTRICIONAL POR GRUPO DE EDAD (Incluidas en Seccion B)"]
["Clasificacion","TOTAL      ",null,null,"POR DE EDAD (en años)",null,null,null,null,null,null,null,null,null,null,null,null,null,null,null,null,null,null,null,null,null,null,null,null,null,null,null,null,null,null,null,null,null,null,null,"Beneficiarios","Embarazadas"]
[null,null,null,null,"Menor \nde 1",null,"1 a 4",null,"5 a 9",null,"10 a 14",null,"15 a 19",null,"20 a 24",null,"25 - 29",null,"30 - 34",null,"35 - 39",null,"40 - 44",null,"45 - 49",null,"50 - 54",null,"55 - 59",null,"60 - 64",null,"65 - 69",null,"70 - 74",null,"75 - 79",null,"80 y mas"]
[null,"Ambos Sexos","Hombres","Mujeres","Hombres","Mujeres","Hombres","Mujeres","Hombres","Mujeres","Hombres","Mujeres","Hombres","Mujeres","Hombres","Mujeres","Hombres","Mujeres","Hombres","Mujeres","Hombres","Mujeres","Hombres","Mujeres","Hombres","Mujeres","Hombres","Mujeres","Hombres","Mujeres","Hombres","Mujeres","Hombres","Mujeres","Hombres","Mujeres","Hombres","Mujeres","Hombres","Mujeres"]
["MAL NUTRICIÓN POR DÉFICIT",{"$f":"SUM(C112:D112)","v":0},{"$f":"SUM(E112+G112+I112+K112+M112+O112+Q112+S112+U112+W112+Y112+AA112+AC112+AE112+AG112+AI112+AK112+AM112)","v":0},0,null,null,null,null,null,null,null,null,null,null,null,null,null,null,null,null,null,null,null,null,null,null,null,null,null,null,null,null,null,null,null,null,null,null,null,null,null,null,null,null,null,null,null,null,null,null,null,null,null,null,null,null,null,null,null,null,null,null,null,null,null,null,null,null,null,null,null,null,null,null,null,null,null,null,null,null,null,null,null,null,0,0,0]
["MAL NUTRICIÓN POR EXCESO",{"$f":"SUM(C113:D113)","v":0},0,0,null,null,null,null,null,null,null,null,null,null,null,null,null,null,null,null,null,null,null,null,null,null,null,null,null,null,null,null,null,null,null,null,null,null,null,null,null,null,null,null,null,null,null,null,null,null,null,null,null,null,null,null,null,null,null,null,null,null,null,null,null,null,null,null,null,null,null,null,null,null,null,null,null,null,null,null,null,null,null,null,0,0,0]
["ESTADO NUTRICIONAL NORMAL",{"$f":"SUM(C114:D114)","v":0},0,0,null,null,null,null,null,null,null,null,null,null,null,null,null,null,null,null,null,null,null,null,null,null,null,null,null,null,null,null,null,null,null,null,null,null,null,null,null,null,null,null,null,null,null,null,null,null,null,null,null,null,null,null,null,null,null,null,null,null,null,null,null,null,null,null,null,null,null,null,null,null,null,null,null,null,null,null,null,null,null,null,0,0,0]
["SECCIÓN M: CONSULTA DE LACTANCIA MATERNA EN MENORES CONTROLADOS"]
["ACTIVIDAD",null,"Total",null,null,"POR EDAD"]
[]
[null,null,null,null,null," De 0 a 29 días",null,"De 1 mes a 2 meses 29 días",null,"De 3 meses a 5 meses 29 días",null,"De 6 meses a 11 meses 29 días",null,"De 1 a 2 años"]
[null,null,"Ambos Sexos","Hombres","Mujeres","Hombres","Mujeres","Hombres","Mujeres","Hombres","Mujeres","Hombres","Mujeres","Hombres","Mujeres"]
["CONSULTA DE LACTANCIA","CONSULTA DE ALERTA",{"$f":"SUM(D120:E120)","v":0},{"$f":"SUM(F120+H120+J120+L120+N120)","v":0},0]
[null,"CONTROL DE SEGUIMIENTO",0,0,0]
[null,"CONSEJERÍA",0,0,0]
["CONSULTA DE LACTANCIA POR PROFESIONAL","MÉDICO",0,0,0]
[null,"MATRÓN/A",0,0,0]
[null,"ENFERMERA",0,0,0]
[null,"NUTRICIONISTA",0,0,0]
[]
[]
[]
[]
[]
[]
[]
[]
[]
[]
[]
[]
[]
[]
[]
[]
[]
[]
[]
[]
[]
[]
[]
[]
[]
[]
[]
[]
[]
[]
[]
[]
[]
[]
[]
[]
[]
[]
[]
[]
[]
[]
[]
[]
[]
[]
[]
[]
[]
[]
[]
[]
[]
[]
[]
[]
[]
[]
[]
[]
[]
[]
[]
[]
[]
[]
[]
[]
[]
[]
[]
[]
[]
[]
[]
[]
[]
[]
[]
[]
[]
[{"$f":"SUM(B12:D12,B31:B44,B48:B49,B54,B57,C77:E77,B91:B93,B101:F101,B105:B107,B112:B114,C120:C126,C78:C80,B72,B67:B68,B63:G64)","v":0},{"$f":"SUM(CG13:CJ129)","v":0}]

{"sheet":"A05","index":5,"n_rows":308,"n_cols":90,"rows_kept":308,"cut":false,"hidden":false,"merged":[[168,1,168,2],[171,1,171,2],[169,1,169,2],[170,1,170,2],[253,0,261,0],[263,2,264,4],[232,0,234,0],[60,17,60,21],[60,0,62,1],[60,2,61,4],[60,5,60,16],[61,5,61,6],[61,7,61,8],[61,9,61,10],[61,11,61,12],[61,13,61,14],[61,15,61,16],[215,1,215,2],[216,1,216,2],[217,0,217,2],[229,0,230,0],[232,1,234,1],[232,2,233,4],[223,0,223,2],[240,46,242,46],[61,17,61,18],[61,19,62,19],[61,20,61,21],[63,0,63,1],[64,0,64,1],[65,0,65,1],[66,0,66,1],[141,44,142,44],[180,0,180,2],[162,0,165,0],[162,1,162,2],[163,1,163,2],[164,1,164,2],[186,0,186,2],[187,0,188,0],[187,1,187,2],[188,1,188,2],[183,34,183,35],[183,36,183,37],[183,38,183,39],[165,1,165,2],[166,0,171,0],[166,1,166,2],[183,48,184,48],[190,0,191,0],[190,1,190,2],[191,1,191,2],[178,0,178,2],[172,1,172,2],[173,1,173,2],[174,1,174,2],[183,47,184,47],[183,45,183,46],[185,0,185,2],[183,40,183,42],[183,43,184,43],[172,0,174,0],[175,0,175,2],[176,0,176,2],[177,0,177,2],[141,45,142,45],[144,3,144,45],[148,0,149,0],[148,1,148,2],[149,1,149,2],[195,1,195,2],[197,1,197,2],[198,1,198,2],[199,1,199,2],[196,1,196,2],[193,0,200,0],[179,0,179,2],[181,0,181,2],[183,0,184,2],[183,3,183,5],[183,6,183,7],[189,0,189,2],[192,0,192,2],[193,1,193,2],[183,44,184,44],[183,22,183,23],[183,8,183,9],[194,1,194,2],[167,1,167,2],[225,2,225,4],[225,0,226,1],[214,0,216,0],[214,1,214,2],[218,0,218,2],[220,0,220,2],[221,0,221,2],[219,0,219,2],[227,0,228,0],[235,0,236,0],[240,0,242,1],[243,0,243,1],[266,0,267,0],[240,2,241,4],[241,5,241,6],[241,7,241,8],[237,0,238,0],[282,0,284,0],[282,1,283,3],[275,2,276,4],[282,4,282,12],[283,4,283,5],[283,6,283,7],[283,8,283,9],[283,10,283,11],[283,12,283,13],[279,0,279,1],[280,0,280,1],[278,0,278,1],[275,0,277,1],[275,35,277,35],[270,0,270,1],[271,0,273,0],[264,17,264,18],[264,9,264,10],[264,15,264,16],[241,31,241,32],[268,0,268,1],[244,0,252,0],[264,11,264,12],[264,7,264,8],[264,13,264,14],[264,5,264,6],[264,31,264,32],[264,19,264,20],[269,0,269,1],[263,0,265,1],[240,44,242,44],[240,42,241,43],[241,9,241,10],[241,11,241,12],[241,13,241,14],[241,15,241,16],[241,17,241,18],[275,36,277,36],[276,5,276,6],[276,7,276,8],[276,9,276,10],[276,11,276,12],[276,13,276,14],[276,15,276,16],[276,17,276,18],[276,19,276,20],[276,21,276,22],[276,23,276,24],[276,25,276,26],[276,27,276,28],[276,29,276,30],[276,31,276,32],[275,5,275,32],[275,33,276,34],[264,43,264,44],[264,35,264,36],[264,37,264,38],[264,39,264,40],[264,41,264,42],[264,27,264,28],[264,29,264,30],[264,21,264,22],[264,33,264,34],[264,23,264,24],[264,25,264,26],[240,39,240,41],[241,19,241,20],[241,21,241,22],[241,41,242,41],[233,31,233,32],[233,33,233,34],[233,35,233,36],[233,21,233,22],[225,33,225,34],[225,35,225,36],[232,37,234,37],[241,23,241,24],[233,27,233,28],[233,25,233,26],[241,27,241,28],[241,29,241,30],[241,39,242,39],[241,40,242,40],[241,35,241,36],[241,37,241,38],[240,5,240,38],[241,33,241,34],[241,25,241,26],[225,11,225,12],[200,1,200,2],[201,0,203,0],[201,1,201,2],[202,1,202,2],[203,1,203,2],[204,0,207,0],[204,1,204,2],[205,1,205,2],[211,1,211,2],[206,1,206,2],[207,1,207,2],[209,1,209,2],[210,1,210,2],[208,0,213,0],[208,1,208,2],[212,1,212,2],[213,1,213,2],[154,1,154,2],[151,0,158,0],[145,0,146,0],[155,1,155,2],[156,1,156,2],[157,1,157,2],[158,1,158,2],[159,0,161,0],[159,1,159,2],[160,1,160,2],[161,1,161,2],[145,1,145,2],[146,1,146,2],[147,0,147,2],[150,0,150,2],[151,1,151,2],[152,1,152,2],[153,1,153,2],[130,0,133,0],[128,0,129,1],[128,2,128,4],[128,5,128,6],[128,7,128,8],[128,9,128,10],[128,11,128,12],[144,0,144,2],[141,26,141,27],[141,14,141,15],[141,24,141,25],[141,0,142,2],[141,3,141,5],[141,6,141,7],[141,8,141,9],[141,10,141,11],[141,12,141,13],[134,0,137,0],[128,13,128,14],[141,16,141,17],[141,18,141,19],[125,0,125,1],[126,0,126,1],[120,0,120,1],[121,0,124,0],[117,0,119,0],[115,11,115,12],[115,13,115,15],[115,2,115,4],[115,5,115,6],[115,9,115,10],[115,0,116,1],[115,7,115,8],[52,5,52,6],[52,7,52,8],[51,5,51,16],[52,11,52,12],[51,2,52,4],[31,2,32,2],[52,13,52,14],[52,15,52,16],[52,24,52,25],[52,21,52,22],[52,23,53,23],[52,9,52,10],[31,3,31,13],[52,17,52,18],[52,19,52,20],[51,17,51,18],[51,19,51,20],[48,0,48,1],[49,0,49,1],[56,0,56,1],[58,0,58,1],[5,0,5,15],[8,0,9,1],[8,2,9,2],[8,13,9,13],[10,0,10,1],[8,14,9,14],[8,15,9,15],[17,5,18,5],[17,2,18,2],[17,3,18,3],[11,0,11,1],[12,0,12,1],[13,0,13,1],[14,0,14,1],[15,0,15,1],[17,0,18,1],[17,4,18,4],[8,3,8,12],[23,0,23,1],[19,0,19,1],[74,31,74,32],[74,7,74,8],[74,9,74,10],[74,11,74,12],[74,5,74,6],[20,0,20,1],[21,0,21,1],[28,0,28,1],[31,0,32,1],[55,0,55,1],[24,0,24,1],[22,0,22,1],[25,0,25,1],[54,0,54,1],[33,0,33,1],[34,0,34,1],[35,0,35,1],[36,0,40,0],[41,0,42,0],[43,0,43,1],[51,0,53,1],[26,0,26,1],[27,0,27,1],[29,0,29,1],[57,0,57,1],[68,5,68,14],[69,5,69,6],[69,7,69,8],[69,9,69,10],[84,17,84,18],[69,11,69,12],[108,0,111,0],[112,0,112,1],[68,2,69,4],[68,0,70,1],[84,5,84,6],[84,7,84,8],[84,9,84,10],[84,11,84,12],[84,13,84,14],[84,15,84,16],[102,2,102,4],[96,0,96,1],[71,0,71,1],[69,13,69,14],[86,0,86,1],[100,0,100,1],[102,0,103,1],[115,18,115,19],[97,0,97,1],[98,0,99,0],[93,0,95,1],[93,2,94,4],[113,0,113,1],[104,0,106,0],[107,0,107,1],[115,20,115,21],[93,5,93,32],[102,11,102,12],[94,5,94,6],[94,7,94,8],[94,9,94,10],[115,22,115,23],[115,16,115,17],[94,11,94,12],[94,13,94,14],[94,15,94,16],[94,21,94,22],[94,23,94,24],[84,31,84,32],[94,31,94,32],[94,25,94,26],[74,13,74,14],[74,15,74,16],[74,21,74,22],[87,0,91,0],[102,5,102,6],[102,7,102,8],[102,9,102,10],[94,17,94,18],[94,19,94,20],[83,0,85,1],[83,2,84,4],[77,0,81,0],[76,0,76,1],[73,0,75,1],[73,2,74,4],[84,23,84,24],[73,5,73,32],[74,23,74,24],[74,25,74,26],[74,27,74,28],[74,29,74,30],[94,34,95,34],[94,35,95,35],[141,30,141,31],[141,32,141,33],[141,34,141,35],[141,36,141,37],[74,17,74,18],[74,19,74,20],[84,33,85,33],[84,34,85,34],[84,35,85,35],[94,33,95,33],[84,29,84,30],[93,33,93,35],[115,24,115,25],[84,36,85,36],[83,33,83,36],[84,25,84,26],[84,27,84,28],[83,5,83,32],[84,19,84,20],[84,21,84,22],[94,27,94,28],[94,29,94,30],[225,13,225,14],[225,15,225,16],[232,5,232,36],[233,15,233,16],[233,17,233,18],[233,19,233,20],[233,29,233,30],[225,5,225,6],[233,11,233,12],[233,13,233,14],[225,23,225,24],[233,23,233,24],[233,5,233,6],[225,31,225,32],[141,40,142,40],[141,41,142,41],[141,42,141,43],[141,20,141,21],[141,22,141,23],[141,38,141,39],[141,28,141,29],[225,27,225,28],[225,29,225,30],[225,21,225,22],[225,19,225,20],[263,47,265,47],[263,48,265,48],[263,45,263,46],[264,45,265,45],[264,46,265,46],[240,45,242,45],[263,5,263,44],[183,24,183,25],[183,26,183,27],[183,28,183,29],[183,30,183,31],[183,32,183,33],[183,10,183,11],[183,12,183,13],[183,14,183,15],[183,16,183,17],[183,18,183,19],[183,20,183,21],[225,25,225,26],[225,7,225,8],[225,9,225,10],[233,7,233,8],[233,9,233,10],[225,17,225,18]]}
["SERVICIO DE SALUD"]
[{"$f":"CONCATENATE(\"COMUNA: \",NOMBRE!B2,\" - \",\"( \",NOMBRE!C2,NOMBRE!D2,NOMBRE!E2,NOMBRE!F2,NOMBRE!G2,\" )\")","v":"COMUNA:  - (  )"}]
[{"$f":"CONCATENATE(\"ESTABLECIMIENTO/ESTRATEGIA: \",NOMBRE!B3,\" - \",\"( \",NOMBRE!C3,NOMBRE!D3,NOMBRE!E3,NOMBRE!F3,NOMBRE!G3,NOMBRE!H3,\" )\")","v":"ESTABLECIMIENTO/ESTRATEGIA:  - (  )"}]
[{"$f":"CONCATENATE(\"MES: \",NOMBRE!B6,\" - \",\"( \",NOMBRE!C6,NOMBRE!D6,\" )\")","v":"MES:  - (  )"}]
[{"$f":"CONCATENATE(\"AÑO: \",NOMBRE!B7)","v":"AÑO: 2019"}]
["REM-A05.   INGRESOS Y EGRESOS POR CONDICIÓN Y PROBLEMAS DE SALUD"]
[]
["SECCIÓN A: INGRESOS DE GESTANTES A PROGRAMA PRENATAL"]
["CONDICIÓN",null,"TOTAL      ","POR DE EDAD (en años)",null,null,null,null,null,null,null,null,null,"Victima de violencia de genero","Pueblos Originarios","Migrantes"]
[null,null,null,"Menor \nde 15","15 - 19 ","20 - 24","25 - 29","30 - 34","35 - 39","40 - 44","45 - 49","50 - 54","55 y más"]
["GESTANTES INGRESADAS",null,{"$f":"SUM(D11:M11)","v":0},null,null,null,null,null,null,null,null,null,null,null,null,null,null,null,null,null,null,null,null,null,null,null,null,null,null,null,null,null,null,null,null,null,null,null,null,null,null,null,null,null,null,null,null,null,null,null,null,null,null,null,null,null,null,null,null,null,null,null,null,null,null,null,null,null,null,null,null,null,null,null,null,null,null,null,null,null,null,{"$f":"IF(C11>='A03'!C77,\"\",\"* Total Gestantes Ingresadas a control prenatal debe ser Mayor o Igual que el Total de Evaluaciones a Gestantes de REM A03 Sección B2. \")","v":""},null,null,null,0,null,0]
["PRIMIGESTAS INGRESADAS",null,0,null,null,null,null,null,null,null,null,null,null,null,null,null,null,null,null,null,null,null,null,null,null,null,null,null,null,null,null,null,null,null,null,null,null,null,null,null,null,null,null,null,null,null,null,null,null,null,null,null,null,null,null,null,null,null,null,null,null,null,null,null,null,null,null,null,null,null,null,null,null,null,null,null,null,null,null,null,null,{"$f":"IF(C11<C12,\"* Total Gestantes debe ser Mayor o Igual a Primigestas Ingresadas. \",\"\")","v":""},null,null,null,0,null,0,0]
["GESTANTES INGRESADAS ANTES DE LAS 14 SEMANAS",null,{"$f":"SUM(D13:M13)","v":0},null,null,null,null,null,null,null,null,null,null,null,null,null,null,null,null,null,null,null,null,null,null,null,null,null,null,null,null,null,null,null,null,null,null,null,null,null,null,null,null,null,null,null,null,null,null,null,null,null,null,null,null,null,null,null,null,null,null,null,null,null,null,null,null,null,null,null,null,null,null,null,null,null,null,null,null,null,null,{"$f":"IF(C11<C13,\"* Total Gestantes debe ser Mayor o Igual que Gestantes Ingresadas Antes De Las 14 Semanas. \",\"\")","v":""},null,null,null,0,null,0,0]
[null,null,null,null,null,null,null,null,null,null,null,null,null,null,null,null,null,null,null,null,null,null,null,null,null,null,null,null,null,null,null,null,null,null,null,null,null,null,null,null,null,null,null,null,null,null,null,null,null,null,null,null,null,null,null,null,null,null,null,null,null,null,null,null,null,null,null,null,null,null,null,null,null,null,null,null,null,null,null,null,null,{"$f":"IF(C11<C14,\"* Total Gestantes debe ser Mayor o Igual que Gestantes con Eco Antes De Las 20 Semanas.\",\"\")","v":""},null,null,null,0,null,0,0]
["GESTANTES CON EMBARAZO NO PLANIFICADO",null,{"$f":"SUM(D15:M15)","v":0},null,null,null,null,null,null,null,null,null,null,null,null,null,null,null,null,null,null,null,null,null,null,null,null,null,null,null,null,null,null,null,null,null,null,null,null,null,null,null,null,null,null,null,null,null,null,null,null,null,null,null,null,null,null,null,null,null,null,null,null,null,null,null,null,null,null,null,null,null,null,null,null,null,null,null,null,null,null,{"$f":"IF(C11<C15,\"* Total Gestantes debe ser Mayor o Igual que Gestantes con Embarazo No Planificado. \",\"\")","v":""},null,null,null,0,null,0,0]
["GESTANTES CON EXAMEN DE CHAGAS INFORMADO",null,{"$f":"SUM(D16:M16)","v":0},null,null,null,null,null,null,null,null,null,null,null,null,null,null,null,null,null,null,null,null,null,null,null,null,null,null,null,null,null,null,null,null,null,null,null,null,null,null,null,null,null,null,null,null,null,null,null,null,null,null,null,null,null,null,null,null,null,null,null,null,null,null,null,null,null,null,null,null,null,null,null,null,null,null,null,null,null,null,null,null,null,null,0,null,0]
["SECCIÓN B: INGRESO DE GESTANTES CON PATOLOGÍA DE ALTO RIESGO OBSTÉTRICO A LA UNIDAD DE ARO  (Nivel Secundario)"]
["PATOLOGÍA",null,"Nº de Ingreso a ARO","Victima de violencia de género","Pueblos Originarios","Migrantes"]
[]
["Nº DE GESTANTES INGRESADAS",null,null,null,null,null,null,null,null,null,null,null,null,null,null,null,null,null,null,null,null,null,null,null,null,null,null,null,null,null,null,null,null,null,null,null,null,null,null,null,null,null,null,null,null,null,null,null,null,null,null,null,null,null,null,null,null,null,null,null,null,null,null,null,null,null,null,null,null,null,null,null,null,null,null,null,null,null,null,null,null,{"$f":"IF(AND(SUM(C21:C30)<>0,C20=0),\"* No olvide registrar número de gestantes ingresadas. \",\"\")","v":""},null,null,0,null,0]
["PREECLAMPSIA (PE)",null,null,null,null,null,null,null,null,null,null,null,null,null,null,null,null,null,null,null,null,null,null,null,null,null,null,null,null,null,null,null,null,null,null,null,null,null,null,null,null,null,null,null,null,null,null,null,null,null,null,null,null,null,null,null,null,null,null,null,null,null,null,null,null,null,null,null,null,null,null,null,null,null,null,null,null,null,null,null,null,null,null,null,0,null,0]
["SÍNDROME HIPERTENSIVO DEL EMBARAZO (SHE)",null,null,null,null,null,null,null,null,null,null,null,null,null,null,null,null,null,null,null,null,null,null,null,null,null,null,null,null,null,null,null,null,null,null,null,null,null,null,null,null,null,null,null,null,null,null,null,null,null,null,null,null,null,null,null,null,null,null,null,null,null,null,null,null,null,null,null,null,null,null,null,null,null,null,null,null,null,null,null,null,null,null,null,0,null,0]
["FACTORES DE RIESGO Y CONDICIONANTES DE PARTO PREMATURO",null,null,null,null,null,null,null,null,null,null,null,null,null,null,null,null,null,null,null,null,null,null,null,null,null,null,null,null,null,null,null,null,null,null,null,null,null,null,null,null,null,null,null,null,null,null,null,null,null,null,null,null,null,null,null,null,null,null,null,null,null,null,null,null,null,null,null,null,null,null,null,null,null,null,null,null,null,null,null,null,null,null,null,0,null,0]
["RETARDO CRECIMIENTO INTRAUTERINO (RCIU)",null,null,null,null,null,null,null,null,null,null,null,null,null,null,null,null,null,null,null,null,null,null,null,null,null,null,null,null,null,null,null,null,null,null,null,null,null,null,null,null,null,null,null,null,null,null,null,null,null,null,null,null,null,null,null,null,null,null,null,null,null,null,null,null,null,null,null,null,null,null,null,null,null,null,null,null,null,null,null,null,null,null,null,0,null,0]
["SÍFILIS",null,null,null,null,null,null,null,null,null,null,null,null,null,null,null,null,null,null,null,null,null,null,null,null,null,null,null,null,null,null,null,null,null,null,null,null,null,null,null,null,null,null,null,null,null,null,null,null,null,null,null,null,null,null,null,null,null,null,null,null,null,null,null,null,null,null,null,null,null,null,null,null,null,null,null,null,null,null,null,null,null,null,null,0,null,0]
["VIH",null,null,null,null,null,null,null,null,null,null,null,null,null,null,null,null,null,null,null,null,null,null,null,null,null,null,null,null,null,null,null,null,null,null,null,null,null,null,null,null,null,null,null,null,null,null,null,null,null,null,null,null,null,null,null,null,null,null,null,null,null,null,null,null,null,null,null,null,null,null,null,null,null,null,null,null,null,null,null,null,null,null,null,0,null,0]
["DIABETES",null,null,null,null,null,null,null,null,null,null,null,null,null,null,null,null,null,null,null,null,null,null,null,null,null,null,null,null,null,null,null,null,null,null,null,null,null,null,null,null,null,null,null,null,null,null,null,null,null,null,null,null,null,null,null,null,null,null,null,null,null,null,null,null,null,null,null,null,null,null,null,null,null,null,null,null,null,null,null,null,null,null,null,0,null,0]
["CESÁREA ANTERIOR",null,null,null,null,null,null,null,null,null,null,null,null,null,null,null,null,null,null,null,null,null,null,null,null,null,null,null,null,null,null,null,null,null,null,null,null,null,null,null,null,null,null,null,null,null,null,null,null,null,null,null,null,null,null,null,null,null,null,null,null,null,null,null,null,null,null,null,null,null,null,null,null,null,null,null,null,null,null,null,null,null,null,null,0,null,0]
["MALFORMACIÓN CONGÉNITA",null,null,null,null,null,null,null,null,null,null,null,null,null,null,null,null,null,null,null,null,null,null,null,null,null,null,null,null,null,null,null,null,null,null,null,null,null,null,null,null,null,null,null,null,null,null,null,null,null,null,null,null,null,null,null,null,null,null,null,null,null,null,null,null,null,null,null,null,null,null,null,null,null,null,null,null,null,null,null,null,null,null,null,0,null,0]
["OTRAS PATOLOGÍAS DEL EMBARAZO",null,null,null,null,null,null,null,null,null,null,null,null,null,null,null,null,null,null,null,null,null,null,null,null,null,null,null,null,null,null,null,null,null,null,null,null,null,null,null,null,null,null,null,null,null,null,null,null,null,null,null,null,null,null,null,null,null,null,null,null,null,null,null,null,null,null,null,null,null,null,null,null,null,null,null,null,null,null,null,null,null,null,null,0,null,0]
["SECCIÓN C: INGRESOS A PROGRAMA DE REGULACIÓN DE FERTILIDAD, SEGÚN EDAD"]
["MÉTODOS",null,"TOTAL      ","POR DE EDAD (en años)"]
[null,null,null,"Menor \nde 15","15 - 19 ","20 - 24","25 - 29","30 - 34","35 - 39","40 - 44","45 - 49","50 - 54","55 y más","Espacios Amigables"]
["TOTAL REGULACIÓN DE FERTILIDAD",null,{"$f":"SUM(D34:M34)","v":0},{"$f":"SUM(D35:D43)","v":0},0,0,0,0,0,0,0,{"$f":"SUM(L35:L43)","v":0},{"$f":"SUM(M35:M43)","v":0},{"$f":"SUM(N35:N43)","v":0}]
["DIU T DE COBRE",null,{"$f":"SUM(D35:M35)","v":0}]
["DIU MEDICADO",null,{"$f":"SUM(D36:M36)","v":0}]
["HORMONAL","ORAL COMBINADO",0]
[null,"ORAL PROGESTÁGENO",0]
[null,"INYECTABLE COMBINADO",0]
[null,"INYECTABLE PROGESTÁGENO",{"$f":"SUM(D40:M40)","v":0}]
[null,"IMPLANTE",0]
["SÓLO PRESERVATIVO","MUJER",0]
[null,"HOMBRES",0]
[" MÉTODO DE REGULACIÓN DE FERTILIDAD MÁS PRESERVATIVOS",null,0]
["SECCION D: INGRESOS A PROGRAMA CONTROL DE CLIMATERIO "]
["CONCEPTO","TOTAL"]
["INGRESOS"]
["SECCIÓN E:  INGRESOS  A CONTROL DE SALUD DE RECIÉN NACIDOS"]
["EDAD",null,"TOTAL","NIÑOS","NIÑAS"]
["MENORES DE 28 DÍAS",null,{"$f":"SUM(D50:E50)","v":0},null,null,null,null,null,null,null,null,null,null,null,null,null,null,null,null,null,null,null,null,null,null,null,null,null,null,null,null,null,null,null,null,null,null,null,null,null,null,null,null,null,null,null,null,null,null,null,null,null,null,null,null,null,null,null,null,null,null,null,null,null,null,null,null,null,null,null,null,null,null,null,null,null,null,null,{"$f":"IF(AND(('A01'!$C18+'A01'!$C19+'A01'!$C20+'A01'!$C21+'A01'!$F31+'A01'!$F32+'A01'!$F33)<>0,D50=0,E50=\"\"),\"* Observacion : En A01 existen contoles no ingresados, Revisar. \",\"\")","v":""}]
["SECCIÓN F:  INGRESOS Y EGRESOS A SALA DE ESTIMULACIÓN SERVICIO ITINERANTE Y ATENCIÓN DOMICILIARIA EN EL CENTRO DE SALUD"]
["NIÑO / A (CON) ",null,"TOTAL    ",null,null,"INGRESOS SALA DE ESTIMULACION  EN CENTRO DE SALUD",null,null,null,null,null,null,null,null,null,null,null,"SERVICIO ITINERANTE EN CENTRO DE SALUD",null,"ATENCIÓN DOMICILIARIA EN CENTRO DE SALUD",null," EGRESOS Y RESULTADOS DE LA REEVALUACIÓN POST EGRESO "]
[null,null,null,null,null,"Menor 7 meses",null," 7 - 11 meses",null,"12 - 17 meses",null,"18 - 23 meses",null,"24 - 47 meses",null,"48 - 59 meses",null,"Menor de 7 a 59 meses",null,"Menor de 7 a 59 meses",null,"MOTIVO EGRESO",null,"INASISTENTE","RESULTADO DE REEVALUACIÓN"]
[null,null,"Ambos Sexos","Hombres","Mujeres","Hombres","Mujeres","Hombres","Mujeres","Hombres","Mujeres","Hombres","Mujeres","Hombres","Mujeres","Hombres","Mujeres","Hombres","Mujeres","Hombres","Mujeres","Cumplimiento de tratamiento","Otros",null,"Recuperado","No Recuperado"]
["NORMAL CON REZAGO",null,{"$f":"SUM(D55:E55)","v":0},{"$f":"SUM(F55+H55+J55+L55+N55+P55)","v":0},{"$f":"SUM(G55+I55+K55+M55+O55+Q55)","v":0}]
["RIESGO",null,{"$f":"SUM(D56:E56)","v":0},{"$f":"SUM(F56+H56+J56+L56+N56+P56)","v":0},0]
["RETRASO",null,{"$f":"SUM(D57:E57)","v":0},0,{"$f":"SUM(G57+I57+K57+M57+O57+Q57)","v":0}]
[]
["OTRA VULNERABILIDAD",null,{"$f":"SUM(D59:E59)","v":0},{"$f":"SUM(F59+H59+J59+L59+N59+P59)","v":0},{"$f":"SUM(G59+I59+K59+M59+O59+Q59)","v":0}]
["SECCIÓN F.1: REINGRESOS Y EGRESOS POR SEGUNDA VEZ A MODALIDAD DE ESTIMULACIÓN EN EL CENTRO DE SALUD"]
["NIÑO / A (CON) ",null,"TOTAL    ",null,null,"REINGRESOS A MODALIDAD DE ESTIMULACION  EN CENTRO DE SALUD",null,null,null,null,null,null,null,null,null,null,null," EGRESOS POR SEGUNDA VEZ Y RESULTADOS DE LA REEVALUACIÓN POST EGRESO "]
[null,null,null,null,null,"Menor 7 meses",null," 7 - 11 meses",null,"12 - 17 meses",null,"18 - 23 meses",null,"24 - 47 meses",null,"48 - 59 meses",null,"MOTIVO EGRESO",null,"INASISTENTE","RESULTADO DE REEVALUACIÓN"]
[null,null,"Ambos Sexos","Hombres","Mujeres","Hombres","Mujeres","Hombres","Mujeres","Hombres","Mujeres","Hombres","Mujeres","Hombres","Mujeres","Hombres","Mujeres","Cumplimiento de tratamiento","Otros",null,"Recuperado","No Recuperado"]
["NORMAL CON REZAGO",null,{"$f":"SUM(D64:E64)","v":0},{"$f":"SUM(F64+H64+J64+L64+N64+P64)","v":0},0]
["RIESGO",null,{"$f":"SUM(D65:E65)","v":0},0,0]
["RETRASO",null,{"$f":"SUM(D66:E66)","v":0},0,0]
["OTRA VULNERABILIDAD",null,{"$f":"SUM(D67:E67)","v":0},0,0]
["SECCION G: INGRESOS DE NIÑOS Y NIÑAS CON NECESIDADES ESPECIALES DE BAJA COMPLEJIDAD A CONTROL DE SALUD INFANTIL EN APS"]
["NANEAS",null,"TOTAL",null,null,"POR EDAD "]
[null,null,null,null,null," 0  -  4",null," 5  -  9",null," 10 - 14  ",null,"15 a 19",null,"20 - 24"]
[null,null,"Ambos Sexos","Hombres","Mujeres","Hombres","Mujeres","Hombres","Mujeres","Hombres","Mujeres","Hombres","Mujeres","Hombres","Mujeres"]
["INGRESOS",null,{"$f":"SUM(D72:E72)","v":0},{"$f":"SUM(F72+H72+J72+L72+N72)","v":0},{"$f":"SUM(G72+I72+K72+M72+O72)","v":0}]
["SECCIÓN H: INGRESOS AL PSCV"]
["CONCEPTO",null,"TOTAL",null,null,"INGRESOS"]
[null,null,null,null,null,"15 - 19",null,"20-24",null,"25 a 29",null,"30 a 34",null,"35 a 39",null,"40 a 44",null,"45 a 49",null,"50 a 54",null,"55 a 59",null,"60 a 64",null,"65 a 69",null,"70 a 74",null,"75 a 79",null,"80 y más"]
[null,null,"Ambos Sexos","Hombres","Mujeres","Hombres","Mujeres","Hombres","Mujeres","Hombres","Mujeres","Hombres","Mujeres","Hombres","Mujeres","Hombres","Mujeres","Hombres","Mujeres","Hombres","Mujeres","Hombres","Mujeres","Hombres","Mujeres","Hombres","Mujeres","Hombres","Mujeres","Hombres","Mujeres","Hombres","Mujeres"]
["INGRESOS AL PSCV",null,{"$f":"SUM(D77:E77)","v":0},{"$f":"SUM(F77+H77+J77+L77+N77+P77+R77+T77+V77+X77+Z77+AB77+AD77+AF77)","v":0},0]
["PROGRAMA DE SALUD CARDIOVASCULAR","HIPERTENSIÓN ARTERIAL",0,0,0]
[null,"DIABETES MELLITUS",0,0,0]
[null,"DISLIPIDEMIA",0,0,0]
[null,"ANTECEDENTES ENF. CARDIOVASCULAR ATEROSCLERÓTICA",0,0,0]
[null,"TABAQUISMO",0,0,0]
["SECCIÓN I: EGRESOS  DEL PSCV"]
["CONCEPTO",null,"TOTAL",null,null,"EGRESOS",null,null,null,null,null,null,null,null,null,null,null,null,null,null,null,null,null,null,null,null,null,null,null,null,null,null,null,"CAUSAL DE EGRESO"]
[null,null,null,null,null,"15 - 19",null,"20-24",null,"25 a 29",null,"30 a 34",null,"35 a 39",null,"40 a 44",null,"45 a 49",null,"50 a 54",null,"55 a 59",null,"60 a 64",null,"65 a 69",null,"70 a 74",null,"75 a 79",null,"80 y más",null,"Abandono","Traslado","Fallecimiento","No cumple criterio"]
[null,null,"Ambos Sexos","Hombres","Mujeres","Hombres","Mujeres","Hombres","Mujeres","Hombres","Mujeres","Hombres","Mujeres","Hombres","Mujeres","Hombres","Mujeres","Hombres","Mujeres","Hombres","Mujeres","Hombres","Mujeres","Hombres","Mujeres","Hombres","Mujeres","Hombres","Mujeres","Hombres","Mujeres","Hombres","Mujeres"]
["EGRESOS DEL PSCV",null,{"$f":"SUM(D87:E87)","v":0},{"$f":"SUM(F87+H87+J87+L87+N87+P87+R87+T87+V87+X87+Z87+AB87+AD87+AF87)","v":0},0,null,null,null,null,null,null,null,null,null,null,null,null,null,null,null,null,null,null,null,null,null,null,null,null,null,null,null,null,null,null,null,null,null,null,null,null,null,null,null,null,null,null,null,null,null,null,null,null,null,null,null,null,null,null,null,null,null,null,null,null,null,null,null,null,null,null,null,null,null,null,null,null,null,null,null,null,null,null,null,0]
["PROGRAMA DE SALUD CARDIOVASCULAR","HIPERTENSIÓN ARTERIAL",0,0,0,null,null,null,null,null,null,null,null,null,null,null,null,null,null,null,null,null,null,null,null,null,null,null,null,null,null,null,null,null,null,null,null,null,null,null,null,null,null,null,null,null,null,null,null,null,null,null,null,null,null,null,null,null,null,null,null,null,null,null,null,null,null,null,null,null,null,null,null,null,null,null,null,null,null,null,null,null,null,null,0]
[null,"DIABETES MELLITUS",0,0,0,null,null,null,null,null,null,null,null,null,null,null,null,null,null,null,null,null,null,null,null,null,null,null,null,null,null,null,null,null,null,null,null,null,null,null,null,null,null,null,null,null,null,null,null,null,null,null,null,null,null,null,null,null,null,null,null,null,null,null,null,null,null,null,null,null,null,null,null,null,null,null,null,null,null,null,null,null,null,null,0]
[null,"DISLIPIDEMIA",0,0,0,null,null,null,null,null,null,null,null,null,null,null,null,null,null,null,null,null,null,null,null,null,null,null,null,null,null,null,null,null,null,null,null,null,null,null,null,null,null,null,null,null,null,null,null,null,null,null,null,null,null,null,null,null,null,null,null,null,null,null,null,null,null,null,null,null,null,null,null,null,null,null,null,null,null,null,null,null,null,null,0]
[null,"ANTECEDENTES ENF. CARDIOVASCULAR ATEROSCLERÓTICA",0,0,0,null,null,null,null,null,null,null,null,null,null,null,null,null,null,null,null,null,null,null,null,null,null,null,null,null,null,null,null,null,null,null,null,null,null,null,null,null,null,null,null,null,null,null,null,null,null,null,null,null,null,null,null,null,null,null,null,null,null,null,null,null,null,null,null,null,null,null,null,null,null,null,null,null,null,null,null,null,null,null,0]
[null,"TABAQUISMO",0,{"$f":"SUM(F92+H92+J92+L92+N92+P92+R92+T92+V92+X92+Z92+AB92+AD92+AF92)","v":0},0,null,null,null,null,null,null,null,null,null,null,null,null,null,null,null,null,null,null,null,null,null,null,null,null,null,null,null,null,null,null,null,null,null,null,null,null,null,null,null,null,null,null,null,null,null,null,null,null,null,null,null,null,null,null,null,null,null,null,null,null,null,null,null,null,null,null,null,null,null,null,null,null,null,null,null,null,null,null,null,0]
["SECCIÓN J: INGRESOS Y EGRESOS AL PROGRAMA DE PACIENTES CON DEPENDENCIA LEVE, MODERADA Y SEVERA"]
["CONCEPTO",null,"TOTAL",null,null,"INGRESOS",null,null,null,null,null,null,null,null,null,null,null,null,null,null,null,null,null,null,null,null,null,null,null,null,null,null,null,"CAUSAL DE EGRESO"]
[null,null,null,null,null,"< 20 años",null,"20-24",null,"25 a 29",null,"30 a 34",null,"35 a 39",null,"40 a 44",null,"45 a 49",null,"50 a 54",null,"55 a 59",null,"60 a 64",null,"65 a 69",null,"70 a 74",null,"75 a 79",null,"80 y más",null,"Altas","Abandono/\nTraslado","Fallecimiento"]
[null,null,"Ambos Sexos","Hombres","Mujeres","Hombres","Mujeres","Hombres","Mujeres","Hombres","Mujeres","Hombres","Mujeres","Hombres","Mujeres","Hombres","Mujeres","Hombres","Mujeres","Hombres","Mujeres","Hombres","Mujeres","Hombres","Mujeres","Hombres","Mujeres","Hombres","Mujeres","Hombres","Mujeres","Hombres","Mujeres"]
["DEPENDENCIA LEVE",null,{"$f":"SUM(D97:E97)","v":0},{"$f":"SUM(F97+H97+J97+L97+N97+P97+R97+T97+V97+X97+Z97+AB97+AD97+AF97)","v":0},0]
["DEPENDENCIA MODERADA",null,{"$f":"SUM(D98:E98)","v":0},0,0]
["DEPENDENCIA GRAVE Y TOTAL","ONCOLÓGICO",{"$f":"SUM(D99:E99)","v":0},0,0]
[null,"NO ONCOLÓGICO",{"$f":"SUM(D100:E100)","v":0},0,0]
["DEPENDENCIA SEVERA CON  ESCARAS ",null,{"$f":"SUM(D101:E101)","v":0},{"$f":"SUM(F101+H101+J101+L101+N101+P101+R101+T101+V101+X101+Z101+AB101+AD101+AF101)","v":0},{"$f":"SUM(G101+I101+K101+M101+O101+Q101+S101+U101+W101+Y101+AA101+AC101+AE101+AG101)","v":0},null,null,null,null,null,null,null,null,null,null,null,null,null,null,null,null,null,null,null,null,null,null,null,null,null,null,null,null,null,null,null,null,null,null,null,null,null,null,null,null,null,null,null,null,null,null,null,null,null,null,null,null,null,null,null,null,null,null,null,null,null,null,null,null,null,null,null,null,null,null,null,null,null,{"$f":"IF(C101>C99+C100,\"* Los Ingresos de pacientes dependientes severos con escaras DEBEN estar incluidos en los Ingresos de pacientes dependientes severos Oncológicos o No Oncológicos. \",\"\")","v":""}]
["SECCIÓN K: INGRESOS AL PROGRAMA DEL ADULTO MAYOR SEGÚN CONDICIÓN DE FUNCIONALIDAD Y DEPENDENCIA"]
["CONDICIÓN",null,"TOTAL",null,null,"65 a 69",null,"70 a 74",null,"75 a 79",null,"80 y más"]
[null,null,"Ambos Sexos","Hombres","Mujeres","Hombres","Mujeres","Hombres","Mujeres","Hombres","Mujeres","Hombres","Mujeres"]
["EFAM","AUTOVALENTE SIN RIESGO",{"$f":"SUM(D105:E105)","v":0},{"$f":"SUM(F105+H105+J105+L105)","v":0},0]
[null,"AUTOVALENTE CON RIESGO",{"$f":"SUM(D106:E106)","v":0},0,0]
[null,"RIESGO DE DEPENDENCIA ",{"$f":"SUM(D107:E107)","v":0},0,0]
["SUBTOTAL",null,{"$f":"SUM(C105:C107)","v":0},0,0,0,0,0,0,0,0,0,0]
["BARTHEL","DEPENDIENTE LEVE",{"$f":"SUM(D109:E109)","v":0},{"$f":"SUM(F109+H109+J109+L109)","v":0},0]
[null,"DEPENDIENTE MODERADO",{"$f":"SUM(D110:E110)","v":0},0,0]
[null,"DEPENDIENTE GRAVE ",{"$f":"SUM(D111:E111)","v":0},0,0]
[null,"DEPENDIENTE TOTAL",{"$f":"SUM(D112:E112)","v":0},0,0]
["SUBTOTAL",null,{"$f":"SUM(C109:C112)","v":0},0,0,0,0,0,0,0,0,0,0]
["TOTAL  ",null,{"$f":"SUM(C108+C113)","v":0},0,0,0,0,0,0,0,0,0,0]
["SECCIÓN L: EGRESOS DEL PROGRAMA DEL ADULTO MAYOR SEGÚN CONDICIÓN DE FUNCIONALIDAD Y DEPENDENCIA"]
["CONDICIÓN",null,"TOTAL",null,null,"65 a 69",null,"70 a 74",null,"75 a 79",null,"80 y más",null,"CAUSAL DE EGRESO"]
[null,null,"Ambos Sexos","Hombres","Mujeres","Hombres","Mujeres","Hombres","Mujeres","Hombres","Mujeres","Hombres","Mujeres","Abandono","Traslado","Fallecimiento"]
["EFAM","AUTOVALENTE SIN RIESGO",{"$f":"SUM(D118:E118)","v":0},{"$f":"SUM(F118+H118+J118+L118)","v":0},0]
[null,"AUTOVALENTE CON RIESGO",{"$f":"SUM(D119:E119)","v":0},0,0]
[null,"RIESGO DE DEPENDENCIA ",{"$f":"SUM(D120:E120)","v":0},0,0]
["SUBTOTAL",null,{"$f":"SUM(C118:C120)","v":0},0,0,0,0,0,0,0,0,0,0,0,0,0,null,null,null,null,null,null,null,null,null,null,null,null,null,null,null,null,null,null,null,null,null,null,null,null,null,null,null,null,null,null,null,null,null,null,null,null,null,null,null,null,null,null,null,null,null,null,null,null,null,null,null,null,null,null,null,null,null,null,null,null,null,null,null,null,null,null,null,null,0]
["BARTHEL","DEPENDIENTE LEVE",{"$f":"SUM(D122:E122)","v":0},{"$f":"SUM(F122+H122+J122+L122)","v":0},0]
[null,"DEPENDIENTE MODERADO",{"$f":"SUM(D123:E123)","v":0},0,0]
[null,"DEPENDIENTE GRAVE ",{"$f":"SUM(D124:E124)","v":0},0,0]
[null,"DEPENDIENTE TOTAL",{"$f":"SUM(D125:E125)","v":0},0,0]
["SUBTOTAL",null,{"$f":"SUM(C122:C125)","v":0},0,0,0,0,0,0,0,0,0,0,0,0,0,null,null,null,null,null,null,null,null,null,null,null,null,null,null,null,null,null,null,null,null,null,null,null,null,null,null,null,null,null,null,null,null,null,null,null,null,null,null,null,null,null,null,null,null,null,null,null,null,null,null,null,null,null,null,null,null,null,null,null,null,null,null,null,null,null,null,null,null,0]
["TOTAL  ",null,{"$f":"SUM(C121+C126)","v":0},0,0,0,0,0,0,0,0,0,0,0,0,0]
["SECCIÓN M: INGRESOS Y EGRESOS DEL  PROGRAMA MÁS ADULTOS MAYORES AUTOVALENTES"]
["CONDICIÓN",null,"TOTAL",null,null,"60 a 64",null,"65 a 69",null,"70 a 74",null,"75 a 79",null,"80 y más"]
[null,null,"Ambos Sexos","Hombres","Mujeres","Hombres","Mujeres","Hombres","Mujeres","Hombres","Mujeres","Hombres","Mujeres","Hombres","Mujeres"]
["INGRESO","AUTOVALENTE SIN RIESGO",{"$f":"SUM(D131+E131)","v":0},{"$f":"SUM(F131+H131+J131+L131+N131)","v":0},{"$f":"SUM(G131+I131+K131+M131+O131)","v":0}]
[null,"AUTOVALENTE CON RIESGO",{"$f":"SUM(D132+E132)","v":0},{"$f":"SUM(H132+J132+L132+N132)","v":0},{"$f":"SUM(I132+K132+M132+O132)","v":0}]
[null,"RIESGO DE DEPENDENCIA ",{"$f":"SUM(D133+E133)","v":0},{"$f":"SUM(H133+J133+L133+N133)","v":0},{"$f":"SUM(I133+K133+M133+O133)","v":0}]
[null,"TOTAL INGRESOS",{"$f":"SUM(C131:C133)","v":0},0,0,0,0,0,0,0,0,0,0,0,0]
["EGRESO","COMPLETA CICLO",{"$f":"SUM(D135+E135)","v":0},{"$f":"SUM(F135+H135+J135+L135+N135)","v":0},0]
[null,"ABANDONO",{"$f":"SUM(D136+E136)","v":0},0,0]
[null,"TRASLADO ",{"$f":"SUM(D137+E137)","v":0},0,0]
[null,"FALLECIMIENTO",{"$f":"SUM(D138+E138)","v":0},0,0]
["* Los pacientes de 60 a 64 años, no debe desagregarse por condición de funcionalidad, por ello sólo se registran en la primera fila (Autovalente sin riesgo)."]
["** Para la desagración por funcionalidad se contabiliza desde 65 y mas años.Sólo para el cálculo del total de los ingresos se contabiliza el rango de 60 - 64 años."]
["SECCIÓN N: INGRESOS AL PROGRAMA DE SALUD  MENTAL EN APS /ESPECIALIDAD",null,null,null,null,null,null,null,null,null,null,null,null,null,null,null,null,null,null,null,null,null,null,null,null,null,null,null,null,null,null,null,null,null,null,null,null,null,null,null,null,null,null,null,null,"* No olvide registrar al menos un ingreso y una persona con diagnóstico. ",null,null,null,null,null,null,null,null,null,null,null,null,null,null,null,null,null,null,null,null,null,null,null,null,null,null,null,null,null,null,null,null,null,null,null,null,null,"* No olvide registrar al menos un ingreso y una persona con diagnóstico. ",null,null,null,null,null,1]
["MOTIVO DE INGRESO",null,null,"TOTAL",null,null,"0 - 4",null,"5 - 9",null,"10 - 14",null,"15 - 19",null,"20 - 24",null,"25 a 29",null,"30 a 34",null,"35 a 39",null,"40 a 44",null,"45 a 49",null,"50 a 54",null,"55 a 59",null,"60 a 64",null,"65 a 69",null,"70 a 74",null,"75 a 79",null,"80 y más",null,"GESTANTES","MADRE DE HIJO MENOR DE 5 AÑOS","PUEBLOS ORIGINARIOS",null,"Niños, Niñas, Adolescentes y Jóvenes Población SENAME","MIGRANTES"]
[null,null,null,"Ambos Sexos","Hombres","Mujeres","Hombres","Mujeres","Hombres","Mujeres","Hombres","Mujeres","Hombres","Mujeres","Hombres","Mujeres","Hombres","Mujeres","Hombres","Mujeres","Hombres","Mujeres","Hombres","Mujeres","Hombres","Mujeres","Hombres","Mujeres","Hombres","Mujeres","Hombres","Mujeres","Hombres","Mujeres","Hombres","Mujeres","Hombres","Mujeres","Hombres","Mujeres",null,null,"Hombres","Mujeres"]
["INGRESOS AL PROGRAMA",null,null,{"$f":"SUM(E144+F144)","v":0},{"$f":"SUM(G144+I144+K144+M144+O144+Q144+S144+U144+W144+Y144+AA144+AC144+AE144+AG144+AI144+AK144+AM144)","v":0},{"$f":"SUM(H144+J144+L144+N144+P144+R144+T144+V144+X144+Z144+AB144+AD144+AF144+AH144+AJ144+AL144+AN144)","v":0},null,null,null,null,null,null,null,null,null,null,null,null,null,null,null,null,null,null,null,null,null,null,null,null,null,null,null,null,null,null,null,null,null,null,null,null,null,null,null,null,null,null,null,null,null,null,null,null,null,null,null,null,null,null,null,null,null,null,null,null,null,null,null,null,null,null,null,null,null,null,null,null,null,null,null,null,null,null,0,0,0,0,0,0]
["FACTORES DE RIESGO Y CONDICIONANTES DE LA SALUD MENTAL"]
["VIOLENCIA","VICTIMA",null,{"$f":"SUM(E146+F146)","v":0},{"$f":"SUM(G146+I146+K146+M146+O146+Q146+S146+U146+W146+Y146+AA146+AC146+AE146+AG146+AI146+AK146+AM146)","v":0},0,null,null,null,null,null,null,null,null,null,null,null,null,null,null,null,null,null,null,null,null,null,null,null,null,null,null,null,null,null,null,null,null,null,null,null,null,null,null,null,null,null,null,null,null,null,null,null,null,null,null,null,null,null,null,null,null,null,null,null,null,null,null,null,null,null,null,null,null,null,null,null,null,null,null,null,null,null,null,0,0,0,0,0]
[null,"AGRESOR / A",null,0,0,0,null,null,null,null,null,null,null,null,null,null,null,null,null,null,null,null,null,null,null,null,null,null,null,null,null,null,null,null,null,null,null,null,null,null,null,null,null,null,null,null,null,null,null,null,null,null,null,null,null,null,null,null,null,null,null,null,null,null,null,null,null,null,null,null,null,null,null,null,null,null,null,null,null,null,null,null,null,null,0,0,0,0,0]
["ABUSO SEXUAL",null,null,0,0,0,null,null,null,null,null,null,null,null,null,null,null,null,null,null,null,null,null,null,null,null,null,null,null,null,null,null,null,null,null,null,null,null,null,null,null,null,null,null,null,null,null,null,null,null,null,null,null,null,null,null,null,null,null,null,null,null,null,null,null,null,null,null,null,null,null,null,null,null,null,null,null,null,null,null,null,null,null,null,0,0,0,0,0]
["SUICIDIO","IDEACIÓN",null,{"$f":"+E149+F149","v":0},{"$f":"+K149+M149+O149+Q149+S149+U149+W149+Y149+AA149+AC149+AE149+AG149+AI149+AK149+AM149","v":0},{"$f":"+L149+N149+P149+R149+T149+V149+X149+Z149+AB149+AD149+AF149+AH149+AJ149+AL149+AN149","v":0},null,null,null,null,null,null,null,null,null,null,null,null,null,null,null,null,null,null,null,null,null,null,null,null,null,null,null,null,null,null,null,null,null,null,null,null,null,null,null,null,null,null,null,null,null,null,null,null,null,null,null,null,null,null,null,null,null,null,null,null,null,null,null,null,null,null,null,null,null,null,null,null,null,null,null,null,null,null,0,0,0,0,0,0]
[null,"INTENTO",null,{"$f":"+E150+F150","v":0},{"$f":"+K150+M150+O150+Q150+S150+U150+W150+Y150+AA150+AC150+AE150+AG150+AI150+AK150+AM150","v":0},{"$f":"+L150+N150+P150+R150+T150+V150+X150+Z150+AB150+AD150+AF150+AH150+AJ150+AL150+AN150","v":0},null,null,null,null,null,null,null,null,null,null,null,null,null,null,null,null,null,null,null,null,null,null,null,null,null,null,null,null,null,null,null,null,null,null,null,null,null,null,null,null,null,null,null,null,null,null,null,null,null,null,null,null,null,null,null,null,null,null,null,null,null,null,null,null,null,null,null,null,null,null,null,null,null,null,null,null,null,null,0,0,0,0,0]
["PERSONAS CON DIAGNÓSTICOS DE TRASTORNOS MENTALES ",null,null,0,0,0,null,null,null,null,null,null,null,null,null,null,null,null,null,null,null,null,null,null,null,null,null,null,null,null,null,null,null,null,null,null,null,null,null,null,null,null,null,null,null,null,null,null,null,null,null,null,null,null,null,null,null,null,null,null,null,null,null,null,null,null,null,null,null,null,null,null,null,null,null,null,null,null,null,null,null,null,null,null,0,0,0,0,0,0]
["TRASTORNOS DEL HUMOR\n(AFECTIVOS)","DEPRESIÓN LEVE",null,0,0,0,null,null,null,null,null,null,null,null,null,null,null,null,null,null,null,null,null,null,null,null,null,null,null,null,null,null,null,null,null,null,null,null,null,null,null,null,null,null,null,null,null,null,null,null,null,null,null,null,null,null,null,null,null,null,null,null,null,null,null,null,null,null,null,null,null,null,null,null,null,null,null,null,null,null,null,null,null,null,0,0,0,0,0]
[null,"DEPRESIÓN MODERADA",null,0,0,0,null,null,null,null,null,null,null,null,null,null,null,null,null,null,null,null,null,null,null,null,null,null,null,null,null,null,null,null,null,null,null,null,null,null,null,null,null,null,null,null,null,null,null,null,null,null,null,null,null,null,null,null,null,null,null,null,null,null,null,null,null,null,null,null,null,null,null,null,null,null,null,null,null,null,null,null,null,null,0,0,0,0,0]
[null,"DEPRESIÓN GRAVE",null,0,0,0,null,null,null,null,null,null,null,null,null,null,null,null,null,null,null,null,null,null,null,null,null,null,null,null,null,null,null,null,null,null,null,null,null,null,null,null,null,null,null,null,null,null,null,null,null,null,null,null,null,null,null,null,null,null,null,null,null,null,null,null,null,null,null,null,null,null,null,null,null,null,null,null,null,null,null,null,null,null,0,0,0,0,0]
[null,"DEPRESIÓN POST PARTO",null,null,null,{"$f":"SUM(L155+N155+P155+R155+T155+V155+X155+Z155+AB155+AD155+AF155+AH155+AJ155+AL155+AN155)","v":0},null,null,null,null,null,null,null,null,null,null,null,null,null,null,null,null,null,null,null,null,null,null,null,null,null,null,null,null,null,null,null,null,null,null,null,null,null,null,null,null,null,null,null,null,null,null,null,null,null,null,null,null,null,null,null,null,null,null,null,null,null,null,null,null,null,null,null,null,null,null,null,null,null,null,null,null,null,null,0,0,0,0,0]
[null,"TRASTORNO BIPOLAR",null,{"$f":"SUM(E156+F156)","v":0},{"$f":"SUM(G156+I156+K156+M156+O156+Q156+S156+U156+W156+Y156+AA156+AC156+AE156+AG156+AI156+AK156+AM156)","v":0},0,null,null,null,null,null,null,null,null,null,null,null,null,null,null,null,null,null,null,null,null,null,null,null,null,null,null,null,null,null,null,null,null,null,null,null,null,null,null,null,null,null,null,null,null,null,null,null,null,null,null,null,null,null,null,null,null,null,null,null,null,null,null,null,null,null,null,null,null,null,null,null,null,null,null,null,null,null,null,0,0,0,0,0]
[null,"DEPRESIÓN REFRACTARIA",null,0,0,0,null,null,null,null,null,null,null,null,null,null,null,null,null,null,null,null,null,null,null,null,null,null,null,null,null,null,null,null,null,null,null,null,null,null,null,null,null,null,null,null,null,null,null,null,null,null,null,null,null,null,null,null,null,null,null,null,null,null,null,null,null,null,null,null,null,null,null,null,null,null,null,null,null,null,null,null,null,null,0,0,0,0,0]
[null,"DEPRESIÓN GRAVE CON PSICOSIS",null,0,0,0,null,null,null,null,null,null,null,null,null,null,null,null,null,null,null,null,null,null,null,null,null,null,null,null,null,null,null,null,null,null,null,null,null,null,null,null,null,null,null,null,null,null,null,null,null,null,null,null,null,null,null,null,null,null,null,null,null,null,null,null,null,null,null,null,null,null,null,null,null,null,null,null,null,null,null,null,null,null,0,0,0,0,0]
[null,"DEPRESIÓN  CON ALTO RIESGO SUICIDA",null,0,0,0,null,null,null,null,null,null,null,null,null,null,null,null,null,null,null,null,null,null,null,null,null,null,null,null,null,null,null,null,null,null,null,null,null,null,null,null,null,null,null,null,null,null,null,null,null,null,null,null,null,null,null,null,null,null,null,null,null,null,null,null,null,null,null,null,null,null,null,null,null,null,null,null,null,null,null,null,null,null,0,0,0,0,0]
["TRASTORNOS MENTALES Y DEL COMPORTAMIENTO DEBIDO A CONSUMO SUSTANCIAS PSICOTRÓPICAS","CONSUMO PERJUDICIAL O DEPENDENCIA DE ALCOHOL",null,0,0,0,null,null,null,null,null,null,null,null,null,null,null,null,null,null,null,null,null,null,null,null,null,null,null,null,null,null,null,null,null,null,null,null,null,null,null,null,null,null,null,null,null,null,null,null,null,null,null,null,null,null,null,null,null,null,null,null,null,null,null,null,null,null,null,null,null,null,null,null,null,null,null,null,null,null,null,null,null,null,0,0,0,0,0]
[null,"CONSUMO PERJUDICIAL O DEPENDENCIA COMO DROGA PRINCIPAL",null,0,0,0,null,null,null,null,null,null,null,null,null,null,null,null,null,null,null,null,null,null,null,null,null,null,null,null,null,null,null,null,null,null,null,null,null,null,null,null,null,null,null,null,null,null,null,null,null,null,null,null,null,null,null,null,null,null,null,null,null,null,null,null,null,null,null,null,null,null,null,null,null,null,null,null,null,null,null,null,null,null,0,0,0,0,0]
[null,"POLICONSUMO",null,0,0,0,null,null,null,null,null,null,null,null,null,null,null,null,null,null,null,null,null,null,null,null,null,null,null,null,null,null,null,null,null,null,null,null,null,null,null,null,null,null,null,null,null,null,null,null,null,null,null,null,null,null,null,null,null,null,null,null,null,null,null,null,null,null,null,null,null,null,null,null,null,null,null,null,null,null,null,null,null,null,0,0,0,0,0]
["TRASTORNOS DEL COMPORTAMIENTO Y DE LAS EMOCIONES DE COMIENZO HABITUAL EN LA INFANCIA Y ADOLESCENCIA","TRASTORNO HIPERCINÉTICOS",null,0,{"$f":"SUM(G163+I163+K163+M163+O163)","v":0},0,null,null,null,null,null,null,null,null,null,null,null,null,null,null,null,null,null,null,null,null,null,null,null,null,null,null,null,null,null,null,null,null,null,null,null,null,null,null,null,null,null,null,null,null,null,null,null,null,null,null,null,null,null,null,null,null,null,null,null,null,null,null,null,null,null,null,null,null,null,null,null,null,null,null,null,null,null,null,0,null,0,0,0]
[null,"TRASTORNO DISOCIAL DESAFIANTE Y OPOSICIONISTA",null,0,0,0,null,null,null,null,null,null,null,null,null,null,null,null,null,null,null,null,null,null,null,null,null,null,null,null,null,null,null,null,null,null,null,null,null,null,null,null,null,null,null,null,null,null,null,null,null,null,null,null,null,null,null,null,null,null,null,null,null,null,null,null,null,null,null,null,null,null,null,null,null,null,null,null,null,null,null,null,null,null,0,null,0,0,0]
[null,"TRASTORNO DE ANSIEDAD DE SEPARACIÓN EN LA INFANCIA",null,0,0,0,null,null,null,null,null,null,null,null,null,null,null,null,null,null,null,null,null,null,null,null,null,null,null,null,null,null,null,null,null,null,null,null,null,null,null,null,null,null,null,null,null,null,null,null,null,null,null,null,null,null,null,null,null,null,null,null,null,null,null,null,null,null,null,null,null,null,null,null,null,null,null,null,null,null,null,null,null,null,0,null,0,0,0]
[null,"OTROS TRASTORNOS DEL COMPORTAMIENTO Y DE LAS EMOCIONES DE COMIENZO HABITUAL EN LA INFANCIA Y ADOLESCENCIA",null,0,0,0,null,null,null,null,null,null,null,null,null,null,null,null,null,null,null,null,null,null,null,null,null,null,null,null,null,null,null,null,null,null,null,null,null,null,null,null,null,null,null,null,null,null,null,null,null,null,null,null,null,null,null,null,null,null,null,null,null,null,null,null,null,null,null,null,null,null,null,null,null,null,null,null,null,null,null,null,null,null,0,null,0,0,0]
["TRASTORNOS DE ANSIEDAD","TRASTORNO DE ESTRÉS POST TRAUMATICO",null,{"$f":"SUM(E167+F167)","v":0},{"$f":"SUM(G167+I167+K167+M167+O167+Q167+S167+U167+W167+Y167+AA167+AC167+AE167+AG167+AI167+AK167+AM167)","v":0},{"$f":"SUM(H167+J167+L167+N167+P167+R167+T167+V167+X167+Z167+AB167+AD167+AF167+AH167+AJ167+AL167+AN167)","v":0},null,null,null,null,null,null,null,null,null,null,null,null,null,null,null,null,null,null,null,null,null,null,null,null,null,null,null,null,null,null,null,null,null,null,null,null,null,null,null,null,null,null,null,null,null,null,null,null,null,null,null,null,null,null,null,null,null,null,null,null,null,null,null,null,null,null,null,null,null,null,null,null,null,null,null,null,null,null,0,0,0,0,0]
[null,"TRASTORNO DE PANICO CON AGOROFOBIA ",null,{"$f":"SUM(E168+F168)","v":0},{"$f":"+K168+M168+O168+Q168+S168+U168+W168+Y168+AA168+AC168+AE168+AG168+AI168+AK168+AM168","v":0},{"$f":"+L168+N168+P168+R168+T168+V168+X168+Z168+AB168+AD168+AF168+AH168+AJ168+AL168+AN168","v":0},null,null,null,null,null,null,null,null,null,null,null,null,null,null,null,null,null,null,null,null,null,null,null,null,null,null,null,null,null,null,null,null,null,null,null,null,null,null,null,null,null,null,null,null,null,null,null,null,null,null,null,null,null,null,null,null,null,null,null,null,null,null,null,null,null,null,null,null,null,null,null,null,null,null,null,null,null,null,0,0,0,0,0]
[null,"TRASTORNO DE PANICO SIN AGOROFOBIA ",null,0,0,0,null,null,null,null,null,null,null,null,null,null,null,null,null,null,null,null,null,null,null,null,null,null,null,null,null,null,null,null,null,null,null,null,null,null,null,null,null,null,null,null,null,null,null,null,null,null,null,null,null,null,null,null,null,null,null,null,null,null,null,null,null,null,null,null,null,null,null,null,null,null,null,null,null,null,null,null,null,null,0,0,0,0,0]
[null,"FOBIAS SOCIALES",null,0,0,0,null,null,null,null,null,null,null,null,null,null,null,null,null,null,null,null,null,null,null,null,null,null,null,null,null,null,null,null,null,null,null,null,null,null,null,null,null,null,null,null,null,null,null,null,null,null,null,null,null,null,null,null,null,null,null,null,null,null,null,null,null,null,null,null,null,null,null,null,null,null,null,null,null,null,null,null,null,null,0,0,0,0,0,0]
[null,"TRASTORNOS DE ANSIEDAD GENERALIZADA",null,0,0,0,null,null,null,null,null,null,null,null,null,null,null,null,null,null,null,null,null,null,null,null,null,null,null,null,null,null,null,null,null,null,null,null,null,null,null,null,null,null,null,null,null,null,null,null,null,null,null,null,null,null,null,null,null,null,null,null,null,null,null,null,null,null,null,null,null,null,null,null,null,null,null,null,null,null,null,null,null,null,0,0,0,0,0]
[null,"OTROS TRASTORNOS DE ANSIEDAD",null,0,{"$f":"+K172+M172+O172+Q172+S172+U172+W172+Y172+AA172+AC172+AE172+AG172+AI172+AK172+AM172","v":0},{"$f":"+L172+N172+P172+R172+T172+V172+X172+Z172+AB172+AD172+AF172+AH172+AJ172+AL172+AN172","v":0},null,null,null,null,null,null,null,null,null,null,null,null,null,null,null,null,null,null,null,null,null,null,null,null,null,null,null,null,null,null,null,null,null,null,null,null,null,null,null,null,null,null,null,null,null,null,null,null,null,null,null,null,null,null,null,null,null,null,null,null,null,null,null,null,null,null,null,null,null,null,null,null,null,null,null,null,null,null,0,0,0,0,0]
["DEMENCIAS (INCLUYE ALZHEIMER)","LEVE",null,0,{"$f":"SUM(G173+I173+K173+M173+O173+Q173+S173+U173+W173+Y173+AA173+AC173+AE173+AG173+AI173+AK173+AM173)","v":0},{"$f":"SUM(H173+J173+L173+N173+P173+R173+T173+V173+X173+Z173+AB173+AD173+AF173+AH173+AJ173+AL173+AN173)","v":0},null,null,null,null,null,null,null,null,null,null,null,null,null,null,null,null,null,null,null,null,null,null,null,null,null,null,null,null,null,null,null,null,null,null,null,null,null,null,null,null,null,null,null,null,null,null,null,null,null,null,null,null,null,null,null,null,null,null,null,null,null,null,null,null,null,null,null,null,null,null,null,null,null,null,null,null,null,null,0,0,0,0,0]
[null,"MODERADO",null,0,0,0,null,null,null,null,null,null,null,null,null,null,null,null,null,null,null,null,null,null,null,null,null,null,null,null,null,null,null,null,null,null,null,null,null,null,null,null,null,null,null,null,null,null,null,null,null,null,null,null,null,null,null,null,null,null,null,null,null,null,null,null,null,null,null,null,null,null,null,null,null,null,null,null,null,null,null,null,null,null,0,0,0,0,0]
[null,"AVANZADO",null,0,0,0,null,null,null,null,null,null,null,null,null,null,null,null,null,null,null,null,null,null,null,null,null,null,null,null,null,null,null,null,null,null,null,null,null,null,null,null,null,null,null,null,null,null,"* No olvide registrar al menos un egreso y una persona con diagnóstico. ",null,null,null,null,null,null,null,null,null,null,null,null,null,null,null,null,null,null,null,null,null,null,null,null,null,null,null,null,null,null,null,null,null,null,"* No olvide registrar al menos un egreso y una persona con diagnóstico. ",null,null,0,0,0,1]
["ESQUIZOFRENIA",null,null,0,0,0,null,null,null,null,null,null,null,null,null,null,null,null,null,null,null,null,null,null,null,null,null,null,null,null,null,null,null,null,null,null,null,null,null,null,null,null,null,null,null,null,null,null,null,null,null,null,null,null,null,null,null,null,null,null,null,null,null,null,null,null,null,null,null,null,null,null,null,null,null,null,null,null,null,null,null,null,null,null,0,0,0,0,0]
["TRASTORNOS DE LA CONDUCTA ALIMENTARIA",null,null,0,0,0,null,null,null,null,null,null,null,null,null,null,null,null,null,null,null,null,null,null,null,null,null,null,null,null,null,null,null,null,null,null,null,null,null,null,null,null,null,null,null,null,null,null,null,null,null,null,null,null,null,null,null,null,null,null,null,null,null,null,null,null,null,null,null,null,null,null,null,null,null,null,null,null,null,null,null,null,null,null,0,0,0,0,0]
["RETRASO MENTAL",null,null,0,0,0,null,null,null,null,null,null,null,null,null,null,null,null,null,null,null,null,null,null,null,null,null,null,null,null,null,null,null,null,null,null,null,null,null,null,null,null,null,null,null,null,null,null,null,null,null,null,null,null,null,null,null,null,null,null,null,null,null,null,null,null,null,null,null,null,null,null,null,null,null,null,null,null,null,null,null,null,null,null,0,0,0,0,0,0]
["TRASTORNO DE PERSONALIDAD",null,null,0,0,0,null,null,null,null,null,null,null,null,null,null,null,null,null,null,null,null,null,null,null,null,null,null,null,null,null,null,null,null,null,null,null,null,null,null,null,null,null,null,null,null,null,null,null,null,null,null,null,null,null,null,null,null,null,null,null,null,null,null,null,null,null,null,null,null,null,null,null,null,null,null,null,null,null,null,null,null,null,null,0,0,0,0,0]
["TRASTORNO GENERALIZADOS DEL DESARROLLO",null,null,0,0,0,null,null,null,null,null,null,null,null,null,null,null,null,null,null,null,null,null,null,null,null,null,null,null,null,null,null,null,null,null,null,null,null,null,null,null,null,null,null,null,null,null,null,null,null,null,null,null,null,null,null,null,null,null,null,null,null,null,null,null,null,null,null,null,null,null,null,null,null,null,null,null,null,null,null,null,null,null,null,0,0,0,0,0]
["EPILEPSIA",null,null,{"$f":"SUM(E181+F181)","v":0},{"$f":"SUM(G181+I181+K181+M181+O181+Q181+S181+U181+W181+Y181+AA181+AC181+AE181+AG181+AI181+AK181+AM181)","v":0},{"$f":"SUM(H181+J181+L181+N181+P181+R181+T181+V181+X181+Z181+AB181+AD181+AF181+AH181+AJ181+AL181+AN181)","v":0},null,null,null,null,null,null,null,null,null,null,null,null,null,null,null,null,null,null,null,null,null,null,null,null,null,null,null,null,null,null,null,null,null,null,null,null,null,null,null,null,null,null,null,null,null,null,null,null,null,null,null,null,null,null,null,null,null,null,null,null,null,null,null,null,null,null,null,null,null,null,null,null,null,null,null,null,null,null,0,0,0,0,0]
["OTRAS",null,null,0,0,0,null,null,null,null,null,null,null,null,null,null,null,null,null,null,null,null,null,null,null,null,null,null,null,null,null,null,null,null,null,null,null,null,null,null,null,null,null,null,null,null,null,null,null,null,null,null,null,null,null,null,null,null,null,null,null,null,null,null,null,null,null,null,null,null,null,null,null,null,null,null,null,null,null,null,null,null,null,null,0,0,0,0,0]
["SECCIÓN O: EGRESOS DEL PROGRAMA DE SALUD  MENTAL POR ALTAS CLÍNICAS EN APS /ESPECIALIDAD",null,null,null,null,null,null,null,null,null,null,null,null,null,null,null,null,null,null,null,null,null,null,null,null,null,null,null,null,null,null,null,null,null,null,null,null,null,null,null,null,null,null,null,null,null,null,null,null,null,null,null,null,null,null,null,null,null,null,null,null,null,null,null,null,null,null,null,null,null,null,null,null,null,null,null,null,null,null,null,null,null,null,null,0,0,0,0,0]
["MOTIVO DE EGRESO",null,null,"TOTAL",null,null,"0 - 4",null,"5 - 9",null,"10 - 14",null,"15 - 19",null,"20 - 24",null,"25 a 29",null,"30 a 34",null,"35 a 39",null,"40 a 44",null,"45 a 49",null,"50 a 54",null,"55 a 59",null,"60 a 64",null,"65 a 69",null,"70 a 74",null,"75 a 79",null,"80 y más",null,"EGRESOS",null,null,"GESTANTES","MADRE DE NIÑO MENOR DE 5 AÑOS","PUEBLOS ORIGINARIOS",null,"Niños, Niñas, Adolescentes y Jóvenes Población  SENAME","* Las gestantes Egresadas del Programa NO debe ser mayor al Total de Mujeres Egresadas. * Las madres de hijos menor de 5 años NO DEBE ser mayor al Total de Mujeres ingresadas al Programa. * Los egresos de Pueblos Originarios Hombres NO DEBE ser mayor al Total de ingresos del Programa. * No olvide escribir los campos Gestante y/o Madre de Hijo menor de 5 años y/o Pueblos Originarios y/o Niños, Niñas, Adolescentes y Jovenes de Programas SENAME (Digite CERO si no tiene). ",null,null,null,null,null,null,null,null,null,null,null,null,null,null,null,null,null,null,null,null,null,null,null,null,null,null,null,null,null,"* Las gestantes Egresadas del Programa NO debe ser mayor al Total de Mujeres Egresadas. ","* Las madres de hijos menor de 5 años NO DEBE ser mayor al Total de Mujeres ingresadas al Programa. ","* Los egresos de Pueblos Originarios Hombres NO DEBE ser mayor al Total de ingresos del Programa. ",null,"* No olvide escribir los campos Gestante y/o Madre de Hijo menor de 5 años y/o Pueblos Originarios y/o Niños, Niñas, Adolescentes y Jovenes de Programas SENAME (Digite CERO si no tiene). ",null,1,1,1,0,1,0]
[null,null,null,"Ambos Sexos","Hombres","Mujeres","Hombres","Mujeres","Hombres","Mujeres","Hombres","Mujeres","Hombres","Mujeres","Hombres","Mujeres","Hombres","Mujeres","Hombres","Mujeres","Hombres","Mujeres","Hombres","Mujeres","Hombres","Mujeres","Hombres","Mujeres","Hombres","Mujeres","Hombres","Mujeres","Hombres","Mujeres","Hombres","Mujeres","Hombres","Mujeres","Hombres","Mujeres","Abandono","Fallecimiento","Traslado",null,null,"Hombres","Mujeres",null,null,null,null,null,null,null,null,null,null,null,null,null,null,null,null,null,null,null,null,null,null,null,null,null,null,null,null,null,null,null,null,null,null,null,"* No olvide escribir los campos Gestante y/o Madre de Hijo menor de 5 años y/o Pueblos Originarios y/o Niños, Niñas, Adolescentes y Jovenes de Programas SENAME (Digite CERO si no tiene). ",null,0,0,0,0,1]
["EGRESOS DEL PROGRAMA",null,null,{"$f":"SUM(E186+F186)","v":0},{"$f":"SUM(G186+I186+K186+M186+O186+Q186+S186+U186+W186+Y186+AA186+AC186+AE186+AG186+AI186+AK186+AM186)","v":0},{"$f":"SUM(H186+J186+L186+N186+P186+R186+T186+V186+X186+Z186+AB186+AD186+AF186+AH186+AJ186+AL186+AN186)","v":0},null,null,null,null,null,null,null,null,null,null,null,null,null,null,null,null,null,null,null,null,null,null,null,null,null,null,null,null,null,null,null,null,null,null,null,null,null,null,null,null,null,null,null,null,null,null,null,null,null,null,null,null,null,null,null,null,null,null,null,null,null,null,null,null,null,null,null,null,null,null,null,null,null,null,null,null,null,null,0,0,0,0,0,0]
["FACTORES DE RIESGO Y CONDICIONANTES DE LA SALUD MENTAL",null,null,null,null,null,null,null,null,null,null,null,null,null,null,null,null,null,null,null,null,null,null,null,null,null,null,null,null,null,null,null,null,null,null,null,null,null,null,null,null,null,null,null,null,null,null,null,null,null,null,null,null,null,null,null,null,null,null,null,null,null,null,null,null,null,null,null,null,null,null,null,null,null,null,null,null,null,null,null,null,null,null,null,0,0,0,0,0]
["VIOLENCIA ","VÍCTIMA",null,{"$f":"SUM(E188+F188)","v":0},{"$f":"SUM(G188+I188+K188+M188+O188+Q188+S188+U188+W188+Y188+AA188+AC188+AE188+AG188+AI188+AK188+AM188)","v":0},0,null,null,null,null,null,null,null,null,null,null,null,null,null,null,null,null,null,null,null,null,null,null,null,null,null,null,null,null,null,null,null,null,null,null,null,null,null,null,null,null,null,null,null,null,null,null,null,null,null,null,null,null,null,null,null,null,null,null,null,null,null,null,null,null,null,null,null,null,null,null,null,null,null,null,null,null,null,null,0,0,0,0,0]
[null,"AGRESOR / A",null,0,0,0,null,null,null,null,null,null,null,null,null,null,null,null,null,null,null,null,null,null,null,null,null,null,null,null,null,null,null,null,null,null,null,null,null,null,null,null,null,null,null,null,null,null,null,null,null,null,null,null,null,null,null,null,null,null,null,null,null,null,null,null,null,null,null,null,null,null,null,null,null,null,null,null,null,null,null,null,null,null,0,0,0,0,0]
["ABUSO SEXUAL",null,null,0,0,0,null,null,null,null,null,null,null,null,null,null,null,null,null,null,null,null,null,null,null,null,null,null,null,null,null,null,null,null,null,null,null,null,null,null,null,null,null,null,null,null,null,null,null,null,null,null,null,null,null,null,null,null,null,null,null,null,null,null,null,null,null,null,null,null,null,null,null,null,null,null,null,null,null,null,null,null,null,null,0,0,0,0,0]
["SUICIDIO","IDEACIÓN",null,{"$f":"+E191+F191","v":0},{"$f":"+K191+M191+O191+Q191+S191+U191+W191+Y191+AA191+AC191+AE191+AG191+AI191+AK191+AM191","v":0},{"$f":"+L191+N191+P191+R191+T191+V191+X191+Z191+AB191+AD191+AF191+AH191+AJ191+AL191+AN191","v":0},null,null,null,null,null,null,null,null,null,null,null,null,null,null,null,null,null,null,null,null,null,null,null,null,null,null,null,null,null,null,null,null,null,null,null,null,null,null,null,null,null,null,null,null,null,null,null,null,null,null,null,null,null,null,null,null,null,null,null,null,null,null,null,null,null,null,null,null,null,null,null,null,null,null,null,null,null,null,0,0,0,0,0]
[null,"INTENTO",null,{"$f":"+E192+F192","v":0},{"$f":"+K192+M192+O192+Q192+S192+U192+W192+Y192+AA192+AC192+AE192+AG192+AI192+AK192+AM192","v":0},{"$f":"+L192+N192+P192+R192+T192+V192+X192+Z192+AB192+AD192+AF192+AH192+AJ192+AL192+AN192","v":0},null,null,null,null,null,null,null,null,null,null,null,null,null,null,null,null,null,null,null,null,null,null,null,null,null,null,null,null,null,null,null,null,null,null,null,null,null,null,null,null,null,null,null,null,null,null,null,null,null,null,null,null,null,null,null,null,null,null,null,null,null,null,null,null,null,null,null,null,null,null,null,null,null,null,null,null,null,null,null,null,0,0,0]
["PERSONAS CON DIAGNÓSTICOS DE TRASTORNOS MENTALES ",null,null,0,0,0,null,null,null,null,null,null,null,null,null,null,null,null,null,null,null,null,null,null,null,null,null,null,null,null,null,null,null,null,null,null,null,null,null,null,null,null,null,null,null,null,null,null,null,null,null,null,null,null,null,null,null,null,null,null,null,null,null,null,null,null,null,null,null,null,null,null,null,null,null,null,null,null,null,null,null,null,null,null,0,0,0,0,0,0]
["TRASTORNOS DEL HUMOR\n(AFECTIVOS)","DEPRESIÓN LEVE",null,0,0,0,null,null,null,null,null,null,null,null,null,null,null,null,null,null,null,null,null,null,null,null,null,null,null,null,null,null,null,null,null,null,null,null,null,null,null,null,null,null,null,null,null,null,null,null,null,null,null,null,null,null,null,null,null,null,null,null,null,null,null,null,null,null,null,null,null,null,null,null,null,null,null,null,null,null,null,null,null,null,0,0,0,0,0]
[null,"DEPRESIÓN MODERADA",null,0,0,0,null,null,null,null,null,null,null,null,null,null,null,null,null,null,null,null,null,null,null,null,null,null,null,null,null,null,null,null,null,null,null,null,null,null,null,null,null,null,null,null,null,null,null,null,null,null,null,null,null,null,null,null,null,null,null,null,null,null,null,null,null,null,null,null,null,null,null,null,null,null,null,null,null,null,null,null,null,null,0,0,0,0,0]
[null,"DEPRESIÓN GRAVE",null,0,0,0,null,null,null,null,null,null,null,null,null,null,null,null,null,null,null,null,null,null,null,null,null,null,null,null,null,null,null,null,null,null,null,null,null,null,null,null,null,null,null,null,null,null,null,null,null,null,null,null,null,null,null,null,null,null,null,null,null,null,null,null,null,null,null,null,null,null,null,null,null,null,null,null,null,null,null,null,null,null,0,0,0,0,0]
[null,"DEPRESIÓN POST PARTO",null,null,null,{"$f":"SUM(L197+N197+P197+R197+T197+V197+X197+Z197+AB197+AD197+AF197+AH197+AJ197+AL197+AN197)","v":0},null,null,null,null,null,null,null,null,null,null,null,null,null,null,null,null,null,null,null,null,null,null,null,null,null,null,null,null,null,null,null,null,null,null,null,null,null,null,null,null,null,null,null,null,null,null,null,null,null,null,null,null,null,null,null,null,null,null,null,null,null,null,null,null,null,null,null,null,null,null,null,null,null,null,null,null,null,null,0,0,0,0,0]
[null,"TRASTORNO BIPOLAR",null,{"$f":"SUM(E198+F198)","v":0},{"$f":"SUM(G198+I198+K198+M198+O198+Q198+S198+U198+W198+Y198+AA198+AC198+AE198+AG198+AI198+AK198+AM198)","v":0},0,null,null,null,null,null,null,null,null,null,null,null,null,null,null,null,null,null,null,null,null,null,null,null,null,null,null,null,null,null,null,null,null,null,null,null,null,null,null,null,null,null,null,null,null,null,null,null,null,null,null,null,null,null,null,null,null,null,null,null,null,null,null,null,null,null,null,null,null,null,null,null,null,null,null,null,null,null,null,0,0,0,0,0]
[null,"DEPRESIÓN REFRACTARIA",null,0,0,0,null,null,null,null,null,null,null,null,null,null,null,null,null,null,null,null,null,null,null,null,null,null,null,null,null,null,null,null,null,null,null,null,null,null,null,null,null,null,null,null,null,null,null,null,null,null,null,null,null,null,null,null,null,null,null,null,null,null,null,null,null,null,null,null,null,null,null,null,null,null,null,null,null,null,null,null,null,null,0,0,0,0,0]
[null,"DEPRESIÓN GRAVE CON PSICOSIS",null,0,0,0,null,null,null,null,null,null,null,null,null,null,null,null,null,null,null,null,null,null,null,null,null,null,null,null,null,null,null,null,null,null,null,null,null,null,null,null,null,null,null,null,null,null,null,null,null,null,null,null,null,null,null,null,null,null,null,null,null,null,null,null,null,null,null,null,null,null,null,null,null,null,null,null,null,null,null,null,null,null,0,0,0,0,0]
[null,"DEPRESIÓN  CON ALTO RIESGO SUICIDA",null,0,0,0,null,null,null,null,null,null,null,null,null,null,null,null,null,null,null,null,null,null,null,null,null,null,null,null,null,null,null,null,null,null,null,null,null,null,null,null,null,null,null,null,null,null,null,null,null,null,null,null,null,null,null,null,null,null,null,null,null,null,null,null,null,null,null,null,null,null,null,null,null,null,null,null,null,null,null,null,null,null,0,0,0,0,0]
["TRASTORNOS MENTALES Y DEL COMPORTAMIENTO DEBIDO A CONSUMO SUSTANCIAS PSICOTRÓPICAS","CONSUMO PERJUDICIAL O DEPENDENCIA DE ALCOHOL",null,0,0,0,null,null,null,null,null,null,null,null,null,null,null,null,null,null,null,null,null,null,null,null,null,null,null,null,null,null,null,null,null,null,null,null,null,null,null,null,null,null,null,null,null,null,null,null,null,null,null,null,null,null,null,null,null,null,null,null,null,null,null,null,null,null,null,null,null,null,null,null,null,null,null,null,null,null,null,null,null,null,0,0,0,0,0]
[null,"CONSUMO PERJUDICIAL O DEPENDENCIA COMO DROGA PRINCIPAL",null,0,0,0,null,null,null,null,null,null,null,null,null,null,null,null,null,null,null,null,null,null,null,null,null,null,null,null,null,null,null,null,null,null,null,null,null,null,null,null,null,null,null,null,null,null,null,null,null,null,null,null,null,null,null,null,null,null,null,null,null,null,null,null,null,null,null,null,null,null,null,null,null,null,null,null,null,null,null,null,null,null,0,0,0,0,0]
[null,"POLICONSUMO",null,0,0,0,null,null,null,null,null,null,null,null,null,null,null,null,null,null,null,null,null,null,null,null,null,null,null,null,null,null,null,null,null,null,null,null,null,null,null,null,null,null,null,null,null,null,null,null,null,null,null,null,null,null,null,null,null,null,null,null,null,null,null,null,null,null,null,null,null,null,null,null,null,null,null,null,null,null,null,null,null,null,0,0,0,0,0]
["TRASTORNOS DEL COMPORTAMIENTO Y DE LAS EMOCIONES DE COMIENZO HABITUAL EN LA INFANCIA Y ADOLESCENCIA","TRASTORNO HIPERCINÉTICOS",null,0,{"$f":"SUM(G205+I205+K205+M205+O205)","v":0},0,null,null,null,null,null,null,null,null,null,null,null,null,null,null,null,null,null,null,null,null,null,null,null,null,null,null,null,null,null,null,null,null,null,null,null,null,null,null,null,null,null,null,null,null,null,null,null,null,null,null,null,null,null,null,null,null,null,null,null,null,null,null,null,null,null,null,null,null,null,null,null,null,null,null,null,null,null,null,0,null,0,0,0]
[null,"TRASTORNO DISOCIAL DESAFIANTE Y OPOSICIONISTA",null,0,0,0,null,null,null,null,null,null,null,null,null,null,null,null,null,null,null,null,null,null,null,null,null,null,null,null,null,null,null,null,null,null,null,null,null,null,null,null,null,null,null,null,null,null,null,null,null,null,null,null,null,null,null,null,null,null,null,null,null,null,null,null,null,null,null,null,null,null,null,null,null,null,null,null,null,null,null,null,null,null,0,null,0,0,0]
[null,"TRASTORNO DE ANSIEDAD DE SEPARACIÓN EN LA INFANCIA",null,0,0,0,null,null,null,null,null,null,null,null,null,null,null,null,null,null,null,null,null,null,null,null,null,null,null,null,null,null,null,null,null,null,null,null,null,null,null,null,null,null,null,null,null,null,null,null,null,null,null,null,null,null,null,null,null,null,null,null,null,null,null,null,null,null,null,null,null,null,null,null,null,null,null,null,null,null,null,null,null,null,0,0,0,0,0]
[null,"OTROS TRASTORNOS DEL COMPORTAMIENTO Y DE LAS EMOCIONES DE COMIENZO HABITUAL EN LA INFANCIA Y ADOLESCENCIA",null,0,0,0,null,null,null,null,null,null,null,null,null,null,null,null,null,null,null,null,null,null,null,null,null,null,null,null,null,null,null,null,null,null,null,null,null,null,null,null,null,null,null,null,null,null,null,null,null,null,null,null,null,null,null,null,null,null,null,null,null,null,null,null,null,null,null,null,null,null,null,null,null,null,null,null,null,null,null,null,null,null,0,0,0,0,0]
["TRASTORNOS DE ANSIEDAD","TRASTORNO DE ESTRÉS POST TRAUMATICO",null,{"$f":"+E209+F209","v":0},{"$f":"+K209+M209+O209+Q209+S209+U209+W209+Y209+AA209+AC209+AE209+AG209+AI209+AK209+AM209","v":0},{"$f":"+L209+N209+P209+R209+T209+V209+X209+Z209+AB209+AD209+AF209+AH209+AJ209+AL209+AN209","v":0},null,null,null,null,null,null,null,null,null,null,null,null,null,null,null,null,null,null,null,null,null,null,null,null,null,null,null,null,null,null,null,null,null,null,null,null,null,null,null,null,null,null,null,null,null,null,null,null,null,null,null,null,null,null,null,null,null,null,null,null,null,null,null,null,null,null,null,null,null,null,null,null,null,null,null,null,null,null,0,0,0,0,0]
[null,"TRASTORNO DE PANICO CON AGOROFOBIA ",null,0,0,0,null,null,null,null,null,null,null,null,null,null,null,null,null,null,null,null,null,null,null,null,null,null,null,null,null,null,null,null,null,null,null,null,null,null,null,null,null,null,null,null,null,null,null,null,null,null,null,null,null,null,null,null,null,null,null,null,null,null,null,null,null,null,null,null,null,null,null,null,null,null,null,null,null,null,null,null,null,null,0,0,0,0,0]
[null,"TRASTORNO DE PANICO SIN AGOROFOBIA ",null,0,0,0,null,null,null,null,null,null,null,null,null,null,null,null,null,null,null,null,null,null,null,null,null,null,null,null,null,null,null,null,null,null,null,null,null,null,null,null,null,null,null,null,null,null,null,null,null,null,null,null,null,null,null,null,null,null,null,null,null,null,null,null,null,null,null,null,null,null,null,null,null,null,null,null,null,null,null,null,null,null,0,0]
[null,"FOBIAS SOCIALES",null,0,0,0,null,null,null,null,null,null,null,null,null,null,null,null,null,null,null,null,null,null,null,null,null,null,null,null,null,null,null,null,null,null,null,null,null,null,null,null,null,null,null,null,null,null,null,null,null,null,null,null,null,null,null,null,null,null,null,null,null,null,null,null,null,null,null,null,null,null,null,null,null,null,null,null,null,null,null,null,null,null,0,0]
[null,"TRASTORNOS DE ANSIEDAD GENERALIZADA",null,0,0,0,null,null,null,null,null,null,null,null,null,null,null,null,null,null,null,null,null,null,null,null,null,null,null,null,null,null,null,null,null,null,null,null,null,null,null,null,null,null,null,null,null,null,null,null,null,null,null,null,null,null,null,null,null,null,null,null,null,null,null,null,null,null,null,null,null,null,null,null,null,null,null,null,null,null,null,null,null,null,0,0]
[null,"OTROS TRASTORNOS DE ANSIEDAD",null,0,0,0]
["DEMENCIAS (INCLUYE ALZHEIMER)","LEVE",null,0,{"$f":"SUM(G215+I215+K215+M215+O215+Q215+S215+U215+W215+Y215+AA215+AC215+AE215+AG215+AI215+AK215+AM215)","v":0},{"$f":"SUM(H215+J215+L215+N215+P215+R215+T215+V215+X215+Z215+AB215+AD215+AF215+AH215+AJ215+AL215+AN215)","v":0},null,null,null,null,null,null,null,null,null,null,null,null,null,null,null,null,null,null,null,null,null,null,null,null,null,null,null,null,null,null,null,null,null,null,null,null,null,null,null,null,null,null,null,null,null,null,null,null,null,null,null,null,null,null,null,null,null,null,null,null,null,null,null,null,null,null,null,null,null,null,null,null,null,null,null,null,null,null,null,null,0,0,0]
[null,"MODERADO",null,0,0,0,null,null,null,null,null,null,null,null,null,null,null,null,null,null,null,null,null,null,null,null,null,null,null,null,null,null,null,null,null,null,null,null,null,null,null,null,null,null,null,null,null,null,null,null,null,null,null,null,null,null,null,null,null,null,null,null,null,null,null,null,null,null,null,null,null,null,null,null,null,null,null,null,null,null,null,null,null,null,null,null,0,0,0]
[null,"AVANZADO",null,0,0,0,null,null,null,null,null,null,null,null,null,null,null,null,null,null,null,null,null,null,null,null,null,null,null,null,null,null,null,null,null,null,null,null,null,null,null,null,null,null,null,null,null,null,null,null,null,null,null,null,null,null,null,null,null,null,null,null,null,null,null,null,null,null,null,null,null,null,null,null,null,null,null,null,null,null,null,null,null,null,null,null,0,0,0]
["ESQUIZOFRENIA",null,null,0,0,0,null,null,null,null,null,null,null,null,null,null,null,null,null,null,null,null,null,null,null,null,null,null,null,null,null,null,null,null,null,null,null,null,null,null,null,null,null,null,null,null,null,null,null,null,null,null,null,null,null,null,null,null,null,null,null,null,null,null,null,null,null,null,null,null,null,null,null,null,null,null,null,null,null,null,null,null,null,null,0,0,0,0,0]
["TRASTORNOS DE LA CONDUCTA ALIMENTARIA",null,null,0,0,0,null,null,null,null,null,null,null,null,null,null,null,null,null,null,null,null,null,null,null,null,null,null,null,null,null,null,null,null,null,null,null,null,null,null,null,null,null,null,null,null,null,null,null,null,null,null,null,null,null,null,null,null,null,null,null,null,null,null,null,null,null,null,null,null,null,null,null,null,null,null,null,null,null,null,null,null,null,null,0,0,0,0,0]
["RETRASO MENTAL",null,null,0,0,0,null,null,null,null,null,null,null,null,null,null,null,null,null,null,null,null,null,null,null,null,null,null,null,null,null,null,null,null,null,null,null,null,null,null,null,null,null,null,null,null,null,null,null,null,null,null,null,null,null,null,null,null,null,null,null,null,null,null,null,null,null,null,null,null,null,null,null,null,null,null,null,null,null,null,null,null,null,null,0,0,0,0,0]
["TRASTORNO DE PERSONALIDAD",null,null,0,0,0,null,null,null,null,null,null,null,null,null,null,null,null,null,null,null,null,null,null,null,null,null,null,null,null,null,null,null,null,null,null,null,null,null,null,null,null,null,null,null,null,null,null,null,null,null,null,null,null,null,null,null,null,null,null,null,null,null,null,null,null,null,null,null,null,null,null,null,null,null,null,null,null,null,null,null,null,null,null,0,0,0,0,0]
["TRASTORNO GENERALIZADOS DEL DESARROLLO",null,null,0,0,0,null,null,null,null,null,null,null,null,null,null,null,null,null,null,null,null,null,null,null,null,null,null,null,null,null,null,null,null,null,null,null,null,null,null,null,null,null,null,null,null,null,null,null,null,null,null,null,null,null,null,null,null,null,null,null,null,null,null,null,null,null,null,null,null,null,null,null,null,null,null,null,null,null,null,null,null,null,null,0,0,0,0,0]
["EPILEPSIA",null,null,{"$f":"SUM(E223+F223)","v":0},{"$f":"SUM(G223+I223+K223+M223+O223+Q223+S223+U223+W223+Y223+AA223+AC223+AE223+AG223+AI223+AK223+AM223)","v":0},{"$f":"SUM(H223+J223+L223+N223+P223+R223+T223+V223+X223+Z223+AB223+AD223+AF223+AH223+AJ223+AL223+AN223)","v":0},null,null,null,null,null,null,null,null,null,null,null,null,null,null,null,null,null,null,null,null,null,null,null,null,null,null,null,null,null,null,null,null,null,null,null,null,null,null,null,null,null,null,null,null,null,null,null,null,null,null,null,null,null,null,null,null,null,null,null,null,null,null,null,null,null,null,null,null,null,null,null,null,null,null,null,null,null,null,0,null,null,0]
["OTRAS",null,null,0,0,0,null,null,null,null,null,null,null,null,null,null,null,null,null,null,null,null,null,null,null,null,null,null,null,null,null,null,null,null,null,null,null,null,null,null,null,null,null,null,null,null,null,null,null,null,null,null,null,null,null,null,null,null,null,null,null,null,null,null,null,null,null,null,null,null,null,null,null,null,null,null,null,null,null,null,null,null,null,null,0,0,0,0,0]
["SECCIÓN P:  INGRESOS Y EGRESOS AL COMPONENTE ALCOHOL Y DROGA EN APS"]
["CONCEPTO",null,"TOTAL",null,null,"5 - 9 años",null,"10 - 14 años",null,"15 - 19 años",null,"20 - 24 años",null,"25 - 29 años",null,"30 - 34 años",null,"35 -39 años",null,"40 -44 años",null,"45 -49 años",null,"50 -54 años",null,"55 -59 años",null,"60 -64 años",null,"65 -69 años",null,"70 -74 años",null,"75 -79 años",null,"80 años y más"]
[null,null,"Ambos Sexos","Hombres","Mujeres","Hombres","Mujeres","Hombres","Mujeres","Hombres","Mujeres","Hombres","Mujeres","Hombres","Mujeres","Hombres","Mujeres","Hombres","Mujeres","Hombres","Mujeres","Hombres","Mujeres","Hombres","Mujeres","Hombres","Mujeres","Hombres","Mujeres","Hombres","Mujeres","Hombres","Mujeres","Hombres","Mujeres","Hombres","Mujeres",null,null,null,null,null,null,null,null,null,"* No olvide digitar los campos Trans y/o Pueblo Originario y/o Migrantes (Digite CERO si no tiene). ",null,null,null,null,null,null,null,null,null,null,null,null,null,null,null,null,null,null,null,null,null,null,null,null,null,null,null,null,null,null,null,null,"* No olvide digitar los campos Trans y/o Pueblo Originario y/o Migrantes (Digite CERO si no tiene). ",null,null,null,null,0,null,null,0]
["PLAN AMBULATORIO BÁSICO ","INGRESO",{"$f":"SUM(D228+E228)","v":0},{"$f":"SUM(F228+H228+J228+L228+N228+P228+R228+T228+V228+X228+Z228+AB228+AD228+AF228+AH228+AJ228)","v":0},{"$f":"SUM(G228+I228+K228+M228+O228+Q228+S228+U228+W228+Y228+AA228+AC228+AE228+AG228+AI228+AK228)","v":0},null,null,null,null,null,null,null,null,null,null,null,null,null,null,null,null,null,null,null,null,null,null,null,null,null,null,null,null,null,null,null,null,null,null,null,null,null,null,null,null,null,null,null,null,null,null,null,null,null,null,null,null,null,null,null,null,null,null,null,null,null,null,null,null,null,null,null,null,null,null,null,null,null,null,null,null,null,null,null,0,null,null,0]
[null,"EGRESOS",{"$f":"SUM(D229+E229)","v":0},0,0,null,null,null,null,null,null,null,null,null,null,null,null,null,null,null,null,null,null,null,null,null,null,null,null,null,null,null,null,null,null,null,null,null,null,null,null,null,null,null,null,null,null,null,null,null,null,null,null,null,null,null,null,null,null,null,null,null,null,null,null,null,null,null,null,null,null,null,null,null,null,null,null,null,null,null,null,null,null,null,0,null,null,0]
["PLAN AMBULATORIO INTENSIVO","INGRESO",{"$f":"SUM(D230+E230)","v":0},0,0,null,null,null,null,null,null,null,null,null,null,null,null,null,null,null,null,null,null,null,null,null,null,null,null,null,null,null,null,null,null,null,null,null,null,null,null,null,null,null,null,null,null,null,null,null,null,null,null,null,null,null,null,null,null,null,null,null,null,null,null,null,null,null,null,null,null,null,null,null,null,null,null,null,null,null,null,null,null,null,0,null,null,0]
[null,"EGRESOS",{"$f":"SUM(D231+E231)","v":0},0,{"$f":"SUM(G231+I231+K231+M231+O231+Q231+S231+U231+W231+Y231+AA231+AC231+AE231+AG231+AI231+AK231)","v":0},null,null,null,null,null,null,null,null,null,null,null,null,null,null,null,null,null,null,null,null,null,null,null,null,null,null,null,null,null,null,null,null,null,null,null,null,null,null,null,null,null,null,null,null,null,null,null,null,null,null,null,null,null,null,null,null,null,null,null,null,null,null,null,null,null,null,null,null,null,null,null,null,null,null,null,null,null,null,null,0,null,null,0]
["SECCIÓN Q:  PROGRAMA DE REHABILITACIÓN (PERSONAS CON TRASTORNOS PSIQUIÁTRICOS)",null,null,null,null,null,null,null,null,null,null,null,null,null,null,null,null,null,null,null,null,null,null,null,null,null,null,null,null,null,null,null,null,null,null,null,null,null,null,null,null,null,null,null,null,null,null,null,null,null,null,null,null,null,null,null,null,null,null,null,null,null,null,null,null,null,null,null,null,null,null,null,null,null,null,null,null,null,null,null,null,null,null,null,0,null,null,0]
["TIPO DE PROGRAMA","RUBRO","TOTAL      ",null,null,"GRUPOS DE EDAD (en años)",null,null,null,null,null,null,null,null,null,null,null,null,null,null,null,null,null,null,null,null,null,null,null,null,null,null,null,null,null,null,null,"Beneficiarios"]
[null,null,null,null,null,"5 - 9",null,"10 - 14",null,"15 - 19",null,"20 - 24",null,"25 - 29",null,"30 - 34",null,"35 - 39",null,"40 - 44",null,"45 - 49",null,"50 - 54",null,"55 - 59",null,"60 - 64",null,"65 - 69",null,"70 - 74",null,"75 - 79",null,"80 y mas"]
[null,null,"Ambos Sexos","Hombres","Mujeres","Hombres","Mujeres","Hombres","Mujeres","Hombres","Mujeres","Hombres","Mujeres","Hombres","Mujeres","Hombres","Mujeres","Hombres","Mujeres","Hombres","Mujeres","Hombres","Mujeres","Hombres","Mujeres","Hombres","Mujeres","Hombres","Mujeres","Hombres","Mujeres","Hombres","Mujeres","Hombres","Mujeres","Hombres","Mujeres"]
["PROGRAMA DE REHABILITACIÓN TIPO I","INGRESOS",{"$f":"SUM(D236+E236)","v":0},{"$f":"SUM(F236+H236+J236+L236+N236+P236+R236+T236+V236+X236+Z236+AB236+AD236+AF236+AH236+AJ236)","v":0},0,null,null,null,null,null,null,null,null,null,null,null,null,null,null,null,null,null,null,null,null,null,null,null,null,null,null,null,null,null,null,null,null,null,null,null,null,null,null,null,null,null,null,null,null,null,null,null,null,null,null,null,null,null,null,null,null,null,null,null,null,null,null,null,null,null,null,null,null,null,null,null,null,null,null,null,null,null,null,null,0,0]
[null,"EGRESOS",{"$f":"SUM(D237+E237)","v":0},0,0,null,null,null,null,null,null,null,null,null,null,null,null,null,null,null,null,null,null,null,null,null,null,null,null,null,null,null,null,null,null,null,null,null,null,null,null,null,null,null,null,null,null,null,null,null,null,null,null,null,null,null,null,null,null,null,null,null,null,null,null,null,null,null,null,null,null,null,null,null,null,null,null,null,null,null,null,null,null,null,0,0]
["PROGRAMA DE REHABILITACIÓN TIPO II","INGRESOS",{"$f":"SUM(D238+E238)","v":0},0,0,null,null,null,null,null,null,null,null,null,null,null,null,null,null,null,null,null,null,null,null,null,null,null,null,null,null,null,null,null,null,null,null,null,null,null,null,null,null,null,null,null,null,null,null,null,null,null,null,null,null,null,null,null,null,null,null,null,null,null,null,null,null,null,null,null,null,null,null,null,null,null,null,null,null,null,null,null,null,null,0,0]
[null,"EGRESOS",{"$f":"SUM(D239+E239)","v":0},0,0,null,null,null,null,null,null,null,null,null,null,null,null,null,null,null,null,null,null,null,null,null,null,null,null,null,null,null,null,null,null,null,null,null,null,null,null,null,null,null,null,null,null,null,null,null,null,null,null,null,null,null,null,null,null,null,null,null,null,null,null,null,null,null,null,null,null,null,null,null,null,null,null,null,null,null,null,null,null,null,0,0]
["SECCIÓN R: INGRESOS Y EGRESOS A PROGRAMA INFECCIÓN POR TRANSMISIÓN SEXUAL (Uso de establecimientos que realizan atención de ITS)"]
["PATOLOGÍAS",null,"TOTAL ",null,null,"INGRESOS POR EDAD",null,null,null,null,null,null,null,null,null,null,null,null,null,null,null,null,null,null,null,null,null,null,null,null,null,null,null,null,null,null,null,null,null,"EGRESOS",null,null,"TRANS",null,"Pueblos Originarios","Migrantes","Niños, Niñas, Adolescentes y Jóvenes Población  SENAME",null,null,null,"* No olvide digitar los campos Trans y/o Pueblo Originario y/o Migrantes (Digite CERO si no tiene). * Gestantes NO DEBE ser mayor que Total Mujeres. ",null,null,null,null,null,null,null,null,null,null,null,null,null,null,null,null,null,null,null,null,null,null,null,null,null,null,null,"* No olvide digitar los campos Trans y/o Pueblo Originario y/o Migrantes (Digite CERO si no tiene). ",null,"* Gestantes NO DEBE ser mayor que Total Mujeres. ",null,null,null,null,0,1]
[null,null,null,null,null,"0 a 4",null,"5 - 9",null,"10 - 14",null,"15 - 19",null,"20 - 24",null,"25 a 29",null,"30 a 34",null,"35 a 39",null,"40 a 44",null,"45 a 49",null,"50 a 54",null,"55 a 59",null,"60 a 64",null,"65 a 69",null,"70 a 74",null,"75 a 79",null,"80 y más",null,"Total","Por alta","Por abandono",null,null,null,null,null,null,null,null,null,null,null,null,null,null,null,null,null,null,null,null,null,null,null,null,null,null,null,null,null,null,null,null,null,null,null,null,null,null,null,null,null,null,null,0,0,0]
[null,null,"Ambos Sexos","Hombres","Mujeres","Hombres ","Mujeres","Hombres ","Mujeres","Hombres ","Mujeres","Hombres ","Mujeres","Hombres ","Mujeres","Hombres ","Mujeres","Hombres ","Mujeres","Hombres ","Mujeres","Hombres ","Mujeres","Hombres ","Mujeres","Hombres ","Mujeres","Hombres ","Mujeres","Hombres ","Mujeres","Hombres ","Mujeres","Hombres ","Mujeres","Hombres ","Mujeres","Hombres ","Mujeres",null,null,null,"Masculino","Femenino",null,null,null,null,null,null,"* No olvide digitar los campos Trans y/o Pueblo Originario y/o Migrantes (Digite CERO si no tiene). ",null,null,null,null,null,null,null,null,null,null,null,null,null,null,null,null,null,null,null,null,null,null,null,null,null,null,null,"* No olvide digitar los campos Trans y/o Pueblo Originario y/o Migrantes (Digite CERO si no tiene). ",null,null,null,null,null,null,0,0]
["TOTAL DE INGRESOS",null,{"$f":"SUM(D244+E244)","v":0},{"$f":"SUM(F244+H244+J244+L244+N244+P244+R244+T244+V244+X244+Z244+AB244+AD244+AF244+AH244+AJ244+AL244)","v":0},{"$f":"SUM(G244+I244+K244+M244+O244+Q244+S244+U244+W244+Y244+AA244+AC244+AE244+AG244+AI244+AK244+AM244)","v":0},{"$f":"SUM(F254:F262)","v":0},{"$f":"SUM(G246:G262)","v":0},{"$f":"SUM(H254:H262)","v":0},{"$f":"SUM(I246:I262)","v":0},{"$f":"SUM(J254:J262)","v":0},{"$f":"SUM(K245:K262)","v":0},{"$f":"SUM(L254:L262)","v":0},{"$f":"SUM(M245:M262)","v":0},{"$f":"SUM(N254:N262)","v":0},{"$f":"SUM(O245:O262)","v":0},{"$f":"SUM(P254:P262)","v":0},{"$f":"SUM(Q245:Q262)","v":0},{"$f":"SUM(R254:R262)","v":0},{"$f":"SUM(S245:S262)","v":0},{"$f":"SUM(T254:T262)","v":0},{"$f":"SUM(U245:U262)","v":0},{"$f":"SUM(V254:V262)","v":0},{"$f":"SUM(W245:W262)","v":0},{"$f":"SUM(X254:X262)","v":0},{"$f":"SUM(Y245:Y262)","v":0},{"$f":"SUM(Z254:Z262)","v":0},{"$f":"SUM(AA245:AA262)","v":0},{"$f":"SUM(AB254:AB262)","v":0},0,0,0,0,0,0,0,0,0,0,0,{"$f":"SUM(AN245:AN262)","v":0},0,0,0,0,0,0,{"$f":"SUM(AU245:AU262)","v":0},null,null,null,null,null,null,null,null,null,null,null,null,null,null,null,null,null,null,null,null,null,null,null,null,null,null,null,null,null,null,null,null,null,null,null,null,null,null,0]
["GESTANTES","SÍFILIS",null,null,{"$f":"SUM(K245+M245+O245+Q245+S245+U245+W245+Y245+AA245+AC245)","v":0},null,null,null,null,null,null,null,null,null,null,null,null,null,null,null,null,null,null,null,null,null,null,null,null,null,null,null,null,null,null,null,null,null,null,null,null,null,null,null,null,null,null,null,null,null,null,null,null,null,null,null,null,null,null,null,null,null,null,null,null,null,null,null,null,null,null,null,null,null,null,null,null,null,null,null,null,null,null,null,0,0,0,0]
[null,"GONORREA",null,null,{"$f":"SUM(G246+I246+K246+M246+O246+Q246+S246+U246+W246+Y246+AA246+AC246)","v":0},null,null,null,null,null,null,null,null,null,null,null,null,null,null,null,null,null,null,null,null,null,null,null,null,null,null,null,null,null,null,null,null,null,null,null,null,null,null,null,null,null,null,null,null,null,null,null,null,null,null,null,null,null,null,null,null,null,null,null,null,null,null,null,null,null,null,null,null,null,null,null,null,null,null,null,null,null,null,null,0,0,0,0]
[null,"CONDILOMA",null,null,{"$f":"SUM(G247+I247+K247+M247+O247+Q247+S247+U247+W247+Y247+AA247+AC247)","v":0},null,null,null,null,null,null,null,null,null,null,null,null,null,null,null,null,null,null,null,null,null,null,null,null,null,null,null,null,null,null,null,null,null,null,null,null,null,null,null,null,null,null,null,null,null,null,null,null,null,null,null,null,null,null,null,null,null,null,null,null,null,null,null,null,null,null,null,null,null,null,null,null,null,null,null,null,null,null,null,0,0,0,0]
[null,"HERPES",null,null,{"$f":"SUM(G248+I248+K248+M248+O248+Q248+S248+U248+W248+Y248+AA248+AC248)","v":0},null,null,null,null,null,null,null,null,null,null,null,null,null,null,null,null,null,null,null,null,null,null,null,null,null,null,null,null,null,null,null,null,null,null,null,null,null,null,null,null,null,null,null,null,null,null,null,null,null,null,null,null,null,null,null,null,null,null,null,null,null,null,null,null,null,null,null,null,null,null,null,null,null,null,null,null,null,null,null,0,null,null,0]
[null,"CHLAMYDIAS",null,null,{"$f":"SUM(G249+I249+K249+M249+O249+Q249+S249+U249+W249+Y249+AA249+AC249)","v":0},null,null,null,null,null,null,null,null,null,null,null,null,null,null,null,null,null,null,null,null,null,null,null,null,null,null,null,null,null,null,null,null,null,null,null,null,null,null,null,null,null,null,null,null,null,null,null,null,null,null,null,null,null,null,null,null,null,null,null,null,null,null,null,null,null,null,null,null,null,null,null,null,null,null,null,null,null,null,null,0,null,null,0]
[null,"URETRITIS NO GONOCÓCICA",null,null,{"$f":"SUM(G250+I250+K250+M250+O250+Q250+S250+U250+W250+Y250+AA250+AC250)","v":0},null,null,null,null,null,null,null,null,null,null,null,null,null,null,null,null,null,null,null,null,null,null,null,null,null,null,null,null,null,null,null,null,null,null,null,null,null,null,null,null,null,null,null,null,null,null,null,null,null,null,null,null,null,null,null,null,null,null,null,null,null,null,null,null,null,null,null,null,null,null,null,null,null,null,null,null,null,null,null,0,null,null,0]
[null,"LINFOGRANULOMA",null,null,0,null,null,null,null,null,null,null,null,null,null,null,null,null,null,null,null,null,null,null,null,null,null,null,null,null,null,null,null,null,null,null,null,null,null,null,null,null,null,null,null,null,null,null,null,null,null,null,null,null,null,null,null,null,null,null,null,null,null,null,null,null,null,null,null,null,null,null,null,null,null,null,null,null,null,null,null,null,null,null,0,null,null,0]
[null,"CHANCROIDE",null,null,0,null,null,null,null,null,null,null,null,null,null,null,null,null,null,null,null,null,null,null,null,null,null,null,null,null,null,null,null,null,null,null,null,null,null,null,null,null,null,null,null,null,null,null,null,null,null,null,null,null,null,null,null,null,null,null,null,null,null,null,null,null,null,null,null,null,null,null,null,null,null,null,null,null,null,null,null,null,null,null,0,null,null,0]
[null,"OTRAS ITS",null,null,0,null,null,null,null,null,null,null,null,null,null,null,null,null,null,null,null,null,null,null,null,null,null,null,null,null,null,null,null,null,null,null,null,null,null,null,null,null,null,null,null,null,null,null,null,null,null,null,null,null,null,null,null,null,null,null,null,null,null,null,null,null,null,null,null,null,null,null,null,null,null,null,null,null,null,null,null,null,null,null,0,null,null,0]
["NO GESTANTES","SÍFILIS",{"$f":"SUM(D254+E254)","v":0},{"$f":"SUM(F254+H254+J254+L254+N254+P254+R254+T254+V254+X254+Z254+AB254+AD254+AF254+AH254+AJ254+AL254)","v":0},{"$f":"SUM(G254+I254+K254+M254+O254+Q254+S254+U254+W254+Y254+AA254+AC254+AE254+AG254+AI254+AK254+AM254)","v":0},null,null,null,null,null,null,null,null,null,null,null,null,null,null,null,null,null,null,null,null,null,null,null,null,null,null,null,null,null,null,null,null,null,null,null,null,null,null,null,null,null,null,null,null,null,null,null,null,null,null,null,null,null,null,null,null,null,null,null,null,null,null,null,null,null,null,null,null,null,null,null,null,null,null,null,null,null,null,null,0,null,null,0]
[null,"GONORREA",0,0,0,null,null,null,null,null,null,null,null,null,null,null,null,null,null,null,null,null,null,null,null,null,null,null,null,null,null,null,null,null,null,null,null,null,null,null,null,null,null,null,null,null,null,null,null,null,null,null,null,null,null,null,null,null,null,null,null,null,null,null,null,null,null,null,null,null,null,null,null,null,null,null,null,null,null,null,null,null,null,null,0,null,null,0]
[null,"CONDILOMA",0,0,0,null,null,null,null,null,null,null,null,null,null,null,null,null,null,null,null,null,null,null,null,null,null,null,null,null,null,null,null,null,null,null,null,null,null,null,null,null,null,null,null,null,null,null,null,null,null,null,null,null,null,null,null,null,null,null,null,null,null,null,null,null,null,null,null,null,null,null,null,null,null,null,null,null,null,null,null,null,null,null,0,null,null,0]
[null,"HERPES",0,0,0,null,null,null,null,null,null,null,null,null,null,null,null,null,null,null,null,null,null,null,null,null,null,null,null,null,null,null,null,null,null,null,null,null,null,null,null,null,null,null,null,null,null,null,null,null,null,null,null,null,null,null,null,null,null,null,null,null,null,null,null,null,null,null,null,null,null,null,null,null,null,null,null,null,null,null,null,null,null,null,0,null,null,0]
[null,"CHLAMYDIAS",0,0,0,null,null,null,null,null,null,null,null,null,null,null,null,null,null,null,null,null,null,null,null,null,null,null,null,null,null,null,null,null,null,null,null,null,null,null,null,null,null,null,null,null,null,null,null,null,null,null,null,null,null,null,null,null,null,null,null,null,null,null,null,null,null,null,null,null,null,null,null,null,null,null,null,null,null,null,null,null,null,null,0,null,null,0]
[null,"URETRITIS NO GONOCÓCICA",0,0,0,null,null,null,null,null,null,null,null,null,null,null,null,null,null,null,null,null,null,null,null,null,null,null,null,null,null,null,null,null,null,null,null,null,null,null,null,null,null,null,null,null,null,null,null,null,null,null,null,null,null,null,null,null,null,null,null,null,null,null,null,null,null,null,null,null,null,null,null,null,null,null,null,null,null,null,null,null,null,null,0,null,null,0]
[null,"LINFOGRANULOMA",0,0,0,null,null,null,null,null,null,null,null,null,null,null,null,null,null,null,null,null,null,null,null,null,null,null,null,null,null,null,null,null,null,null,null,null,null,null,null,null,null,null,null,null,null,null,null,null,null,null,null,null,null,null,null,null,null,null,null,null,null,null,null,null,null,null,null,null,null,null,null,null,null,null,null,null,null,null,null,null,null,null,0,null,null,0]
[null,"CHANCROIDE",0,0,0,null,null,null,null,null,null,null,null,null,null,null,null,null,null,null,null,null,null,null,null,null,null,null,null,null,null,null,null,null,null,null,null,null,null,null,null,null,null,null,null,null,null,null,null,null,null,null,null,null,null,null,null,null,null,null,null,null,null,null,null,null,null,null,null,null,null,null,null,null,null,null,null,null,null,null,null,null,null,null,0,null,null,0]
[null,"OTRAS ITS",0,0,0,null,null,null,null,null,null,null,null,null,null,null,null,null,null,null,null,null,null,null,null,null,null,null,null,null,null,null,null,null,null,null,null,null,null,null,null,null,null,null,null,null,null,null,null,null,null,null,null,null,null,null,null,null,null,null,null,null,null,null,null,null,null,null,null,null,null,null,null,null,null,null,null,null,null,null,null,null,null,null,0,null,null,0]
["SECCIÓN S: INGRESOS Y EGRESOS DEL PROGRAMA DE VIH/SIDA (Uso exclusivo Centros de Atención VIH-SIDA)"]
["CONCEPTO",null,"TOTAL ",null,null,"POR EDAD (en meses - años)",null,null,null,null,null,null,null,null,null,null,null,null,null,null,null,null,null,null,null,null,null,null,null,null,null,null,null,null,null,null,null,null,null,null,null,null,null,null,null,"TRANS",null,"Pueblos Originarios","Migrantes"]
[null,null,null,null,null,"Menor de 6 meses",null,"6 a 11 meses",null,"12-24 meses",null,"3 a 4",null,"5 a 9",null,"10 - 14",null,"15 - 19",null,"20 - 24",null,"25 a 29",null,"30 a 34",null,"35 a 39",null,"40 a 44",null,"45 a 49",null,"50 a 54",null,"55 a 59",null,"60 a 64",null,"65 a 69",null,"70 a 74",null,"75 a 79",null,"80 y más",null,"Masculino","Femenino"]
[null,null,"Ambos Sexos","Hombres","Mujeres","Hombres ","Mujeres","Hombres ","Mujeres","Hombres ","Mujeres","Hombres ","Mujeres","Hombres ","Mujeres","Hombres ","Mujeres","Hombres ","Mujeres","Hombres ","Mujeres","Hombres ","Mujeres","Hombres ","Mujeres","Hombres ","Mujeres","Hombres ","Mujeres","Hombres ","Mujeres","Hombres ","Mujeres","Hombres ","Mujeres","Hombres ","Mujeres","Hombres ","Mujeres","Hombres ","Mujeres","Hombres ","Mujeres","Hombres ","Mujeres"]
["INGRESOS AL PROGRAMA","GESTANTES",null,null,{"$f":"+Q267+S267+U267+W267+Y267+AA267+AC267+AE267+AG267","v":0},null,null,null,null,null,null,null,null,null,null,null,null,null,null,null,null,null,null,null,null,null,null,null,null,null,null,null,null,null,null,null,null,null,null,null,null,null,null,null,null,null,null,null,null,null,null,null,null,null,null,null,null,null,null,null,null,null,null,null,null,null,null,null,null,null,null,null,null,null,null,null,null,null,null,null,null,null,null,null,0,0]
[null,"NO GESTANTES",{"$f":"SUM(D268+E268)","v":0},{"$f":"SUM(F268+H268+J268+L268+N268+P268+R268+T268+V268+X268+Z268+AB268+AD268+AF268+AH268+AJ268+AL268+AN268+AP268+AR268)","v":0},{"$f":"SUM(G268+I268+K268+M268+O268+Q268+S268+U268+W268+Y268+AA268+AC268+AE268+AG268+AI268+AK268+AM268+AO268+AQ268+AS268)","v":0}]
["TOTAL EGRESOS",null,{"$f":"SUM(D269+E269)","v":0},{"$f":"SUM(F269+H269+J269+L269+N269+P269+R269+T269+V269+X269+Z269+AB269+AD269+AF269+AH269+AJ269+AL269+AN269+AP269+AR269)","v":0},{"$f":"SUM(G269+I269+K269+M269+O269+Q269+S269+U269+W269+Y269+AA269+AC269+AE269+AG269+AI269+AK269+AM269+AO269+AQ269+AS269)","v":0},null,null,null,null,null,null,null,null,null,null,null,null,null,null,null,null,null,null,null,null,null,null,null,null,null,null,null,null,null,null,null,null,null,null,null,null,null,null,null,null,null,null,null,null,null,null,null,null,null,null,null,null,null,null,null,null,null,null,null,null,null,null,null,null,null,null,null,null,null,null,null,null,null,null,null,null,null,null,null,0,0,0]
["EGRESOS POR FALLECIMIENTO (INCLUÍDO EN TOTAL EGRESOS)",null,0,{"$f":"SUM(F270+H270+J270+L270+N270+P270+R270+T270+V270+X270+Z270+AB270+AD270+AF270+AH270+AJ270+AL270+AN270+AP270+AR270)","v":0},0,null,null,null,null,null,null,null,null,null,null,null,null,null,null,null,null,null,null,null,null,null,null,null,null,null,null,null,null,null,null,null,null,null,null,null,null,null,null,null,null,null,null,null,null,null,null,null,null,null,null,null,null,null,null,null,null,null,null,null,null,null,null,null,null,null,null,null,null,null,null,null,null,null,null,null,null,null,null,null,0,0]
["EGRESOS POR ALTA HIJO VIH (-) DE MADRE VIH +INCLUÍDO EN TOTAL EGRESOS",null,0,{"$f":"SUM(F271+H271+J271+L271)","v":0},{"$f":"SUM(G271+I271+K271+M271)","v":0},null,null,null,null,null,null,null,null,null,null,null,null,null,null,null,null,null,null,null,null,null,null,null,null,null,null,null,null,null,null,null,null,null,null,null,null,null,null,null,null,null,null,null,null,null,null,null,null,null,null,null,null,null,null,null,null,null,null,null,null,null,null,null,null,null,null,null,null,null,null,null,null,null,null,null,null,null,null,null,0,0]
["EVALUACIÓN MOVILIDAD PROGRAMA","ABANDONO CONTROLES",0,{"$f":"SUM(F272+H272+J272+L272+N272+P272+R272+T272+V272+X272+Z272+AB272+AD272+AF272+AH272+AJ272+AL272+AN272+AP272+AR272)","v":0},0,null,null,null,null,null,null,null,null,null,null,null,null,null,null,null,null,null,null,null,null,null,null,null,null,null,null,null,null,null,null,null,null,null,null,null,null,null,null,null,null,null,null,null,null,null,null,null,null,null,null,null,null,null,null,null,null,null,null,null,null,null,null,null,null,null,null,null,null,null,null,null,null,null,null,null,null,null,null,null,0,0]
[null,"ABANDONO TRATAMIENTO",0,0,0,null,null,null,null,null,null,null,null,null,null,null,null,null,null,null,null,null,null,null,null,null,null,null,null,null,null,null,null,null,null,null,null,null,null,null,null,null,null,null,null,null,null,null,null,null,null,null,null,null,null,null,null,null,null,null,null,null,null,null,null,null,null,null,null,null,null,null,null,null,null,null,null,null,null,null,null,null,null,null,0,0]
[null,"ABANDONO DEL PROGRAMA",0,{"$f":"SUM(F274+H274+J274+L274+N274+P274+R274+T274+V274+X274+Z274+AB274+AD274+AF274+AH274+AJ274+AL274+AN274+AP274+AR274)","v":0},{"$f":"SUM(G274+I274+K274+M274+O274+Q274+S274+U274+W274+Y274+AA274+AC274+AE274+AG274+AI274+AK274+AM274+AO274+AQ274+AS274)","v":0},null,null,null,null,null,null,null,null,null,null,null,null,null,null,null,null,null,null,null,null,null,null,null,null,null,null,null,null,null,null,null,null,null,null,null,null,null,null,null,null,null,null,null,null,null,null,null,null,null,null,null,null,null,null,null,null,null,null,null,null,null,null,null,null,null,null,null,null,null,null,null,null,null,null,null,null,null,null,null,0,0]
["SECCIÓN T: INGRESOS Y EGRESOS POR COMERCIO SEXUAL (Uso exclusivo de Unidades Control Comercio Sexual)"]
["CONCEPTO",null,"TOTAL ",null,null,"GRUPOS DE EDAD (en años)",null,null,null,null,null,null,null,null,null,null,null,null,null,null,null,null,null,null,null,null,null,null,null,null,null,null,null,"TRANS",null,"Pueblos Originarios","Migrantes"]
[null,null,null,null,null,"15 - 19",null,"20 - 24",null,"25 a 29",null,"30 a 34",null,"35 a 39",null,"40 a 44",null,"45 a 49",null,"50 a 54",null,"55 a 59",null,"60 a 64",null,"65 a 69",null,"70 a 74",null,"75 a 79",null,"80 y más"]
[null,null,"Ambos Sexos","Hombres","Mujeres","Hombres ","Mujeres","Hombres ","Mujeres","Hombres ","Mujeres","Hombres ","Mujeres","Hombres ","Mujeres","Hombres ","Mujeres","Hombres ","Mujeres","Hombres ","Mujeres","Hombres ","Mujeres","Hombres ","Mujeres","Hombres ","Mujeres","Hombres ","Mujeres","Hombres ","Mujeres","Hombres ","Mujeres","Masculino","Femenino"]
["INGRESOS AL PROGRAMA",null,{"$f":"SUM(D279+E279)","v":0},{"$f":"SUM(F279+H279+J279+L279+N279+P279+R279+T279+V279+X279+Z279+AB279+AD279+AF279)","v":0},0,null,null,null,null,null,null,null,null,null,null,null,null,null,null,null,null,null,null,null,null,null,null,null,null,null,null,null,null,null,null,null,null,null,null,null,null,null,null,null,null,null,null,null,null,null,null,null,null,null,null,null,null,null,null,null,null,null,null,null,null,null,null,null,null,null,null,null,null,null,null,null,null,null,null,null,null,null,null,null,null,null,null,0]
["TOTAL EGRESOS",null,{"$f":"SUM(D280+E280)","v":0},0,0,null,null,null,null,null,null,null,null,null,null,null,null,null,null,null,null,null,null,null,null,null,null,null,null,null,null,null,null,null,null,null,null,null,null,null,null,null,null,null,null,null,null,null,null,null,null,null,null,null,null,null,null,null,null,null,null,null,null,null,null,null,null,null,null,null,null,null,null,null,null,null,null,null,null,null,null,null,null,null,null,null,null,0]
["INASISTENTES",null,{"$f":"SUM(D281+E281)","v":0},0,0,null,null,null,null,null,null,null,null,null,null,null,null,null,null,null,null,null,null,null,null,null,null,null,null,null,null,null,null,null,null,null,null,null,null,null,null,null,null,null,null,null,null,null,null,null,null,null,null,null,null,null,null,null,null,null,null,null,null,null,null,null,null,null,null,null,null,null,null,null,null,null,null,null,null,null,null,null,null,null,null,null,null,0]
["SECCIÓN U. INGRESOS Y EGRESOS PROGRAMA DE ACOMPAÑAMIENTO PSICOSOCIAL EN ATENCIÓN PRIMARIA"]
["ACTIVIDAD","TOTAL               ",null,null,"GRUPOS DE EDAD  (en años)"]
[null,null,null,null,"0 - 4",null,"5 - 9",null,"10 - 14",null,"15 - 19",null,"20 - 24"]
[null,"Ambos Sexos","Hombres","Mujeres","Hombres","Mujeres","Hombres","Mujeres","Hombres","Mujeres","Hombres","Mujeres","Hombres","Mujeres"]
["INGRESOS",{"$f":"SUM(C286+D286)","v":0},{"$f":"SUM(E286+G286+I286+K286+M286)","v":0},{"$f":"SUM(F286+H286+J286+L286+N286)","v":0}]
["EGRESOS",{"$f":"SUM(C287+D287)","v":0},{"$f":"SUM(E287+G287+I287+K287+M287)","v":0},{"$f":"SUM(F287+H287+J287+L287+N287)","v":0}]
[]
[]
[]
[]
[]
[]
[]
[]
[]
[]
[]
[]
[]
[]
[]
[]
[]
[]
[]
[]
[{"$f":"SUM(C11:C16,C20:C30,C34:C44,B47,C50,C55:C59,C72,C77:C82,C87:C92,C97:C101,C108,C113,C114,C127,C134,C135:C138,D144,D146:D182,D186,D188:D224,C228:C229,C236:C239,C244:C262,C267:C274,C279:C281,B286:B287)","v":0},{"$f":"SUM(CG8:CN281)","v":8}]

{"sheet":"A06","index":6,"n_rows":180,"n_cols":87,"rows_kept":180,"cut":false,"hidden":false,"merged":[[124,0,126,0],[124,1,125,3],[124,4,124,9],[125,4,125,5],[125,6,125,7],[125,8,125,9],[131,4,131,5],[131,6,131,8],[132,0,133,0],[131,2,131,3],[131,1,132,1],[115,16,115,17],[115,18,115,19],[115,20,115,21],[115,22,115,23],[115,24,115,25],[114,4,114,25],[114,0,116,0],[114,1,115,3],[115,4,115,5],[115,6,115,7],[115,8,115,9],[115,10,115,11],[115,12,115,13],[115,14,115,15],[9,40,11,40],[90,0,91,0],[90,2,90,3],[80,0,81,0],[99,0,101,0],[99,1,100,3],[99,4,99,12],[100,4,100,5],[100,6,100,7],[100,8,100,9],[100,10,100,11],[100,12,100,13],[90,1,91,1],[63,0,64,0],[65,0,70,0],[80,1,81,1],[80,2,81,2],[75,0,75,1],[76,0,76,1],[77,0,77,1],[72,0,73,1],[47,35,47,36],[80,3,81,3],[72,4,72,5],[72,6,72,7],[72,8,72,9],[47,13,47,14],[47,15,47,16],[47,17,47,18],[72,2,72,3],[47,27,47,28],[47,29,47,30],[41,31,41,32],[47,19,47,20],[47,21,47,22],[45,0,45,12],[41,7,41,8],[46,39,48,39],[47,5,47,6],[47,7,47,8],[47,9,47,10],[47,11,47,12],[41,33,41,34],[40,39,42,39],[41,15,41,16],[41,17,41,18],[41,19,41,20],[41,21,41,22],[47,37,47,38],[47,31,47,32],[47,33,47,34],[37,0,38,0],[40,0,42,1],[40,2,41,4],[40,5,40,38],[74,0,74,1],[49,0,54,0],[55,0,56,0],[57,0,60,0],[61,0,62,0],[46,0,48,1],[46,2,47,4],[46,5,46,38],[47,23,47,24],[47,25,47,26],[41,37,41,38],[41,9,41,10],[41,11,41,12],[41,13,41,14],[41,35,41,36],[41,23,41,24],[41,25,41,26],[41,27,41,28],[41,29,41,30],[41,5,41,6],[33,0,34,0],[33,1,34,1],[33,2,34,2],[35,0,36,0],[28,33,28,34],[28,35,28,36],[28,37,28,38],[28,21,28,22],[28,23,28,24],[28,25,28,26],[28,27,28,28],[28,9,28,10],[28,11,28,12],[28,13,28,14],[28,15,28,16],[28,17,28,18],[28,19,28,20],[12,0,22,0],[25,0,26,0],[28,0,29,0],[28,1,29,1],[28,2,28,4],[28,5,28,6],[28,7,28,8],[28,29,28,30],[28,31,28,32],[23,0,23,1],[5,0,5,22],[9,0,11,0],[9,1,11,1],[9,2,10,4],[9,5,9,38],[9,39,11,39],[10,21,10,22],[10,23,10,24],[10,25,10,26],[10,27,10,28],[10,37,10,38],[10,17,10,18],[10,19,10,20],[10,29,10,30],[10,31,10,32],[10,33,10,34],[10,35,10,36],[10,5,10,6],[10,7,10,8],[10,9,10,10],[10,11,10,12],[10,13,10,14],[10,15,10,16],[110,0,111,0],[110,1,110,3],[110,4,111,4],[105,0,107,0],[105,1,106,3],[105,4,105,37],[106,4,106,5],[106,6,106,7],[106,8,106,9],[106,10,106,11],[106,12,106,13],[106,14,106,15],[106,16,106,17],[106,18,106,19],[106,20,106,21],[106,22,106,23],[106,24,106,25],[106,26,106,27],[106,28,106,29],[106,30,106,31],[106,32,106,33],[106,34,106,35],[106,36,106,37]]}
["SERVICIO DE SALUD"]
[{"$f":"CONCATENATE(\"COMUNA: \",NOMBRE!B2,\" - \",\"( \",NOMBRE!C2,NOMBRE!D2,NOMBRE!E2,NOMBRE!F2,NOMBRE!G2,\" )\")","v":"COMUNA:  - (  )"}]
[{"$f":"CONCATENATE(\"ESTABLECIMIENTO/ESTRATEGIA: \",NOMBRE!B3,\" - \",\"( \",NOMBRE!C3,NOMBRE!D3,NOMBRE!E3,NOMBRE!F3,NOMBRE!G3,NOMBRE!H3,\" )\")","v":"ESTABLECIMIENTO/ESTRATEGIA:  - (  )"}]
[{"$f":"CONCATENATE(\"MES: \",NOMBRE!B6,\" - \",\"( \",NOMBRE!C6,NOMBRE!D6,\" )\")","v":"MES:  - (  )"}]
[{"$f":"CONCATENATE(\"AÑO: \",NOMBRE!B7)","v":"AÑO: 2019"}]
["REM-06.   PROGRAMA DE SALUD MENTAL ATENCIÓN PRIMARIA Y ESPECIALIDADES"]
[]
[]
["SECCIÓN A.1: CONTROLES DE ATENCION PRIMARIA / ESPECIALIDADES"]
["ACTIVIDAD","PROFESIONAL","TOTAL               ",null,null,"GRUPOS DE EDAD  (en años)",null,null,null,null,null,null,null,null,null,null,null,null,null,null,null,null,null,null,null,null,null,null,null,null,null,null,null,null,null,null,null,null,null,"Beneficiarios","Niños, Niñas, Adolescentes y Jóvenes Población SENAME"]
[null,null,null,null,null,"0 - 4",null,"5 - 9",null,"10 - 14",null,"15 - 19",null,"20 - 24",null,"25 - 29",null,"30 - 34",null,"35 - 39",null,"40 - 44",null,"45 - 49",null,"50 - 54",null,"55 - 59",null,"60 - 64",null,"65 - 69",null,"70 - 74",null,"75 - 79",null,"80 y mas"]
[null,null,"Ambos Sexos","Hombres","Mujeres","Hombres","Mujeres","Hombres","Mujeres","Hombres","Mujeres","Hombres","Mujeres","Hombres","Mujeres","Hombres","Mujeres","Hombres","Mujeres","Hombres","Mujeres","Hombres","Mujeres","Hombres","Mujeres","Hombres","Mujeres","Hombres","Mujeres","Hombres","Mujeres","Hombres","Mujeres","Hombres","Mujeres","Hombres","Mujeres","Hombres","Mujeres"]
["CONTROLES SALUD MENTAL","MÉDICO",{"$f":"SUM(D13+E13)","v":0},{"$f":"SUM(F13+H13+J13+L13+N13+P13+R13+T13+V13+X13+Z13+AB13+AD13+AF13+AH13+AJ13+AL13)","v":0},{"$f":"SUM(G13+I13+K13+M13+O13+Q13+S13+U13+W13+Y13+AA13+AC13+AE13+AG13+AI13+AK13+AM13)","v":0},null,null,null,null,null,null,null,null,null,null,null,null,null,null,null,null,null,null,null,null,null,null,null,null,null,null,null,null,null,null,null,null,null,null,null,null,null,null,null,null,null,null,null,null,null,null,null,null,null,null,null,null,null,null,null,null,null,null,null,null,null,null,null,null,null,null,null,null,null,null,null,null,null,null,null,null,null,null,null,0,0,0]
[null,"PSICÓLOGO/A",0,0,0,null,null,null,null,null,null,null,null,null,null,null,null,null,null,null,null,null,null,null,null,null,null,null,null,null,null,null,null,null,null,null,null,null,null,null,null,null,null,null,null,null,null,null,null,null,null,null,null,null,null,null,null,null,null,null,null,null,null,null,null,null,null,null,null,null,null,null,null,null,null,null,null,null,null,null,null,null,null,null,0,0,0]
[null,"ENFERMERA /O",0,0,0,null,null,null,null,null,null,null,null,null,null,null,null,null,null,null,null,null,null,null,null,null,null,null,null,null,null,null,null,null,null,null,null,null,null,null,null,null,null,null,null,null,null,null,null,null,null,null,null,null,null,null,null,null,null,null,null,null,null,null,null,null,null,null,null,null,null,null,null,null,null,null,null,null,null,null,null,null,null,null,0,0,0]
[null,"MATRONA /ÓN",0,0,0,null,null,null,null,null,null,null,null,null,null,null,null,null,null,null,null,null,null,null,null,null,null,null,null,null,null,null,null,null,null,null,null,null,null,null,null,null,null,null,null,null,null,null,null,null,null,null,null,null,null,null,null,null,null,null,null,null,null,null,null,null,null,null,null,null,null,null,null,null,null,null,null,null,null,null,null,null,null,null,0,0,0]
[null,"ASISTENTE SOCIAL",0,0,0,null,null,null,null,null,null,null,null,null,null,null,null,null,null,null,null,null,null,null,null,null,null,null,null,null,null,null,null,null,null,null,null,null,null,null,null,null,null,null,null,null,null,null,null,null,null,null,null,null,null,null,null,null,null,null,null,null,null,null,null,null,null,null,null,null,null,null,null,null,null,null,null,null,null,null,null,null,null,null,0,0,0]
[null,"OTROS PROFESIONALES",0,0,0,null,null,null,null,null,null,null,null,null,null,null,null,null,null,null,null,null,null,null,null,null,null,null,null,null,null,null,null,null,null,null,null,null,null,null,null,null,null,null,null,null,null,null,null,null,null,null,null,null,null,null,null,null,null,null,null,null,null,null,null,null,null,null,null,null,null,null,null,null,null,null,null,null,null,null,null,null,null,null,0,0,0]
[null,"TERAPEUTA OCUPACIONAL",0,0,0,null,null,null,null,null,null,null,null,null,null,null,null,null,null,null,null,null,null,null,null,null,null,null,null,null,null,null,null,null,null,null,null,null,null,null,null,null,null,null,null,null,null,null,null,null,null,null,null,null,null,null,null,null,null,null,null,null,null,null,null,null,null,null,null,null,null,null,null,null,null,null,null,null,null,null,null,null,null,null,0,0,0]
[null,"TÉCNICO PARAMÉDICO y EN SALUD MENTAL",0,0,0,null,null,null,null,null,null,null,null,null,null,null,null,null,null,null,null,null,null,null,null,null,null,null,null,null,null,null,null,null,null,null,null,null,null,null,null,null,null,null,null,null,null,null,null,null,null,null,null,null,null,null,null,null,null,null,null,null,null,null,null,null,null,null,null,null,null,null,null,null,null,null,null,null,null,null,null,null,null,null,0,0,0]
[null,"GESTOR COMUNITARIO",0,0,0,null,null,null,null,null,null,null,null,null,null,null,null,null,null,null,null,null,null,null,null,null,null,null,null,null,null,null,null,null,null,null,null,null,null,null,null,null,null,null,null,null,null,null,null,null,null,null,null,null,null,null,null,null,null,null,null,null,null,null,null,null,null,null,null,null,null,null,null,null,null,null,null,null,null,null,null,null,null,null,0,0,0]
[null,"TÉCNICO REHABILITACIÓN ALCOHOL Y DROGAS",0,0,0,null,null,null,null,null,null,null,null,null,null,null,null,null,null,null,null,null,null,null,null,null,null,null,null,null,null,null,null,null,null,null,null,null,null,null,null,null,null,null,null,null,null,null,null,null,null,null,null,null,null,null,null,null,null,null,null,null,null,null,null,null,null,null,null,null,null,null,null,null,null,null,null,null,null,null,null,null,null,null,0,0,0]
[null,"TOTAL",{"$f":"SUM(D23+E23)","v":0},{"$f":"SUM(F23+H23+J23+L23+N23+P23+R23+T23+V23+X23+Z23+AB23+AD23+AF23+AH23+AJ23+AL23)","v":0},{"$f":"SUM(G23+I23+K23+M23+O23+Q23+S23+U23+W23+Y23+AA23+AC23+AE23+AG23+AI23+AK23+AM23)","v":0},{"$f":"SUM(F13:F22)","v":0},{"$f":"SUM(G13:G22)","v":0},0,0,0,0,0,0,0,0,0,0,0,0,0,0,0,0,0,0,0,0,0,0,0,0,0,0,0,0,0,0,0,0,0,0]
["INTERVENCIÓN PSICOSOCIAL GRUPAL",null,{"$f":"SUM(D24+E24)","v":0},{"$f":"SUM(F24+H24+J24+L24+N24+P24+R24+T24+V24+X24+Z24+AB24+AD24+AF24+AH24+AJ24+AL24)","v":0},{"$f":"SUM(G24+I24+K24+M24+O24+Q24+S24+U24+W24+Y24+AA24+AC24+AE24+AG24+AI24+AK24+AM24)","v":0},null,null,null,null,null,null,null,null,null,null,null,null,null,null,null,null,null,null,null,null,null,null,null,null,null,null,null,null,null,null,null,null,null,null,null,null,null,null,null,null,null,null,null,null,null,null,null,null,null,null,null,null,null,null,null,null,null,null,null,null,null,null,null,null,null,null,null,null,null,null,null,null,null,null,null,null,null,null,null,0,0,0]
["PSICODIAGNOSTICO","PSICÓLOGO/A",0,0,{"$f":"SUM(G25+I25+K25+M25+O25+Q25+S25+U25+W25+Y25+AA25+AC25+AE25+AG25+AI25+AK25+AM25)","v":0},null,null,null,null,null,null,null,null,null,null,null,null,null,null,null,null,null,null,null,null,null,null,null,null,null,null,null,null,null,null,null,null,null,null,null,null,null,null,null,null,null,null,null,null,null,null,null,null,null,null,null,null,null,null,null,null,null,null,null,null,null,null,null,null,null,null,null,null,null,null,null,null,null,null,null,null,null,null,null,0,0,0]
["PSICOTERAPIA INDIVIDUAL","PSICÓLOGO/A",0,0,0,null,null,null,null,null,null,null,null,null,null,null,null,null,null,null,null,null,null,null,null,null,null,null,null,null,null,null,null,null,null,null,null,null,null,null,null,null,null,null,null,null,null,null,null,null,null,null,null,null,null,null,null,null,null,null,null,null,null,null,null,null,null,null,null,null,null,null,null,null,null,null,null,null,null,null,null,null,null,null,0,0,0]
[null,"MÉDICO PSIQUIATRA",0,0,0,null,null,null,null,null,null,null,null,null,null,null,null,null,null,null,null,null,null,null,null,null,null,null,null,null,null,null,null,null,null,null,null,null,null,null,null,null,null,null,null,null,null,null,null,null,null,null,null,null,null,null,null,null,null,null,null,null,null,null,null,null,null,null,null,null,null,null,null,null,null,null,null,null,null,null,null,null,null,null,0,0,0]
["SECCIÓN A.2: CONSULTORÍAS DE SALUD MENTAL EM APS"]
["ACTIVIDAD","TOTAL CONSULTORIAS RECIBIDAS","TOTAL Nº DE CASOS REVISADOS",null,null,"0 - 4",null,"5 - 9",null,"10 - 14",null,"15 - 19",null,"20 - 24",null,"25 - 29",null,"30 - 34",null,"35 - 39",null,"40 - 44",null,"45 - 49",null,"50 - 54",null,"55 - 59",null,"60 - 64",null,"65 - 69",null,"70 - 74",null,"75 - 79",null,"80 y mas"]
[null,null,"Ambos Sexos","Hombres","Mujeres","Hombres","Mujeres","Hombres","Mujeres","Hombres","Mujeres","Hombres","Mujeres","Hombres","Mujeres","Hombres","Mujeres","Hombres","Mujeres","Hombres","Mujeres","Hombres","Mujeres","Hombres","Mujeres","Hombres","Mujeres","Hombres","Mujeres","Hombres","Mujeres","Hombres","Mujeres","Hombres","Mujeres","Hombres","Mujeres","Hombres","Mujeres"]
["CONSULTORÍAS DE SALUD MENTAL",null,{"$f":"SUM(D31+E31)","v":0},{"$f":"SUM(F31+H31+J31+L31+N31+P31+R31+T31+V31+X31+Z31+AB31+AD31+AF31+AH31+AJ31+AL31)","v":0},{"$f":"SUM(G31+I31+K31+M31+O31+Q31+S31+U31+W31+Y31+AA31+AC31+AE31+AG31+AI31+AK31+AM31)","v":0}]
["SECCIÓN B. ATENCIÓN DE ESPECIALIDADES"]
["SECCIÓN B.1: ACTIVIDADES GRUPALES (NÚMERO DE SESIONES)"]
["ACTIVIDAD","PROFESIONAL","TOTAL               "]
[]
["PSICOTERAPIA  GRUPAL","MÉDICO PSIQUIATRA"]
[null,"PSICÓLOGO"]
["PSICOTERAPIA FAMILIAR","MÉDICO PSIQUIATRA"]
[null,"PSICÓLOGO"]
["SECCIÓN B.2:  PROGRAMA DE REHABILITACIÓN (PERSONAS CON TRASTORNOS PSIQUIÁTRICOS)"]
["TIPO",null,"TOTAL               ",null,null,"GRUPOS DE EDAD (en años)",null,null,null,null,null,null,null,null,null,null,null,null,null,null,null,null,null,null,null,null,null,null,null,null,null,null,null,null,null,null,null,null,null,"Beneficiarios"]
[null,null,null,null,null,"0 - 4",null,"5 - 9",null,"10 - 14",null,"15 - 19",null,"20 - 24",null,"25 - 29",null,"30 - 34",null,"35 - 39",null,"40 - 44",null,"45 - 49",null,"50 - 54",null,"55 - 59",null,"60 - 64",null,"65 - 69",null,"70 - 74",null,"75 - 79",null,"80 y mas"]
[null,null,"Ambos Sexos","Hombres","Mujeres","Hombres","Mujeres","Hombres","Mujeres","Hombres","Mujeres","Hombres","Mujeres","Hombres","Mujeres","Hombres","Mujeres","Hombres","Mujeres","Hombres","Mujeres","Hombres","Mujeres","Hombres","Mujeres","Hombres","Mujeres","Hombres","Mujeres","Hombres","Mujeres","Hombres","Mujeres","Hombres","Mujeres","Hombres","Mujeres","Hombres","Mujeres"]
["PROGRAMA DE REHABILITACIÓN TIPO I","DÍAS PERSONA",{"$f":"SUM(D44+E44)","v":0},{"$f":"SUM(F44+H44+J44+L44+N44+P44+R44+T44+V44+X44+Z44+AB44+AD44+AF44+AH44+AJ44+AL44)","v":0},{"$f":"SUM(G44+I44+K44+M44+O44+Q44+S44+U44+W44+Y44+AA44+AC44+AE44+AG44+AI44+AK44+AM44)","v":0},null,null,null,null,null,null,null,null,null,null,null,null,null,null,null,null,null,null,null,null,null,null,null,null,null,null,null,null,null,null,null,null,null,null,null,null,null,null,null,null,null,null,null,null,null,null,null,null,null,null,null,null,null,null,null,null,null,null,null,null,null,null,null,null,null,null,null,null,null,null,null,null,null,null,null,null,null,null,null,0,0]
["PROGRAMA DE REHABILITACIÓN TIPO II","DÍAS PERSONA",{"$f":"SUM(D45+E45)","v":0},{"$f":"SUM(F45+H45+J45+L45+N45+P45+R45+T45+V45+X45+Z45+AB45+AD45+AF45+AH45+AJ45+AL45)","v":0},{"$f":"SUM(G45+I45+K45+M45+O45+Q45+S45+U45+W45+Y45+AA45+AC45+AE45+AG45+AI45+AK45+AM45)","v":0},null,null,null,null,null,null,null,null,null,null,null,null,null,null,null,null,null,null,null,null,null,null,null,null,null,null,null,null,null,null,null,null,null,null,null,null,null,null,null,null,null,null,null,null,null,null,null,null,null,null,null,null,null,null,null,null,null,null,null,null,null,null,null,null,null,null,null,null,null,null,null,null,null,null,null,null,null,null,null,0,0]
["SECCIÓN B.3: ACTIVIDADES DE PSIQUIATRÍA FORENSE PARA PERSONAS EN CONFLICTO CON LA JUSTICIA (En lo Penal, Civil, Familiar, etc.)"]
["ACTIVIDAD",null,"TOTAL               ",null,null,"GRUPOS DE EDAD (en años)",null,null,null,null,null,null,null,null,null,null,null,null,null,null,null,null,null,null,null,null,null,null,null,null,null,null,null,null,null,null,null,null,null,"Beneficiarios"]
[null,null,null,null,null,"0 - 4",null,"5 - 9",null,"10 - 14",null,"15 - 19",null,"20 - 24",null,"25 - 29",null,"30 - 34",null,"35 - 39",null,"40 - 44",null,"45 - 49",null,"50 - 54",null,"55 - 59",null,"60 - 64",null,"65 - 69",null,"70 - 74",null,"75 - 79",null,"80 y mas"]
[null,null,"Ambos Sexos","Hombres","Mujeres","Hombres","Mujeres","Hombres","Mujeres","Hombres","Mujeres","Hombres","Mujeres","Hombres","Mujeres","Hombres","Mujeres","Hombres","Mujeres","Hombres","Mujeres","Hombres","Mujeres","Hombres","Mujeres","Hombres","Mujeres","Hombres","Mujeres","Hombres","Mujeres","Hombres","Mujeres","Hombres","Mujeres","Hombres","Mujeres","Hombres","Mujeres"]
["PERITAJE PSIQUIÁTRICO JUDICIAL","MÉDICO",{"$f":"SUM(D50+E50)","v":0},{"$f":"SUM(H50+J50+L50+N50+P50+R50+T50+V50+X50+Z50+AB50+AD50+AF50+AH50+AJ50+AL50)","v":0},{"$f":"SUM(I50+K50+M50+O50+Q50+S50+U50+W50+Y50+AA50+AC50+AE50+AG50+AI50+AK50+AM50)","v":0},null,null,null,null,null,null,null,null,null,null,null,null,null,null,null,null,null,null,null,null,null,null,null,null,null,null,null,null,null,null,null,null,null,null,null,null,null,null,null,null,null,null,null,null,null,null,null,null,null,null,null,null,null,null,null,null,null,null,null,null,null,null,null,null,null,null,null,null,null,null,null,null,null,null,null,null,null,null,null,0,0]
[null,"MÉDICO PSIQUIATRA",0,0,0,null,null,null,null,null,null,null,null,null,null,null,null,null,null,null,null,null,null,null,null,null,null,null,null,null,null,null,null,null,null,null,null,null,null,null,null,null,null,null,null,null,null,null,null,null,null,null,null,null,null,null,null,null,null,null,null,null,null,null,null,null,null,null,null,null,null,null,null,null,null,null,null,null,null,null,null,null,null,null,0,0]
[null,"PSICÓLOGO/A",0,0,0,null,null,null,null,null,null,null,null,null,null,null,null,null,null,null,null,null,null,null,null,null,null,null,null,null,null,null,null,null,null,null,null,null,null,null,null,null,null,null,null,null,null,null,null,null,null,null,null,null,null,null,null,null,null,null,null,null,null,null,null,null,null,null,null,null,null,null,null,null,null,null,null,null,null,null,null,null,null,null,0,0]
[null,"ENFERMERO/A",0,0,0,null,null,null,null,null,null,null,null,null,null,null,null,null,null,null,null,null,null,null,null,null,null,null,null,null,null,null,null,null,null,null,null,null,null,null,null,null,null,null,null,null,null,null,null,null,null,null,null,null,null,null,null,null,null,null,null,null,null,null,null,null,null,null,null,null,null,null,null,null,null,null,null,null,null,null,null,null,null,null,0,0]
[null,"ASISTENTE SOCIAL",0,0,0,null,null,null,null,null,null,null,null,null,null,null,null,null,null,null,null,null,null,null,null,null,null,null,null,null,null,null,null,null,null,null,null,null,null,null,null,null,null,null,null,null,null,null,null,null,null,null,null,null,null,null,null,null,null,null,null,null,null,null,null,null,null,null,null,null,null,null,null,null,null,null,null,null,null,null,null,null,null,null,0,0]
[null,"OTROS PROFESIONALES",0,0,0,null,null,null,null,null,null,null,null,null,null,null,null,null,null,null,null,null,null,null,null,null,null,null,null,null,null,null,null,null,null,null,null,null,null,null,null,null,null,null,null,null,null,null,null,null,null,null,null,null,null,null,null,null,null,null,null,null,null,null,null,null,null,null,null,null,null,null,null,null,null,null,null,null,null,null,null,null,null,null,0,0]
["EXAMEN PRELIMINAR EN DROGAS PARA ADOLESCENTES IMPUTADOS / CONDENADOS ","PSICÓLOGO/A",0,{"$f":"SUM(J56+L56+N56)","v":0},0,null,null,null,null,null,null,null,null,null,null,null,null,null,null,null,null,null,null,null,null,null,null,null,null,null,null,null,null,null,null,null,null,null,null,null,null,null,null,null,null,null,null,null,null,null,null,null,null,null,null,null,null,null,null,null,null,null,null,null,null,null,null,null,null,null,null,null,null,null,null,null,null,null,null,null,null,null,null,null,0,0]
[null,"ASISTENTE SOCIAL",0,0,0,null,null,null,null,null,null,null,null,null,null,null,null,null,null,null,null,null,null,null,null,null,null,null,null,null,null,null,null,null,null,null,null,null,null,null,null,null,null,null,null,null,null,null,null,null,null,null,null,null,null,null,null,null,null,null,null,null,null,null,null,null,null,null,null,null,null,null,null,null,null,null,null,null,null,null,null,null,null,null,0,0]
["EVALUACIÓN CLÍNICA PARA ADOLESCENTES IMPUTADOS CON CONSUMO DE DROGAS","MÉDICO",0,0,0,null,null,null,null,null,null,null,null,null,null,null,null,null,null,null,null,null,null,null,null,null,null,null,null,null,null,null,null,null,null,null,null,null,null,null,null,null,null,null,null,null,null,null,null,null,null,null,null,null,null,null,null,null,null,null,null,null,null,null,null,null,null,null,null,null,null,null,null,null,null,null,null,null,null,null,null,null,null,null,0,0]
[null,"MÉDICO PSIQUIATRA",0,0,0,null,null,null,null,null,null,null,null,null,null,null,null,null,null,null,null,null,null,null,null,null,null,null,null,null,null,null,null,null,null,null,null,null,null,null,null,null,null,null,null,null,null,null,null,null,null,null,null,null,null,null,null,null,null,null,null,null,null,null,null,null,null,null,null,null,null,null,null,null,null,null,null,null,null,null,null,null,null,null,0,0]
[null,"PSICÓLOGO/A",0,0,0,null,null,null,null,null,null,null,null,null,null,null,null,null,null,null,null,null,null,null,null,null,null,null,null,null,null,null,null,null,null,null,null,null,null,null,null,null,null,null,null,null,null,null,null,null,null,null,null,null,null,null,null,null,null,null,null,null,null,null,null,null,null,null,null,null,null,null,null,null,null,null,null,null,null,null,null,null,null,null,0,0]
[null,"ASISTENTE SOCIAL",0,0,0,null,null,null,null,null,null,null,null,null,null,null,null,null,null,null,null,null,null,null,null,null,null,null,null,null,null,null,null,null,null,null,null,null,null,null,null,null,null,null,null,null,null,null,null,null,null,null,null,null,null,null,null,null,null,null,null,null,null,null,null,null,null,null,null,null,null,null,null,null,null,null,null,null,null,null,null,null,null,null,0,0]
["EXAMEN MENTAL PRELIMINAR A PERSONAS IMPUTADAS","MÉDICO",0,{"$f":"SUM(J62+L62+N62+P62+R62+T62+V62+X62+Z62+AB62+AD62+AF62+AH62+AJ62+AL62)","v":0},{"$f":"SUM(K62+M62+O62+Q62+S62+U62+W62+Y62+AA62+AC62+AE62+AG62+AI62+AK62+AM62)","v":0},null,null,null,null,null,null,null,null,null,null,null,null,null,null,null,null,null,null,null,null,null,null,null,null,null,null,null,null,null,null,null,null,null,null,null,null,null,null,null,null,null,null,null,null,null,null,null,null,null,null,null,null,null,null,null,null,null,null,null,null,null,null,null,null,null,null,null,null,null,null,null,null,null,null,null,null,null,null,null,0,0]
[null,"MÉDICO PSIQUIATRA",0,0,0,null,null,null,null,null,null,null,null,null,null,null,null,null,null,null,null,null,null,null,null,null,null,null,null,null,null,null,null,null,null,null,null,null,null,null,null,null,null,null,null,null,null,null,null,null,null,null,null,null,null,null,null,null,null,null,null,null,null,null,null,null,null,null,null,null,null,null,null,null,null,null,null,null,null,null,null,null,null,null,0,0]
["PERITAJE DROGAS","MÉDICO",0,0,0,null,null,null,null,null,null,null,null,null,null,null,null,null,null,null,null,null,null,null,null,null,null,null,null,null,null,null,null,null,null,null,null,null,null,null,null,null,null,null,null,null,null,null,null,null,null,null,null,null,null,null,null,null,null,null,null,null,null,null,null,null,null,null,null,null,null,null,null,null,null,null,null,null,null,null,null,null,null,null,0,0]
[null,"MÉDICO PSIQUIATRA",0,0,0,null,null,null,null,null,null,null,null,null,null,null,null,null,null,null,null,null,null,null,null,null,null,null,null,null,null,null,null,null,null,null,null,null,null,null,null,null,null,null,null,null,null,null,null,null,null,null,null,null,null,null,null,null,null,null,null,null,null,null,null,null,null,null,null,null,null,null,null,null,null,null,null,null,null,null,null,null,null,null,0,0]
["ATENCIÓN A AGRESORES DERIVADOS DE TRIBUNALES (LEY DE VIOLENCIA INTRAFAMILIAR","MÉDICO",0,0,0,null,null,null,null,null,null,null,null,null,null,null,null,null,null,null,null,null,null,null,null,null,null,null,null,null,null,null,null,null,null,null,null,null,null,null,null,null,null,null,null,null,null,null,null,null,null,null,null,null,null,null,null,null,null,null,null,null,null,null,null,null,null,null,null,null,null,null,null,null,null,null,null,null,null,null,null,null,null,null,0,0]
[null,"MÉDICO PSIQUIATRA",0,0,0,null,null,null,null,null,null,null,null,null,null,null,null,null,null,null,null,null,null,null,null,null,null,null,null,null,null,null,null,null,null,null,null,null,null,null,null,null,null,null,null,null,null,null,null,null,null,null,null,null,null,null,null,null,null,null,null,null,null,null,null,null,null,null,null,null,null,null,null,null,null,null,null,null,null,null,null,null,null,null,0,0]
[null,"PSICÓLOGO/A",0,0,0,null,null,null,null,null,null,null,null,null,null,null,null,null,null,null,null,null,null,null,null,null,null,null,null,null,null,null,null,null,null,null,null,null,null,null,null,null,null,null,null,null,null,null,null,null,null,null,null,null,null,null,null,null,null,null,null,null,null,null,null,null,null,null,null,null,null,null,null,null,null,null,null,null,null,null,null,null,null,null,0,0]
[null,"ENFERMERO/A",0,0,0,null,null,null,null,null,null,null,null,null,null,null,null,null,null,null,null,null,null,null,null,null,null,null,null,null,null,null,null,null,null,null,null,null,null,null,null,null,null,null,null,null,null,null,null,null,null,null,null,null,null,null,null,null,null,null,null,null,null,null,null,null,null,null,null,null,null,null,null,null,null,null,null,null,null,null,null,null,null,null,0,0]
[null,"ASISTENTE SOCIAL",0,0,0,null,null,null,null,null,null,null,null,null,null,null,null,null,null,null,null,null,null,null,null,null,null,null,null,null,null,null,null,null,null,null,null,null,null,null,null,null,null,null,null,null,null,null,null,null,null,null,null,null,null,null,null,null,null,null,null,null,null,null,null,null,null,null,null,null,null,null,null,null,null,null,null,null,null,null,null,null,null,null,0,0]
[null,"OTROS PROFESIONALES",0,0,0,null,null,null,null,null,null,null,null,null,null,null,null,null,null,null,null,null,null,null,null,null,null,null,null,null,null,null,null,null,null,null,null,null,null,null,null,null,null,null,null,null,null,null,null,null,null,null,null,null,null,null,null,null,null,null,null,null,null,null,null,null,null,null,null,null,null,null,null,null,null,null,null,null,null,null,null,null,null,null,0,0]
["SECCIÓN B.4: DISPOSITIVOS DE SALUD MENTAL"]
["TIPO DE DISPOSITIVO",null,"Nº DE PERSONAS ATENDIDAS",null,"DÍAS DE ESTADA DE PERSONAS ATENDIDAS EN EL MES",null,"Nº DE EGRESOS",null,"Nº DE PERSONAS EN LISTA DE ESPERA"]
[null,null,"Menos de 20 años","20 y más años","Menos de 20 años","20 y más años","Menos de 20 años","20 y más años","Menos de 20 años","20 y más años"]
["HOGAR PROTEGIDO  "]
["RESIDENCIA PROTEGIDA"]
["HOSPITAL PSIQUIÁTRICO DIURNO"]
["CENTRO PRIVATIVO DE LIBERTAD (SENAME)"]
["SECCIÓN C. ACTIVIDADES COMUNES EN AMBOS TIPOS DE ATENCIÓN"]
["SECCIÓN C.1: ACTIVIDADES DE COORDINACION SECTORIAL, INTERSECTORIAL Y COMUNITARIA"]
["ACTIVIDADES","TOTAL DE PARTICIPANTES","Nº REUNIONES / SESIONES","Nº INSTITUCIONES,  ORGANIZACIONES  PARTICIPANTES"]
[]
["TRABAJO INTERSECTORIAL"]
["TRABAJO CON ORGANIZACIONES COMUNITARIAS DE BASE"]
["TRABAJO CON ORGANIZACIONES DE USUARIOS Y FAMILIARES"]
["COLABORACIÓN CON GRUPO DE AUTOAYUDA"]
["REUNIONES CON INSTITUCIONES DEL SECTOR SALUD PROGRAMA ACOMPAÑAMIENTO PSICOSOCIAL"]
["REUNIONES CON INSTITUCIONES DEL INTERSECTOR ACOMPAÑAMIENTO PSICOSOCIAL"]
["REUNIONES CON ORGANIZACIONES COMUNITARIAS ACOMPAÑAMIENTO PSICOSOCIAL"]
["SECCIÓN C.2: INFORMES A TRIBUNALES"]
["TRIBUNALES","Nº INFORMES","ASISTENCIA A TRIBUNALES"]
[null,null,"Nº de profesionales","Nº de veces"]
["DE FAMILIA"]
["PENALES"]
["CIVILES"]
["POLICIA LOCAL"]
["LABORALES"]
["TOTAL",{"$f":"SUM(B93:B97)","v":0},{"$f":"SUM(C93:C97)","v":0},{"$f":"SUM(D93:D97)","v":0}]
["SECCIÓN D: PLANES Y EVALUACIONES PROGRAMA DE ACOMPAÑAMIENTO PSICOSOCIAL EN ATENCIÓN PRIMARIA"]
["ACTIVIDAD","TOTAL               ",null,null,"GRUPOS DE EDAD  (en años)"]
[null,null,null,null,"0 - 4",null,"5 - 9",null,"10 - 14",null,"15 - 19",null,"20 - 24"]
[null,"Ambos Sexos","Hombres","Mujeres","Hombres","Mujeres","Hombres","Mujeres","Hombres","Mujeres","Hombres","Mujeres","Hombres","Mujeres"]
["PLAN DE ACOMPAÑAMIENTO ELABORADOS",{"$f":"SUM(C103:D103)","v":0},{"$f":"SUM(E103+G103+I103+K103+M103)","v":0},{"$f":"SUM(F103+H103+J103+L103+N103)","v":0}]
["EVALUACIONES PARTICIPATIVAS REALIZADAS AL EGRESO DEL PROGRAMA",{"$f":"SUM(C104:D104)","v":0},{"$f":"SUM(E104+G104+I104+K104+M104)","v":0},{"$f":"SUM(F104+H104+J104+L104+N104)","v":0}]
["SECCIÓN E: PLANES DE CUIDADO INTEGRAL (PCI)"]
["ACTIVIDAD","TOTAL               ",null,null,"GRUPOS DE EDAD  (en años)"]
[null,null,null,null,"0 - 4",null,"5 - 9",null,"10 - 14",null,"15 - 19",null,"20 - 24",null,"25 - 29",null,"30 - 34",null,"35 - 39",null,"40 - 44",null,"45 - 49",null,"50 - 54",null,"55 - 59",null,"60 - 64",null,"65 - 69",null,"70 - 74",null,"75 - 79",null,"80 y mas"]
[null,"Ambos Sexos","Hombres","Mujeres","Hombres","Mujeres","Hombres","Mujeres","Hombres","Mujeres","Hombres","Mujeres","Hombres","Mujeres","Hombres","Mujeres","Hombres","Mujeres","Hombres","Mujeres","Hombres","Mujeres","Hombres","Mujeres","Hombres","Mujeres","Hombres","Mujeres","Hombres","Mujeres","Hombres","Mujeres","Hombres","Mujeres","Hombres","Mujeres","Hombres","Mujeres"]
["PLAN DE CUIDADO INTEGRAL (PCI) ELABORADOS",{"$f":"SUM(C109:D109)","v":0},{"$f":"+E109+G109+I109+K109+M109+O109+Q109+S109+U109+W109+Y109+AA109+AC109+AE109+AG109+AI109+AK109","v":0},{"$f":"+F109+H109+J109+L109+N109+P109+R109+T109+V109+X109+Z109+AB109+AD109+AF109+AH109+AJ109+AL109","v":0}]
["SECCIÓN F: PERSONAS CON EVALUACION Y CONFIRMACION DIAGNOSTICA EN APS"]
["N° DE EVALUACIONES DIAGNÓSTICAS","REALIZADA POR",null,null,"N° CONFIRMACIONES DIAGNÓSTICAS"]
[null,"1 PROFESIONAL","2 PROFESIONALES","3 PROFESIONALES"]
["TOTAL"]
["SECCIÓN G: REGISTRO DE ATENCIONES PROFESIONALES PLAN DE DEMENCIA EN ATENCIÓN PRIMARIA"]
["PROFESIONAL","TOTAL               ",null,null,"GRUPOS DE EDAD  (en años)"]
[null,null,null,null,"30 - 34",null,"35 - 39",null,"40 - 44",null,"45 - 49",null,"50 - 54",null,"55 - 59",null,"60 - 64",null,"65 - 69",null,"70 - 74",null,"75 - 79",null,"80 y mas"]
[null,"Ambos Sexos","Hombres","Mujeres","Hombres","Mujeres","Hombres","Mujeres","Hombres","Mujeres","Hombres","Mujeres","Hombres","Mujeres","Hombres","Mujeres","Hombres","Mujeres","Hombres","Mujeres","Hombres","Mujeres","Hombres","Mujeres","Hombres","Mujeres"]
["KINESIOLOGO",{"$f":"SUM(C118:D118)","v":0},{"$f":"+E118+G118+I118+K118+M118+O118+Q118+S118+U118+W118+Y118","v":0},{"$f":"+F118+H118+J118+L118+N118+P118+R118+T118+V118+X118+Z118","v":0}]
["TERAPEUTA OCUPACIONAL",{"$f":"SUM(C119:D119)","v":0},{"$f":"+E119+G119+I119+K119+M119+O119+Q119+S119+U119+W119+Y119","v":0},{"$f":"+F119+H119+J119+L119+N119+P119+R119+T119+V119+X119+Z119","v":0}]
["FONOAUDIÓLOGO",{"$f":"SUM(C120:D120)","v":0},{"$f":"+E120+G120+I120+K120+M120+O120+Q120+S120+U120+W120+Y120","v":0},0]
["PSICOLOGO/A",{"$f":"SUM(C121:D121)","v":0},0,{"$f":"+F121+H121+J121+L121+N121+P121+R121+T121+V121+X121+Z121","v":0}]
["ASISTENTE SOCIAL",0,0,0]
["TOTAL",{"$f":"SUM(C123:D123)","v":0},{"$f":"+E123+G123+I123+K123+M123+O123+Q123+S123+U123+W123+Y123","v":0},{"$f":"+F123+H123+J123+L123+N123+P123+R123+T123+V123+X123+Z123","v":0},{"$f":"SUM(E118:E122)","v":0},{"$f":"SUM(F118:F122)","v":0},{"$f":"SUM(G118:G122)","v":0},0,0,0,{"$f":"SUM(K118:K122)","v":0},0,0,0,0,0,0,0,0,0,0,0,0,0,0,0]
["SECCIÓN H. EVALUACIONES PROGRAMA PLAN NACIONAL DE DEMENCIA"]
["ACTIVIDAD","TOTAL               "]
[null,null,null,null,"AUMENTO",null,"MANTENCION",null,"DISMINUCION"]
[null,"Ambos Sexos","Hombres","Mujeres","Hombres","Mujeres","Hombres","Mujeres","Hombres","Mujeres"]
["PERSONAS CON DEMENCIA CON  REEVALUACION DETERIORO GLOGAL GDS REISBERG",{"$f":"SUM(C128:D128)","v":0},{"$f":"+E128+G128+I128","v":0},{"$f":"+F128+H128+J128","v":0}]
["CUIDADORES PERSONAS CON DEMENCIA CON REEVALUACION SOBRECARGA DEL CUIDADO",{"$f":"SUM(C129:D129)","v":0},{"$f":"+E129+G129+I129","v":0},{"$f":"+F129+H129+J129","v":0}]
["CUIDADORES DE PERSONAS CON DEMENCIA CON EVALUACION DE SATISFACCION USARIA DEL PROCESO DE INTERVENCION",0,0,{"$f":"+F130+H130+J130","v":0}]
["SECCIÓN I. EVALUACION PROGRAMA DE APOYO A LA SALUD MENTAL INFANTIL (PASMI)"]
["ACTIVIDAD","TOTAL","GRUPOS DE EDAD 5 A 9 AÑOS",null,"Evaluadores",null,"Cumplimiento de criterios diagnósticos según  Evaluación Diagnóstica Integral (EDI)"]
["Evaluacion Diagnostica Integral (EDI)",null,"Hombres","Mujeres","Equipo biopsicosocial","Equipo psicosocial","Requiere tratamiento en APS","Requiere tratamiento en nivel secundario","No Requiere tratamiento"]
[null,{"$f":"SUM(C134:D134)","v":0}]
[]
[]
[]
[]
[]
[]
[]
[]
[]
[]
[]
[]
[]
[]
[]
[]
[]
[]
[]
[]
[]
[]
[]
[]
[]
[]
[]
[]
[]
[]
[]
[]
[]
[]
[]
[]
[]
[]
[]
[]
[]
[]
[]
[]
[]
[{"$f":"SUM(C23,C25:C27,C31,C44:C45,C50:C71,B103:B104,B83:D89,B98,C36:C39,C75:J78)","v":0},{"$f":"SUM(CG8:CL104)","v":0}]

{"sheet":"A07","index":7,"n_rows":196,"n_cols":89,"rows_kept":196,"cut":false,"hidden":false,"merged":[[109,0,110,0],[107,27,107,28],[114,0,115,0],[116,0,117,0],[118,0,119,0],[111,0,113,0],[106,0,108,0],[106,1,108,1],[107,31,107,32],[106,2,107,4],[106,5,106,38],[107,17,107,18],[107,19,107,20],[107,33,107,34],[107,5,107,6],[107,7,107,8],[107,9,107,10],[107,11,107,12],[107,13,107,14],[107,29,107,30],[107,21,107,22],[107,23,107,24],[107,35,107,36],[107,37,107,38],[97,0,97,1],[107,25,107,26],[98,0,98,1],[99,0,99,1],[100,0,100,1],[101,0,101,1],[102,0,102,1],[103,0,103,1],[107,15,107,16],[104,0,104,1],[94,0,96,0],[90,0,92,1],[90,2,91,4],[90,5,90,38],[91,37,91,38],[91,31,91,32],[91,33,91,34],[91,35,91,36],[91,15,91,16],[91,17,91,18],[91,19,91,20],[91,5,91,6],[91,7,91,8],[91,9,91,10],[91,11,91,12],[93,0,93,1],[5,0,5,29],[8,0,10,0],[8,1,8,22],[8,23,8,30],[106,39,108,39],[8,38,9,39],[8,31,9,32],[9,21,9,22],[9,23,9,26],[9,1,10,1],[9,2,9,18],[9,19,9,20],[9,27,9,30],[91,13,91,14],[8,36,9,37],[8,33,9,34],[8,35,10,35],[90,39,92,39],[91,21,91,22],[91,23,91,24],[91,25,91,26],[91,27,91,28],[91,29,91,30],[106,42,108,42],[106,43,108,43],[6,44,7,46],[4,41,7,41],[4,42,7,43],[8,43,10,43],[8,46,9,48],[8,42,10,42],[90,42,92,42],[8,44,9,45],[8,40,9,41],[106,40,107,41],[90,41,92,41],[90,40,92,40],[106,44,108,44]]}
["SERVICIO DE SALUD"]
[{"$f":"CONCATENATE(\"COMUNA: \",NOMBRE!B2,\" - \",\"( \",NOMBRE!C2,NOMBRE!D2,NOMBRE!E2,NOMBRE!F2,NOMBRE!G2,\" )\")","v":"COMUNA:  - (  )"}]
[{"$f":"CONCATENATE(\"ESTABLECIMIENTO/ESTRATEGIA: \",NOMBRE!B3,\" - \",\"( \",NOMBRE!C3,NOMBRE!D3,NOMBRE!E3,NOMBRE!F3,NOMBRE!G3,NOMBRE!H3,\" )\")","v":"ESTABLECIMIENTO/ESTRATEGIA:  - (  )"}]
[{"$f":"CONCATENATE(\"MES: \",NOMBRE!B6,\" - \",\"( \",NOMBRE!C6,NOMBRE!D6,\" )\")","v":"MES:  - (  )"}]
[{"$f":"CONCATENATE(\"AÑO: \",NOMBRE!B7)","v":"AÑO: 2019"}]
["REM-07.  ATENCIÓN  DE ESPECIALIDADES "]
[]
["SECCIÓN A : CONSULTAS MÉDICAS"]
["ESPECIALIDADES   Y  SUB-ESPECIALIDADES","CONSULTAS MÉDICAS",null,null,null,null,null,null,null,null,null,null,null,null,null,null,null,null,null,null,null,null,null,"CONSULTAS NUEVAS SEGÚN ORIGEN(*)",null,null,null,null,null,null,null,"CONSULTAS PERTINENTES \n(Nuevas originadas en APS)",null,"INASISTENTE A CONSULTA MÉDICA (NSP)",null,"CONSULTA\nABREVIADA\n(Confección de\nrecetas o lectura\nde exámenes)","INTERCONSULTAS A \nHOSPITALIZADOS \n(EN SALA)",null,"ALTA DE CONSULTA \nDE ESPECIALIDAD\nAMBULATORIA",null,"CONSULTAS REALIZADAS EN APS E INFORMADAS EN SECCIÓN A",null,"COMPRA DE SERVICIO","CONSULTAS MÉDICAS POR OPERATIVOS (no incluidas en produccion)","TOTAL INTERCONSULTAS GENERADAS EN APS PARA DERIVACION ESPECIALIDAD",null,"CONSULTORÍAS DE MEDICOS ESPECIALISTAS OTORGADAS"]
[null,"TOTAL               ","GRUPOS DE EDAD (en años)",null,null,null,null,null,null,null,null,null,null,null,null,null,null,null,null,"A BENEFICIARIOS",null,"POR SEXO",null,"Menos 15 años",null,null,null,"De 15 y más años"]
[null,null,"0 - 4","5 - 9","10 - 14","15 - 19","20 - 24","25 - 29","30 - 34","35 - 39","40 - 44","45 - 49","50 - 54","55 - 59","60 - 64","65 - 69","70 - 74","75 - 79","80 y mas","Menos \n15 años","15 y más \naños","Hombres","Mujeres","TOTAL","APS","CAE/CDT/CRS","URGENCIA","TOTAL","APS","CAE/CDT/CRS","URGENCIA","Según protocolo de referencia","Según tiempo establecido","NUEVAS","CONTROLES",null,"Menos \n15 años","15 y más \naños","Menos \n15 años","15 y más \naños","CONTRA-\nTADOS POR \nEL ESTABLE-\nCIMIENTO O DIRECCIÓN DEL SERVICIO","ESPECIALIS-\nTAS DE \nHOSPITALES",null,null,"Menos 15 años","15 y más años","Nº Consultorías","Nº de casos revisados por el equipo","Nº de casos atendidos"]
["PEDIATRÍA",{"$f":"SUM(C12+D12+E12+F12+G12+H12+I12+J12+K12)","v":0},null,null,null,null,null,null,null,null,null,null,null,null,null,null,null,null,null,null,null,null,null,{"$f":"SUM(Y12+Z12+AA12)","v":0},null,null,null,{"$f":"SUM(AC12+AD12+AE12)","v":0},null,null,null,null,null,null,null,null,null,null,null,null,null,null,null,null,null,null,null,null,null,null,null,null,null,null,null,null,null,null,null,null,null,null,null,null,null,null,null,null,null,null,null,null,null,null,null,null,null,null,null,null,null,null,null,null,0,null,0,0,0]
["MEDICINA INTERNA",{"$f":"SUM(C13+D13+E13+F13+G13+H13+I13+J13+K13+L13+M13+N13+O13+P13+Q13+R13+S13)","v":0},null,null,null,null,null,null,null,null,null,null,null,null,null,null,null,null,null,null,null,null,null,0,null,null,null,0,null,null,null,null,null,null,null,null,null,null,null,null,null,null,null,null,null,null,null,null,null,null,null,null,null,null,null,null,null,null,null,null,null,null,null,null,null,null,null,null,null,null,null,null,null,null,null,null,null,null,null,null,null,null,null,null,0,null,0,0,0]
["NEONATOLOGÍA",{"$f":"SUM(C14)","v":0},null,null,null,null,null,null,null,null,null,null,null,null,null,null,null,null,null,null,null,null,null,0,null,null,null,0,null,null,null,null,null,null,null,null,null,null,null,null,null,null,null,null,null,null,null,null,null,null,null,null,null,null,null,null,null,null,null,null,null,null,null,null,null,null,null,null,null,null,null,null,null,null,null,null,null,null,null,null,null,null,null,null,0,null,0,0,0]
["ENFERMEDAD RESPIRATORIA PEDIÁTRICA (BRONCOPULMONAR INFANTIL)",{"$f":"SUM(C15+D15+E15+F15+G15+H15+I15+J15+K15)","v":0},null,null,null,null,null,null,null,null,null,null,null,null,null,null,null,null,null,null,null,null,null,0,null,null,null,0,null,null,null,null,null,null,null,null,null,null,null,null,null,null,null,null,null,null,null,null,null,null,null,null,null,null,null,null,null,null,null,null,null,null,null,null,null,null,null,null,null,null,null,null,null,null,null,null,null,null,null,null,null,null,null,null,0,null,0,0,0]
["ENFERMEDAD RESPIRATORIA DE ADULTO (BRONCOPULMONAR)",{"$f":"SUM(C16+D16+E16+F16+G16+H16+I16+J16+K16+L16+M16+N16+O16+P16+Q16+R16+S16)","v":0},null,null,null,null,null,null,null,null,null,null,null,null,null,null,null,null,null,null,null,null,null,0,null,null,null,0,null,null,null,null,null,null,null,null,null,null,null,null,null,null,null,null,null,null,null,null,null,null,null,null,null,null,null,null,null,null,null,null,null,null,null,null,null,null,null,null,null,null,null,null,null,null,null,null,null,null,null,null,null,null,null,null,0,null,0,0,0]
["CARDIOLOGÍA PEDIÁTRICA",{"$f":"SUM(C17+D17+E17+F17+G17+H17+I17+J17+K17)","v":0},null,null,null,null,null,null,null,null,null,null,null,null,null,null,null,null,null,null,null,null,null,0,null,null,null,0,null,null,null,null,null,null,null,null,null,null,null,null,null,null,null,null,null,null,null,null,null,null,null,null,null,null,null,null,null,null,null,null,null,null,null,null,null,null,null,null,null,null,null,null,null,null,null,null,null,null,null,null,null,null,null,null,0,null,0,0,0]
["CARDIOLOGÍA ",{"$f":"SUM(C18+D18+E18+F18+G18+H18+I18+J18+K18+L18+M18+N18+O18+P18+Q18+R18+S18)","v":0},null,null,null,null,null,null,null,null,null,null,null,null,null,null,null,null,null,null,null,null,null,0,null,null,null,0,null,null,null,null,null,null,null,null,null,null,null,null,null,null,null,null,null,null,null,null,null,null,null,null,null,null,null,null,null,null,null,null,null,null,null,null,null,null,null,null,null,null,null,null,null,null,null,null,null,null,null,null,null,null,null,null,0,null,0,0,0]
["ENDOCRINOLOGÍA PEDIÁTRICA",{"$f":"SUM(C19+D19+E19+F19+G19+H19+I19+J19+K19)","v":0},null,null,null,null,null,null,null,null,null,null,null,null,null,null,null,null,null,null,null,null,null,0,null,null,null,0,null,null,null,null,null,null,null,null,null,null,null,null,null,null,null,null,null,null,null,null,null,null,null,null,null,null,null,null,null,null,null,null,null,null,null,null,null,null,null,null,null,null,null,null,null,null,null,null,null,null,null,null,null,null,null,null,0,null,0,0,0]
["ENDOCRINOLOGÍA ADULTO",{"$f":"SUM(C20+D20+E20+F20+G20+H20+I20+J20+K20+L20+M20+N20+O20+P20+Q20+R20+S20)","v":0},null,null,null,null,null,null,null,null,null,null,null,null,null,null,null,null,null,null,null,null,null,0,null,null,null,0,null,null,null,null,null,null,null,null,null,null,null,null,null,null,null,null,null,null,null,null,null,null,null,null,null,null,null,null,null,null,null,null,null,null,null,null,null,null,null,null,null,null,null,null,null,null,null,null,null,null,null,null,null,null,null,null,0,null,0,0,0]
["GASTROENTEROLOGÍA PEDIÁTRICA",{"$f":"SUM(C21+D21+E21+F21+G21+H21+I21+J21+K21)","v":0},null,null,null,null,null,null,null,null,null,null,null,null,null,null,null,null,null,null,null,null,null,0,null,null,null,0,null,null,null,null,null,null,null,null,null,null,null,null,null,null,null,null,null,null,null,null,null,null,null,null,null,null,null,null,null,null,null,null,null,null,null,null,null,null,null,null,null,null,null,null,null,null,null,null,null,null,null,null,null,null,null,null,0,null,0,0,0]
["GASTROENTEROLOGÍA ADULTO",{"$f":"SUM(C22+D22+E22+F22+G22+H22+I22+J22+K22+L22+M22+N22+O22+P22+Q22+R22+S22)","v":0},null,null,null,null,null,null,null,null,null,null,null,null,null,null,null,null,null,null,null,null,null,0,null,null,null,0,null,null,null,null,null,null,null,null,null,null,null,null,null,null,null,null,null,null,null,null,null,null,null,null,null,null,null,null,null,null,null,null,null,null,null,null,null,null,null,null,null,null,null,null,null,null,null,null,null,null,null,null,null,null,null,null,0,null,0,0,0]
["GENÉTICA CLÍNICA",{"$f":"SUM(C23+D23+E23+F23+G23+H23+I23+J23+K23+L23+M23+N23+O23+P23+Q23+R23+S23)","v":0},null,null,null,null,null,null,null,null,null,null,null,null,null,null,null,null,null,null,null,null,null,0,null,null,null,0,null,null,null,null,null,null,null,null,null,null,null,null,null,null,null,null,null,null,null,null,null,null,null,null,null,null,null,null,null,null,null,null,null,null,null,null,null,null,null,null,null,null,null,null,null,null,null,null,null,null,null,null,null,null,null,null,0,null,0,0,0]
["HEMATO-ONCOLOGÍA INFANTIL",{"$f":"SUM(C24+D24+E24+F24+G24+H24+I24+J24+K24)","v":0},null,null,null,null,null,null,null,null,null,null,null,null,null,null,null,null,null,null,null,null,null,0,null,null,null,0,null,null,null,null,null,null,null,null,null,null,null,null,null,null,null,null,null,null,null,null,null,null,null,null,null,null,null,null,null,null,null,null,null,null,null,null,null,null,null,null,null,null,null,null,null,null,null,null,null,null,null,null,null,null,null,null,0,null,0,0,0]
["HEMATOLOGÍA",{"$f":"SUM(C25+D25+E25+F25+G25+H25+I25+J25+K25+L25+M25+N25+O25+P25+Q25+R25+S25)","v":0},null,null,null,null,null,null,null,null,null,null,null,null,null,null,null,null,null,null,null,null,null,0,null,null,null,0,null,null,null,null,null,null,null,null,null,null,null,null,null,null,null,null,null,null,null,null,null,null,null,null,null,null,null,null,null,null,null,null,null,null,null,null,null,null,null,null,null,null,null,null,null,null,null,null,null,null,null,null,null,null,null,null,0,null,0,0,0]
["NEFROLOGÍA PEDIÁTRICA",{"$f":"SUM(C26+D26+E26+F26+G26+H26+I26+J26+K26)","v":0},null,null,null,null,null,null,null,null,null,null,null,null,null,null,null,null,null,null,null,null,null,0,null,null,null,0,null,null,null,null,null,null,null,null,null,null,null,null,null,null,null,null,null,null,null,null,null,null,null,null,null,null,null,null,null,null,null,null,null,null,null,null,null,null,null,null,null,null,null,null,null,null,null,null,null,null,null,null,null,null,null,null,0,null,0,0,0]
["NEFROLOGÍA ADULTO",{"$f":"SUM(C27+D27+E27+F27+G27+H27+I27+J27+K27+L27+M27+N27+O27+P27+Q27+R27+S27)","v":0},null,null,null,null,null,null,null,null,null,null,null,null,null,null,null,null,null,null,null,null,null,0,null,null,null,0,null,null,null,null,null,null,null,null,null,null,null,null,null,null,null,null,null,null,null,null,null,null,null,null,null,null,null,null,null,null,null,null,null,null,null,null,null,null,null,null,null,null,null,null,null,null,null,null,null,null,null,null,null,null,null,null,0,null,0,0,0]
["NUTRIÓLOGO PEDIÁTRICO",{"$f":"SUM(C28+D28+E28+F28+G28+H28+I28+J28+K28)","v":0},null,null,null,null,null,null,null,null,null,null,null,null,null,null,null,null,null,null,null,null,null,0,null,null,null,0,null,null,null,null,null,null,null,null,null,null,null,null,null,null,null,null,null,null,null,null,null,null,null,null,null,null,null,null,null,null,null,null,null,null,null,null,null,null,null,null,null,null,null,null,null,null,null,null,null,null,null,null,null,null,null,null,0,null,0,0,0]
["NUTRIÓLOGO",{"$f":"SUM(C29+D29+E29+F29+G29+H29+I29+J29+K29+L29+M29+N29+O29+P29+Q29+R29+S29)","v":0},null,null,null,null,null,null,null,null,null,null,null,null,null,null,null,null,null,null,null,null,null,0,null,null,null,0,null,null,null,null,null,null,null,null,null,null,null,null,null,null,null,null,null,null,null,null,null,null,null,null,null,null,null,null,null,null,null,null,null,null,null,null,null,null,null,null,null,null,null,null,null,null,null,null,null,null,null,null,null,null,null,null,0,null,0,0,0]
["REUMATOLOGÍA PEDIÁTRICA",{"$f":"SUM(C30+D30+E30+F30+G30+H30+I30+J30+K30)","v":0},null,null,null,null,null,null,null,null,null,null,null,null,null,null,null,null,null,null,null,null,null,0,null,null,null,0,null,null,null,null,null,null,null,null,null,null,null,null,null,null,null,null,null,null,null,null,null,null,null,null,null,null,null,null,null,null,null,null,null,null,null,null,null,null,null,null,null,null,null,null,null,null,null,null,null,null,null,null,null,null,null,null,0,null,0,0,0]
["REUMATOLOGÍA",{"$f":"SUM(C31+D31+E31+F31+G31+H31+I31+J31+K31+L31+M31+N31+O31+P31+Q31+R31+S31)","v":0},null,null,null,null,null,null,null,null,null,null,null,null,null,null,null,null,null,null,null,null,null,0,null,null,null,0,null,null,null,null,null,null,null,null,null,null,null,null,null,null,null,null,null,null,null,null,null,null,null,null,null,null,null,null,null,null,null,null,null,null,null,null,null,null,null,null,null,null,null,null,null,null,null,null,null,null,null,null,null,null,null,null,0,null,0,0,0]
["DERMATOLOGÍA",{"$f":"SUM(C32+D32+E32+F32+G32+H32+I32+J32+K32+L32+M32+N32+O32+P32+Q32+R32+S32)","v":0},null,null,null,null,null,null,null,null,null,null,null,null,null,null,null,null,null,null,null,null,null,0,null,null,null,0,null,null,null,null,null,null,null,null,null,null,null,null,null,null,null,null,null,null,null,null,null,null,null,null,null,null,null,null,null,null,null,null,null,null,null,null,null,null,null,null,null,null,null,null,null,null,null,null,null,null,null,null,null,null,null,null,0,null,0,0,0]
["INFECTOLOGÍA PEDIÁTRICA",{"$f":"SUM(C33+D33+E33+F33+G33+H33+I33+J33+K33)","v":0},null,null,null,null,null,null,null,null,null,null,null,null,null,null,null,null,null,null,null,null,null,0,null,null,null,0,null,null,null,null,null,null,null,null,null,null,null,null,null,null,null,null,null,null,null,null,null,null,null,null,null,null,null,null,null,null,null,null,null,null,null,null,null,null,null,null,null,null,null,null,null,null,null,null,null,null,null,null,null,null,null,null,0,null,0,0,0]
["INFECTOLOGÍA",{"$f":"SUM(C34+D34+E34+F34+G34+H34+I34+J34+K34+L34+M34+N34+O34+P34+Q34+R34+S34)","v":0},null,null,null,null,null,null,null,null,null,null,null,null,null,null,null,null,null,null,null,null,null,0,null,null,null,0,null,null,null,null,null,null,null,null,null,null,null,null,null,null,null,null,null,null,null,null,null,null,null,null,null,null,null,null,null,null,null,null,null,null,null,null,null,null,null,null,null,null,null,null,null,null,null,null,null,null,null,null,null,null,null,null,0,null,0,0,0]
["INMUNOLOGÍA",{"$f":"SUM(C35+D35+E35+F35+G35+H35+I35+J35+K35+L35+M35+N35+O35+P35+Q35+R35+S35)","v":0},null,null,null,null,null,null,null,null,null,null,null,null,null,null,null,null,null,null,null,null,null,0,null,null,null,0,null,null,null,null,null,null,null,null,null,null,null,null,null,null,null,null,null,null,null,null,null,null,null,null,null,null,null,null,null,null,null,null,null,null,null,null,null,null,null,null,null,null,null,null,null,null,null,null,null,null,null,null,null,null,null,null,0,null,0,0,0]
["GERIATRÍA",{"$f":"SUM(O36+P36+Q36+R36+S36)","v":0},null,null,null,null,null,null,null,null,null,null,null,null,null,null,null,null,null,null,null,null,null,0,null,null,null,0,null,null,null,null,null,null,null,null,null,null,null,null,null,null,null,null,null,null,null,null,null,null,null,null,null,null,null,null,null,null,null,null,null,null,null,null,null,null,null,null,null,null,null,null,null,null,null,null,null,null,null,null,null,null,null,null,0,null,0,0,0]
["MEDICINA FÍSICA Y REHABILITACIÓN PEDIÁTRICA (FISIATRÍA PEDIÁTRICA)",{"$f":"SUM(C37+D37+E37+F37+G37+H37+I37+J37+K37)","v":0},null,null,null,null,null,null,null,null,null,null,null,null,null,null,null,null,null,null,null,null,null,0,null,null,null,0,null,null,null,null,null,null,null,null,null,null,null,null,null,null,null,null,null,null,null,null,null,null,null,null,null,null,null,null,null,null,null,null,null,null,null,null,null,null,null,null,null,null,null,null,null,null,null,null,null,null,null,null,null,null,null,null,0,null,0,0,0]
["MEDICINA FÍSICA Y REHABILITACIÓN ADULTO (FISIATRÍA ADULTO)",{"$f":"SUM(C38+D38+E38+F38+G38+H38+I38+J38+K38+L38+M38+N38+O38+P38+Q38+R38+S38)","v":0},null,null,null,null,null,null,null,null,null,null,null,null,null,null,null,null,null,null,null,null,null,null,null,null,null,0,null,null,null,null,null,null,null,null,null,null,null,null,null,null,null,null,null,null,null,null,null,null,null,null,null,null,null,null,null,null,null,null,null,null,null,null,null,null,null,null,null,null,null,null,null,null,null,null,null,null,null,null,null,null,null,null,0,null,0,0,0]
["NEUROLOGÍA PEDIÁTRICA",{"$f":"SUM(C39+D39+E39+F39+G39+H39+I39+J39+K39)","v":0},null,null,null,null,null,null,null,null,null,null,null,null,null,null,null,null,null,null,null,null,null,{"$f":"SUM(Y39+Z39+AA39)","v":0},null,null,null,{"$f":"SUM(AC39+AD39+AE39)","v":0},null,null,null,null,null,null,null,null,null,null,null,null,null,null,null,null,null,null,null,null,null,null,null,null,null,null,null,null,null,null,null,null,null,null,null,null,null,null,null,null,null,null,null,null,null,null,null,null,null,null,null,null,null,null,null,null,0,null,0,0,0]
["NEUROLOGÍA",{"$f":"SUM(C40+D40+E40+F40+G40+H40+I40+J40+K40+L40+M40+N40+O40+P40+Q40+R40+S40)","v":0},null,null,null,null,null,null,null,null,null,null,null,null,null,null,null,null,null,null,null,null,null,{"$f":"SUM(Y40+Z40+AA40)","v":0},null,null,null,{"$f":"SUM(AC40+AD40+AE40)","v":0},null,null,null,null,null,null,null,null,null,null,null,null,null,null,null,null,null,null,null,null,null,null,null,null,null,null,null,null,null,null,null,null,null,null,null,null,null,null,null,null,null,null,null,null,null,null,null,null,null,null,null,null,null,null,null,null,0,null,0,0,0]
["ONCOLOGÍA MÉDICA",{"$f":"SUM(C41+D41+E41+F41+G41+H41+I41+J41+K41+L41+M41+N41+O41+P41+Q41+R41+S41)","v":0},null,null,null,null,null,null,null,null,null,null,null,null,null,null,null,null,null,null,null,null,null,{"$f":"SUM(Y41+Z41+AA41)","v":0},null,null,null,{"$f":"SUM(AC41+AD41+AE41)","v":0},null,null,null,null,null,null,null,null,null,null,null,null,null,null,null,null,null,null,null,null,null,null,null,null,null,null,null,null,null,null,null,null,null,null,null,null,null,null,null,null,null,null,null,null,null,null,null,null,null,null,null,null,null,null,null,null,0,null,0,0,0]
["PSIQUIATRÍA PEDIÁTRICA Y DE LA ADOLESCENCIA",{"$f":"SUM(C42+D42+E42+F42+G42+H42+I42+J42+K42)","v":0},null,null,null,null,null,null,null,null,null,null,null,null,null,null,null,null,null,null,null,null,null,{"$f":"SUM(Y42+Z42+AA42)","v":0},null,null,null,{"$f":"SUM(AC42+AD42+AE42)","v":0},null,null,null,null,null,null,null,null,null,null,null,null,null,null,null,null,null,null,null,null,null,null,null,null,null,null,null,null,null,null,null,null,null,null,null,null,null,null,null,null,null,null,null,null,null,null,null,null,null,null,null,null,null,null,null,null,0,null,0,0,0]
["PSIQUIATRÍA",{"$f":"SUM(C43+D43+E43+F43+G43+H43+I43+J43+K43+L43+M43+N43+O43+P43+Q43+R43+S43)","v":0},null,null,null,null,null,null,null,null,null,null,null,null,null,null,null,null,null,null,null,null,null,{"$f":"SUM(Y43+Z43+AA43)","v":0},null,null,null,{"$f":"SUM(AC43+AD43+AE43)","v":0},null,null,null,null,null,null,null,null,null,null,null,null,null,null,null,null,null,null,null,null,null,null,null,null,null,null,null,null,null,null,null,null,null,null,null,null,null,null,null,null,null,null,null,null,null,null,null,null,null,null,null,null,null,null,null,null,0,null,0,0,0]
["CIRUGÍA PEDIÁTRICA",{"$f":"SUM(C44+D44+E44+F44+G44+H44+I44+J44+K44)","v":0},null,null,null,null,null,null,null,null,null,null,null,null,null,null,null,null,null,null,null,null,null,0,null,null,null,{"$f":"SUM(AC44+AD44+AE44)","v":0},null,null,null,null,null,null,null,null,null,null,null,null,null,null,null,null,null,null,null,null,null,null,null,null,null,null,null,null,null,null,null,null,null,null,null,null,null,null,null,null,null,null,null,null,null,null,null,null,null,null,null,null,null,null,null,null,0,null,0,0,0]
["CIRUGÍA GENERAL",{"$f":"SUM(C45+D45+E45+F45+G45+H45+I45+J45+K45+L45+M45+N45+O45+P45+Q45+R45+S45)","v":0},null,null,null,null,null,null,null,null,null,null,null,null,null,null,null,null,null,null,null,null,null,0,null,null,null,0,null,null,null,null,null,null,null,null,null,null,null,null,null,null,null,null,null,null,null,null,null,null,null,null,null,null,null,null,null,null,null,null,null,null,null,null,null,null,null,null,null,null,null,null,null,null,null,null,null,null,null,null,null,null,null,null,0,null,0,0,0]
["CIRUGÍA DIGESTIVA",{"$f":"SUM(C46+D46+E46+F46+G46+H46+I46+J46+K46+L46+M46+N46+O46+P46+Q46+R46+S46)","v":0},null,null,null,null,null,null,null,null,null,null,null,null,null,null,null,null,null,null,null,null,null,0,null,null,null,0,null,null,null,null,null,null,null,null,null,null,null,null,null,null,null,null,null,null,null,null,null,null,null,null,null,null,null,null,null,null,null,null,null,null,null,null,null,null,null,null,null,null,null,null,null,null,null,null,null,null,null,null,null,null,null,null,0,null,0,0,0]
["CIRUGÍA DE CABEZA, CUELLO Y MAXILOFACIAL",{"$f":"SUM(C47+D47+E47+F47+G47+H47+I47+J47+K47+L47+M47+N47+O47+P47+Q47+R47+S47)","v":0},null,null,null,null,null,null,null,null,null,null,null,null,null,null,null,null,null,null,null,null,null,0,null,null,null,0,null,null,null,null,null,null,null,null,null,null,null,null,null,null,null,null,null,null,null,null,null,null,null,null,null,null,null,null,null,null,null,null,null,null,null,null,null,null,null,null,null,null,null,null,null,null,null,null,null,null,null,null,null,null,null,null,0,null,0,0,0]
["CIRUGÍA PLÁSTICA Y REPARADORA PEDIÁTRICA",{"$f":"SUM(C48+D48+E48+F48+G48+H48+I48+J48+K48)","v":0},null,null,null,null,null,null,null,null,null,null,null,null,null,null,null,null,null,null,null,null,null,0,null,null,null,0,null,null,null,null,null,null,null,null,null,null,null,null,null,null,null,null,null,null,null,null,null,null,null,null,null,null,null,null,null,null,null,null,null,null,null,null,null,null,null,null,null,null,null,null,null,null,null,null,null,null,null,null,null,null,null,null,0,null,0,0,0]
["CIRUGÍA PLÁSTICA Y REPARADORA",{"$f":"SUM(C49+D49+E49+F49+G49+H49+I49+J49+K49+L49+M49+N49+O49+P49+Q49+R49+S49)","v":0},null,null,null,null,null,null,null,null,null,null,null,null,null,null,null,null,null,null,null,null,null,0,null,null,null,0,null,null,null,null,null,null,null,null,null,null,null,null,null,null,null,null,null,null,null,null,null,null,null,null,null,null,null,null,null,null,null,null,null,null,null,null,null,null,null,null,null,null,null,null,null,null,null,null,null,null,null,null,null,null,null,null,0,null,0,0,0]
["COLOPROCTOLOGÍA",0,null,null,null,null,null,null,null,null,null,null,null,null,null,null,null,null,null,null,null,null,null,0,null,null,null,0,null,null,null,null,null,null,null,null,null,null,null,null,null,null,null,null,null,null,null,null,null,null,null,null,null,null,null,null,null,null,null,null,null,null,null,null,null,null,null,null,null,null,null,null,null,null,null,null,null,null,null,null,null,null,null,null,0,null,0,0,0]
["CIRUGÍA TÓRAX",0,null,null,null,null,null,null,null,null,null,null,null,null,null,null,null,null,null,null,null,null,null,0,null,null,null,0,null,null,null,null,null,null,null,null,null,null,null,null,null,null,null,null,null,null,null,null,null,null,null,null,null,null,null,null,null,null,null,null,null,null,null,null,null,null,null,null,null,null,null,null,null,null,null,null,null,null,null,null,null,null,null,null,0,null,0,0,0]
["CIRUGÍA VASCULAR PERIFÉRICA",0,null,null,null,null,null,null,null,null,null,null,null,null,null,null,null,null,null,null,null,null,null,0,null,null,null,0,null,null,null,null,null,null,null,null,null,null,null,null,null,null,null,null,null,null,null,null,null,null,null,null,null,null,null,null,null,null,null,null,null,null,null,null,null,null,null,null,null,null,null,null,null,null,null,null,null,null,null,null,null,null,null,null,0,null,0,0,0]
["NEUROCIRUGÍA",0,null,null,null,null,null,null,null,null,null,null,null,null,null,null,null,null,null,null,null,null,null,0,null,null,null,0,null,null,null,null,null,null,null,null,null,null,null,null,null,null,null,null,null,null,null,null,null,null,null,null,null,null,null,null,null,null,null,null,null,null,null,null,null,null,null,null,null,null,null,null,null,null,null,null,null,null,null,null,null,null,null,null,0,null,0,0,0]
["CIRUGÍA CARDIOVASCULAR",0,null,null,null,null,null,null,null,null,null,null,null,null,null,null,null,null,null,null,null,null,null,0,null,null,null,0,null,null,null,null,null,null,null,null,null,null,null,null,null,null,null,null,null,null,null,null,null,null,null,null,null,null,null,null,null,null,null,null,null,null,null,null,null,null,null,null,null,null,null,null,null,null,null,null,null,null,null,null,null,null,null,null,0,null,0,0,0]
["ANESTESIOLOGÍA",0,null,null,null,null,null,null,null,null,null,null,null,null,null,null,null,null,null,null,null,null,null,0,null,null,null,0,null,null,null,null,null,null,null,null,null,null,null,null,null,null,null,null,null,null,null,null,null,null,null,null,null,null,null,null,null,null,null,null,null,null,null,null,null,null,null,null,null,null,null,null,null,null,null,null,null,null,null,null,null,null,null,null,0,null,0,0,0]
["OBSTETRICIA",0,null,null,null,null,null,null,null,null,null,null,null,null,null,null,null,null,null,null,null,null,null,0,null,null,null,0,null,null,null,null,null,null,null,null,null,null,null,null,null,null,null,null,null,null,null,null,null,null,null,null,null,null,null,null,null,null,null,null,null,null,null,null,null,null,null,null,null,null,null,null,null,null,null,null,null,null,null,null,null,null,null,null,0,null,0,0,0]
["GINECOLOGÍA PEDIÁTRICA Y DE LA ADOLESCENCIA",{"$f":"SUM(C57+D57+E57+F57+G57+H57+I57+J57+K57)","v":0},null,null,null,null,null,null,null,null,null,null,null,null,null,null,null,null,null,null,null,null,null,0,null,null,null,0,null,null,null,null,null,null,null,null,null,null,null,null,null,null,null,null,null,null,null,null,null,null,null,null,null,null,null,null,null,null,null,null,null,null,null,null,null,null,null,null,null,null,null,null,null,null,null,null,null,null,null,null,null,null,null,null,0,null,0,0,0]
["GINECOLOGÍA",{"$f":"SUM(C58+D58+E58+F58+G58+H58+I58+J58+K58+L58+M58+N58+O58+P58+Q58+R58+S58)","v":0},null,null,null,null,null,null,null,null,null,null,null,null,null,null,null,null,null,null,null,null,null,0,null,null,null,0,null,null,null,null,null,null,null,null,null,null,null,null,null,null,null,null,null,null,null,null,null,null,null,null,null,null,null,null,null,null,null,null,null,null,null,null,null,null,null,null,null,null,null,null,null,null,null,null,null,null,null,null,null,null,null,null,0,null,0,0,0]
["OFTALMOLOGÍA",{"$f":"SUM(C59+D59+E59+F59+G59+H59+I59+J59+K59+L59+M59+N59+O59+P59+Q59+R59+S59)","v":0},null,null,null,null,null,null,null,null,null,null,null,null,null,null,null,null,null,null,null,null,null,0,null,null,null,0,null,null,null,null,null,null,null,null,null,null,null,null,null,null,null,null,null,null,null,null,null,null,null,null,null,null,null,null,null,null,null,null,null,null,null,null,null,null,null,null,null,null,null,null,null,null,null,null,null,null,null,null,null,null,null,null,0,null,0,0,0]
["OTORRINOLARINGOLOGÍA",{"$f":"SUM(C60+D60+E60+F60+G60+H60+I60+J60+K60+L60+M60+N60+O60+P60+Q60+R60+S60)","v":0},null,null,null,null,null,null,null,null,null,null,null,null,null,null,null,null,null,null,null,null,null,0,null,null,null,0,null,null,null,null,null,null,null,null,null,null,null,null,null,null,null,null,null,null,null,null,null,null,null,null,null,null,null,null,null,null,null,null,null,null,null,null,null,null,null,null,null,null,null,null,null,null,null,null,null,null,null,null,null,null,null,null,0,null,0,0,0]
["TRAUMATOLOGÍA Y ORTOPEDIA PEDIÁTRICA",{"$f":"SUM(C61+D61+E61+F61+G61+H61+I61+J61+K61)","v":0},null,null,null,null,null,null,null,null,null,null,null,null,null,null,null,null,null,null,null,null,null,0,null,null,null,0,null,null,null,null,null,null,null,null,null,null,null,null,null,null,null,null,null,null,null,null,null,null,null,null,null,null,null,null,null,null,null,null,null,null,null,null,null,null,null,null,null,null,null,null,null,null,null,null,null,null,null,null,null,null,null,null,0,null,0,0,0]
["TRAUMATOLOGÍA Y ORTOPEDIA",{"$f":"SUM(C62+D62+E62+F62+G62+H62+I62+J62+K62+L62+M62+N62+O62+P62+Q62+R62+S62)","v":0},null,null,null,null,null,null,null,null,null,null,null,null,null,null,null,null,null,null,null,null,null,0,null,null,null,0,null,null,null,null,null,null,null,null,null,null,null,null,null,null,null,null,null,null,null,null,null,null,null,null,null,null,null,null,null,null,null,null,null,null,null,null,null,null,null,null,null,null,null,null,null,null,null,null,null,null,null,null,null,null,null,null,0,null,0,0,0]
["UROLOGÍA PEDIÁTRICA",{"$f":"SUM(C63+D63+E63+F63+G63+H63+I63+J63+K63)","v":0},null,null,null,null,null,null,null,null,null,null,null,null,null,null,null,null,null,null,null,null,null,0,null,null,null,0,null,null,null,null,null,null,null,null,null,null,null,null,null,null,null,null,null,null,null,null,null,null,null,null,null,null,null,null,null,null,null,null,null,null,null,null,null,null,null,null,null,null,null,null,null,null,null,null,null,null,null,null,null,null,null,null,0,null,0,0,0]
["UROLOGÍA",{"$f":"SUM(C64+D64+E64+F64+G64+H64+I64+J64+K64+L64+M64+N64+O64+P64+Q64+R64+S64)","v":0},null,null,null,null,null,null,null,null,null,null,null,null,null,null,null,null,null,null,null,null,null,0,null,null,null,0,null,null,null,null,null,null,null,null,null,null,null,null,null,null,null,null,null,null,null,null,null,null,null,null,null,null,null,null,null,null,null,null,null,null,null,null,null,null,null,null,null,null,null,null,null,null,null,null,null,null,null,null,null,null,null,null,0,null,0,0,0]
["MEDICINA FAMILIAR DEL NIÑO",{"$f":"SUM(C65+D65+E65+F65+G65+H65+I65+J65+K65)","v":0},null,null,null,null,null,null,null,null,null,null,null,null,null,null,null,null,null,null,null,null,null,0,null,null,null,0,null,null,null,null,null,null,null,null,null,null,null,null,null,null,null,null,null,null,null,null,null,null,null,null,null,null,null,null,null,null,null,null,null,null,null,null,null,null,null,null,null,null,null,null,null,null,null,null,null,null,null,null,null,null,null,null,0,null,0,0,0]
["MEDICINA FAMILIAR",{"$f":"SUM(C66+D66+E66+F66+G66+H66+I66+J66+K66+L66+M66+N66+O66+P66+Q66+R66+S66)","v":0},null,null,null,null,null,null,null,null,null,null,null,null,null,null,null,null,null,null,null,null,null,0,null,null,null,0,null,null,null,null,null,null,null,null,null,null,null,null,null,null,null,null,null,null,null,null,null,null,null,null,null,null,null,null,null,null,null,null,null,null,null,null,null,null,null,null,null,null,null,null,null,null,null,null,null,null,null,null,null,null,null,null,0,null,0,0,0]
["DIABETOLOGÍA",{"$f":"SUM(C67+D67+E67+F67+G67+H67+I67+J67+K67+L67+M67+N67+O67+P67+Q67+R67+S67)","v":0},null,null,null,null,null,null,null,null,null,null,null,null,null,null,null,null,null,null,null,null,null,0,null,null,null,0,null,null,null,null,null,null,null,null,null,null,null,null,null,null,null,null,null,null,null,null,null,null,null,null,null,null,null,null,null,null,null,null,null,null,null,null,null,null,null,null,null,null,null,null,null,null,null,null,null,null,null,null,null,null,null,null,0,null,0,0,0]
["MEDICINA NUCLEAR (EXCLUYE INFORMES)",{"$f":"SUM(C68+D68+E68+F68+G68+H68+I68+J68+K68+L68+M68+N68+O68+P68+Q68+R68+S68)","v":0},null,null,null,null,null,null,null,null,null,null,null,null,null,null,null,null,null,null,null,null,null,{"$f":"SUM(Y68+Z68+AA68)","v":0},null,null,null,0,null,null,null,null,null,null,null,null,null,null,null,null,null,null,null,null,null,null,null,null,null,null,null,null,null,null,null,null,null,null,null,null,null,null,null,null,null,null,null,null,null,null,null,null,null,null,null,null,null,null,null,null,null,null,null,null,0,null,0,0,0]
["IMAGENOLOGÍA",{"$f":"SUM(C69+D69+E69+F69+G69+H69+I69+J69+K69+L69+M69+N69+O69+P69+Q69+R69+S69)","v":0},null,null,null,null,null,null,null,null,null,null,null,null,null,null,null,null,null,null,null,null,null,{"$f":"SUM(Y69+Z69+AA69)","v":0},null,null,null,0]
["RADIOTERAPIA ONCOLÓGICA",{"$f":"SUM(C70+D70+E70+F70+G70+H70+I70+J70+K70+L70+M70+N70+O70+P70+Q70+R70+S70)","v":0},null,null,null,null,null,null,null,null,null,null,null,null,null,null,null,null,null,null,null,null,null,0,null,null,null,0]
["TOTAL",{"$f":"SUM(B12:B70)","v":0},{"$f":"SUM(C12:C70)","v":0},{"$f":"SUM(D12:D70)","v":0},{"$f":"SUM(E12:E70)","v":0},{"$f":"SUM(F12:F70)","v":0},{"$f":"SUM(G12:G70)","v":0},{"$f":"SUM(H12:H70)","v":0},{"$f":"SUM(I12:I70)","v":0},{"$f":"SUM(J12:J70)","v":0},{"$f":"SUM(K12:K70)","v":0},{"$f":"SUM(L12:L70)","v":0},{"$f":"SUM(M12:M70)","v":0},{"$f":"SUM(N12:N70)","v":0},{"$f":"SUM(O12:O70)","v":0},{"$f":"SUM(P12:P70)","v":0},{"$f":"SUM(Q12:Q70)","v":0},{"$f":"SUM(R12:R70)","v":0},{"$f":"SUM(S12:S70)","v":0},{"$f":"SUM(T12:T70)","v":0},{"$f":"SUM(U12:U70)","v":0},{"$f":"SUM(V12:V70)","v":0},{"$f":"SUM(W12:W70)","v":0},{"$f":"SUM(X12:X70)","v":0},{"$f":"SUM(Y12:Y70)","v":0},{"$f":"SUM(Z12:Z70)","v":0},{"$f":"SUM(AA12:AA70)","v":0},{"$f":"SUM(AB12:AB70)","v":0},{"$f":"SUM(AC12:AC70)","v":0},0,0,0,0,0,0,0,0,0,0,0,0,0,0,0,{"$f":"SUM(AS12:AS70)","v":0},{"$f":"SUM(AT12:AT70)","v":0},{"$f":"SUM(AU12:AU70)","v":0},0,0]
["SECCIÓN B: ATENCIONES MEDICAS POR PROGRAMAS Y POLICLINICOS ESPECIALISTAS ACREDITADOS"]
["ATENCIONES","TOTAL","0 - 4 años","5 - 9 años","10 - 14 años","15 - 19 años","20 - 24 años","25 - 29 años","30 - 34 años","35 - 39 años","40 - 44 años","45 - 49 años","50 - 54 años","55 - 59 años","60 - 64 años","65 - 69 años","70 - 74 años","75 - 79 años","80  años y mas"]
["ARRITMIAS",{"$f":"SUM(C74:S74)","v":0}]
["DIABETES",0]
["CIRUGÍA DE MAMAS",0]
["ALTO RIESGO OBSTÉTRICO",0]
["TRATAMIENTO ANTICOAGULANTE",0]
["CUIDADOS PALIATIVOS",0]
["INFERTILIDAD",0]
["PATOLOGÍA CERVICAL",0]
["PATOLOGÍA DE MAMAS",0]
["ADOLESCENCIA",0]
["NINEAS",0]
["NANEAS",0]
["ITS",0]
["VIH/SIDA",0]
["MEDICINAL OCUPACIONAL (SALUD DEL PERSONAL)",0]
["TOTAL ",{"$f":"SUM(B74:B88)","v":0},0,0,0,0,0,0,0,0,0,0,0,0,0,0,0,0,0]
["SECCIÓN C: CONSULTAS Y CONTROLES POR OTROS PROFESIONALES EN ESPECIALIDAD (NIVEL SECUNDARIO)"]
["PROFESIONAL",null,"TOTAL ",null,null,"POR EDAD (en años)",null,null,null,null,null,null,null,null,null,null,null,null,null,null,null,null,null,null,null,null,null,null,null,null,null,null,null,null,null,null,null,null,null,"Beneficiarios","Total Controles (incluidos en grupo de edad)","Pueblos Originarios","Migrantes"]
[null,null,null,null,null,"0 - 4",null,"5 - 9",null,"10 - 14",null,"15 - 19",null,"20 - 24",null,"25 - 29",null,"30 - 34",null,"35 - 39",null,"40 - 44",null,"45 - 49",null,"50 - 54",null,"55 - 59",null,"60 - 64",null,"65 - 69",null,"70 - 74",null,"75 - 79",null,"80 y mas"]
[null,null,"Ambos Sexos","Hombres","Mujeres","Hombres","Mujeres","Hombres","Mujeres","Hombres","Mujeres","Hombres","Mujeres","Hombres","Mujeres","Hombres","Mujeres","Hombres","Mujeres","Hombres","Mujeres","Hombres","Mujeres","Hombres","Mujeres","Hombres","Mujeres","Hombres","Mujeres","Hombres","Mujeres","Hombres","Mujeres","Hombres","Mujeres","Hombres","Mujeres","Hombres","Mujeres"]
["ENFERMERA",null,{"$f":"SUM(D94+E94)","v":0},{"$f":"SUM(F94+H94+J94+L94+N94+P94+R94+T94+V94+X94+Z94+AB94+AD94+AF94+AH94+AJ94+AL94)","v":0},{"$f":"SUM(G94+I94+K94+M94+O94+Q94+S94+U94+W94+Y94+AA94+AC94+AE94+AG94+AI94+AK94+AM94)","v":0},null,null,null,null,null,null,null,null,null,null,null,null,null,null,null,null,null,null,null,null,null,null,null,null,null,null,null,null,null,null,null,null,null,null,null,null,null,null,null,null,null,null,null,null,null,null,null,null,null,null,null,null,null,null,null,null,null,null,null,null,null,null,null,null,null,null,null,null,null,null,null,null,null,null,null,null,null,null,null,0,0,0,0]
["MATRONA","ARO",null,null,{"$f":"SUM(G95+I95+K95+M95+O95+Q95+S95+U95+W95+Y95+AA95+AC95+AE95+AG95+AI95+AK95+AM95)","v":0},null,null,null,null,null,null,null,null,null,null,null,null,null,null,null,null,null,null,null,null,null,null,null,null,null,null,null,null,null,null,null,null,null,null,null,null,null,null,null,null,null,null,null,null,null,null,null,null,null,null,null,null,null,null,null,null,null,null,null,null,null,null,null,null,null,null,null,null,null,null,null,null,null,null,null,null,null,null,null,0,0,0,0]
[null,"GINECOLOGÍA Y OTROS",{"$f":"SUM(D96+E96)","v":0},{"$f":"SUM(F96+H96+J96+L96+N96+P96+R96+T96+V96+X96+Z96+AB96+AD96+AF96+AH96+AJ96+AL96)","v":0},{"$f":"SUM(G96+I96+K96+M96+O96+Q96+S96+U96+W96+Y96+AA96+AC96+AE96+AG96+AI96+AK96+AM96)","v":0},null,null,null,null,null,null,null,null,null,null,null,null,null,null,null,null,null,null,null,null,null,null,null,null,null,null,null,null,null,null,null,null,null,null,null,null,null,null,null,null,null,null,null,null,null,null,null,null,null,null,null,null,null,null,null,null,null,null,null,null,null,null,null,null,null,null,null,null,null,null,null,null,null,null,null,null,null,null,null,0,0,0,0]
[null,"INFERTILIDAD",0,{"$f":"SUM(N97+P97+R97+T97+V97+X97+Z97)","v":0},{"$f":"SUM(O97+Q97+S97+U97+W97+Y97+AA97)","v":0},null,null,null,null,null,null,null,null,null,null,null,null,null,null,null,null,null,null,null,null,null,null,null,null,null,null,null,null,null,null,null,null,null,null,null,null,null,null,null,null,null,null,null,null,null,null,null,null,null,null,null,null,null,null,null,null,null,null,null,null,null,null,null,null,null,null,null,null,null,null,null,null,null,null,null,null,null,null,null,0,0,0,0]
["NUTRICIONISTA",null,0,{"$f":"SUM(F98+H98+J98+L98+N98+P98+R98+T98+V98+X98+Z98+AB98+AD98+AF98+AH98+AJ98+AL98)","v":0},0,null,null,null,null,null,null,null,null,null,null,null,null,null,null,null,null,null,null,null,null,null,null,null,null,null,null,null,null,null,null,null,null,null,null,null,null,null,null,null,null,null,null,null,null,null,null,null,null,null,null,null,null,null,null,null,null,null,null,null,null,null,null,null,null,null,null,null,null,null,null,null,null,null,null,null,null,null,null,null,0,0,0,0]
["PSICÓLOGO (EXCLUYE SM)",null,0,0,0,null,null,null,null,null,null,null,null,null,null,null,null,null,null,null,null,null,null,null,null,null,null,null,null,null,null,null,null,null,null,null,null,null,null,null,null,null,null,null,null,null,null,null,null,null,null,null,null,null,null,null,null,null,null,null,null,null,null,null,null,null,null,null,null,null,null,null,null,null,null,null,null,null,null,null,null,null,null,null,0,0,0,0]
["FONOAUDIÓLOGO",null,0,0,0,null,null,null,null,null,null,null,null,null,null,null,null,null,null,null,null,null,null,null,null,null,null,null,null,null,null,null,null,null,null,null,null,null,null,null,null,null,null,null,null,null,null,null,null,null,null,null,null,null,null,null,null,null,null,null,null,null,null,null,null,null,null,null,null,null,null,null,null,null,null,null,null,null,null,null,null,null,null,null,0,0,0,0]
["KINESIÓLOGO",null,0,0,0,null,null,null,null,null,null,null,null,null,null,null,null,null,null,null,null,null,null,null,null,null,null,null,null,null,null,null,null,null,null,null,null,null,null,null,null,null,null,null,null,null,null,null,null,null,null,null,null,null,null,null,null,null,null,null,null,null,null,null,null,null,null,null,null,null,null,null,null,null,null,null,null,null,null,null,null,null,null,null,0,0,0,0]
["TERAPEUTA OCUPACIONAL",null,0,0,0,null,null,null,null,null,null,null,null,null,null,null,null,null,null,null,null,null,null,null,null,null,null,null,null,null,null,null,null,null,null,null,null,null,null,null,null,null,null,null,null,null,null,null,null,null,null,null,null,null,null,null,null,null,null,null,null,null,null,null,null,null,null,null,null,null,null,null,null,null,null,null,null,null,null,null,null,null,null,null,0,0,0,0]
["TECNÓLOGO MÉDICO",null,0,0,0,null,null,null,null,null,null,null,null,null,null,null,null,null,null,null,null,null,null,null,null,null,null,null,null,null,null,null,null,null,null,null,null,null,null,null,null,null,null,null,null,null,null,null,null,null,null,null,null,null,null,null,null,null,null,null,null,null,null,null,null,null,null,null,null,null,null,null,null,null,null,null,null,null,null,null,null,null,null,null,0,0,0,0]
["ASISTENTE  SOCIAL",null,0,0,0,null,null,null,null,null,null,null,null,null,null,null,null,null,null,null,null,null,null,null,null,null,null,null,null,null,null,null,null,null,null,null,null,null,null,null,null,null,null,null,null,null,null,null,null,null,null,null,null,null,null,null,null,null,null,null,null,null,null,null,null,null,null,null,null,null,null,null,null,null,null,null,null,null,null,null,null,null,null,null,0,0,0,0]
["TOTAL",null,{"$f":"SUM(C94:C104)","v":0},0,0,0,0,0,0,0,0,0,0,0,0,0,0,0,0,0,0,0,0,0,0,0,0,0,0,0,0,0,0,0,0,0,0,0,0,0,0,0,0,"   "]
["SECCIÓN D: CONSULTAS INFECCIÓN TRANSMISIÓN SEXUAL (ITS) Y CONTROLES DE SALUD SEXUAL EN EL NIVEL SECUNDARIO (Incluidas en Sección C)"]
["ACTIVIDAD","PROFESIONAL","TOTAL ",null,null,"POR EDAD (en años)",null,null,null,null,null,null,null,null,null,null,null,null,null,null,null,null,null,null,null,null,null,null,null,null,null,null,null,null,null,null,null,null,null,"Beneficiarios","Trans",null,"Pueblos Originarios","Migrantes","Niños, Niñas, Adolescentes y Jóvenes Población SENAME"]
[null,null,null,null,null,"0 - 4",null,"5 - 9",null,"10 - 14",null,"15 - 19",null,"20 - 24",null,"25 - 29",null,"30 - 34",null,"35 - 39",null,"40 - 44",null,"45 - 49",null,"50 - 54",null,"55 - 59",null,"60 - 64",null,"65 - 69",null,"70 - 74",null,"75 - 79",null,"80 y mas",null,null,null,null,null,null,null,null,null,null,null,null,null,null,null,null,null,null,null,null,null,null,null,null,null,null,null,null,null,null,null,null,null,null,null,null,null,null,null,null,null,null,null,null,null,null,0,0,0]
[null,null,"Ambos Sexos","Hombre","Mujer","Hombre","Mujer","Hombre","Mujer","Hombre","Mujer","Hombre","Mujer","Hombre","Mujer","Hombre","Mujer","Hombre","Mujer","Hombre","Mujer","Hombre","Mujer","Hombre","Mujer","Hombre","Mujer","Hombre","Mujer","Hombre","Mujer","Hombre","Mujer","Hombre","Mujer","Hombre","Mujer","Hombre","Mujer",null,"Masculino","Femenino",null,null,null,null,null,null,null,null,null,null,null,null,null,null,null,null,null,null,null,null,null,null,null,null,null,null,null,null,null,null,null,null,null,null,null,null,null,"* No olvide digitar la columna Beneficiarios y/o Trans y/o Pueblos Originarios y/o Migrantes (Digite Cero si no tiene.). ","* El número de  Trans y/o Pueblos Originarios y/o Migrantes NO DEBE ser mayor que el Total. ",null,null,null,0,1,1]
["CONSULTAS  INFECCIÓN TRANSMISIÓN SEXUAL  (ITS) (excluir VIH/SIDA)","ENFERMERA",{"$f":"SUM(D110+E110)","v":0},{"$f":"SUM(F110+H110+J110+L110+N110+P110+R110+T110+V110+X110+Z110+AB110+AD110+AF110+AH110+AJ110+AL110)","v":0},{"$f":"SUM(G110+I110+K110+M110+O110+Q110+S110+U110+W110+Y110+AA110+AC110+AE110+AG110+AI110+AK110+AM110)","v":0},null,null,null,null,null,null,null,null,null,null,null,null,null,null,null,null,null,null,null,null,null,null,null,null,null,null,null,null,null,null,null,null,null,null,null,null,null,null,null,null,null,null,null,null,null,null,null,null,null,null,null,null,null,null,null,null,null,null,null,null,null,null,null,null,null,null,null,null,null,null,null,null,null,null,null,null,null,null,null,0,0,0]
[null,"MATRONA",0,0,0,null,null,null,null,null,null,null,null,null,null,null,null,null,null,null,null,null,null,null,null,null,null,null,null,null,null,null,null,null,null,null,null,null,null,null,null,null,null,null,null,null,null,null,null,null,null,null,null,null,null,null,null,null,null,null,null,null,null,null,null,null,null,null,null,null,null,null,null,null,null,null,null,null,null,null,null,null,null,null,0,0,0]
["CONSULTAS VIH/SIDA","ENFERMERA",0,0,{"$f":"SUM(G112+I112+K112+M112+O112+Q112+S112+U112+W112+Y112+AA112+AC112+AE112+AG112+AI112+AK112+AM112)","v":0},null,null,null,null,null,null,null,null,null,null,null,null,null,null,null,null,null,null,null,null,null,null,null,null,null,null,null,null,null,null,null,null,null,null,null,null,null,null,null,null,null,null,null,null,null,null,null,null,null,null,null,null,null,null,null,null,null,null,null,null,null,null,null,null,null,null,null,null,null,null,null,null,null,null,null,null,null,null,null,0,0,0]
[null,"MATRONA",0,0,0,null,null,null,null,null,null,null,null,null,null,null,null,null,null,null,null,null,null,null,null,null,null,null,null,null,null,null,null,null,null,null,null,null,null,null,null,null,null,null,null,null,null,null,null,null,null,null,null,null,null,null,null,null,null,null,null,null,null,null,null,null,null,null,null,null,null,null,null,null,null,null,null,null,null,null,null,null,null,null,0,0,0]
[null,"PSICOLOGO",0,0,0,null,null,null,null,null,null,null,null,null,null,null,null,null,null,null,null,null,null,null,null,null,null,null,null,null,null,null,null,null,null,null,null,null,null,null,null,null,null,null,null,null,null,null,null,null,null,null,null,null,null,null,null,null,null,null,null,null,null,null,null,null,null,null,null,null,null,null,null,null,null,null,null,null,null,null,null,null,null,null,0,0,0]
["CONTROL VIH CON TAR","ENFERMERA",0,0,0,null,null,null,null,null,null,null,null,null,null,null,null,null,null,null,null,null,null,null,null,null,null,null,null,null,null,null,null,null,null,null,null,null,null,null,null,null,null,null,null,null,null,null,null,null,null,null,null,null,null,null,null,null,null,null,null,null,null,null,null,null,null,null,null,null,null,null,null,null,null,null,null,null,null,null,null,null,null,null,0,0,0]
[null,"MATRONA",0,0,0,null,null,null,null,null,null,null,null,null,null,null,null,null,null,null,null,null,null,null,null,null,null,null,null,null,null,null,null,null,null,null,null,null,null,null,null,null,null,null,null,null,null,null,null,null,null,null,null,null,null,null,null,null,null,null,null,null,null,null,null,null,null,null,null,null,null,null,null,null,null,null,null,null,null,null,null,null,null,null,0,0,0]
["CONTROL VIH SIN TAR","ENFERMERA",0,0,0,null,null,null,null,null,null,null,null,null,null,null,null,null,null,null,null,null,null,null,null,null,null,null,null,null,null,null,null,null,null,null,null,null,null,null,null,null,null,null,null,null,null,null,null,null,null,null,null,null,null,null,null,null,null,null,null,null,null,null,null,null,null,null,null,null,null,null,null,null,null,null,null,null,null,null,null,null,null,null,0,0,0]
[null,"MATRONA",0,0,0,null,null,null,null,null,null,null,null,null,null,null,null,null,null,null,null,null,null,null,null,null,null,null,null,null,null,null,null,null,null,null,null,null,null,null,null,null,null,null,null,null,null,null,null,null,null,null,null,null,null,null,null,null,null,null,null,null,null,null,null,null,null,null,null,null,null,null,null,null,null,null,null,null,null,null,null,null,null,null,0,0,0]
["CONTROLES DE SALUD A PERSONAS QUE EJERCEN COMERCIO SEXUAL","ENFERMERA",0,{"$f":"SUM(L119+N119+P119+R119+T119+V119+X119+Z119+AB119+AD119+AF119+AH119+AJ119+AL119)","v":0},{"$f":"SUM(M119+O119+Q119+S119+U119+W119+Y119+AA119+AC119+AE119+AG119+AI119+AK119+AM119)","v":0},null,null,null,null,null,null,null,null,null,null,null,null,null,null,null,null,null,null,null,null,null,null,null,null,null,null,null,null,null,null,null,null,null,null,null,null,null,null,null,null,null,null,null,null,null,null,null,null,null,null,null,null,null,null,null,null,null,null,null,null,null,null,null,null,null,null,null,null,null,null,null,null,null,null,null,null,null,null,null,0,0,0]
[null,"MATRONA",0,{"$f":"SUM(L120+N120+P120+R120+T120+V120+X120+Z120+AB120+AD120+AF120+AH120+AJ120+AL120)","v":0},{"$f":"SUM(M120+O120+Q120+S120+U120+W120+Y120+AA120+AC120+AE120+AG120+AI120+AK120+AM120)","v":0},null,null,null,null,null,null,null,null,null,null,null,null,null,null,null,null,null,null,null,null,null,null,null,null,null,null,null,null,null,null,null,null,null,null,null,null,null,null,null,null,null,null,null,null,null,null,null,null,null,null,null,null,null,null,null,null,null,null,null,null,null,null,null,null,null,null,null,null,null,null,null,null,null,null,null,null,null,null,null,0,0,0]
[null,null,null,null,null,null,null,null,null,null,null,null,null,null,null,null,null,null,null,null,null,null,null,null,null,null,null,null,null,null,null,null,null,null,null,null,null,null,null,null,null,null,null,"   "]
[]
[]
[]
[]
[]
[]
[]
[]
[]
[]
[]
[]
[]
[]
[]
[]
[]
[]
[]
[]
[]
[]
[]
[]
[]
[]
[]
[]
[]
[]
[]
[]
[]
[]
[]
[]
[]
[]
[]
[]
[]
[]
[]
[]
[]
[]
[]
[]
[]
[]
[]
[]
[]
[]
[]
[]
[]
[]
[]
[]
[]
[]
[]
[]
[]
[]
[]
[]
[]
[]
[]
[]
[]
[]
[{"$f":"SUM(B71,B89,C105,C110:C120,AW71,AS71:AT71,X71:AW71)","v":0},{"$f":"SUM(CG7:CK122)","v":2}]

{"sheet":"A08","index":8,"n_rows":217,"n_cols":88,"rows_kept":217,"cut":false,"hidden":false,"merged":[[159,1,159,2],[162,5,162,6],[161,5,161,38],[162,37,162,38],[170,30,171,30],[167,0,167,1],[170,29,171,29],[170,31,171,31],[162,25,162,26],[162,27,162,28],[170,12,170,13],[169,23,171,23],[169,27,169,30],[170,6,170,7],[162,7,162,8],[169,26,171,26],[169,31,169,32],[162,9,162,10],[162,11,162,12],[170,8,170,9],[170,27,171,27],[165,0,165,1],[169,0,171,2],[170,14,170,15],[154,0,156,0],[115,3,115,12],[115,13,115,14],[115,0,116,1],[115,2,116,2],[117,0,118,0],[170,28,171,28],[169,22,171,22],[169,24,171,24],[145,0,146,0],[156,1,156,2],[155,1,155,2],[157,1,157,2],[158,1,158,2],[164,0,164,1],[161,2,162,4],[162,21,162,22],[162,23,162,24],[161,0,163,1],[157,0,159,0],[170,18,170,19],[154,1,154,2],[152,0,153,2],[148,0,150,0],[139,0,140,2],[120,0,121,0],[120,1,121,1],[136,0,136,3],[139,7,139,9],[144,0,144,1],[137,1,137,3],[141,0,142,0],[152,3,152,5],[152,7,153,7],[139,3,139,5],[110,17,110,18],[110,19,110,20],[110,9,110,10],[110,7,110,8],[162,31,162,32],[162,13,162,14],[162,15,162,16],[152,8,153,8],[169,25,171,25],[170,32,171,32],[139,10,139,12],[170,16,170,17],[170,20,170,21],[170,10,170,11],[104,17,104,18],[104,19,104,20],[103,5,103,38],[104,15,104,16],[104,23,104,24],[104,7,104,8],[172,1,174,1],[175,1,177,1],[169,3,170,5],[166,0,166,1],[169,6,169,21],[115,15,116,15],[110,15,110,16],[139,6,140,6],[162,33,162,34],[110,24,110,27],[104,29,104,30],[104,31,104,32],[152,6,153,6],[162,35,162,36],[162,17,162,18],[162,19,162,20],[162,29,162,30],[104,21,104,22],[104,37,104,38],[104,25,104,26],[104,27,104,28],[110,28,110,29],[110,21,110,22],[110,23,111,23],[43,38,45,38],[44,32,44,33],[33,38,35,38],[34,30,34,31],[34,32,34,33],[34,34,34,35],[34,36,34,37],[53,38,54,39],[103,39,105,39],[104,35,104,36],[104,33,104,34],[110,34,111,34],[110,30,110,33],[86,39,88,39],[44,24,44,25],[44,26,44,27],[44,28,44,29],[44,30,44,31],[112,0,112,1],[110,13,110,14],[110,5,110,6],[110,11,110,12],[34,14,34,15],[87,13,87,14],[110,2,110,4],[24,16,24,17],[16,32,16,33],[23,4,23,37],[87,9,87,10],[24,22,24,23],[86,2,87,4],[24,36,24,37],[24,14,24,15],[54,26,54,27],[44,34,44,35],[44,36,44,37],[87,23,87,24],[86,0,88,1],[87,29,87,30],[87,31,87,32],[87,11,87,12],[23,0,25,0],[53,1,54,3],[87,7,87,8],[54,4,54,5],[54,6,54,7],[54,8,54,9],[54,10,54,11],[53,4,53,37],[54,12,54,13],[54,14,54,15],[54,36,54,37],[54,34,54,35],[54,18,54,19],[54,20,54,21],[54,22,54,23],[54,30,54,31],[54,28,54,29],[87,5,87,6],[87,37,87,38],[87,15,87,16],[87,17,87,18],[87,33,87,34],[54,32,54,33],[54,24,54,25],[87,35,87,36],[5,0,5,14],[8,0,10,0],[8,1,9,3],[8,4,8,37],[9,30,9,31],[9,32,9,33],[9,22,9,23],[9,4,9,5],[9,6,9,7],[9,8,9,9],[9,10,9,11],[9,12,9,13],[9,14,9,15],[9,24,9,25],[9,26,9,27],[9,28,9,29],[9,34,9,35],[16,6,16,7],[16,8,16,9],[16,10,16,11],[33,0,35,0],[33,1,34,3],[33,4,33,37],[34,4,34,5],[34,6,34,7],[34,8,34,9],[34,10,34,11],[24,8,24,9],[24,10,24,11],[24,12,24,13],[24,30,24,31],[24,4,24,5],[23,1,24,3],[24,32,24,33],[24,24,24,25],[24,28,24,29],[24,26,24,27],[24,34,24,35],[87,21,87,22],[34,24,34,25],[34,26,34,27],[34,28,34,29],[24,18,24,19],[24,20,24,21],[54,16,54,17],[34,16,34,17],[34,18,34,19],[34,20,34,21],[43,4,43,37],[44,4,44,5],[24,6,24,7],[8,39,8,42],[9,39,10,39],[16,12,16,13],[16,36,16,37],[16,14,16,15],[16,34,16,35],[16,26,16,27],[16,28,16,29],[16,30,16,31],[8,38,10,38],[14,0,14,12],[15,1,16,3],[15,4,15,37],[16,20,16,21],[16,22,16,23],[16,24,16,25],[16,16,16,17],[16,18,16,19],[9,36,9,37],[9,16,9,17],[9,18,9,19],[9,20,9,21],[15,0,17,0],[16,4,16,5],[53,0,55,0],[34,22,34,23],[95,0,95,1],[113,0,113,1],[98,0,98,2],[108,0,108,1],[99,0,101,1],[106,0,106,1],[103,0,105,1],[110,0,111,1],[96,0,96,1],[107,0,107,1],[93,0,93,1],[94,0,94,1],[104,9,104,10],[104,11,104,12],[104,5,104,6],[34,12,34,13],[103,2,104,4],[104,13,104,14],[86,5,86,38],[90,0,92,0],[89,0,89,1],[43,0,45,0],[43,1,44,3],[8,44,10,44],[15,39,17,39],[23,39,25,39],[33,39,35,39],[43,39,45,39],[87,19,87,20],[87,25,87,26],[87,27,87,28],[44,6,44,7],[44,8,44,9],[44,10,44,11],[44,12,44,13],[44,14,44,15],[44,16,44,17],[44,18,44,19],[44,20,44,21],[44,22,44,23],[9,40,10,40],[9,41,10,41],[9,42,10,42],[8,43,10,43],[15,38,17,38],[23,38,25,38],[179,0,180,0],[179,1,180,1],[172,0,177,0],[189,0,192,0],[189,1,190,3],[189,4,189,11],[189,12,190,13],[184,0,186,0],[184,1,185,3],[184,4,184,21],[185,4,185,5],[185,6,185,7],[185,14,185,15],[185,16,185,17],[185,18,185,19],[189,14,191,14],[190,4,190,5],[190,6,190,7],[190,8,190,9],[190,10,190,11],[185,20,185,21],[185,8,185,9],[185,10,185,11],[185,12,185,13]]}
["SERVICIO DE SALUD"]
[{"$f":"CONCATENATE(\"COMUNA: \",NOMBRE!B2,\" - \",\"( \",NOMBRE!C2,NOMBRE!D2,NOMBRE!E2,NOMBRE!F2,NOMBRE!G2,\" )\")","v":"COMUNA:  - (  )"}]
[{"$f":"CONCATENATE(\"ESTABLECIMIENTO/ESTRATEGIA: \",NOMBRE!B3,\" - \",\"( \",NOMBRE!C3,NOMBRE!D3,NOMBRE!E3,NOMBRE!F3,NOMBRE!G3,NOMBRE!H3,\" )\")","v":"ESTABLECIMIENTO/ESTRATEGIA:  - (  )"}]
[{"$f":"CONCATENATE(\"MES: \",NOMBRE!B6,\" - \",\"( \",NOMBRE!C6,NOMBRE!D6,\" )\")","v":"MES:  - (  )"}]
[{"$f":"CONCATENATE(\"AÑO: \",NOMBRE!B7)","v":"AÑO: 2019"}]
["REM-A08.  ATENCIÓN DE URGENCIA"]
["SECCIÓN A: ATENCIONES REALIZADAS EN UNIDADES DE URGENCIA DE LA RED"]
["SECCIÓN A.1: ATENCIONES REALIZADAS EN UNIDADES DE EMERGENCIA HOSPITALARIA DE ALTA Y MEDIANA COMPLEJIDAD (UEH)"]
["TIPO DE ATENCIÓN","TOTAL        ",null,null,"GRUPOS DE EDAD (en años)",null,null,null,null,null,null,null,null,null,null,null,null,null,null,null,null,null,null,null,null,null,null,null,null,null,null,null,null,null,null,null,null,null,"Beneficiarios","ORIGEN DE LA PROCEDENCIA (Sólo pacientes derivados de establecimientos de la Red)",null,null,null,"Establecimientos de otra Red","Demanda de Urgencia"]
[null,null,null,null,"0 - 4",null,"5 - 9",null,"10 - 14",null,"15 - 19",null,"20 - 24",null,"25 - 29",null,"30 - 34",null,"35 - 39",null,"40 - 44",null,"45 - 49",null,"50 - 54",null,"55 - 59",null,"60 - 64",null,"65 - 69",null,"70 - 74",null,"75 - 79",null,"80 y mas",null,null,"SAPU/ SAR / SUR","Hospital Baja Complejidad","Hospital Mediana/Alta Complejidad","Otros Estableci-mientos de la  Red"]
[null,"Ambos Sexos","Hombres","Mujeres","Hombres","Mujeres","Hombres","Mujeres","Hombres","Mujeres","Hombres","Mujeres","Hombres","Mujeres","Hombres","Mujeres","Hombres","Mujeres","Hombres","Mujeres","Hombres","Mujeres","Hombres","Mujeres","Hombres","Mujeres","Hombres","Mujeres","Hombres","Mujeres","Hombres","Mujeres","Hombres","Mujeres","Hombres","Mujeres","Hombres","Mujeres"]
["ATENCIÓN MÉDICA NIÑO Y ADULTO",{"$f":"SUM(C12+D12)","v":0},{"$f":"SUM(E12+G12+I12+K12+M12+O12+Q12+S12+U12+W12+Y12+AA12+AC12+AE12+AG12+AI12+AK12)","v":0},0,null,null,null,null,null,null,null,null,null,null,null,null,null,null,null,null,null,null,null,null,null,null,null,null,null,null,null,null,null,null,null,null,null,null,null,null,null,null,null,null,null,null,null,null,null,null,null,null,null,null,null,null,null,null,null,null,null,null,null,null,null,null,null,null,null,null,null,null,null,null,null,null,null,null,null,null,null,null,null,null,0,0,0,0]
["ATENCIÓN MÉDICA GINECO-OBSTETRA",{"$f":"SUM(C13+D13)","v":0},0,0,null,null,null,null,null,null,null,null,null,null,null,null,null,null,null,null,null,null,null,null,null,null,null,null,null,null,null,null,null,null,null,null,null,null,null,null,null,null,null,null,null,null,null,null,null,null,null,null,null,null,null,null,null,null,null,null,null,null,null,null,null,null,null,null,null,null,null,null,null,null,null,null,null,null,null,null,null,null,null,null,0,0,0,0]
["ATENCIÓN POR MATRONA",{"$f":"SUM(C14+D14)","v":0},0,0,null,null,null,null,null,null,null,null,null,null,null,null,null,null,null,null,null,null,null,null,null,null,null,null,null,null,null,null,null,null,null,null,null,null,null,null,null,null,null,null,null,null,null,null,null,null,null,null,null,null,null,null,null,null,null,null,null,null,null,null,null,null,null,null,null,null,null,null,null,null,null,null,null,null,null,null,null,null,null,null,0,0]
["SECCIÓN A.2: ATENCIONES DE URGENCIA REALIZADAS EN SAPU Y SAR"]
["PROFESIONAL","TOTAL        ",null,null,"GRUPOS DE EDAD (en años)",null,null,null,null,null,null,null,null,null,null,null,null,null,null,null,null,null,null,null,null,null,null,null,null,null,null,null,null,null,null,null,null,null,"Beneficiarios","Demanda de Urgencia"]
[null,null,null,null,"0 - 4",null,"5 - 9",null,"10 - 14",null,"15 - 19",null,"20 - 24",null,"25 - 29",null,"30 - 34",null,"35 - 39",null,"40 - 44",null,"45 - 49",null,"50 - 54",null,"55 - 59",null,"60 - 64",null,"65 - 69",null,"70 - 74",null,"75 - 79",null,"80 y mas"]
[null,"Ambos Sexos","Hombres ","Mujeres","Hombres ","Mujeres","Hombres ","Mujeres","Hombres ","Mujeres","Hombres ","Mujeres","Hombres ","Mujeres","Hombres ","Mujeres","Hombres ","Mujeres","Hombres ","Mujeres","Hombres ","Mujeres","Hombres ","Mujeres","Hombres ","Mujeres","Hombres ","Mujeres","Hombres ","Mujeres","Hombres ","Mujeres","Hombres ","Mujeres","Hombres ","Mujeres","Hombres ","Mujeres"]
["MÉDICO",{"$f":"SUM(C19+D19)","v":0},{"$f":"SUM(E19+G19+I19+K19+M19+O19+Q19+S19+U19+W19+Y19+AA19+AC19+AE19+AG19+AI19+AK19)","v":0},0,null,null,null,null,null,null,null,null,null,null,null,null,null,null,null,null,null,null,null,null,null,null,null,null,null,null,null,null,null,null,null,null,null,null,null,null,null,null,null,null,null,null,null,null,null,null,null,null,null,null,null,null,null,null,null,null,null,null,null,null,null,null,null,null,null,null,null,null,null,null,null,null,null,null,null,null,null,null,null,null,0,0]
["ENFERMERA /O",{"$f":"SUM(C20+D20)","v":0},0,0,null,null,null,null,null,null,null,null,null,null,null,null,null,null,null,null,null,null,null,null,null,null,null,null,null,null,null,null,null,null,null,null,null,null,null,null,null,null,null,null,null,null,null,null,null,null,null,null,null,null,null,null,null,null,null,null,null,null,null,null,null,null,null,null,null,null,null,null,null,null,null,null,null,null,null,null,null,null,null,null,0,0]
["MATRONA /ÓN",{"$f":"SUM(C21+D21)","v":0},0,0,null,null,null,null,null,null,null,null,null,null,null,null,null,null,null,null,null,null,null,null,null,null,null,null,null,null,null,null,null,null,null,null,null,null,null,null,null,null,null,null,null,null,null,null,null,null,null,null,null,null,null,null,null,null,null,null,null,null,null,null,null,null,null,null,null,null,null,null,null,null,null,null,null,null,null,null,null,null,null,null,0,0]
["KINESIÓLOGO/ A",{"$f":"SUM(C22+D22)","v":0},0,0,null,null,null,null,null,null,null,null,null,null,null,null,null,null,null,null,null,null,null,null,null,null,null,null,null,null,null,null,null,null,null,null,null,null,null,null,null,null,null,null,null,null,null,null,null,null,null,null,null,null,null,null,null,null,null,null,null,null,null,null,null,null,null,null,null,null,null,null,null,null,null,null,null,null,null,null,null,null,null,null,0,0]
["SECCIÓN A.3: ATENCIONES DE URGENCIA REALIZADAS EN ESTABLECIMIENTOS DE BAJA COMPLEJIDAD"]
["PROFESIONAL","TOTAL        ",null,null,"GRUPOS DE EDAD (en años)",null,null,null,null,null,null,null,null,null,null,null,null,null,null,null,null,null,null,null,null,null,null,null,null,null,null,null,null,null,null,null,null,null,"Beneficiarios","Demanda de Urgencia"]
[null,null,null,null,"0 - 4",null,"5 - 9",null,"10 - 14",null,"15 - 19",null,"20 - 24",null,"25 - 29",null,"30 - 34",null,"35 - 39",null,"40 - 44",null,"45 - 49",null,"50 - 54",null,"55 - 59",null,"60 - 64",null,"65 - 69",null,"70 - 74",null,"75 - 79",null,"80 y mas"]
[null,"Ambos Sexos","Hombres ","Mujeres","Hombres ","Mujeres","Hombres ","Mujeres","Hombres ","Mujeres","Hombres ","Mujeres","Hombres ","Mujeres","Hombres ","Mujeres","Hombres ","Mujeres","Hombres ","Mujeres","Hombres ","Mujeres","Hombres ","Mujeres","Hombres ","Mujeres","Hombres ","Mujeres","Hombres ","Mujeres","Hombres ","Mujeres","Hombres ","Mujeres","Hombres ","Mujeres","Hombres ","Mujeres"]
["MÉDICO",{"$f":"SUM(C27+D27)","v":0},{"$f":"SUM(E27+G27+I27+K27+M27+O27+Q27+S27+U27+W27+Y27+AA27+AC27+AE27+AG27+AI27+AK27)","v":0},0,null,null,null,null,null,null,null,null,null,null,null,null,null,null,null,null,null,null,null,null,null,null,null,null,null,null,null,null,null,null,null,null,null,null,null,null,null,null,null,null,null,null,null,null,null,null,null,null,null,null,null,null,null,null,null,null,null,null,null,null,null,null,null,null,null,null,null,null,null,null,null,null,null,null,null,null,null,null,null,null,0,0]
["ENFERMERA /O",0,0,0,null,null,null,null,null,null,null,null,null,null,null,null,null,null,null,null,null,null,null,null,null,null,null,null,null,null,null,null,null,null,null,null,null,null,null,null,null,null,null,null,null,null,null,null,null,null,null,null,null,null,null,null,null,null,null,null,null,null,null,null,null,null,null,null,null,null,null,null,null,null,null,null,null,null,null,null,null,null,null,null,0,0]
["MATRONA /ÓN",0,0,0,null,null,null,null,null,null,null,null,null,null,null,null,null,null,null,null,null,null,null,null,null,null,null,null,null,null,null,null,null,null,null,null,null,null,null,null,null,null,null,null,null,null,null,null,null,null,null,null,null,null,null,null,null,null,null,null,null,null,null,null,null,null,null,null,null,null,null,null,null,null,null,null,null,null,null,null,null,null,null,null,0,0]
["KINESIÓLOGO/A",0,0,0,null,null,null,null,null,null,null,null,null,null,null,null,null,null,null,null,null,null,null,null,null,null,null,null,null,null,null,null,null,null,null,null,null,null,null,null,null,null,null,null,null,null,null,null,null,null,null,null,null,null,null,null,null,null,null,null,null,null,null,null,null,null,null,null,null,null,null,null,null,null,null,null,null,null,null,null,null,null,null,null,0,0]
["TÉCNICO PARAMÉDICO",0,0,0,null,null,null,null,null,null,null,null,null,null,null,null,null,null,null,null,null,null,null,null,null,null,null,null,null,null,null,null,null,null,null,null,null,null,null,null,null,null,null,null,null,null,null,null,null,null,null,null,null,null,null,null,null,null,null,null,null,null,null,null,null,null,null,null,null,null,null,null,null,null,null,null,null,null,null,null,null,null,null,null,0,0]
["OTROS PROFESIONALES",0,0,0,null,null,null,null,null,null,null,null,null,null,null,null,null,null,null,null,null,null,null,null,null,null,null,null,null,null,null,null,null,null,null,null,null,null,null,null,null,null,null,null,null,null,null,null,null,null,null,null,null,null,null,null,null,null,null,null,null,null,null,null,null,null,null,null,null,null,null,null,null,null,null,null,null,null,null,null,null,null,null,null,0,0]
["SECCIÓN A.4: ATENCIONES DE URGENCIA REALIZADAS EN ESTABLECIMIENTOS  ATENCIÓN PRIMARIA NO SAPU"]
["PROFESIONAL","TOTAL        ",null,null,"GRUPOS DE EDAD (en años)",null,null,null,null,null,null,null,null,null,null,null,null,null,null,null,null,null,null,null,null,null,null,null,null,null,null,null,null,null,null,null,null,null,"Beneficiarios","Demanda de Urgencia"]
[null,null,null,null,"0 - 4",null,"5 - 9",null,"10 - 14",null,"15 - 19",null,"20 - 24",null,"25 - 29",null,"30 - 34",null,"35 - 39",null,"40 - 44",null,"45 - 49",null,"50 - 54",null,"55 - 59",null,"60 - 64",null,"65 - 69",null,"70 - 74",null,"75 - 79",null,"80 y mas"]
[null,"Ambos Sexos","Hombres ","Mujeres","Hombres ","Mujeres","Hombres ","Mujeres","Hombres ","Mujeres","Hombres ","Mujeres","Hombres ","Mujeres","Hombres ","Mujeres","Hombres ","Mujeres","Hombres ","Mujeres","Hombres ","Mujeres","Hombres ","Mujeres","Hombres ","Mujeres","Hombres ","Mujeres","Hombres ","Mujeres","Hombres ","Mujeres","Hombres ","Mujeres","Hombres ","Mujeres","Hombres ","Mujeres"]
["MÉDICO",{"$f":"SUM(C37+D37)","v":0},{"$f":"SUM(E37+G37+I37+K37+M37+O37+Q37+S37+U37+W37+Y37+AA37+AC37+AE37+AG37+AI37+AK37)","v":0},0,null,null,null,null,null,null,null,null,null,null,null,null,null,null,null,null,null,null,null,null,null,null,null,null,null,null,null,null,null,null,null,null,null,null,null,null,null,null,null,null,null,null,null,null,null,null,null,null,null,null,null,null,null,null,null,null,null,null,null,null,null,null,null,null,null,null,null,null,null,null,null,null,null,null,null,null,null,null,null,null,0,0]
["ENFERMERA /O",0,0,0,null,null,null,null,null,null,null,null,null,null,null,null,null,null,null,null,null,null,null,null,null,null,null,null,null,null,null,null,null,null,null,null,null,null,null,null,null,null,null,null,null,null,null,null,null,null,null,null,null,null,null,null,null,null,null,null,null,null,null,null,null,null,null,null,null,null,null,null,null,null,null,null,null,null,null,null,null,null,null,null,0,0]
["MATRONA /ÓN",0,0,0,null,null,null,null,null,null,null,null,null,null,null,null,null,null,null,null,null,null,null,null,null,null,null,null,null,null,null,null,null,null,null,null,null,null,null,null,null,null,null,null,null,null,null,null,null,null,null,null,null,null,null,null,null,null,null,null,null,null,null,null,null,null,null,null,null,null,null,null,null,null,null,null,null,null,null,null,null,null,null,null,0,0]
["KINESIÓLOGO/A",0,0,0,null,null,null,null,null,null,null,null,null,null,null,null,null,null,null,null,null,null,null,null,null,null,null,null,null,null,null,null,null,null,null,null,null,null,null,null,null,null,null,null,null,null,null,null,null,null,null,null,null,null,null,null,null,null,null,null,null,null,null,null,null,null,null,null,null,null,null,null,null,null,null,null,null,null,null,null,null,null,null,null,0,0]
["TÉCNICO PARAMÉDICO",0,0,0,null,null,null,null,null,null,null,null,null,null,null,null,null,null,null,null,null,null,null,null,null,null,null,null,null,null,null,null,null,null,null,null,null,null,null,null,null,null,null,null,null,null,null,null,null,null,null,null,null,null,null,null,null,null,null,null,null,null,null,null,null,null,null,null,null,null,null,null,null,null,null,null,null,null,null,null,null,null,null,null,0,0]
["OTROS PROFESIONALES",0,0,0,null,null,null,null,null,null,null,null,null,null,null,null,null,null,null,null,null,null,null,null,null,null,null,null,null,null,null,null,null,null,null,null,null,null,null,null,null,null,null,null,null,null,null,null,null,null,null,null,null,null,null,null,null,null,null,null,null,null,null,null,null,null,null,null,null,null,null,null,null,null,null,null,null,null,null,null,null,null,null,null,0,0]
["SECCIÓN A.5:  CONSULTAS EN SISTEMA DE ATENCIÓN DE URGENCIA EN CENTROS DE SALUD RURAL (SUR) Y POSTAS RURALES"]
["PROFESIONAL","TOTAL        ",null,null,"GRUPOS DE EDAD (en años)",null,null,null,null,null,null,null,null,null,null,null,null,null,null,null,null,null,null,null,null,null,null,null,null,null,null,null,null,null,null,null,null,null,"Beneficiarios","Demanda de Urgencia"]
[null,null,null,null,"0 - 4",null,"5 - 9",null,"10 - 14",null,"15 - 19",null,"20 - 24",null,"25 - 29",null,"30 - 34",null,"35 - 39",null,"40 - 44",null,"45 - 49",null,"50 - 54",null,"55 - 59",null,"60 - 64",null,"65 - 69",null,"70 - 74",null,"75 - 79",null,"80 y mas"]
[null,"Ambos Sexos","Hombres ","Mujeres","Hombres ","Mujeres","Hombres ","Mujeres","Hombres ","Mujeres","Hombres ","Mujeres","Hombres ","Mujeres","Hombres ","Mujeres","Hombres ","Mujeres","Hombres ","Mujeres","Hombres ","Mujeres","Hombres ","Mujeres","Hombres ","Mujeres","Hombres ","Mujeres","Hombres ","Mujeres","Hombres ","Mujeres","Hombres ","Mujeres","Hombres ","Mujeres","Hombres ","Mujeres"]
["MÉDICO",{"$f":"SUM(C47+D47)","v":0},{"$f":"SUM(E47+G47+I47+K47+M47+O47+Q47+S47+U47+W47+Y47+AA47+AC47+AE47+AG47+AI47+AK47)","v":0},0,null,null,null,null,null,null,null,null,null,null,null,null,null,null,null,null,null,null,null,null,null,null,null,null,null,null,null,null,null,null,null,null,null,null,null,null,null,null,null,null,null,null,null,null,null,null,null,null,null,null,null,null,null,null,null,null,null,null,null,null,null,null,null,null,null,null,null,null,null,null,null,null,null,null,null,null,null,null,null,null,0,0]
["ENFERMERA /O",0,0,0,null,null,null,null,null,null,null,null,null,null,null,null,null,null,null,null,null,null,null,null,null,null,null,null,null,null,null,null,null,null,null,null,null,null,null,null,null,null,null,null,null,null,null,null,null,null,null,null,null,null,null,null,null,null,null,null,null,null,null,null,null,null,null,null,null,null,null,null,null,null,null,null,null,null,null,null,null,null,null,null,0,0]
["MATRONA /ÓN",0,0,0,null,null,null,null,null,null,null,null,null,null,null,null,null,null,null,null,null,null,null,null,null,null,null,null,null,null,null,null,null,null,null,null,null,null,null,null,null,null,null,null,null,null,null,null,null,null,null,null,null,null,null,null,null,null,null,null,null,null,null,null,null,null,null,null,null,null,null,null,null,null,null,null,null,null,null,null,null,null,null,null,0,0]
["KINESIÓLOGO/A",0,0,0,null,null,null,null,null,null,null,null,null,null,null,null,null,null,null,null,null,null,null,null,null,null,null,null,null,null,null,null,null,null,null,null,null,null,null,null,null,null,null,null,null,null,null,null,null,null,null,null,null,null,null,null,null,null,null,null,null,null,null,null,null,null,null,null,null,null,null,null,null,null,null,null,null,null,null,null,null,null,null,null,0,0]
["TÉCNICO PARAMÉDICO",0,0,0,null,null,null,null,null,null,null,null,null,null,null,null,null,null,null,null,null,null,null,null,null,null,null,null,null,null,null,null,null,null,null,null,null,null,null,null,null,null,null,null,null,null,null,null,null,null,null,null,null,null,null,null,null,null,null,null,null,null,null,null,null,null,null,null,null,null,null,null,null,null,null,null,null,null,null,null,null,null,null,null,0,0]
["OTROS PROFESIONALES",0,0,0,null,null,null,null,null,null,null,null,null,null,null,null,null,null,null,null,null,null,null,null,null,null,null,null,null,null,null,null,null,null,null,null,null,null,null,null,null,null,null,null,null,null,null,null,null,null,null,null,null,null,null,null,null,null,null,null,null,null,null,null,null,null,null,null,null,null,null,null,null,null,null,null,null,null,null,null,null,null,null,null,0,0]
["SECCIÓN B: CATEGORIZACIÓN DE PACIENTES, PREVIA A LA ATENCIÓN MÉDICA (Establecimientos Alta, Mediana o Baja Complejidad y SAR)."]
["CATEGORÍAS","TOTAL",null,null,"GRUPOS DE EDAD (en años)",null,null,null,null,null,null,null,null,null,null,null,null,null,null,null,null,null,null,null,null,null,null,null,null,null,null,null,null,null,null,null,null,null,"Herramientas de Categorización"]
[null,null,null,null,"0 - 4",null,"5 - 9",null,"10 - 14",null,"15 - 19",null,"20 - 24",null,"25 - 29",null,"30 - 34",null,"35 - 39",null,"40 - 44",null,"45 - 49",null,"50 - 54",null,"55 - 59",null,"60 - 64",null,"65 - 69",null,"70 - 74",null,"75 - 79",null,"80 y mas"]
[null,"Ambos Sexos","Hombres","Mujeres","Hombres","Mujeres","Hombres","Mujeres","Hombres","Mujeres","Hombres","Mujeres","Hombres","Mujeres","Hombres","Mujeres","Hombres","Mujeres","Hombres","Mujeres","Hombres","Mujeres","Hombres","Mujeres","Hombres","Mujeres","Hombres","Mujeres","Hombres","Mujeres","Hombres","Mujeres","Hombres","Mujeres","Hombres","Mujeres","Hombres","Mujeres","Discrecional","Estructurado (ESI)"]
["C1",{"$f":"SUM(C57+D57)","v":0},{"$f":"SUM(E57+G57+I57+K57+M57+O57+Q57+S57+U57+W57+Y57+AA57+AC57+AE57+AG57+AI57+AK57)","v":0},0,null,null,null,null,null,null,null,null,null,null,null,null,null,null,null,null,null,null,null,null,null,null,null,null,null,null,null,null,null,null,null,null,null,null,null,null,null,null,null,null,null,null,null,null,null,null,null,null,null,null,null,null,null,null,null,null,null,null,null,null,null,null,null,null,null,null,null,null,null,null,null,null,null,null,null,null,null,null,null,null,0]
["C2",0,0,0,null,null,null,null,null,null,null,null,null,null,null,null,null,null,null,null,null,null,null,null,null,null,null,null,null,null,null,null,null,null,null,null,null,null,null,null,null,null,null,null,null,null,null,null,null,null,null,null,null,null,null,null,null,null,null,null,null,null,null,null,null,null,null,null,null,null,null,null,null,null,null,null,null,null,null,null,null,null,null,null,0]
["C3",0,0,0,null,null,null,null,null,null,null,null,null,null,null,null,null,null,null,null,null,null,null,null,null,null,null,null,null,null,null,null,null,null,null,null,null,null,null,null,null,null,null,null,null,null,null,null,null,null,null,null,null,null,null,null,null,null,null,null,null,null,null,null,null,null,null,null,null,null,null,null,null,null,null,null,null,null,null,null,null,null,null,null,0]
["C4",0,0,0,null,null,null,null,null,null,null,null,null,null,null,null,null,null,null,null,null,null,null,null,null,null,null,null,null,null,null,null,null,null,null,null,null,null,null,null,null,null,null,null,null,null,null,null,null,null,null,null,null,null,null,null,null,null,null,null,null,null,null,null,null,null,null,null,null,null,null,null,null,null,null,null,null,null,null,null,null,null,null,null,0]
["C5",0,0,0,null,null,null,null,null,null,null,null,null,null,null,null,null,null,null,null,null,null,null,null,null,null,null,null,null,null,null,null,null,null,null,null,null,null,null,null,null,null,null,null,null,null,null,null,null,null,null,null,null,null,null,null,null,null,null,null,null,null,null,null,null,null,null,null,null,null,null,null,null,null,null,null,null,null,null,null,null,null,null,null,0]
["SIN CATEGORIZACIÓN",0,0,0,null,null,null,null,null,null,null,null,null,null,null,null,null,null,null,null,null,null,null,null,null,null,null,null,null,null,null,null,null,null,null,null,null,null,null,null,null,null,null,null,null,null,null,null,null,null,null,null,null,null,null,null,null,null,null,null,null,null,null,null,null,null,null,null,null,null,null,null,null,null,null,null,null,null,null,null,null,null,null,null,0]
["TOTAL",{"$f":"SUM(B57:B62)","v":0},0,0,0,0,0,0,0,0,0,0,0,0,0,0,0,0,0,0,0,0,0,0,0,0,0,0,0,0,0,0,0,0,0,0,0,0,{"$f":"SUM(AM57:AM61)","v":0},{"$f":"SUM(AN57:AN61)","v":0}]
["SECCIÓN C: ATENCIONES REALIZADAS POR MÉDICOS ESPECIALISTAS EN LAS UNIDADES DE URGENCIA HOSPITALARIA"]
["ESPECIALIDADES","TOTAL        ","DE TURNO","CONSULTOR LLAMADA","OTROS",null,null,null,null,null,null,null,null," "]
["MEDICINA INTERNA",{"$f":"SUM(C66:E66)","v":0}]
["NEUROLOGÍA ADULTOS",0]
["NEUROLOGÍA PEDIATRICA",0]
["OBSTETRICIA Y GINECOLOGÍA",0]
["OFTALMOLOGÍA",0]
["OTORRINOLARINGOLOGÍA",0]
["PEDIATRÍA",0]
["TRAUMATOLOGÍA Y ORTOPEDIA",0]
["NEUROCIRUGÍA",0]
["PSIQUIATRÍA ADULTOS",0]
["PSIQUIATRÍA PEDIATRICA  Y ADOLESCENTES",0]
["UROLOGÍA",0]
["URGENCIÓLOGO",0]
["CIRUGÍA VASCULAR PERIFÉRICA",0]
["CIRUGÍA GENERAL",0]
["CIRUGÍA PEDIÁTRICA",0]
["CARDIOLOGÍA",0]
["ANESTESIOLOGÍA",0]
["CIRUGÍA DE CABEZA, CUELLO Y MAXILOFACIAL",0]
["TOTAL",{"$f":"SUM(B66:B84)","v":0},{"$f":"SUM(C66:C84)","v":0},{"$f":"SUM(D66:D84)","v":0},{"$f":"SUM(E66:E84)","v":0}]
["SECCIÓN D: PACIENTES CON INDICACIÓN DE HOSPITALIZACIÓN EN ESPERA DE CAMAS EN UEH"]
["TIPO DE PACIENTES",null,"TOTAL        ",null,null,"GRUPOS DE EDAD (en años)",null,null,null,null,null,null,null,null,null,null,null,null,null,null,null,null,null,null,null,null,null,null,null,null,null,null,null,null,null,null,null,null,null,"Beneficiarios"]
[null,null,null,null,null,"0 - 4",null,"5 - 9",null,"10 - 14",null,"15 - 19",null,"20 - 24",null,"25 - 29",null,"30 - 34",null,"35 - 39",null,"40 - 44",null,"45 - 49",null,"50 - 54",null,"55 - 59",null,"60 - 64",null,"65 - 69",null,"70 - 74",null,"75 - 79",null,"80 y mas"]
[null,null,"Ambos Sexos","Hombres ","Mujeres","Hombres ","Mujeres","Hombres ","Mujeres","Hombres ","Mujeres","Hombres ","Mujeres","Hombres ","Mujeres","Hombres ","Mujeres","Hombres ","Mujeres","Hombres ","Mujeres","Hombres ","Mujeres","Hombres ","Mujeres","Hombres ","Mujeres","Hombres ","Mujeres","Hombres ","Mujeres","Hombres ","Mujeres","Hombres ","Mujeres","Hombres ","Mujeres","Hombres ","Mujeres"]
["TOTAL DE PACIENTES CON INDICACIÓN DE HOSPITALIZACIÓN",null,{"$f":"SUM(C91:C97)","v":0},0,0,0,0,0,0,0,0,0,0,0,0,0,0,0,0,0,0,0,0,0,0,0,0,0,0,0,0,0,0,0,0,0,0,0,0,0]
["PACIENTES QUE INGRESAN A CAMA HOSPITALARIA SEGÚN TIEMPO DE DEMORA AL INGRESO                               ","MENOS DE 12 HORAS",{"$f":"SUM(D91+E91)","v":0},{"$f":"SUM(F91+H91+J91+L91+N91+P91+R91+T91+V91+X91+Z91+AB91+AD91+AF91+AH91+AJ91+AL91)","v":0},0]
[null,"12-24 HORAS",0,0,0]
[null,"MAYOR A 24 HORAS",0,0,0]
["PACIENTES QUE RECHAZAN HOSPITALIZACIÓN",null,0,0,0]
["PACIENTES DERIVADOS  A OTRO ESTABLECIMIENTO",null,0,0,0]
["PACIENTES QUE PERMANECEN EN UEH",null,0,0,0]
["PACIENTES QUE INGRESAN DIRECTAMENTE A PROCESO QUIRÚRGICO",null,0,0,0]
["SECCIÓN E: PACIENTES CON INDICACIÓN DE OBSERVACIÓN EN SAR"]
["PACIENTES CON INDICACIÓN DE OBSERVACIÓN",null,null,"TOTAL"]
["PACIENTES QUE PERMANECEN EN OBSERVACIÓN     ",null,"MENOS DE 2 HORAS"]
[null,null,"2 A 6 HORAS"]
[null,null,"MAYOR A 6 HORAS"]
["SECCIÓN F: PACIENTES FALLECIDOS EN UEH (Establecimientos Alta, Mediana o Baja Complejidad y SAR) "]
["TIPO DE PACIENTES",null,"TOTAL        ",null,null,"GRUPOS DE EDAD (en años)",null,null,null,null,null,null,null,null,null,null,null,null,null,null,null,null,null,null,null,null,null,null,null,null,null,null,null,null,null,null,null,null,null,"Beneficiarios"]
[null,null,null,null,null,"0 - 4",null,"5 - 9",null,"10 - 14",null,"15 - 19",null,"20 - 24",null,"25 - 29",null,"30 - 34",null,"35 - 39",null,"40 - 44",null,"45 - 49",null,"50 - 54",null,"55 - 59",null,"60 - 64",null,"65 - 69",null,"70 - 74",null,"75 - 79",null,"80 y mas"]
[null,null,"Ambos Sexos","Hombres ","Mujeres","Hombres ","Mujeres","Hombres ","Mujeres","Hombres ","Mujeres","Hombres ","Mujeres","Hombres ","Mujeres","Hombres ","Mujeres","Hombres ","Mujeres","Hombres ","Mujeres","Hombres ","Mujeres","Hombres ","Mujeres","Hombres ","Mujeres","Hombres ","Mujeres","Hombres ","Mujeres","Hombres ","Mujeres","Hombres ","Mujeres","Hombres ","Mujeres","Hombres ","Mujeres"]
["PACIENTES FALLECIDOS EN ESPERA DE ATENCIÓN MÉDICA",null,{"$f":"SUM(D107+E107)","v":0},{"$f":"SUM(F107+H107+J107+L107+N107+P107+R107+T107+V107+X107+Z107+AB107+AD107+AF107+AH107+AJ107+AL107)","v":0},0]
["PACIENTES FALLECIDOS EN PROCESO DE ATENCIÓN",null,{"$f":"SUM(D108+E108)","v":0},0,0]
["PACIENTES FALLECIDOS EN ESPERA DE CAMA HOSPITALARIA ",null,{"$f":"SUM(D109+E109)","v":0},0,0]
["SECCIÓN G: ATENCIONES MÉDICAS ASOCIADAS A  VIOLENCIA"]
["CONCEPTO",null,"TOTAL",null,null,"0 - 9",null,"10-17",null,"18 - 24",null,"25-34",null,"35-44",null,"45-54",null,"55-64",null,"65 -74",null,"7 5 años y más",null,"Embarazadas","AGRESOR /A",null,null,null,"Total",null,"LESIONES DE LA VÍCTIMA",null,null,null,"Sin lesiones constatables"]
[null,null,"Ambos Sexos","Hombres","Mujeres","Hombres ","Mujeres","Hombres ","Mujeres","Hombres ","Mujeres","Hombres ","Mujeres","Hombres ","Mujeres","Hombres ","Mujeres","Hombres ","Mujeres","Hombres ","Mujeres","Hombres ","Mujeres",null,"Pareja/ Ex pareja","Familiar","Conocido/a","Desconocido/a","Hombre","Mujer","Trau-\nmatológicas","Odonto-\nlógicas","Contusio-nales","Por Arma"]
["VIOLENCIA INTRAFAMILIAR",null,{"$f":"SUM(D113+E113)","v":0},{"$f":"SUM(F113+H113+J113+L113+N113+P113+R113+T113+V113)","v":0},{"$f":"SUM(G113+I113+K113+M113+O113+Q113+S113+U113+W113)","v":0}]
["OTRAS VIOLENCIAS ",null,{"$f":"SUM(D114+E114)","v":0},{"$f":"SUM(F114+H114+J114+L114+N114+P114+R114+T114+V114)","v":0},{"$f":"SUM(G114+I114+K114+M114+O114+Q114+S114+U114+W114)","v":0}]
["SECCIÓN H: ATENCIONES  POR ANTICONCEPCIÓN DE EMERGENCIA "]
["CONCEPTO",null,"TOTAL","GRUPOS DE EDAD (en años)",null,null,null,null,null,null,null,null,null,"SEXO",null,"Beneficiarios"]
[null,null,null,"0 - 4","5 - 9","10 - 14","15 - 19","20 - 24","25 - 34","35 - 44","45 - 54","55 - 64","65  y más años","Hombres","Mujeres"]
["ATENCIÓN POR ANTICONCEPCIÓN DE EMERGENCIA ","CON ENTREGA DE ANTICONCEPTIVO",{"$f":"SUM(F118:K118)","v":0}]
[null,"SIN ENTREGA DE ANTICONCEPTIVO",{"$f":"SUM(F119:K119)","v":0}]
["SECCIÓN I: MOTIVOS DE ATENCIÓN POR EMERGENCIA OBSTÉTRICA AL SERVICIO DE  URGENCIA  (Establecimientos Alta y Mediana Complejidad)."]
["PATOLOGÍA","CANTIDAD"]
[]
["PREECLAMPSIA SEVERA"]
["ECLAMPSIA"]
["SÍNDROME HIPERTENSIVO DEL EMBARAZO (SHE)"]
["RETARDO CRECIMIENTO INTRAUTERINO (RCIU)"]
["HELLP"]
["PARTO PREMATURO"]
["HEMORRAGIA I TRIMESTRE"]
["HEMORRAGIA II TRIMESTRE"]
["HEMORRAGIA III TRIMESTRE"]
["ROTURA PREMATURA DE MEMBRANA"]
["OTRAS PATOLOGÍAS"]
["TRABAJO DE PARTO SIN PATOLOGÍA"]
["TOTAL",{"$f":"SUM(B123:B134)","v":0}]
["SECCIÓN J: LLAMADOS DE URGENCIA A CENTRO REGULADOR"]
["TIPO DE ACCIÓN",null,null,null,"TOTAL DE LLAMADAS","LLAMADAS VALIDAS"]
["CENTRO REGULADOR","Nº LLAMADOS DE URGENCIA"]
["SECCIÓN K: INTERVENCIONES PRE HOSPITALARIAS (SAMU)"]
["TIPO DE ACCIÓN",null,null,"N° INTERVENCIONES",null,null,"Beneficiarios","TIEMPO DE LLEGADA INTERVENCIONES CRITICAS",null,null,"TIEMPO DE LLEGADA INTERVENCIONES NO CRITICAS"]
[null,null,null,"TOTAL","Criticas","No Criticas",null,"0-20 Min","20-40 Min","Mas de 40 Min","0-20 Min","20-40 Min","Mas de 40 Min"]
["INTERVENCIONES CLINICAS PRE HOSPITALARIAS","INTERVENCIÓN DE MÓVIL BÁSICO",null,{"$f":"SUM(E142+F142)","v":0}]
[null,"INTERVENCIÓN DE MÓVIL AVANZADO",null,{"$f":"SUM(E143+F143)","v":0}]
["SECCIÓN L: TRASLADOS PRIMARIOS A UNIDADES DE URGENCIA (Desde el lugar del evento a unidad de Emergencia)"]
["TIPO",null,"TOTAL        ","BENEFICIARIOS","POR COMPRA \nDE SERVICIO","OTROS"]
["SAMU","BASICO"]
[null,"AVANZADO"]
["ENRUTADO","BASICO"]
["NO SAMU","TERRESTRE"]
[null,"MARÍTIMO"]
[null,"AÉREO"]
["SECCIÓN M: TRASLADO SECUNDARIO (Desde un Establecimiento a Otro)"]
["TIPO DE ACCION",null,null,"TOTAL DE TRASLADOS",null,null,"BENEFICIARIOS","COMPRA DE SERVICIO","OTROS"]
[null,null,null,"Ambos","SAMU","NO SAMU"]
["CRÍTICO","AÉREO",null,{"$f":"SUM(E155:F155)","v":0}]
[null,"TERRESTRE",null,0]
[null,"MARÍTIMO",null,0]
["NO CRÍTICO","AÉREO",null,0]
[null,"TERRESTRE",null,0]
[null,"MARÍTIMO",null,0]
["SECCION N: CLASIFICACION DE LAS INTERVENCIONES POR GRANDES GRUPOS DE DIAGNOSTICOS (SAMU)"]
["CAUSAS DE LA INTERVENCION",null,"TOTALES",null,null,"GRUPOS DE EDAD (en años)"]
[null,null,null,null,null,"0 - 4",null,"5 - 9",null,"10 - 14",null,"15 - 19",null,"20 - 24",null,"25 - 29",null,"30 - 34",null,"35 - 39",null,"40 - 44",null,"45 - 49",null,"50 - 54",null,"55 - 59",null,"60 - 64",null,"65 - 69",null,"70 - 74",null,"75 - 79",null,"80 y mas"]
[null,null,"Ambos Sexos","Hombres","Mujeres","Hombres ","Mujeres","Hombres ","Mujeres","Hombres ","Mujeres","Hombres ","Mujeres","Hombres ","Mujeres","Hombres ","Mujeres","Hombres ","Mujeres","Hombres ","Mujeres","Hombres ","Mujeres","Hombres ","Mujeres","Hombres ","Mujeres","Hombres ","Mujeres","Hombres ","Mujeres","Hombres ","Mujeres","Hombres ","Mujeres","Hombres ","Mujeres","Hombres ","Mujeres"]
["SÍNDROME CORONARIO AGUDO",null,{"$f":"SUM(D165+E165)","v":0},{"$f":"SUM(P165+R165+T165+V165+X165+Z165+AB165+AD165+AF165+AH165+AJ165+AL165)","v":0},{"$f":"SUM(Q165+S165+U165+W165+Y165+AA165+AC165+AE165+AG165+AI165+AK165+AM165)","v":0}]
["PARO CARDIORESPIRATORIO",null,{"$f":"SUM(D166+E166)","v":0},{"$f":"SUM(F166+H166+J166+L166+N166+P166+R166+T166+V166+X166+Z166+AB166+AD166+AF166+AH166+AJ166+AL166)","v":0},0]
["POLITRAUMATISMO",null,{"$f":"SUM(D167+E167)","v":0},0,0]
["OTROS",null,{"$f":"SUM(D168+E168)","v":0},0,0]
["SECCION O: ATENCIONES  EN URGENCIA POR VIOLENCIA SEXUAL  "]
["CONCEPTO",null,null,"TOTAL",null,null,"GRUPOS DE EDAD (en años)  Y CONDICIÓN\n \n",null,null,null,null,null,null,null,null,null,null,null,null,null,null,null,"Gestantes","Con entrega de anticoncepción de emergencia","Sin entrega de anticoncepción de emergencia","Con profilaxis VIH ","Con profilaxis ITS","VICTIMARIO/A",null,null,null,"Total"]
[null,null,null,null,null,null,"0 - 4",null,"5 - 9",null,"10 - 14",null,"15 - 17",null,"18 - 24",null,"25 - 44",null,"45-64",null,"65 años y más",null,null,null,null,null,null,"Pareja/ Ex pareja","Familiar","Conocido/a","Desconocido/a","Hombre","Mujer"]
[null,null,null,"Ambos Sexos","Hombres ","Mujeres","Hombres ","Mujeres","Hombres ","Mujeres","Hombres ","Mujeres","Hombres ","Mujeres","Hombres ","Mujeres","Hombres ","Mujeres","Hombres ","Mujeres","Hombres ","Mujeres"]
["VIOLENCIA SEXUAL","CON SOSPECHA DE PENETRACIÓN","Agudo (< 72 hrs)",{"$f":"SUM(E173+F173)","v":0},{"$f":"SUM(G173+I173+K173+M173+O173+Q173+S173+U173)","v":0},0]
[null,null,"No agudo (> 72 hrs)",0,0,0]
[null,null,"Crónico",0,0,0]
[null,"SIN SOSPECHA DE PENETRACIÓN","Agudo (< 72 hrs)",0,0,0]
[null,null,"No agudo (> 72 hrs)",0,0,0]
[null,null,"Crónico",0,0,0]
["SECCIÓN P: ATENCIONES MÉDICAS POR VIOLENCIA SEXUAL"]
["TIPO DE ATENCIÓN","TOTAL        "]
[]
["ATENCIÓN POR  MÉDICOS DE PERITAJE FORENSE "]
["ATENCIÓN OTROS MÉDICOS"]
["SECCIÓN Q: ATENCIONES DE URGENCIA ASOCIADAS A LESIONES AUTOINFLIGIDAS"]
["CONCEPTO","TOTAL",null,null,"GRUPOS DE EDAD (en años)"]
[null,null,null,null,"0 - 9",null,"10 - 19",null,"20 - 24",null,"25-44",null,"45-54",null,"55-64",null,"65-74",null,"75-84",null,"85 y más"]
[null,"Ambos Sexos","Hombres","Mujeres","Hombres ","Mujeres","Hombres ","Mujeres","Hombres ","Mujeres","Hombres ","Mujeres","Hombres ","Mujeres","Hombres ","Mujeres","Hombres ","Mujeres","Hombres ","Mujeres","Hombres ","Mujeres"]
["Nº DE ATENCIONES ",{"$f":"SUM(C188+D188)","v":0},{"$f":"SUM(E188+G188+I188+K188+M188+O188+Q188+S188+U188)","v":0},{"$f":"SUM(F188+H188+J188+L188+N188+P188+R188+T188+V188)","v":0}]
["SECCIÓN R: ATENCIONES POR MORDEDURA EN SERVICIO DE  URGENCIA DE LA RED"]
["IDENTIFICACION DEL ANIMAL MORDEDOR","TOTAL",null,null,"GRUPOS DE EDAD (en años)",null,null,null,null,null,null,null,"TIPO DE MORDEDURA",null,"INDICACIÓN  DE VACUNA  "]
[null,null,null,null,"0 - 4",null,"5 - 9",null,"10 - 14",null,"Mayor 15 años"]
[null,"Ambos Sexos","Hombres","Mujeres","Hombres ","Mujeres","Hombres ","Mujeres","Hombres ","Mujeres","Hombres ","Mujeres","Única","Múltiple"]
[null,{"$f":"+C193+D193","v":0},{"$f":"+E193+G193+I193+K193","v":0},0,{"$f":"SUM(E194:E198)","v":0},0,0,0,0,0,0,0,0,0,0]
["PERRO",0,0,0,null,null,null,null,null,null,null,null,null,null,null,null,null,null,null,null,null,null,null,null,null,null,null,null,null,null,null,null,null,null,null,null,null,null,null,null,null,null,null,null,null,null,null,null,null,null,null,null,null,null,null,null,null,null,null,null,null,null,null,null,null,null,null,null,null,null,null,null,null,null,null,null,null,null,null,null,null,null,null,null,0,0]
["GATO",0,0,0,null,null,null,null,null,null,null,null,null,null,null,null,null,null,null,null,null,null,null,null,null,null,null,null,null,null,null,null,null,null,null,null,null,null,null,null,null,null,null,null,null,null,null,null,null,null,null,null,null,null,null,null,null,null,null,null,null,null,null,null,null,null,null,null,null,null,null,null,null,null,null,null,null,null,null,null,null,null,null,null,0,0]
["ANIMAL SILVESTRE ",0,0,0,null,null,null,null,null,null,null,null,null,null,null,null,null,null,null,null,null,null,null,null,null,null,null,null,null,null,null,null,null,null,null,null,null,null,null,null,null,null,null,null,null,null,null,null,null,null,null,null,null,null,null,null,null,null,null,null,null,null,null,null,null,null,null,null,null,null,null,null,null,null,null,null,null,null,null,null,null,null,null,null,0,0]
["EXPOSICIÓN A MURCIELAGO",0,0,0,null,null,null,null,null,null,null,null,null,null,null,null,null,null,null,null,null,null,null,null,null,null,null,null,null,null,null,null,null,null,null,null,null,null,null,null,null,null,null,null,null,null,null,null,null,null,null,null,null,null,null,null,null,null,null,null,null,null,null,null,null,null,null,null,null,null,null,null,null,null,null,null,null,null,null,null,null,null,null,null,0,0]
["ROEDOR O ANIMAL DE ABASTO",0,0,0,null,null,null,null,null,null,null,null,null,null,null,null,null,null,null,null,null,null,null,null,null,null,null,null,null,null,null,null,null,null,null,null,null,null,null,null,null,null,null,null,null,null,null,null,null,null,null,null,null,null,null,null,null,null,null,null,null,null,null,null,null,null,null,null,null,null,null,null,null,null,null,null,null,null,null,null,null,null,null,null,0,0]
[]
[]
[]
[]
[]
[]
[]
[]
[]
[]
[]
[]
[]
[]
[]
[]
[]
[]
[{"$f":"SUM(B12:B14,B19:B22,B27:B32,B63,B85,C90,D100:D102,C107:C109,C113:C114,C118:C119,B135,D142:D143,C146:C151,D155:D160,C165:C168,D173:D178,B182:B183,B188,B37:B42,B47:B52,E138:F138,C91:C97,B193:B198)","v":0},{"$f":"SUM(CG8:CM200)","v":0}]

{"sheet":"A09","index":9,"n_rows":301,"n_cols":90,"rows_kept":301,"cut":false,"hidden":false,"merged":[[123,12,125,12],[123,13,125,13],[241,3,244,3],[226,1,226,2],[227,1,227,2],[174,8,174,9],[174,12,174,13],[150,1,152,1],[153,1,154,1],[136,1,139,1],[127,1,127,2],[212,1,212,2],[213,1,213,2],[214,1,214,2],[215,1,215,2],[216,1,216,2],[231,6,231,13],[197,1,197,2],[124,6,124,7],[123,3,124,5],[123,6,123,11],[124,10,124,11],[124,8,124,9],[205,1,205,2],[255,0,255,1],[256,0,256,1],[250,0,250,1],[239,0,239,2],[241,0,244,0],[241,1,244,1],[241,2,244,2],[235,0,235,2],[220,1,220,2],[221,1,221,2],[226,0,229,0],[225,1,225,2],[222,0,225,0],[222,1,222,2],[224,1,224,2],[251,0,251,1],[218,0,221,0],[236,0,236,2],[218,1,218,2],[219,1,219,2],[223,1,223,2],[40,6,40,7],[40,12,40,13],[40,14,40,15],[40,16,40,17],[39,31,41,31],[40,18,40,19],[40,20,40,21],[40,22,40,23],[39,30,41,30],[40,28,40,29],[40,24,40,25],[40,26,40,27],[40,10,40,11],[40,8,40,9],[39,6,39,29],[9,12,9,13],[9,14,9,15],[9,16,9,17],[9,24,9,25],[9,26,9,27],[8,30,10,30],[16,28,16,29],[16,20,16,21],[16,10,16,11],[9,18,9,19],[9,22,9,23],[18,0,18,2],[19,0,19,2],[16,6,16,7],[16,31,17,31],[22,0,22,2],[16,32,17,32],[16,24,16,25],[16,30,17,30],[16,18,16,19],[16,0,17,2],[21,0,21,2],[16,12,16,13],[16,14,16,15],[16,26,16,27],[20,0,20,2],[16,16,16,17],[16,8,16,9],[74,3,74,5],[76,0,77,0],[76,1,76,2],[77,1,77,2],[91,0,91,2],[93,0,93,2],[94,0,94,2],[95,0,95,2],[96,0,96,2],[79,3,79,5],[86,0,86,2],[87,0,87,2],[88,0,88,2],[210,0,213,0],[210,1,210,2],[211,1,211,2],[202,1,202,2],[214,0,217,0],[207,1,207,2],[231,15,233,15],[157,16,157,17],[83,0,83,2],[84,0,84,2],[104,0,104,2],[105,0,105,2],[112,3,113,5],[115,0,115,2],[116,0,116,2],[119,0,119,2],[117,0,117,2],[101,0,101,2],[136,0,139,0],[141,1,142,1],[128,1,128,2],[141,0,144,0],[118,0,118,2],[107,0,107,2],[217,1,217,2],[123,0,125,2],[109,0,109,2],[89,0,89,2],[90,0,90,2],[97,0,97,2],[98,0,98,2],[99,0,99,2],[100,0,100,2],[102,0,102,2],[103,0,103,2],[106,0,106,2],[159,0,159,2],[171,0,171,2],[168,0,168,2],[170,0,170,2],[156,0,158,2],[150,0,152,0],[153,0,154,0],[160,0,160,2],[161,0,161,2],[202,0,205,0],[203,1,203,2],[204,1,204,2],[162,0,162,2],[169,0,169,2],[163,0,163,2],[110,0,110,2],[112,0,114,2],[145,0,149,0],[145,1,145,2],[146,1,147,1],[48,0,48,2],[148,1,149,1],[71,0,71,2],[72,0,72,2],[74,0,75,2],[79,0,80,2],[63,0,64,0],[63,1,63,2],[65,0,65,2],[66,0,66,2],[67,0,67,2],[68,0,68,2],[49,0,55,1],[61,0,61,2],[62,0,62,2],[56,0,59,1],[46,0,46,2],[26,0,26,2],[27,0,27,2],[143,1,144,1],[126,0,135,0],[129,1,135,1],[28,0,28,2],[29,0,29,2],[35,0,35,2],[36,0,36,2],[33,0,33,2],[81,0,81,2],[92,0,92,2],[126,1,126,2],[120,0,120,2],[121,0,121,2],[82,0,82,2],[85,0,85,2],[64,1,64,2],[69,0,69,2],[70,0,70,2],[108,0,108,2],[198,0,201,0],[208,1,208,2],[198,1,198,2],[200,1,200,2],[196,1,196,2],[190,0,193,0],[182,0,185,0],[182,1,182,2],[183,1,183,2],[199,1,199,2],[192,1,192,2],[193,1,193,2],[194,0,197,0],[194,1,194,2],[195,1,195,2],[206,0,209,0],[206,1,206,2],[209,1,209,2],[173,0,175,2],[173,3,174,5],[178,0,181,0],[181,1,181,2],[178,1,178,2],[179,1,179,2],[190,1,190,2],[185,1,185,2],[180,1,180,2],[176,0,177,0],[176,1,176,2],[177,1,177,2],[189,1,189,2],[187,1,187,2],[188,1,188,2],[5,0,5,15],[8,3,9,5],[13,0,13,2],[34,0,34,2],[14,0,14,2],[25,0,25,2],[47,0,47,2],[30,0,30,2],[31,0,31,2],[32,0,32,2],[42,0,42,2],[45,0,45,2],[37,0,37,2],[43,0,43,2],[44,0,44,2],[24,0,24,2],[8,6,8,29],[16,3,16,5],[8,0,10,2],[11,0,11,2],[12,0,12,2],[23,0,23,2],[39,0,41,2],[39,3,40,5],[9,6,9,7],[9,8,9,9],[9,20,9,21],[16,22,16,23],[113,12,114,12],[113,13,114,13],[79,16,80,16],[79,17,80,17],[79,18,80,18],[79,14,80,14],[79,15,80,15],[79,6,79,13],[112,14,114,14],[112,15,114,15],[112,16,114,16],[112,17,114,17],[112,6,112,13],[113,8,114,8],[113,9,114,9],[113,10,114,10],[113,6,114,6],[113,7,114,7],[113,11,114,11],[9,10,9,11],[157,12,157,13],[157,20,157,21],[157,14,157,15],[157,18,157,19],[174,18,174,19],[174,20,174,21],[173,6,173,21],[166,6,167,6],[166,8,167,8],[166,7,167,7],[257,0,257,1],[232,8,233,8],[232,9,233,9],[231,14,233,14],[186,0,189,0],[234,0,234,2],[232,6,233,6],[232,7,233,7],[232,12,233,12],[252,0,252,1],[231,0,233,2],[232,10,233,10],[228,1,228,2],[229,1,229,2],[231,3,232,5],[241,4,244,4],[237,0,237,2],[238,0,238,2],[201,1,201,2],[232,13,233,13],[253,0,253,1],[254,0,254,1],[191,1,191,2],[232,11,233,11],[156,27,158,27],[156,28,158,28],[174,10,174,11],[173,25,175,25],[165,0,167,2],[173,23,175,23],[166,9,167,9],[165,3,166,5],[186,1,186,2],[156,26,158,26],[184,1,184,2],[156,3,157,5],[156,6,156,25],[157,24,157,25],[174,24,175,24],[174,6,174,7],[173,22,175,22],[174,14,174,15],[174,16,174,17],[157,22,157,23],[165,6,165,9],[157,6,157,7],[157,8,157,9],[157,10,157,11],[156,29,158,29],[16,35,17,35],[16,36,17,36],[16,37,17,37],[8,34,10,34],[39,33,41,33],[39,34,41,34],[16,34,17,34],[8,31,10,31],[9,28,9,29],[16,33,17,33],[8,32,10,32],[8,33,10,33],[39,32,41,32]]}
["SERVICIO DE SALUD"]
[{"$f":"CONCATENATE(\"COMUNA: \",NOMBRE!B2,\" - \",\"( \",NOMBRE!C2,NOMBRE!D2,NOMBRE!E2,NOMBRE!F2,NOMBRE!G2,\" )\")","v":"COMUNA:  - (  )"}]
[{"$f":"CONCATENATE(\"ESTABLECIMIENTO/ESTRATEGIA: \",NOMBRE!B3,\" - \",\"( \",NOMBRE!C3,NOMBRE!D3,NOMBRE!E3,NOMBRE!F3,NOMBRE!G3,NOMBRE!H3,\" )\")","v":"ESTABLECIMIENTO/ESTRATEGIA:  - (  )"}]
[{"$f":"CONCATENATE(\"MES: \",NOMBRE!B6,\" - \",\"( \",NOMBRE!C6,NOMBRE!D6,\" )\")","v":"MES:  - (  )"}]
[{"$f":"CONCATENATE(\"AÑO: \",NOMBRE!B7)","v":"AÑO: 2019"}]
[" REM-A9.  ATENCIÓN DE SALUD ODONTOLÓGICA EN APS Y ESPECIALIDADES"]
[]
["SECCIÓN A: CONSULTAS Y CONTROLES ODONTOLÓGICOS"]
["ACTIVIDAD ",null,null,"TOTAL",null,null,"SEGÚN GRUPOS DE EDAD O DE RIESGO",null,null,null,null,null,null,null,null,null,null,null,null,null,null,null,null,null,null,null,null,null,null,null,"EMBARAZADAS","60 AÑOS (INCLUÍDO EN GRUPOS DE 20-64 AÑOS)","USUARIOS EN SITUACIÓN DE DISCAPACIDAD*","NIÑOS, NIÑAS, ADOLESCENTES Y JÓVENES POBLACIÓN SENAME","MIGRANTES"]
[null,null,null,null,null,null,"Menos de 1 año",null,"1 año",null,"2 años",null,"3 años",null,"4 años",null,"5 años",null,"6 años",null,"12 \naños",null,"Resto \n<15 años",null,"15-19 \naños",null,"20-64 \naños",null,"65 y \nmás años"]
[null,null,null,"Ambos Sexos","Hombres","Mujeres","Hombres","Mujeres","Hombres","Mujeres","Hombres","Mujeres","Hombres","Mujeres","Hombres","Mujeres","Hombres","Mujeres","Hombres","Mujeres","Hombres","Mujeres","Hombres","Mujeres","Hombres","Mujeres","Hombres","Mujeres","Hombres","Mujeres"]
["CONSULTA DE MORBILIDAD",null,null,{"$f":"SUM(E12+F12)","v":0},{"$f":"SUM(G12+I12+K12+M12+O12+Q12+S12+U12+W12+Y12+AA12+AC12)","v":0},{"$f":"SUM(H12+J12+L12+N12+P12+R12+T12+V12+X12+Z12+AB12+AD12)","v":0},null,null,null,null,null,null,null,null,null,null,null,null,null,null,null,null,null,null,null,null,null,null,null,null,null,null,null,null,null,null,null,null,null,null,null,null,null,null,null,null,null,null,null,null,null,null,null,null,null,null,null,null,null,null,null,null,null,null,null,null,null,null,null,null,null,null,null,null,null,null,null,null,null,null,null,null,null,null,0,0,0]
["CONTROL ODONTOLÓGICO",null,null,{"$f":"SUM(E13+F13)","v":0},0,0,null,null,null,null,null,null,null,null,null,null,null,null,null,null,null,null,null,null,null,null,null,null,null,null,null,null,null,null,null,null,null,null,null,null,null,null,null,null,null,null,null,null,null,null,null,null,null,null,null,null,null,null,null,null,null,null,null,null,null,null,null,null,null,null,null,null,null,null,null,null,null,null,null,null,null,null,null,null,0,0,0]
["CONSULTA DE URGENCIA (GES)",null,null,{"$f":"SUM(E14+F14)","v":0},0,0,null,null,null,null,null,null,null,null,null,null,null,null,null,null,null,null,null,null,null,null,null,null,null,null,null,null,null,null,null,null,null,null,null,null,null,null,null,null,null,null,null,null,null,null,null,null,null,null,null,null,null,null,null,null,null,null,null,null,null,null,null,null,null,null,null,null,null,null,null,null,null,null,null,null,null,null,null,null,0,0,0]
["INASISTENCIA A CONSULTA",null,null,{"$f":"SUM(E15+F15)","v":0},0,0,null,null,null,null,null,null,null,null,null,null,null,null,null,null,null,null,null,null,null,null,null,null,null,null,null,null,null,null,null,null,null,null,null,null,null,null,null,null,null,null,null,null,null,null,null,null,null,null,null,null,null,null,null,null,null,null,null,null,null,null,null,null,null,null,null,null,null,null,null,null,null,null,null,null,null,null,null,null,0,0,0]
["SECCIÓN B: OTRAS ACTIVIDADES DE ODONTOLOGÍA GENERAL"]
["TIPO DE ACTIVIDAD",null,null,"TOTAL ",null,null,"Menos de 1 año",null,"1 año",null,"2 años",null,"3 años",null,"4 años",null,"5 años",null,"6 años",null,"12 \naños",null,"Resto \n<15 años",null,"15-19 \naños",null,"20-64 \naños",null,"65 y \nmás años",null,"EMBARAZADAS","BENEFICIARIOS","60 AÑOS (INCLUÍDO EN GRUPOS DE 20-64 AÑOS)","COMPRA DE SERVICIO","USUARIOS EN SITUACIÓN DE DISCAPACIDAD*","USUARIOS EN SITUACIÓN DE DISCAPACIDAD*","NIÑOS, NIÑAS, ADOLESCENTES Y JÓVENES POBLACIÓN SENAME","MIGRANTES"]
[null,null,null,"Ambos Sexos","Hombres","Mujeres","Hombres","Mujeres","Hombres","Mujeres","Hombres","Mujeres","Hombres","Mujeres","Hombres","Mujeres","Hombres","Mujeres","Hombres","Mujeres","Hombres","Mujeres","Hombres","Mujeres","Hombres","Mujeres","Hombres","Mujeres","Hombres","Mujeres"]
["EDUCACIÓN INDIVIDUAL CON INSTRUCCIÓN DE TÉCNICA DE CEPILLADO",null,null,{"$f":"SUM(E19+F19)","v":0},{"$f":"SUM(G19+I19+K19+M19+O19+Q19+S19+U19+W19+Y19+AA19+AC19)","v":0},{"$f":"SUM(H19+J19+L19+N19+P19+R19+T19+V19+X19+Z19+AB19+AD19)","v":0},null,null,null,null,null,null,null,null,null,null,null,null,null,null,null,null,null,null,null,null,null,null,null,null,null,null,null,null,null,null,null,null,null,null,null,null,null,null,null,null,null,null,null,null,null,null,null,null,null,null,null,null,null,null,null,null,null,null,null,null,null,null,null,null,null,null,null,null,null,null,null,null,null,null,null,null,null,null,0,0,0,null,0]
["CONSEJERÍA BREVE EN TABACO",null,null,0,{"$f":"SUM(U20+W20+Y20+AA20+AC20)","v":0},{"$f":"SUM(V20+X20+Z20+AB20+AD20)","v":0},null,null,null,null,null,null,null,null,null,null,null,null,null,null,null,null,null,null,null,null,null,null,null,null,null,null,null,null,null,null,null,null,null,null,null,null,null,null,null,null,null,null,null,null,null,null,null,null,null,null,null,null,null,null,null,null,null,null,null,null,null,null,null,null,null,null,null,null,null,null,null,null,null,null,null,null,null,null,0,0,0,null,0]
[null,null,null,null,null,null,null,null,null,null,null,null,null,null,null,null,null,null,null,null,null,null,null,null,null,null,null,null,null,null,null,null,null,null,null,null,null,null,null,null,null,null,null,null,null,null,null,null,null,null,null,null,null,null,null,null,null,null,null,null,null,null,null,null,null,null,null,null,null,null,null,null,null,null,null,null,null,null,null,null,null,null,null,null,0,0,0,null,0]
["EXAMEN DE SALUD ORAL",null,null,0,{"$f":"SUM(G22+I22+K22+M22+O22+Q22+S22+U22+W22+Y22+AA22+AC22)","v":0},{"$f":"SUM(H22+J22+L22+N22+P22+R22+T22+V22+X22+Z22+AB22+AD22)","v":0},null,null,null,null,null,null,null,null,null,null,null,null,null,null,null,null,null,null,null,null,null,null,null,null,null,null,null,null,null,null,null,null,null,null,null,null,null,null,null,null,null,null,null,null,null,null,null,null,null,null,null,null,null,null,null,null,null,null,null,null,null,null,null,null,null,null,null,null,null,null,null,null,null,null,null,null,null,null,0,0,0,null,0]
["APLICACIÓN DE SELLANTES",null,null,0,0,0,null,null,null,null,null,null,null,null,null,null,null,null,null,null,null,null,null,null,null,null,null,null,null,null,null,null,null,null,null,null,null,null,null,null,null,null,null,null,null,null,null,null,null,null,null,null,null,null,null,null,null,null,null,null,null,null,null,null,null,null,null,null,null,null,null,null,null,null,null,null,null,null,null,null,null,null,null,null,0,0,0,null,0]
["FLUORURACIÓN TÓPICA BARNIZ",null,null,0,0,0,null,null,null,null,null,null,null,null,null,null,null,null,null,null,null,null,null,null,null,null,null,null,null,null,null,null,null,null,null,null,null,null,null,null,null,null,null,null,null,null,null,null,null,null,null,null,null,null,null,null,null,null,null,null,null,null,null,null,null,null,null,null,null,null,null,null,null,null,null,null,null,null,null,null,null,null,null,null,0,0,0,null,0]
["PULIDO CORONARIO",null,null,0,0,0,null,null,null,null,null,null,null,null,null,null,null,null,null,null,null,null,null,null,null,null,null,null,null,null,null,null,null,null,null,null,null,null,null,null,null,null,null,null,null,null,null,null,null,null,null,null,null,null,null,null,null,null,null,null,null,null,null,null,null,null,null,null,null,null,null,null,null,null,null,null,null,null,null,null,null,null,null,null,0,0,0,null,0]
["ACTIVIDAD INTERCEPTIVA DE ANOMALÍAS DENTO MAXILARES (OPI)",null,null,0,0,0,null,null,null,null,null,null,null,null,null,null,null,null,null,null,null,null,null,null,null,null,null,null,null,null,null,null,null,null,null,null,null,null,null,null,null,null,null,null,null,null,null,null,null,null,null,null,null,null,null,null,null,null,null,null,null,null,null,null,null,null,null,null,null,null,null,null,null,null,null,null,null,null,null,null,null,null,null,null,0,0,0,null,0]
["DESTARTRAJE SUPRAGINGIVAL",null,null,0,0,0,null,null,null,null,null,null,null,null,null,null,null,null,null,null,null,null,null,null,null,null,null,null,null,null,null,null,null,null,null,null,null,null,null,null,null,null,null,null,null,null,null,null,null,null,null,null,null,null,null,null,null,null,null,null,null,null,null,null,null,null,null,null,null,null,null,null,null,null,null,null,null,null,null,null,null,null,null,null,0,0,0,null,0]
["EXODONCIA",null,null,0,0,0,null,null,null,null,null,null,null,null,null,null,null,null,null,null,null,null,null,null,null,null,null,null,null,null,null,null,null,null,null,null,null,null,null,null,null,null,null,null,null,null,null,null,null,null,null,null,null,null,null,null,null,null,null,null,null,null,null,null,null,null,null,null,null,null,null,null,null,null,null,null,null,null,null,null,null,null,null,null,0,0,0,null,0]
["PULPOTOMÍA",null,null,0,0,0,null,null,null,null,null,null,null,null,null,null,null,null,null,null,null,null,null,null,null,null,null,null,null,null,null,null,null,null,null,null,null,null,null,null,null,null,null,null,null,null,null,null,null,null,null,null,null,null,null,null,null,null,null,null,null,null,null,null,null,null,null,null,null,null,null,null,null,null,null,null,null,null,null,null,null,null,null,null,0,0,0,null,0]
["RESTAURACIÓN PROVISORIA",null,null,{"$f":"SUM(E30+F30)","v":0},{"$f":"SUM(G30+I30+K30+M30+O30+Q30+S30+U30+W30+Y30+AA30+AC30)","v":0},0,null,null,null,null,null,null,null,null,null,null,null,null,null,null,null,null,null,null,null,null,null,null,null,null,null,null,null,null,null,null,null,null,null,null,null,null,null,null,null,null,null,null,null,null,null,null,null,null,null,null,null,null,null,null,null,null,null,null,null,null,null,null,null,null,null,null,null,null,null,null,null,null,null,null,null,null,null,null,0,0,0,null,0]
["RESTAURACIÓN ESTÉTICA",null,null,0,0,0,null,null,null,null,null,null,null,null,null,null,null,null,null,null,null,null,null,null,null,null,null,null,null,null,null,null,null,null,null,null,null,null,null,null,null,null,null,null,null,null,null,null,null,null,null,null,null,null,null,null,null,null,null,null,null,null,null,null,null,null,null,null,null,null,null,null,null,null,null,null,null,null,null,null,null,null,null,null,0,0,0,null,0]
["RESTAURACIÓN DE AMALGAMAS",null,null,0,0,0,null,null,null,null,null,null,null,null,null,null,null,null,null,null,null,null,null,null,null,null,null,null,null,null,null,null,null,null,null,null,null,null,null,null,null,null,null,null,null,null,null,null,null,null,null,null,null,null,null,null,null,null,null,null,null,null,null,null,null,null,null,null,null,null,null,null,null,null,null,null,null,null,null,null,null,null,null,null,0,0,0,null,0]
["OBTURACIONES DE VIDIRIO IONÓMERO EN DIENTE TEMPORAL",null,null,0,0,0,null,null,null,null,null,null,null,null,null,null,null,null,null,null,null,null,null,null,null,null,null,null,null,null,null,null,null,null,null,null,null,null,null,null,null,null,null,null,null,null,null,null,null,null,null,null,null,null,null,null,null,null,null,null,null,null,null,null,null,null,null,null,null,null,null,null,null,null,null,null,null,null,null,null,null,null,null,null,0,0,0,null,0]
["DESTARTRAJE SUBGINGIVAL Y PULIDO RADICULAR POR SEXTANTE",null,null,0,{"$f":"SUM(Q34+S34+U34+W34+Y34+AA34+AC34)","v":0},{"$f":"SUM(R34+T34+V34+X34+Z34+AB34+AD34)","v":0},null,null,null,null,null,null,null,null,null,null,null,null,null,null,null,null,null,null,null,null,null,null,null,null,null,null,null,null,null,null,null,null,null,null,null,null,null,null,null,null,null,null,null,null,null,null,null,null,null,null,null,null,null,null,null,null,null,null,null,null,null,null,null,null,null,null,null,null,null,null,null,null,null,null,null,null,null,null,0,0,0,null,0]
[null,null,null,null,null,null,null,null,null,null,null,null,null,null,null,null,null,null,null,null,null,null,null,null,null,null,null,null,null,null,null,null,null,null,null,null,null,null,null,null,null,null,null,null,null,null,null,null,null,null,null,null,null,null,null,null,null,null,null,null,null,null,null,null,null,null,null,null,null,null,null,null,null,null,null,null,null,null,null,null,null,null,null,null,0,0,0,null,0]
["PROCEDIMIENTOS MÉDICO-QUIRÚRGICOS",null,null,0,{"$f":"SUM(G36+I36+K36+M36+O36+Q36+S36+U36+W36+Y36+AA36+AC36)","v":0},0,null,null,null,null,null,null,null,null,null,null,null,null,null,null,null,null,null,null,null,null,null,null,null,null,null,null,null,null,null,null,null,null,null,null,null,null,null,null,null,null,null,null,null,null,null,null,null,null,null,null,null,null,null,null,null,null,null,null,null,null,null,null,null,null,null,null,null,null,null,null,null,null,null,null,null,null,null,null,0,0,0,null,0]
["RADIOGRAFÍA INTRAORAL (RETROALVEOLARES, BITE WING Y OCLUSALES)",null,null,0,0,0,null,null,null,null,null,null,null,null,null,null,null,null,null,null,null,null,null,null,null,null,null,null,null,null,null,null,null,null,null,null,null,null,null,null,null,null,null,null,null,null,null,null,null,null,null,null,null,null,null,null,null,null,null,null,null,null,null,null,null,null,null,null,null,null,null,null,null,null,null,null,null,null,null,null,null,null,null,null,0,0,0,null,0]
["Total Actividades ",null,null,{"$f":"SUM(D19:D37)","v":0},0,0,0,0,0,0,0,0,0,0,0,0,0,0,0,0,0,0,0,0,0,0,0,0,0,0,{"$f":"SUM(AE19:AE37)","v":0},0,0,0,0,{"$f":"SUM(AJ19:AJ37)","v":0},{"$f":"SUM(AK19:AK37)","v":0},0]
["SECCIÓN C : INGRESOS Y EGRESOS  EN ESTABLECIMIENTOS APS"]
["TIPO DE INGRESO O EGRESO",null,null,"TOTAL  ",null,null,"Según grupos de edad o de riesgo",null,null,null,null,null,null,null,null,null,null,null,null,null,null,null,null,null,null,null,null,null,null,null,"EMBARAZADAS","60 AÑOS (INCLUÍDO EN GRUPOS DE 20-64 AÑOS)","USUARIOS EN SITUACIÓN DE DISCAPACIDAD*","NIÑOS, NIÑAS, ADOLESCENTES Y JÓVENES POBLACIÓN SENAME","MIGRANTES"]
[null,null,null,null,null,null,"Menos de 1 año",null,"1 año",null,"2 años",null,"3 años",null,"4 años",null,"5 años",null,"6 años",null,"12 años",null,"Resto \n<15 años",null,"15-19 años",null,"20-64 \naños",null,"65 y \nmás años"]
[null,null,null,"Ambos Sexos","Hombres","Mujeres","Hombres","Mujeres","Hombres","Mujeres","Hombres","Mujeres","Hombres","Mujeres","Hombres","Mujeres","Hombres","Mujeres","Hombres","Mujeres","Hombres","Mujeres","Hombres","Mujeres","Hombres","Mujeres","Hombres","Mujeres","Hombres","Mujeres"]
["INGRESOS A TRATAMIENTO ODONTOLOGÍA GENERAL",null,null,{"$f":"SUM(E43+F43)","v":0},{"$f":"SUM(U43+W43+Y43+AA43+AC43)","v":0},{"$f":"SUM(V43+X43+Z43+AB43+AD43)","v":0},null,null,null,null,null,null,null,null,null,null,null,null,null,null,null,null,null,null,null,null,null,null,null,null,null,null,null,null,null,null,null,null,null,null,null,null,null,null,null,null,null,null,null,null,null,null,null,null,null,null,null,null,null,null,null,null,null,null,null,null,null,null,null,null,null,null,null,null,null,null,null,null,null,null,null,null,null,null,0,0,0]
["INGRESO CONTROL CON ENFOQUE RIESGO ODONTOLÓGICO (CERO)",null,null,{"$f":"SUM(E44+F44)","v":0},{"$f":"SUM(G44+I44+K44+M44+O44+Q44+S44)","v":0},{"$f":"SUM(H44+J44+L44+N44+P44+R44+T44)","v":0},null,null,null,null,null,null,null,null,null,null,null,null,null,null,null,null,null,null,null,null,null,null,null,null,null,null,null,null,null,null,null,null,null,null,null,null,null,null,null,null,null,null,null,null,null,null,null,null,null,null,null,null,null,null,null,null,null,null,null,null,null,null,null,null,null,null,null,null,null,null,null,null,null,null,null,null,null,null,null,0]
["EGRESO CONTROL CON ENFOQUE RIESGO ODONTOLÓGICO (CERO)",null,null,{"$f":"SUM(E45+F45)","v":0},{"$f":"SUM(G45+I45+K45+M45+O45+Q45+S45)","v":0},{"$f":"SUM(H45+J45+L45+N45+P45+R45+T45)","v":0},null,null,null,null,null,null,null,null,null,null,null,null,null,null,null,null,null,null,null,null,null,null,null,null,null,null,null,null,null,null,null,null,null,null,null,null,null,null,null,null,null,null,null,null,null,null,null,null,null,null,null,null,null,null,null,null,null,null,null,null,null,null,null,null,null,null,null,null,null,null,null,null,null,null,null,null,null,null,null,0]
["ALTAS ODONTOLÓGICAS PREVENTIVAS",null,null,{"$f":"SUM(E46+F46)","v":0},{"$f":"SUM(U46+W46+Y46+AA46+AC46)","v":0},0,null,null,null,null,null,null,null,null,null,null,null,null,null,null,null,null,null,null,null,null,null,null,null,null,null,null,null,null,null,null,null,null,null,null,null,null,null,null,null,null,null,null,null,null,null,null,null,null,null,null,null,null,null,null,null,null,null,null,null,null,null,null,null,null,null,null,null,null,null,null,null,null,null,null,null,null,null,null,0,0,0]
["ALTAS ODONTOLÓGICAS INTEGRALES (EXCLUYE SECCIÓN G)",null,null,{"$f":"SUM(E47+F47)","v":0},0,0,null,null,null,null,null,null,null,null,null,null,null,null,null,null,null,null,null,null,null,null,null,null,null,null,null,null,null,null,null,null,null,null,null,null,null,null,null,null,null,null,null,null,null,null,null,null,null,null,null,null,null,null,null,null,null,null,null,null,null,null,null,null,null,null,null,null,null,null,null,null,null,null,null,null,null,null,null,null,0,0,0]
["ALTAS ODONTOLÓGICAS TOTALES",null,null,{"$f":"SUM(E48+F48)","v":0},0,0,null,null,null,null,null,null,null,null,null,null,null,null,null,null,{"$f":"SUM(U46:U47)","v":0},{"$f":"SUM(V46:V47)","v":0},0,0,0,0,0,0,0,0,0,{"$f":"SUM(AF46)","v":0},{"$f":"SUM(AG46:AG47)","v":0},{"$f":"SUM(AH46:AH47)","v":0},{"$f":"SUM(AI46:AI47)","v":0}]
["EGRESOS POR ABANDONO",null,null,0,{"$f":"SUM(G49+I49+K49+M49+O49+Q49+S49+U49+W49+Y49+AA49+AC49)","v":0},0,null,null,null,null,null,null,null,null,null,null,null,null,null,null,null,null,null,null,null,null,null,null,null,null,null,null,null,null,null,null,null,null,null,null,null,null,null,null,null,null,null,null,null,null,null,null,null,null,null,null,null,null,null,null,null,null,null,null,null,null,null,null,null,null,null,null,null,null,null,null,null,null,null,null,null,null,null,null,0,0,0]
["ÍNDICE ceod O COPD EN PACIENTES INGRESADOS (Índice ceod se usa en menores de 7 años, para resto se utiliza COPD) ",null,0,0,0,0,null,null,null,null,null,null,null,null,null,null,null,null,null,null,null,null,null,null,null,null,null,null,null,null,null,null,null,null,null,null,null,null,null,null,null,null,null,null,null,null,null,null,null,null,null,null,null,null,null,null,null,null,null,null,null,null,null,null,null,null,null,null,null,null,null,null,null,null,null,null,null,null,null,null,null,null,null,null,0,0,0]
[null,null,"1 a 2",0,0,0,null,null,null,null,null,null,null,null,null,null,null,null,null,null,null,null,null,null,null,null,null,null,null,null,null,null,null,null,null,null,null,null,null,null,null,null,null,null,null,null,null,null,null,null,null,null,null,null,null,null,null,null,null,null,null,null,null,null,null,null,null,null,null,null,null,null,null,null,null,null,null,null,null,null,null,null,null,null,0,0,0]
[null,null,"3 a 4",0,0,0,null,null,null,null,null,null,null,null,null,null,null,null,null,null,null,null,null,null,null,null,null,null,null,null,null,null,null,null,null,null,null,null,null,null,null,null,null,null,null,null,null,null,null,null,null,null,null,null,null,null,null,null,null,null,null,null,null,null,null,null,null,null,null,null,null,null,null,null,null,null,null,null,null,null,null,null,null,null,0,0,0]
[null,null,"5 a 6",0,0,0,null,null,null,null,null,null,null,null,null,null,null,null,null,null,null,null,null,null,null,null,null,null,null,null,null,null,null,null,null,null,null,null,null,null,null,null,null,null,null,null,null,null,null,null,null,null,null,null,null,null,null,null,null,null,null,null,null,null,null,null,null,null,null,null,null,null,null,null,null,null,null,null,null,null,null,null,null,null,0,0,0]
[null,null,"7 a 8",{"$f":"SUM(E54+F54)","v":0},0,0,null,null,null,null,null,null,null,null,null,null,null,null,null,null,null,null,null,null,null,null,null,null,null,null,null,null,null,null,null,null,null,null,null,null,null,null,null,null,null,null,null,null,null,null,null,null,null,null,null,null,null,null,null,null,null,null,null,null,null,null,null,null,null,null,null,null,null,null,null,null,null,null,null,null,null,null,null,null,0,0,0]
[null,null,"9 o más",0,0,0,null,null,null,null,null,null,null,null,null,null,null,null,null,null,null,null,null,null,null,null,null,null,null,null,null,null,null,null,null,null,null,null,null,null,null,null,null,null,null,null,null,null,null,null,null,null,null,null,null,null,null,null,null,null,null,null,null,null,null,null,null,null,null,null,null,null,null,null,null,null,null,null,null,null,null,null,null,null,0,0,0]
[null,null,"TOTAL",{"$f":"SUM(D50:D55)","v":0},{"$f":"SUM(E50:E55)","v":0},0,0,0,0,0,0,0,0,0,0,0,0,0,0,0,0,0,{"$f":"SUM(W50:W55)","v":0},0,{"$f":"SUM(Y50:Y55)","v":0},0,0,0,0,0,0,0,0,{"$f":"SUM(AH50:AH55)","v":0},{"$f":"SUM(AI50:AI55)","v":0}]
["CÓDIGO EXAMEN PERIODONTAL BASICO (EPB) EN PACIENTES INGRESADOS",null,0,{"$f":"SUM(E57:F57)","v":0},{"$f":"+Y57+AA57+AC57","v":0},{"$f":"+Z57+AB57+AD57","v":0}]
[null,null,"1,2,3",{"$f":"SUM(E58:F58)","v":0},{"$f":"+Y58+AA58+AC58","v":0},0]
[null,null,"4 y *",{"$f":"SUM(E59:F59)","v":0},{"$f":"+Y59+AA59+AC59","v":0},null,null,null,null,null,null,null,null,null,null,null,null,null,null,null,null,null,null,null,null,null,null,null,null,null,null,null,null,null,null,null,null,null,null,null,null,null,null,null,null,null,null,null,null,null,null,null,null,null,null,null,null,null,null,null,null,null,null,null,null,null,null,null,null,null,null,null,null,null,null,null,null,null,null,null,null,null,null,null,0]
[null,null,"TOTAL",{"$f":"SUM(E60:F60)","v":0},{"$f":"SUM(E57:E59)","v":0},{"$f":"SUM(F57:F59)","v":0},null,null,null,null,null,null,null,null,null,null,null,null,null,null,null,null,null,null,{"$f":"SUM(Y57:Y59)","v":0},{"$f":"SUM(Z57:Z59)","v":0},0,0,0,0,0,0,0,0,0,null,null,null,null,null,null,null,null,null,null,null,null,null,null,null,null,null,null,null,null,null,null,null,null,null,null,null,null,null,null,null,null,null,null,null,null,null,null,null,null,null,null,null,null,null,null,null,null,null,0]
["SECCIÓN D : INTERCONSULTAS GENERADAS EN ESTABLECIMIENTOS APS",null,null,null,null,null,null,null,null,null,null,null,null,null,null,null,null,null,null,null,null,null,null,null,null,null,null,null,null,null,null,null,null,null,null,null,null,null,null,null,null,null,null,null,null,null,null,null,null,null,null,null,null,null,null,null,null,null,null,null,null,null,null,null,null,null,null,null,null,null,null,null,null,null,null,null,null,null,null,null,null,null,null,null,0]
["ESPECIALIDAD",null,null,"TOTAL","GESTANTE",null,null,null,null,null,null,null,null,null,null,null,null,null,null,null,null,null,null,null,null,null,null,null,null,null,null,null,null,null,null,null,null,null,null,null,null,null,null,null,null,null,null,null,null,null,null,null,null,null,null,null,null,null,null,null,null,null,null,null,null,null,null,null,null,null,null,null,null,null,null,null,null,null,null,null,null,null,null,null,0]
["ENDODONCIA",null,null,null,null,null,null,null,null,null,null,null,null,null,null,null,null,null,null,null,null,null,null,null,null,null,null,null,null,null,null,null,null,null,null,null,null,null,null,null,null,null,null,null,null,null,null,null,null,null,null,null,null,null,null,null,null,null,null,null,null,null,null,null,null,null,null,null,null,null,null,null,null,null,null,null,null,null,null,null,null,null,null,null,0]
["REHABILITACIÓN ORAL","PRÓTESIS REMOVIBLES",null,null,null,null,null,null,null,null,null,null,null,null,null,null,null,null,null,null,null,null,null,null,null,null,null,null,null,null,null,null,null,null,null,null,null,null,null,null,null,null,null,null,null,null,null,null,null,null,null,null,null,null,null,null,null,null,null,null,null,null,null,null,null,null,null,null,null,null,null,null,null,null,null,null,null,null,null,null,null,null,null,null,0]
[null,"PRÓTESIS FIJA",null,null,null,null,null,null,null,null,null,null,null,null,null,null,null,null,null,null,null,null,null,null,null,null,null,null,null,null,null,null,null,null,null,null,null,null,null,null,null,null,null,null,null,null,null,null,null,null,null,null,null,null,null,null,null,null,null,null,null,null,null,null,null,null,null,null,null,null,null,null,null,null,null,null,null,null,null,null,null,null,null,null,0]
["CIRUGÍA BUCAL Y TRAUMATOLOGÍA MAXILOFACIAL",null,null,null,null,null,null,null,null,null,null,null,null,null,null,null,null,null,null,null,null,null,null,null,null,null,null,null,null,null,null,null,null,null,null,null,null,null,null,null,null,null,null,null,null,null,null,null,null,null,null,null,null,null,null,null,null,null,null,null,null,null,null,null,null,null,null,null,null,null,null,null,null,null,null,null,null,null,null,null,null,null,null,null,0]
["ODONTOPEDIATRÍA ",null,null,null,null,null,null,null,null,null,null,null,null,null,null,null,null,null,null,null,null,null,null,null,null,null,null,null,null,null,null,null,null,null,null,null,null,null,null,null,null,null,null,null,null,null,null,null,null,null,null,null,null,null,null,null,null,null,null,null,null,null,null,null,null,null,null,null,null,null,null,null,null,null,null,null,null,null,null,null,null,null,null,null,0]
["ORTODONCIA",null,null,null,null,null,null,null,null,null,null,null,null,null,null,null,null,null,null,null,null,null,null,null,null,null,null,null,null,null,null,null,null,null,null,null,null,null,null,null,null,null,null,null,null,null,null,null,null,null,null,null,null,null,null,null,null,null,null,null,null,null,null,null,null,null,null,null,null,null,null,null,null,null,null,null,null,null,null,null,null,null,null,null,0]
["PERIODONCIA",null,null,null,null,null,null,null,null,null,null,null,null,null,null,null,null,null,null,null,null,null,null,null,null,null,null,null,null,null,null,null,null,null,null,null,null,null,null,null,null,null,null,null,null,null,null,null,null,null,null,null,null,null,null,null,null,null,null,null,null,null,null,null,null,null,null,null,null,null,null,null,null,null,null,null,null,null,null,null,null,null,null,null,0]
["IMAGENOLOGÍA ORAL Y MAXILOFACIAL ",null,null,null,null,null,null,null,null,null,null,null,null,null,null,null,null,null,null,null,null,null,null,null,null,null,null,null,null,null,null,null,null,null,null,null,null,null,null,null,null,null,null,null,null,null,null,null,null,null,null,null,null,null,null,null,null,null,null,null,null,null,null,null,null,null,null,null,null,null,null,null,null,null,null,null,null,null,null,null,null,null,null,null,0]
["PATOLOGÍA ORAL",null,null,null,null,null,null,null,null,null,null,null,null,null,null,null,null,null,null,null,null,null,null,null,null,null,null,null,null,null,null,null,null,null,null,null,null,null,null,null,null,null,null,null,null,null,null,null,null,null,null,null,null,null,null,null,null,null,null,null,null,null,null,null,null,null,null,null,null,null,null,null,null,null,null,null,null,null,null,null,null,null,null,null,0]
["IMPLANTOLOGÍA BUCO MAXILOFACIAL",null,null,null,null,null,null,null,null,null,null,null,null,null,null,null,null,null,null,null,null,null,null,null,null,null,null,null,null,null,null,null,null,null,null,null,null,null,null,null,null,null,null,null,null,null,null,null,null,null,null,null,null,null,null,null,null,null,null,null,null,null,null,null,null,null,null,null,null,null,null,null,null,null,null,null,null,null,null,null,null,null,null,null,0]
["TRASTORNOS TEMPOROMANDIBULARES Y DOLOR OROFACIAL",null,null,null,null,null,null,null,null,null,null,null,null,null,null,null,null,null,null,null,null,null,null,null,null,null,null,null,null,null,null,null,null,null,null,null,null,null,null,null,null,null,null,null,null,null,null,null,null,null,null,null,null,null,null,null,null,null,null,null,null,null,null,null,null,null,null,null,null,null,null,null,null,null,null,null,null,null,null,null,null,null,null,null,0]
["SECCIÓN E: CONSULTAS ODONTOLÓGICAS  EN HORARIO CONTINUADO (incluidas en  Secciones A y B. . Excluye extensiones horarias de Sección G )"]
["JORNADA",null,null,"CONSULTAS  "]
[null,null,null,"TOTAL","Hombres","Mujeres"]
[" HORARIO CONTINUADO","VESPERTINA (LUNES-VIERNES)",null,{"$f":"SUM(E77+F77)","v":0}]
[null,"SÁBADO, DOMINGO o FESTIVO",null,{"$f":"SUM(E78+F78)","v":0}]
["SECCIÓN F:  ACTIVIDADES EN ATENCIÓN DE ESPECIALIDADES"]
["ACTIVIDADES DE ESPECIALIDADES",null,null,"TOTAL",null,null,"Según grupos de edad o de riesgo",null,null,null,null,null,null,null,"EMBARAZADAS","BENEFICIARIOS","60 AÑOS (INCLUÍDO EN GRUPOS DE 20-64 AÑOS)","COMPRA DE SERVICIO ","USUARIOS EN SITUACIÓN DE DISCAPACIDAD *"]
[null,null,null,"Ambos Sexos","Hombres","Mujeres","0-5 \naños","6 \naños","7 \naños","12 \naños","Resto \n<15 años","15-19 \naños","20-64 \naños","65 y \nmás años"]
["EXAMEN Y DIAGNÓSTICO DE ESPECIALIDAD",null,null,{"$f":"SUM(G82:N82)","v":0},null,null,null,null,null,null,null,null,null,null,null,null,null,null,null,null,null,null,null,null,null,null,null,null,null,null,null,null,null,null,null,null,null,null,null,null,null,null,null,null,null,null,null,null,null,null,null,null,null,null,null,null,null,null,null,null,null,null,null,null,null,null,null,null,null,null,null,null,null,null,null,null,null,null,null,null,null,null,null,null,0,0,0,0,0,0]
["ACTIVIDAD DE URGENCIA ESPECIALIDADES",null,null,{"$f":"SUM(G83:N83)","v":0},null,null,null,null,null,null,null,null,null,null,null,null,null,null,null,null,null,null,null,null,null,null,null,null,null,null,null,null,null,null,null,null,null,null,null,null,null,null,null,null,null,null,null,null,null,null,null,null,null,null,null,null,null,null,null,null,null,null,null,null,null,null,null,null,null,null,null,null,null,null,null,null,null,null,null,null,null,null,null,null,0,0,0,0,0,0]
["OBTURACIÓN DIRECTA E INDIRECTA",null,null,0,null,null,null,null,null,null,null,null,null,null,null,null,null,null,null,null,null,null,null,null,null,null,null,null,null,null,null,null,null,null,null,null,null,null,null,null,null,null,null,null,null,null,null,null,null,null,null,null,null,null,null,null,null,null,null,null,null,null,null,null,null,null,null,null,null,null,null,null,null,null,null,null,null,null,null,null,null,null,null,null,0,0,0,0,0,0]
["ENDODONCIA ACTIVIDAD",null,null,0,null,null,null,null,null,null,null,null,null,null,null,null,null,null,null,null,null,null,null,null,null,null,null,null,null,null,null,null,null,null,null,null,null,null,null,null,null,null,null,null,null,null,null,null,null,null,null,null,null,null,null,null,null,null,null,null,null,null,null,null,null,null,null,null,null,null,null,null,null,null,null,null,null,null,null,null,null,null,null,null,0,0,0,0,0,0]
["PERIODONCIA ACTIVIDAD",null,null,0,null,null,null,null,null,null,null,null,null,null,null,null,null,null,null,null,null,null,null,null,null,null,null,null,null,null,null,null,null,null,null,null,null,null,null,null,null,null,null,null,null,null,null,null,null,null,null,null,null,null,null,null,null,null,null,null,null,null,null,null,null,null,null,null,null,null,null,null,null,null,null,null,null,null,null,null,null,null,null,null,0,0,0,0,0,0]
["TRATAMIENTO ENDODONCIA UNIRRADICULAR",null,null,0,null,null,null,null,null,null,null,null,null,null,null,null,null,null,null,null,null,null,null,null,null,null,null,null,null,null,null,null,null,null,null,null,null,null,null,null,null,null,null,null,null,null,null,null,null,null,null,null,null,null,null,null,null,null,null,null,null,null,null,null,null,null,null,null,null,null,null,null,null,null,null,null,null,null,null,null,null,null,null,null,0,0,0,0,0,0]
["TRATAMIENTO ENDODONCIA BIRRADICULAR",null,null,0,null,null,null,null,null,null,null,null,null,null,null,null,null,null,null,null,null,null,null,null,null,null,null,null,null,null,null,null,null,null,null,null,null,null,null,null,null,null,null,null,null,null,null,null,null,null,null,null,null,null,null,null,null,null,null,null,null,null,null,null,null,null,null,null,null,null,null,null,null,null,null,null,null,null,null,null,null,null,null,null,0,0,0,0,0,0]
["TRATAMIENTO ENDODONCIA MULTIRRADICULAR",null,null,0,null,null,null,null,null,null,null,null,null,null,null,null,null,null,null,null,null,null,null,null,null,null,null,null,null,null,null,null,null,null,null,null,null,null,null,null,null,null,null,null,null,null,null,null,null,null,null,null,null,null,null,null,null,null,null,null,null,null,null,null,null,null,null,null,null,null,null,null,null,null,null,null,null,null,null,null,null,null,null,null,0,0,0,0,0,0]
["DESTARTRAJE SUBGINGIVAL Y PULIDO RADICULAR POR SEXTANTE",null,null,0,null,null,null,null,null,null,null,null,null,null,null,null,null,null,null,null,null,null,null,null,null,null,null,null,null,null,null,null,null,null,null,null,null,null,null,null,null,null,null,null,null,null,null,null,null,null,null,null,null,null,null,null,null,null,null,null,null,null,null,null,null,null,null,null,null,null,null,null,null,null,null,null,null,null,null,null,null,null,null,null,0,0,0,0,0,0]
["FÉRULA PERIODONCIA",null,null,0,null,null,null,null,null,null,null,null,null,null,null,null,null,null,null,null,null,null,null,null,null,null,null,null,null,null,null,null,null,null,null,null,null,null,null,null,null,null,null,null,null,null,null,null,null,null,null,null,null,null,null,null,null,null,null,null,null,null,null,null,null,null,null,null,null,null,null,null,null,null,null,null,null,null,null,null,null,null,null,null,0,0,0,0,0,0]
["INSTALACIÓN DE PLANO ALIVIO OCLUSAL",null,null,0,null,null,null,null,null,null,null,null,null,null,null,null,null,null,null,null,null,null,null,null,null,null,null,null,null,null,null,null,null,null,null,null,null,null,null,null,null,null,null,null,null,null,null,null,null,null,null,null,null,null,null,null,null,null,null,null,null,null,null,null,null,null,null,null,null,null,null,null,null,null,null,null,null,null,null,null,null,null,null,null,0,0,0,0,0,0]
["CIRUGÍA PERIODONTAL",null,null,0,null,null,null,null,null,null,null,null,null,null,null,null,null,null,null,null,null,null,null,null,null,null,null,null,null,null,null,null,null,null,null,null,null,null,null,null,null,null,null,null,null,null,null,null,null,null,null,null,null,null,null,null,null,null,null,null,null,null,null,null,null,null,null,null,null,null,null,null,null,null,null,null,null,null,null,null,null,null,null,null,0,0,0,0,0,0]
["INSTALACIÓN APARATO ORTOPEDIA PREQUIRÚRGICA (FISURA LABIOPALATINA)",null,null,0,null,null,null,null,null,null,null,null,null,null,null,null,null,null,null,null,null,null,null,null,null,null,null,null,null,null,null,null,null,null,null,null,null,null,null,null,null,null,null,null,null,null,null,null,null,null,null,null,null,null,null,null,null,null,null,null,null,null,null,null,null,null,null,null,null,null,null,null,null,null,null,null,null,null,null,null,null,null,null,null,0,0,0,0,0,0]
["ORTOPEDIA PREQUIRÚRGICA, ACTIVIDAD (FISURA LABIOPALATINA)",null,null,0,null,null,null,null,null,null,null,null,null,null,null,null,null,null,null,null,null,null,null,null,null,null,null,null,null,null,null,null,null,null,null,null,null,null,null,null,null,null,null,null,null,null,null,null,null,null,null,null,null,null,null,null,null,null,null,null,null,null,null,null,null,null,null,null,null,null,null,null,null,null,null,null,null,null,null,null,null,null,null,null,0,0,0,0,0,0]
["ORTODONCIA, ACTIVIDAD",null,null,0,null,null,null,null,null,null,null,null,null,null,null,null,null,null,null,null,null,null,null,null,null,null,null,null,null,null,null,null,null,null,null,null,null,null,null,null,null,null,null,null,null,null,null,null,null,null,null,null,null,null,null,null,null,null,null,null,null,null,null,null,null,null,null,null,null,null,null,null,null,null,null,null,null,null,null,null,null,null,null,null,0,0,0,0,0,0]
["INSTALACIÓN APARATO ORTODONCIA. (INCLUYE APARATO REMOVIBLE U OTRO)",null,null,0,null,null,null,null,null,null,null,null,null,null,null,null,null,null,null,null,null,null,null,null,null,null,null,null,null,null,null,null,null,null,null,null,null,null,null,null,null,null,null,null,null,null,null,null,null,null,null,null,null,null,null,null,null,null,null,null,null,null,null,null,null,null,null,null,null,null,null,null,null,null,null,null,null,null,null,null,null,null,null,null,0,0,0,0,0,0]
["INSTALACIÓN APARATO FIJO EN ORTODONCIA. (BRACKETS)",null,null,{"$f":"SUM(G98:N98)","v":0},null,null,null,null,null,null,null,null,null,null,null,null,null,null,null,null,null,null,null,null,null,null,null,null,null,null,null,null,null,null,null,null,null,null,null,null,null,null,null,null,null,null,null,null,null,null,null,null,null,null,null,null,null,null,null,null,null,null,null,null,null,null,null,null,null,null,null,null,null,null,null,null,null,null,null,null,null,null,null,null,0,0,0,0,0,0]
["INSTALACIÓN APARATO DE CONTENCIÓN",null,null,0,null,null,null,null,null,null,null,null,null,null,null,null,null,null,null,null,null,null,null,null,null,null,null,null,null,null,null,null,null,null,null,null,null,null,null,null,null,null,null,null,null,null,null,null,null,null,null,null,null,null,null,null,null,null,null,null,null,null,null,null,null,null,null,null,null,null,null,null,null,null,null,null,null,null,null,null,null,null,null,null,0,0,0,0,0,0]
["PRÓTESIS FIJA (UNITARIA O PLURAL)",null,null,0,null,null,null,null,null,null,null,null,null,null,null,null,null,null,null,null,null,null,null,null,null,null,null,null,null,null,null,null,null,null,null,null,null,null,null,null,null,null,null,null,null,null,null,null,null,null,null,null,null,null,null,null,null,null,null,null,null,null,null,null,null,null,null,null,null,null,null,null,null,null,null,null,null,null,null,null,null,null,null,null,0,0,0,0,0,0]
["PRÓTESIS FIJA PROVISORIA (UNITARIA O PLURAL)",null,null,0,null,null,null,null,null,null,null,null,null,null,null,null,null,null,null,null,null,null,null,null,null,null,null,null,null,null,null,null,null,null,null,null,null,null,null,null,null,null,null,null,null,null,null,null,null,null,null,null,null,null,null,null,null,null,null,null,null,null,null,null,null,null,null,null,null,null,null,null,null,null,null,null,null,null,null,null,null,null,null,null,0,0,0,0,0,0]
["PRÓTESIS REMOVIBLE ACRÍLICA",null,null,0,null,null,null,null,null,null,null,null,null,null,null,null,null,null,null,null,null,null,null,null,null,null,null,null,null,null,null,null,null,null,null,null,null,null,null,null,null,null,null,null,null,null,null,null,null,null,null,null,null,null,null,null,null,null,null,null,null,null,null,null,null,null,null,null,null,null,null,null,null,null,null,null,null,null,null,null,null,null,null,null,0,0,0,0,0,0]
["PRÓTESIS REMOVIBLE METÁLICA",null,null,0,null,null,null,null,null,null,null,null,null,null,null,null,null,null,null,null,null,null,null,null,null,null,null,null,null,null,null,null,null,null,null,null,null,null,null,null,null,null,null,null,null,null,null,null,null,null,null,null,null,null,null,null,null,null,null,null,null,null,null,null,null,null,null,null,null,null,null,null,null,null,null,null,null,null,null,null,null,null,null,null,0,0,0,0,0,0]
["REPARACIÓN DE PRÓTESIS",null,null,0,null,null,null,null,null,null,null,null,null,null,null,null,null,null,null,null,null,null,null,null,null,null,null,null,null,null,null,null,null,null,null,null,null,null,null,null,null,null,null,null,null,null,null,null,null,null,null,null,null,null,null,null,null,null,null,null,null,null,null,null,null,null,null,null,null,null,null,null,null,null,null,null,null,null,null,null,null,null,null,null,0,0,0,0,0,0]
["CIRUGÍA BUCAL (INTERVENCIÓN)",null,null,0,null,null,null,null,null,null,null,null,null,null,null,null,null,null,null,null,null,null,null,null,null,null,null,null,null,null,null,null,null,null,null,null,null,null,null,null,null,null,null,null,null,null,null,null,null,null,null,null,null,null,null,null,null,null,null,null,null,null,null,null,null,null,null,null,null,null,null,null,null,null,null,null,null,null,null,null,null,null,null,null,0,0,0,0,0,0]
["CIRUGÍA Y TRAUMATOLOGÍA MAXILOFACIAL (INTERVENCIÓN)",null,null,0,null,null,null,null,null,null,null,null,null,null,null,null,null,null,null,null,null,null,null,null,null,null,null,null,null,null,null,null,null,null,null,null,null,null,null,null,null,null,null,null,null,null,null,null,null,null,null,null,null,null,null,null,null,null,null,null,null,null,null,null,null,null,null,null,null,null,null,null,null,null,null,null,null,null,null,null,null,null,null,null,0,0,0,0,0,0]
["CONTROLES DE CIRUGÍA BUCAL Y TRAUMATOLOGÍA MAXILOFACIAL",null,null,0,null,null,null,null,null,null,null,null,null,null,null,null,null,null,null,null,null,null,null,null,null,null,null,null,null,null,null,null,null,null,null,null,null,null,null,null,null,null,null,null,null,null,null,null,null,null,null,null,null,null,null,null,null,null,null,null,null,null,null,null,null,null,null,null,null,null,null,null,null,null,null,null,null,null,null,null,null,null,null,null,0,0,0,0,0,0]
["TRATAMIENTO TRAUMATISMO DENTOALVEOLAR",null,null,0,null,null,null,null,null,null,null,null,null,null,null,null,null,null,null,null,null,null,null,null,null,null,null,null,null,null,null,null,null,null,null,null,null,null,null,null,null,null,null,null,null,null,null,null,null,null,null,null,null,null,null,null,null,null,null,null,null,null,null,null,null,null,null,null,null,null,null,null,null,null,null,null,null,null,null,null,null,null,null,null,0,0,0,0,0,0]
["INSTALACIÓN DE IMPLANTE ENDO-ÓSEO OSEOINTEGRABLE",null,null,0,null,null,null,null,null,null,null,null,null,null,null,null,null,null,null,null,null,null,null,null,null,null,null,null,null,null,null,null,null,null,null,null,null,null,null,null,null,null,null,null,null,null,null,null,null,null,null,null,null,null,null,null,null,null,null,null,null,null,null,null,null,null,null,null,null,null,null,null,null,null,null,null,null,null,null,null,null,null,null,null,0,0,0,0,0,0]
["TERAPIA TRATAMIENTO TEMPOROMANDIBULAR",null,null,0,null,null,null,null,null,null,null,null,null,null,null,null,null,null,null,null,null,null,null,null,null,null,null,null,null,null,null,null,null,null,null,null,null,null,null,null,null,null,null,null,null,null,null,null,null,null,null,null,null,null,null,null,null,null,null,null,null,null,null,null,null,null,null,null,null,null,null,null,null,null,null,null,null,null,null,null,null,null,null,null,0,0,0,0,0,0]
["TOTAL",null,null,{"$f":"SUM(D82:D110)","v":0},0,0,0,0,0,0,0,0,0,0,0,0,0,0,0,"    "]
["SECCIÓN F.1:  ACTIVIDADES DE APOYO EN ATENCIÓN DE ESPECIALIDADES"]
["ACTIVIDADES DE APOYO",null,null,"TOTAL",null,null,"Según grupos de edad o de riesgo",null,null,null,null,null,null,null,"EMBARAZADAS","BENEFICIARIOS","60 AÑOS (INCLUÍDO EN GRUPOS DE 20-64 AÑOS)","COMPRA DE SERVICIO "]
[null,null,null,null,null,null,"0-5 \naños","6 \naños","7 \naños","12 \naños","Resto \n<15 años","15-19 \naños","20-64 \naños","65 y \nmás años"]
[null,null,null,"Ambos Sexos","Hombres","Mujeres"]
["RADIOGRAFÍA EXTRAORAL (POR PLACA)",null,null,{"$f":"SUM(G116:N116)","v":0},null,null,null,null,null,null,null,null,null,null,null,null,null,null,null,null,null,null,null,null,null,null,null,null,null,null,null,null,null,null,null,null,null,null,null,null,null,null,null,null,null,null,null,null,null,null,null,null,null,null,null,null,null,null,null,null,null,null,null,null,null,null,null,null,null,null,null,null,null,null,null,null,null,null,null,null,null,null,null,null,0,0,0,0,0]
["RADIOGRAFÍA OCLUSAL (POR PLACA)",null,null,{"$f":"SUM(G117:N117)","v":0},null,null,null,null,null,null,null,null,null,null,null,null,null,null,null,null,null,null,null,null,null,null,null,null,null,null,null,null,null,null,null,null,null,null,null,null,null,null,null,null,null,null,null,null,null,null,null,null,null,null,null,null,null,null,null,null,null,null,null,null,null,null,null,null,null,null,null,null,null,null,null,null,null,null,null,null,null,null,null,null,0,0,0,0,0]
["TELERRADIOGRAFÍA",null,null,0,null,null,null,null,null,null,null,null,null,null,null,null,null,null,null,null,null,null,null,null,null,null,null,null,null,null,null,null,null,null,null,null,null,null,null,null,null,null,null,null,null,null,null,null,null,null,null,null,null,null,null,null,null,null,null,null,null,null,null,null,null,null,null,null,null,null,null,null,null,null,null,null,null,null,null,null,null,null,null,null,0,0,0,0,0]
["RADIOGRAFÍA PANORÁMICA (POR PLACA)",null,null,0,null,null,null,null,null,null,null,null,null,null,null,null,null,null,null,null,null,null,null,null,null,null,null,null,null,null,null,null,null,null,null,null,null,null,null,null,null,null,null,null,null,null,null,null,null,null,null,null,null,null,null,null,null,null,null,null,null,null,null,null,null,null,null,null,null,null,null,null,null,null,null,null,null,null,null,null,null,null,null,null,0,0,0,0,0]
["TOMOGRAFÍA COMPUTACIONAL MAXILO FACIAL CONE BEAM",null,null,0,null,null,null,null,null,null,null,null,null,null,null,null,null,null,null,null,null,null,null,null,null,null,null,null,null,null,null,null,null,null,null,null,null,null,null,null,null,null,null,null,null,null,null,null,null,null,null,null,null,null,null,null,null,null,null,null,null,null,null,null,null,null,null,null,null,null,null,null,null,null,null,null,null,null,null,null,null,null,null,null,0,0,0,0,0]
["SIALOGRAFÍAS (PROCEDIMIENTO)",null,null,0,null,null,null,null,null,null,null,null,null,null,null,null,null,null,null,null,null,null,null,null,null,null,null,null,null,null,null,null,null,null,null,null,null,null,null,null,null,null,null,null,null,null,null,null,null,null,null,null,null,null,null,null,null,null,null,null,null,null,null,null,null,null,null,null,null,null,null,null,null,null,null,null,null,null,null,null,null,null,null,null,0,0,0,0,0]
["TOTAL",null,null,{"$f":"SUM(D116:D121)","v":0},0,0,0,0,0,0,0,0,0,0,0,0,0,0,"    "]
["SECCIÓN G: PROGRAMAS ESPECIALES Y GES (Actividades incluidas en Sección B)",null,null,null,null,null,null,null,null,null,null,null,null,null,null,null,null,null,null,null,null,null,null,null,null,null,null,null,null,null,null,null,null,null,null,null,null,null,null,null,null,null,null,null,null,null,null,null,null,null,null,null,null,null,null,null,null,null,null,null,null,null,null,null,null,null,null,null,null,null,null,null,null,null,null,null,null,null,null,null,null,null,null,null,0]
["PROGRAMA - ACTIVIDAD",null,null,"TOTAL",null,null,"Según grupos de edad o de riesgo",null,null,null,null,null,"COMPRA DE SERVICIO","USUARIOS EN SITUACIÓN DE DISCAPACIDAD*","* El número de actividades en usuarios en situacion de discapacidad NO DEBE ser mayor al total. ",null,null,null,null,null,null,null,null,null,null,null,null,null,null,null,null,null,null,null,null,null,null,null,null,null,null,null,null,null,null,null,null,null,null,null,null,null,null,null,null,null,null,null,null,null,null,null,null,null,null,null,null,null,null,null,null,null,null,null,null,null,null,null,"* El número de actividades en usuarios en situacion de discapacidad NO DEBE ser mayor al total. ",null,null,null,null,null,1]
[null,null,null,null,null,null,"15-19 \naños",null,"20-64 \naños",null,"65 y \nmás años",null,null,null,null,null,null,null,null,null,null,null,null,null,null,null,null,null,null,null,null,null,null,null,null,null,null,null,null,null,null,null,null,null,null,null,null,null,null,null,null,null,null,null,null,null,null,null,null,null,null,null,null,null,null,null,null,null,null,null,null,null,null,null,null,null,null,null,null,null,null,null,null,null,0]
[null,null,null,"Ambos Sexos","Hombres","Mujeres","Hombres","Mujeres","Hombres","Mujeres","Hombres","Mujeres"]
["PROGRAMA ODONTOLÓGICO INTEGRAL, ESTRATEGIA MÁS SONRISAS PARA CHILE","N°AUDITORÍAS CLÍNICAS REALIZADAS",null,{"$f":"SUM(E127+F127)","v":0},null,{"$f":"SUM(+J127+L127)","v":0},null,null,null,null,null,null,null,null,null,null,null,null,null,null,null,null,null,null,null,null,null,null,null,null,null,null,null,null,null,null,null,null,null,null,null,null,null,null,null,null,null,null,null,null,null,null,null,null,null,null,null,null,null,null,null,null,null,null,null,null,null,null,null,null,null,null,null,null,null,null,null,null,null,null,null,null,null,null,0]
[null,"PRÓTESIS REMOVIBLES",null,{"$f":"SUM(E128+F128)","v":0},null,{"$f":"SUM(+J128+L128)","v":0},null,null,null,null,null,null,null,null,null,null,null,null,null,null,null,null,null,null,null,null,null,null,null,null,null,null,null,null,null,null,null,null,null,null,null,null,null,null,null,null,null,null,null,null,null,null,null,null,null,null,null,null,null,null,null,null,null,null,null,null,null,null,null,null,null,null,null,null,null,null,null,null,null,null,null,null,null,null,0]
[null,"REPARACIÓN DE PRÓTESIS",null,{"$f":"SUM(E129+F129)","v":0},null,0,null,null,null,null,null,null,null,null,null,null,null,null,null,null,null,null,null,null,null,null,null,null,null,null,null,null,null,null,null,null,null,null,null,null,null,null,null,null,null,null,null,null,null,null,null,null,null,null,null,null,null,null,null,null,null,null,null,null,null,null,null,null,null,null,null,null,null,null,null,null,null,null,null,null,null,null,null,null,0]
[null,"ALTAS INTEGRALES","TOTAL",null,null,{"$f":"SUM(F131:F136)","v":0},null,null,null,{"$f":"SUM(J131:J136)","v":0},null,{"$f":"SUM(L131:L136)","v":0},{"$f":"SUM(M131:M136)","v":0},{"$f":"SUM(N131:N136)","v":0},null,null,null,null,null,null,null,null,null,null,null,null,null,null,null,null,null,null,null,null,null,null,null,null,null,null,null,null,null,null,null,null,null,null,null,null,null,null,null,null,null,null,null,null,null,null,null,null,null,null,null,null,null,null,null,null,null,null,null,null,null,null,null,null,null,null,null,null,null,null,0]
[null,null,"JUNJI-INTEGRA-MINEDUC",null,null,{"$f":"SUM(H131+J131+L131)","v":0},null,null,null,null,null,null,null,null,null,null,null,null,null,null,null,null,null,null,null,null,null,null,null,null,null,null,null,null,null,null,null,null,null,null,null,null,null,null,null,null,null,null,null,null,null,null,null,null,null,null,null,null,null,null,null,null,null,null,null,null,null,null,null,null,null,null,null,null,null,null,null,null,null,null,null,null,null,null,0]
[null,null,"SERNAM",null,null,0,null,null,null,null,null,null,null,null,null,null,null,null,null,null,null,null,null,null,null,null,null,null,null,null,null,null,null,null,null,null,null,null,null,null,null,null,null,null,null,null,null,null,null,null,null,null,null,null,null,null,null,null,null,null,null,null,null,null,null,null,null,null,null,null,null,null,null,null,null,null,null,null,null,null,null,null,null,null,0]
[null,null,"PRODEMU",null,null,{"$f":"+J133+L133","v":0},null,null,null,null,null,null,null,null,null,null,null,null,null,null,null,null,null,null,null,null,null,null,null,null,null,null,null,null,null,null,null,null,null,null,null,null,null,null,null,null,null,null,null,null,null,null,null,null,null,null,null,null,null,null,null,null,null,null,null,null,null,null,null,null,null,null,null,null,null,null,null,null,null,null,null,null,null,null,0]
[null,null,"CHILE SOLIDARIO ",null,null,0,null,null,null,null,null,null,null,null,null,null,null,null,null,null,null,null,null,null,null,null,null,null,null,null,null,null,null,null,null,null,null,null,null,null,null,null,null,null,null,null,null,null,null,null,null,null,null,null,null,null,null,null,null,null,null,null,null,null,null,null,null,null,null,null,null,null,null,null,null,null,null,null,null,null,null,null,null,null,0]
[null,null,"MINVU",null,null,0,null,null,null,null,null,null,null,null,null,null,null,null,null,null,null,null,null,null,null,null,null,null,null,null,null,null,null,null,null,null,null,null,null,null,null,null,null,null,null,null,null,null,null,null,null,null,null,null,null,null,null,null,null,null,null,null,null,null,null,null,null,null,null,null,null,null,null,null,null,null,null,null,null,null,null,null,null,null,0]
[null,null,"DEMANDA LOCAL",null,null,0,null,null,null,null,null,null,null,null,null,null,null,null,null,null,null,null,null,null,null,null,null,null,null,null,null,null,null,null,null,null,null,null,null,null,null,null,null,null,null,null,null,null,null,null,null,null,null,null,null,null,null,null,null,null,null,null,null,null,null,null,null,null,null,null,null,null,null,null,null,null,null,null,null,null,null,null,null,null,0]
["PROGRAMA ODONTOLÓGICO INTEGRAL, HOMBRES DE ESCASOS RECURSOS ","ALTAS INTEGRALES/ACTIVIDADES","PRÓTESIS REMOVIBLES",null,{"$f":"+I137+K137","v":0},null,null,null,null,null,null,null,null,null,null,null,null,null,null,null,null,null,null,null,null,null,null,null,null,null,null,null,null,null,null,null,null,null,null,null,null,null,null,null,null,null,null,null,null,null,null,null,null,null,null,null,null,null,null,null,null,null,null,null,null,null,null,null,null,null,null,null,null,null,null,null,null,null,null,null,null,null,null,null,0]
[null,null,"TOTAL ALTAS INTEGRALES",null,{"$f":"+I138+K138","v":0},null,null,null,null,null,null,null,null,null,null,null,null,null,null,null,null,null,null,null,null,null,null,null,null,null,null,null,null,null,null,null,null,null,null,null,null,null,null,null,null,null,null,null,null,null,null,null,null,null,null,null,null,null,null,null,null,null,null,null,null,null,null,null,null,null,null,null,null,null,null,null,null,null,null,null,null,null,null,null,0]
[null,null,"Nº DE AUDITORIAS CLÍNICAS REALIZADAS",null,{"$f":"SUM(I139+K139)","v":0},null,null,null,null,null,null,null,null,null,null,null,null,null,null,null,null,null,null,null,null,null,null,null,null,null,null,null,null,null,null,null,null,null,null,null,null,null,null,null,null,null,null,null,null,null,null,null,null,null,null,null,null,null,null,null,null,null,null,null,null,null,null,null,null,null,null,null,null,null,null,null,null,null,null,null,null,null,null,null,0]
[null,null,"REPARACIÓN DE PROTESIS",null,{"$f":"SUM(I140+K140)","v":0},null,null,null,null,null,null,null,null,null,null,null,null,null,null,null,null,null,null,null,null,null,null,null,null,null,null,null,null,null,null,null,null,null,null,null,null,null,null,null,null,null,null,null,null,null,null,null,null,null,null,null,null,null,null,null,null,null,null,null,null,null,null,null,null,null,null,null,null,null,null,null,null,null,null,null,null,null,null,null,0]
["PROGRAMA ODONTOLÓGICO INTEGRAL, ATENCION ODONTOLOGICA EN DOMICILIO","ALTAS ODONTOLOGICAS","TOTAL ALTAS ",{"$f":"SUM(E141:F141)","v":0},{"$f":"+G141+I141+K141","v":0},{"$f":"+H141+J141+L141","v":0},null,null,null,null,null,null,null,null,null,null,null,null,null,null,null,null,null,null,null,null,null,null,null,null,null,null,null,null,null,null,null,null,null,null,null,null,null,null,null,null,null,null,null,null,null,null,null,null,null,null,null,null,null,null,null,null,null,null,null,null,null,null,null,null,null,null,null,null,null,null,null,null,null,null,null,null,null,null,0]
["PROGRAMA MEJORAMIENTO DEL ACCESO, ESTRATEGIA RESOLUCIÓN DE ESPECIALIDAD EN APS","TRATAMIENTO ENDODONCIA","N° PACIENTES",{"$f":"SUM(E142+F142)","v":0},{"$f":"SUM(G142+I142+K142)","v":0},{"$f":"SUM(H142+J142+L142)","v":0},null,null,null,null,null,null,null,null,null,null,null,null,null,null,null,null,null,null,null,null,null,null,null,null,null,null,null,null,null,null,null,null,null,null,null,null,null,null,null,null,null,null,null,null,null,null,null,null,null,null,null,null,null,null,null,null,null,null,null,null,null,null,null,null,null,null,null,null,null,null,null,null,null,null,null,null,null,null,0]
[null,null,"N° DIENTES",0,{"$f":"SUM(G143+I143+K143)","v":0},{"$f":"SUM(H143+J143+L143)","v":0},null,null,null,null,null,null,null,null,null,null,null,null,null,null,null,null,null,null,null,null,null,null,null,null,null,null,null,null,null,null,null,null,null,null,null,null,null,null,null,null,null,null,null,null,null,null,null,null,null,null,null,null,null,null,null,null,null,null,null,null,null,null,null,null,null,null,null,null,null,null,null,null,null,null,null,null,null,null,0]
[null,"PRÓTESIS REMOVIBLES","N° PACIENTES",0,0,0,null,null,null,null,null,null,null,null,null,null,null,null,null,null,null,null,null,null,null,null,null,null,null,null,null,null,null,null,null,null,null,null,null,null,null,null,null,null,null,null,null,null,null,null,null,null,null,null,null,null,null,null,null,null,null,null,null,null,null,null,null,null,null,null,null,null,null,null,null,null,null,null,null,null,null,null,null,null,0]
[null,null,"N° PRÓTESIS",0,0,0,null,null,null,null,null,null,null,null,null,null,null,null,null,null,null,null,null,null,null,null,null,null,null,null,null,null,null,null,null,null,null,null,null,null,null,null,null,null,null,null,null,null,null,null,null,null,null,null,null,null,null,null,null,null,null,null,null,null,null,null,null,null,null,null,null,null,null,null,null,null,null,null,null,null,null,null,null,null,0]
["PROGRAMA GES ODONTOLÓGICO ADULTO DE 60 AÑOS.","ALTAS INTEGRALES",null,{"$f":"SUM(E146+F146)","v":0},{"$f":"SUM(I146+K146)","v":0},{"$f":"SUM(+J146+L146)","v":0},null,null,null,null,null,null,null,null,null,null,null,null,null,null,null,null,null,null,null,null,null,null,null,null,null,null,null,null,null,null,null,null,null,null,null,null,null,null,null,null,null,null,null,null,null,null,null,null,null,null,null,null,null,null,null,null,null,null,null,null,null,null,null,null,null,null,null,null,null,null,null,null,null,null,null,null,null,null,0]
[null,"TRATAMIENTO ENDODONCIA","N° PACIENTES",0,{"$f":"SUM(I147+K147)","v":0},{"$f":"SUM(+J147+L147)","v":0},null,null,null,null,null,null,null,null,null,null,null,null,null,null,null,null,null,null,null,null,null,null,null,null,null,null,null,null,null,null,null,null,null,null,null,null,null,null,null,null,null,null,null,null,null,null,null,null,null,null,null,null,null,null,null,null,null,null,null,null,null,null,null,null,null,null,null,null,null,null,null,null,null,null,null,null,null,null,0]
[null,null,"N° DIENTES",0,{"$f":"SUM(I148+K148)","v":0},{"$f":"SUM(+J148+L148)","v":0},null,null,null,null,null,null,null,null,null,null,null,null,null,null,null,null,null,null,null,null,null,null,null,null,null,null,null,null,null,null,null,null,null,null,null,null,null,null,null,null,null,null,null,null,null,null,null,null,null,null,null,null,null,null,null,null,null,null,null,null,null,null,null,null,null,null,null,null,null,null,null,null,null,null,null,null,null,null,0]
[null,"PRÓTESIS REMOVIBLES","N° PACIENTES",0,{"$f":"SUM(I149+K149)","v":0},{"$f":"SUM(+J149+L149)","v":0},null,null,null,null,null,null,null,null,null,null,null,null,null,null,null,null,null,null,null,null,null,null,null,null,null,null,null,null,null,null,null,null,null,null,null,null,null,null,null,null,null,null,null,null,null,null,null,null,null,null,null,null,null,null,null,null,null,null,null,null,null,null,null,null,null,null,null,null,null,null,null,null,null,null,null,null,null,null,0]
[null,null,"N° PRÓTESIS",0,{"$f":"SUM(I150+K150)","v":0},{"$f":"SUM(+J150+L150)","v":0},null,null,null,null,null,null,null,null,null,null,null,null,null,null,null,null,null,null,null,null,null,null,null,null,null,null,null,null,null,null,null,null,null,null,null,null,null,null,null,null,null,null,null,null,null,null,null,null,null,null,null,null,null,null,null,null,null,null,null,null,null,null,null,null,null,null,null,null,null,null,null,null,null,null,null,null,null,null,0]
["PROGRAMA ODONTOLOGICO INTEGRAL","ALTAS INTEGRALES ESTUDIANTES DE CUARTO MEDIO","ALTA INTEGRAL EN CENTRO DE SALUD",0,{"$f":"SUM(G151+I151+K151)","v":0},0,null,null,null,null,null,null,null,null,null,null,null,null,null,null,null,null,null,null,null,null,null,null,null,null,null,null,null,null,null,null,null,null,null,null,null,null,null,null,null,null,null,null,null,null,null,null,null,null,null,null,null,null,null,null,null,null,null,null,null,null,null,null,null,null,null,null,null,null,null,null,null,null,null,null,null,null,null,null,0]
[null,null,"ALTA INTEGRAL EN UNIDAD DENTAL MÓVIL O PORTÁTIL",0,0,0,null,null,null,null,null,null,null,null,null,null,null,null,null,null,null,null,null,null,null,null,null,null,null,null,null,null,null,null,null,null,null,null,null,null,null,null,null,null,null,null,null,null,null,null,null,null,null,null,null,null,null,null,null,null,null,null,null,null,null,null,null,null,null,null,null,null,null,null,null,null,null,null,null,null,null,null,null,null,0]
[null,null,"ALTA INTEGRAL EN ESTABLECIMIENTO EDUCACIONAL",0,0,0,null,null,null,null,null,null,null,null,null,null,null,null,null,null,null,null,null,null,null,null,null,null,null,null,null,null,null,null,null,null,null,null,null,null,null,null,null,null,null,null,null,null,null,null,null,null,null,null,null,null,null,null,null,null,null,null,null,null,null,null,null,null,null,null,null,null,null,null,null,null,null,null,null,null,null,null,null,null,0]
["PROGRAMA MEJORAMIENTO DEL ACCESO","MORBILIDAD ADULTO","N° TOTAL DE ACTIVIDAD RECUPERATIVA REALIZADA EN >20 AÑOS, EN EXTENSIÓN HORARIA",{"$f":"SUM(E154+F154)","v":0},{"$f":"+I154+K154","v":0},{"$f":"+J154+L154","v":0},null,null,null,null,null,null,null,null,null,null,null,null,null,null,null,null,null,null,null,null,null,null,null,null,null,null,null,null,null,null,null,null,null,null,null,null,null,null,null,null,null,null,null,null,null,null,null,null,null,null,null,null,null,null,null,null,null,null,null,null,null,null,null,null,null,null,null,null,null,null,null,null,null,null,null,null,null,null,0]
[null,null,"N° DE CONSULTAS DE MORBILIDAD REALIZADAS EN >20 AÑOS, EN EXTENSIÓN HORARIA",{"$f":"SUM(E155+F155)","v":0},{"$f":"+I155+K155","v":0},{"$f":"+J155+L155","v":0},null,null,null,null,null,null,null,null,null,null,null,null,null,null,null,null,null,null,null,null,null,null,null,null,null,null,null,null,null,null,null,null,null,null,null,null,null,null,null,null,null,null,null,null,null,null,null,null,null,null,null,null,null,null,null,null,null,null,null,null,null,null,null,null,null,null,null,null,null,null,null,null,null,null,null,null,null,null,0]
["SECCIÓN G.1: PROGRAMA SEMBRANDO SONRISAS",null,null,null,null,null,null,null,null,null,null,null,null,null,null,null,null,null,null,null,null,null,null,null,null,null,null,null,null,null,null,null,null,null,null,null,null,null,null,null,null,null,null,null,null,null,null,null,null,null,null,null,null,null,null,null,null,null,null,null,null,null,null,null,null,null,null,null,null,null,null,null,null,null,null,null,null,null,null,null,null,null,null,null,0]
["ACTIVIDAD",null,null,"TOTAL",null,null,"SEGÚN GRUPOS DE EDAD O DE RIESGO",null,null,null,null,null,null,null,null,null,null,null,null,null,null,null,null,null,null,null,"USUARIOS EN SITUACIÓN DE DISCAPACIDAD*","* Las actividades de usuarios en situacion de discapacidad NO DEBE ser mayor al total. ","INTEGRA","MINEDUC","* Las actividades de usuarios en situacion de discapacidad NO DEBE ser mayor al total. ",null,null,null,null,null,null,null,null,null,null,null,null,null,null,null,null,null,null,null,null,null,null,null,null,null,null,null,null,null,null,null,null,null,null,null,null,null,null,null,null,null,null,null,null,null,null,null,"* Las actividades de usuarios en situacion de discapacidad NO DEBE ser mayor al total. ",null,"* Las actividades de usuarios en situacion de discapacidad NO DEBE ser mayor al total. ","* Las actividades de usuarios en situacion de discapacidad NO DEBE ser mayor al total. ",null,null,1,null,1,1]
[null,null,null,null,null,null,"Menos de 1 año",null,"1 año",null,"2 años",null,"3 años",null,"4 años",null,"5 años",null,"0-14 años",null,"15-19 \naños",null,"20-64 \naños",null,"65 y \nmás años"]
[null,null,null,"Ambos Sexos","Hombres","Mujeres","Hombres","Mujeres","Hombres","Mujeres","Hombres","Mujeres","Hombres","Mujeres","Hombres","Mujeres","Hombres","Mujeres","Hombres","Mujeres","Hombres","Mujeres","Hombres","Mujeres","Hombres","Mujeres"]
["EXAMEN DE SALUD",null,null,{"$f":"SUM(E160+F160)","v":0},{"$f":"+K160+M160+O160+Q160","v":0},0,null,null,null,null,null,null,null,null,null,null,null,null,null,null,null,null,null,null,null,null,null,null,null,null,null,null,null,null,null,null,null,null,null,null,null,null,null,null,null,null,null,null,null,null,null,null,null,null,null,null,null,null,null,null,null,null,null,null,null,null,null,null,null,null,null,null,null,null,null,null,null,null,null,null,null,null,null,null,null,null,null,0]
["Nº DE NIÑOS CON ÍNDICE ceod=0 AL INGRESO",null,null,{"$f":"SUM(E161+F161)","v":0},0,0,null,null,null,null,null,null,null,null,null,null,null,null,null,null,null,null,null,null,null,null,null,null,null,null,null,null,null,null,null,null,null,null,null,null,null,null,null,null,null,null,null,null,null,null,null,null,null,null,null,null,null,null,null,null,null,null,null,null,null,null,null,null,null,null,null,null,null,null,null,null,null,null,null,null,null,null,null,null,null,null,null,0]
["SET DE HIGIENE ORAL ENTREGADOS",null,null,0,{"$f":"+K162+M162+O162+Q162","v":0},{"$f":"+L162+N162+P162+R162","v":0},null,null,null,null,null,null,null,null,null,null,null,null,null,null,null,null,null,null,null,null,null,null,null,null,null,null,null,null,null,null,null,null,null,null,null,null,null,null,null,null,null,null,null,null,null,null,null,null,null,null,null,null,null,null,null,null,null,null,null,null,null,null,null,null,null,null,null,null,null,null,null,null,null,null,null,null,null,null,0,null,null,0]
["Nº DE APLICACIONES FLÚOR BARNIZ",null,null,0,{"$f":"+K163+M163+O163+Q163","v":0},0,null,null,null,null,null,null,null,null,null,null,null,null,null,null,null,null,null,null,null,null,null,null,null,null,null,null,null,null,null,null,null,null,null,null,null,null,null,null,null,null,null,null,null,null,null,null,null,null,null,null,null,null,null,null,null,null,null,null,null,null,null,null,null,null,null,null,null,null,null,null,null,null,null,null,null,null,null,null,0,null,null,0]
["EDUCACIÓN GRUPAL EN ESTABLECIMIENTO DE EDUCACIÓN",null,null,null,null,null,null,null,null,null,null,null,null,null,null,null,null,null,null,null,null,null,null,null,null,null,null,null,null,null,null,null,null,null,null,null,null,null,null,null,null,null,null,null,null,null,null,null,null,null,null,null,null,null,null,null,null,null,null,null,null,null,null,null,null,null,null,null,null,null,null,null,null,null,null,null,null,null,null,null,null,null,null,null,0,null,null,0]
["SECCIÓN H: SEDACIÓN Y ANESTESIA"]
["ACTIVIDAD",null,null,"TOTAL",null,null,"SEGÚN GRUPOS DE EDAD O DE RIESGO"]
[null,null,null,null,null,null,"0-5 años","6 -14años","15-19 años","20-64 años"]
[null,null,null,"Ambos Sexos","Hombres","Mujeres"]
["ATENCIÓN BAJO SEDACIÓN INHALATORIA (CON ÓXIDO NITROSO)",null,null,{"$f":"SUM(G169:J169)","v":0},null,null,null,null,null,null,null,null,null,null,null,null,null,null,null,null,null,null,null,null,null,null,null,null,null,null,null,null,null,null,null,null,null,null,null,null,null,null,null,null,null,null,null,null,null,null,null,null,null,null,null,null,null,null,null,null,null,null,null,null,null,null,null,null,null,null,null,null,null,null,null,null,null,null,null,null,null,null,null,null,0,0,0]
["SEDACIÓN ENDOVENOSA",null,null,{"$f":"SUM(G170:J170)","v":0},null,null,null,null,null,null,null,null,null,null,null,null,null,null,null,null,null,null,null,null,null,null,null,null,null,null,null,null,null,null,null,null,null,null,null,null,null,null,null,null,null,null,null,null,null,null,null,null,null,null,null,null,null,null,null,null,null,null,null,null,null,null,null,null,null,null,null,null,null,null,null,null,null,null,null,null,null,null,null,null,0,0,0]
["ATENCIÓN BAJO ANESTESIA GENERAL",null,null,{"$f":"SUM(G171:J171)","v":0},null,null,null,null,null,null,null,null,null,null,null,null,null,null,null,null,null,null,null,null,null,null,null,null,null,null,null,null,null,null,null,null,null,null,null,null,null,null,null,null,null,null,null,null,null,null,null,null,null,null,null,null,null,null,null,null,null,null,null,null,null,null,null,null,null,null,null,null,null,null,null,null,null,null,null,null,null,null,null,null,0,0,0]
["ATENCIÓN BAJO SEDACIÓN ORAL",null,null,{"$f":"SUM(G172:J172)","v":0},null,null,null,null,null,null,null,null,null,null,null,null,null,null,null,null,null,null,null,null,null,null,null,null,null,null,null,null,null,null,null,null,null,null,null,null,null,null,null,null,null,null,null,null,null,null,null,null,null,null,null,null,null,null,null,null,null,null,null,null,null,null,null,null,null,null,null,null,null,null,null,null,null,null,null,null,null,null,null,null,0,0,0]
["SECCIÓN I:  CONSULTAS, INGRESOS Y EGRESOS A TRATAMIENTOS EN ESTABLECIMIENTOS DE NIVEL SECUNDARIO Y TERCIARIO",null,null,null,null,null,null,null,null,null,null,null,null,null,null,null,null,null,null,null,null,null,null,null,null,null,null,null,null,null,null,null,null,null,null,null,null,null,null,null,null,null,null,null,null,null,null,null,null,null,null,null,null,null,null,null,null,null,null,null,null,null,null,null,null,null,null,null,null,null,null,null,null,null,null,null,null,null,null,null,null,null,null,null,0,0,0]
["ESPECIALIDAD Y TIPO DE INGRESO O EGRESO.",null,null,"TOTAL   ",null,null,"SEGÚN GRUPOS DE EDAD O DE RIESGO",null,null,null,null,null,null,null,null,null,null,null,null,null,null,null,"EMBARAZADAS","60 AÑOS (INCLUÍDO EN GRUPOS DE 20-64 AÑOS)","CONSULTA PERTINENTE","INASISTENTE","* El número altas de pacientes 60 años NO DEBE ser mayor que el de 20-64 años. * Las Embarazadas NO DEBEN ser mayor al total de mujeres. ",null,null,null,null,null,null,null,null,null,null,null,null,null,null,null,null,null,null,null,null,null,null,null,null,null,null,null,null,null,null,null,null,null,null,null,null,null,null,null,null,null,null,null,null,null,null,null,null,null,null,null,"* El número altas de pacientes 60 años NO DEBE ser mayor que el de 20-64 años. ",null,"* Las Embarazadas NO DEBEN ser mayor al total de mujeres. ",null,null,null,1,0,1]
[null,null,null,null,null,null,"0-5 años",null,"6 años",null,"7 años",null,"12 años",null,"Resto <15 años",null,"15-19 años",null,"20-64 \naños",null,"65 y \nmás años",null,null,null,"Según protocolo de referencia",null,"* La Consulta Pertinente NO DEBE ser mayor que al total. ",null,null,null,null,null,null,null,null,null,null,null,null,null,null,null,null,null,null,null,null,null,null,null,null,null,null,null,null,null,null,null,null,null,null,null,null,null,null,null,null,null,null,null,null,null,null,null,null,null,null,null,null,"* La Consulta Pertinente NO DEBE ser mayor que al total. ",null,null,null,null,0,1,0]
[null,null,null,"Ambos Sexos","Hombres","Mujeres","Hombres","Mujeres","Hombres","Mujeres","Hombres","Mujeres","Hombres","Mujeres","Hombres","Mujeres","Hombres","Mujeres","Hombres","Mujeres","Hombres","Mujeres",null,null,null,null,"* Recuerde que las Embarazadas deben ser incluida en el ingreso por rango Etario (Digite CEROS si no tiene). ",null,null,null,null,null,null,null,null,null,null,null,null,null,null,null,null,null,null,null,null,null,null,null,null,null,null,null,null,null,null,null,null,null,null,null,null,null,null,null,null,null,null,null,null,null,null,null,null,null,null,null,null,null,"* Recuerde que las Embarazadas deben ser incluida en el ingreso por rango Etario (Digite CEROS si no tiene). ",null,null,null,0,0,1]
["CONSULTAS","CONSULTA DE URGENCIA",null,{"$f":"SUM(E177+F177)","v":0},{"$f":"SUM(G177+I177+K177+M177+O177+Q177+S177+U177)","v":0},{"$f":"SUM(H177+J177+L177+N177+P177+R177+T177+V177)","v":0},null,null,null,null,null,null,null,null,null,null,null,null,null,null,null,null,null,null,null,null,null,null,null,null,null,null,null,null,null,null,null,null,null,null,null,null,null,null,null,null,null,null,null,null,null,null,null,null,null,null,null,null,null,null,null,null,null,null,null,null,null,null,null,null,null,null,null,null,null,null,null,null,null,null,null,null,null,null,0,0,0]
[null,"CONSULTA DE MORBILIDAD ODONTOLOGICA",null,0,0,0,null,null,null,null,null,null,null,null,null,null,null,null,null,null,null,null,null,null,null,null,null,null,null,null,null,null,null,null,null,null,null,null,null,null,null,null,null,null,null,null,null,null,null,null,null,null,null,null,null,null,null,null,null,null,null,null,null,null,null,null,null,null,null,null,null,null,null,null,null,null,null,null,null,null,null,null,null,null,0,0,0]
["CIRUGÍA BUCAL","PRIMERAS CONSULTAS",null,0,0,0,null,null,null,null,null,null,null,null,null,null,null,null,null,null,null,null,null,null,null,null,null,null,null,null,null,null,null,null,null,null,null,null,null,null,null,null,null,null,null,null,null,null,null,null,null,null,null,null,null,null,null,null,null,null,null,null,null,null,null,null,null,null,null,null,null,null,null,null,null,null,null,null,null,null,null,null,null,null,0,0,0]
[null,"CONSULTAS REPETIDAS",null,0,0,0,null,null,null,null,null,null,null,null,null,null,null,null,null,null,null,null,null,null,null,null,null,null,null,null,null,null,null,null,null,null,null,null,null,null,null,null,null,null,null,null,null,null,null,null,null,null,null,null,null,null,null,null,null,null,null,null,null,null,null,null,null,null,null,null,null,null,null,null,null,null,null,null,null,null,null,null,null,null,0,0,0]
[null,"INGRESOS A TRATAMIENTO",null,0,0,0,null,null,null,null,null,null,null,null,null,null,null,null,null,null,null,null,null,null,null,null,null,null,null,null,null,null,null,null,null,null,null,null,null,null,null,null,null,null,null,null,null,null,null,null,null,null,null,null,null,null,null,null,null,null,null,null,null,null,null,null,null,null,null,null,null,null,null,null,null,null,null,null,null,null,null,null,null,null,0,0,0]
[null,"ALTAS DE TRATAMIENTO",null,0,0,0,null,null,null,null,null,null,null,null,null,null,null,null,null,null,null,null,null,null,null,null,null,null,null,null,null,null,null,null,null,null,null,null,null,null,null,null,null,null,null,null,null,null,null,null,null,null,null,null,null,null,null,null,null,null,null,null,null,null,null,null,null,null,null,null,null,null,null,null,null,null,null,null,null,null,null,null,null,null,0,0,0]
["CIRUGÍA Y TRAUMATOLOGÍA MAXILOFACIAL","PRIMERAS CONSULTAS",null,0,0,0,null,null,null,null,null,null,null,null,null,null,null,null,null,null,null,null,null,null,null,null,null,null,null,null,null,null,null,null,null,null,null,null,null,null,null,null,null,null,null,null,null,null,null,null,null,null,null,null,null,null,null,null,null,null,null,null,null,null,null,null,null,null,null,null,null,null,null,null,null,null,null,null,null,null,null,null,null,null,0,0,0]
[null,"CONSULTAS REPETIDAS",null,0,0,0,null,null,null,null,null,null,null,null,null,null,null,null,null,null,null,null,null,null,null,null,null,null,null,null,null,null,null,null,null,null,null,null,null,null,null,null,null,null,null,null,null,null,null,null,null,null,null,null,null,null,null,null,null,null,null,null,null,null,null,null,null,null,null,null,null,null,null,null,null,null,null,null,null,null,null,null,null,null,0,0,0]
[null,"INGRESOS A TRATAMIENTO",null,0,0,0,null,null,null,null,null,null,null,null,null,null,null,null,null,null,null,null,null,null,null,null,null,null,null,null,null,null,null,null,null,null,null,null,null,null,null,null,null,null,null,null,null,null,null,null,null,null,null,null,null,null,null,null,null,null,null,null,null,null,null,null,null,null,null,null,null,null,null,null,null,null,null,null,null,null,null,null,null,null,0,0,0]
[null,"ALTAS DE TRATAMIENTO",null,0,0,0,null,null,null,null,null,null,null,null,null,null,null,null,null,null,null,null,null,null,null,null,null,null,null,null,null,null,null,null,null,null,null,null,null,null,null,null,null,null,null,null,null,null,null,null,null,null,null,null,null,null,null,null,null,null,null,null,null,null,null,null,null,null,null,null,null,null,null,null,null,null,null,null,null,null,null,null,null,null,0,0,0]
["ENDODONCIA","PRIMERAS CONSULTAS",null,0,0,0,null,null,null,null,null,null,null,null,null,null,null,null,null,null,null,null,null,null,null,null,null,null,null,null,null,null,null,null,null,null,null,null,null,null,null,null,null,null,null,null,null,null,null,null,null,null,null,null,null,null,null,null,null,null,null,null,null,null,null,null,null,null,null,null,null,null,null,null,null,null,null,null,null,null,null,null,null,null,0,0,0]
[null,"CONSULTAS REPETIDAS",null,0,0,0,null,null,null,null,null,null,null,null,null,null,null,null,null,null,null,null,null,null,null,null,null,null,null,null,null,null,null,null,null,null,null,null,null,null,null,null,null,null,null,null,null,null,null,null,null,null,null,null,null,null,null,null,null,null,null,null,null,null,null,null,null,null,null,null,null,null,null,null,null,null,null,null,null,null,null,null,null,null,0,0,0]
[null,"INGRESOS A TRATAMIENTO",null,0,0,0,null,null,null,null,null,null,null,null,null,null,null,null,null,null,null,null,null,null,null,null,null,null,null,null,null,null,null,null,null,null,null,null,null,null,null,null,null,null,null,null,null,null,null,null,null,null,null,null,null,null,null,null,null,null,null,null,null,null,null,null,null,null,null,null,null,null,null,null,null,null,null,null,null,null,null,null,null,null,0,0,0]
[null,"ALTAS DE TRATAMIENTO",null,0,0,0,null,null,null,null,null,null,null,null,null,null,null,null,null,null,null,null,null,null,null,null,null,null,null,null,null,null,null,null,null,null,null,null,null,null,null,null,null,null,null,null,null,null,null,null,null,null,null,null,null,null,null,null,null,null,null,null,null,null,null,null,null,null,null,null,null,null,null,null,null,null,null,null,null,null,null,null,null,null,0,0,0]
["ODONTOPEDIATRÍA","PRIMERAS CONSULTAS",null,0,{"$f":"SUM(G191+I191+K191+M191+O191+Q191+U191)","v":0},{"$f":"SUM(H191+J191+L191+N191+P191+R191+V191)","v":0},null,null,null,null,null,null,null,null,null,null,null,null,null,null,null,null,null,null,null,null,null,null,null,null,null,null,null,null,null,null,null,null,null,null,null,null,null,null,null,null,null,null,null,null,null,null,null,null,null,null,null,null,null,null,null,null,null,null,null,null,null,null,null,null,null,null,null,null,null,null,null,null,null,null,null,null,null,null,0,0]
[null,"CONSULTAS REPETIDAS",null,0,{"$f":"SUM(G192+I192+K192+M192+O192+Q192+U192)","v":0},{"$f":"SUM(H192+J192+L192+N192+P192+R192+V192)","v":0},null,null,null,null,null,null,null,null,null,null,null,null,null,null,null,null,null,null,null,null,null,null,null,null,null,null,null,null,null,null,null,null,null,null,null,null,null,null,null,null,null,null,null,null,null,null,null,null,null,null,null,null,null,null,null,null,null,null,null,null,null,null,null,null,null,null,null,null,null,null,null,null,null,null,null,null,null,null,0,0]
[null,"INGRESOS A TRATAMIENTO",null,0,{"$f":"SUM(G193+I193+K193+M193+O193+Q193+S193+U193)","v":0},{"$f":"SUM(H193+J193+L193+N193+P193+R193+T193+V193)","v":0},null,null,null,null,null,null,null,null,null,null,null,null,null,null,null,null,null,null,null,null,null,null,null,null,null,null,null,null,null,null,null,null,null,null,null,null,null,null,null,null,null,null,null,null,null,null,null,null,null,null,null,null,null,null,null,null,null,null,null,null,null,null,null,null,null,null,null,null,null,null,null,null,null,null,null,null,null,null,0,0]
[null,"ALTAS DE TRATAMIENTO",null,0,0,0,null,null,null,null,null,null,null,null,null,null,null,null,null,null,null,null,null,null,null,null,null,null,null,null,null,null,null,null,null,null,null,null,null,null,null,null,null,null,null,null,null,null,null,null,null,null,null,null,null,null,null,null,null,null,null,null,null,null,null,null,null,null,null,null,null,null,null,null,null,null,null,null,null,null,null,null,null,null,0,0]
["OPERATORIA","PRIMERAS CONSULTAS",null,0,0,0,null,null,null,null,null,null,null,null,null,null,null,null,null,null,null,null,null,null,null,null,null,null,null,null,null,null,null,null,null,null,null,null,null,null,null,null,null,null,null,null,null,null,null,null,null,null,null,null,null,null,null,null,null,null,null,null,null,null,null,null,null,null,null,null,null,null,null,null,null,null,null,null,null,null,null,null,null,null,0,0,0]
[null,"CONSULTAS REPETIDAS",null,0,0,0,null,null,null,null,null,null,null,null,null,null,null,null,null,null,null,null,null,null,null,null,null,null,null,null,null,null,null,null,null,null,null,null,null,null,null,null,null,null,null,null,null,null,null,null,null,null,null,null,null,null,null,null,null,null,null,null,null,null,null,null,null,null,null,null,null,null,null,null,null,null,null,null,null,null,null,null,null,null,0,0,0]
[null,"INGRESOS A TRATAMIENTO",null,0,0,0,null,null,null,null,null,null,null,null,null,null,null,null,null,null,null,null,null,null,null,null,null,null,null,null,null,null,null,null,null,null,null,null,null,null,null,null,null,null,null,null,null,null,null,null,null,null,null,null,null,null,null,null,null,null,null,null,null,null,null,null,null,null,null,null,null,null,null,null,null,null,null,null,null,null,null,null,null,null,0,0,0]
[null,"ALTAS DE TRATAMIENTO",null,0,0,0,null,null,null,null,null,null,null,null,null,null,null,null,null,null,null,null,null,null,null,null,null,null,null,null,null,null,null,null,null,null,null,null,null,null,null,null,null,null,null,null,null,null,null,null,null,null,null,null,null,null,null,null,null,null,null,null,null,null,null,null,null,null,null,null,null,null,null,null,null,null,null,null,null,null,null,null,null,null,0,0,0]
["ORTODONCIA Y ORTOPEDIA DENTO MAXILOFACIAL","PRIMERAS CONSULTAS",null,0,0,0,null,null,null,null,null,null,null,null,null,null,null,null,null,null,null,null,null,null,null,null,null,null,null,null,null,null,null,null,null,null,null,null,null,null,null,null,null,null,null,null,null,null,null,null,null,null,null,null,null,null,null,null,null,null,null,null,null,null,null,null,null,null,null,null,null,null,null,null,null,null,null,null,null,null,null,null,null,null,0,0,0]
[null,"CONSULTAS REPETIDAS",null,0,0,0,null,null,null,null,null,null,null,null,null,null,null,null,null,null,null,null,null,null,null,null,null,null,null,null,null,null,null,null,null,null,null,null,null,null,null,null,null,null,null,null,null,null,null,null,null,null,null,null,null,null,null,null,null,null,null,null,null,null,null,null,null,null,null,null,null,null,null,null,null,null,null,null,null,null,null,null,null,null,0,0]
[null,"INGRESOS A TRATAMIENTO",null,0,0,0,null,null,null,null,null,null,null,null,null,null,null,null,null,null,null,null,null,null,null,null,null,null,null,null,null,null,null,null,null,null,null,null,null,null,null,null,null,null,null,null,null,null,null,null,null,null,null,null,null,null,null,null,null,null,null,null,null,null,null,null,null,null,null,null,null,null,null,null,null,null,null,null,null,null,null,null,null,null,0,0]
[null,"ALTAS DE TRATAMIENTO",null,0,0,0,null,null,null,null,null,null,null,null,null,null,null,null,null,null,null,null,null,null,null,null,null,null,null,null,null,null,null,null,null,null,null,null,null,null,null,null,null,null,null,null,null,null,null,null,null,null,null,null,null,null,null,null,null,null,null,null,null,null,null,null,null,null,null,null,null,null,null,null,null,null,null,null,null,null,null,null,null,null,0,0]
["PERIODONCIA","PRIMERAS CONSULTAS",null,0,0,0,null,null,null,null,null,null,null,null,null,null,null,null,null,null,null,null,null,null,null,null,null,null,null,null,null,null,null,null,null,null,null,null,null,null,null,null,null,null,null,null,null,null,null,null,null,null,null,null,null,null,null,null,null,null,null,null,null,null,null,null,null,null,null,null,null,null,null,null,null,null,null,null,null,null,null,null,null,null,0,0,0]
[null,"CONSULTAS REPETIDAS",null,0,0,0,null,null,null,null,null,null,null,null,null,null,null,null,null,null,null,null,null,null,null,null,null,null,null,null,null,null,null,null,null,null,null,null,null,null,null,null,null,null,null,null,null,null,null,null,null,null,null,null,null,null,null,null,null,null,null,null,null,null,null,null,null,null,null,null,null,null,null,null,null,null,null,null,null,null,null,null,null,null,0,0,0]
[null,"INGRESOS A TRATAMIENTO",null,0,0,0,null,null,null,null,null,null,null,null,null,null,null,null,null,null,null,null,null,null,null,null,null,null,null,null,null,null,null,null,null,null,null,null,null,null,null,null,null,null,null,null,null,null,null,null,null,null,null,null,null,null,null,null,null,null,null,null,null,null,null,null,null,null,null,null,null,null,null,null,null,null,null,null,null,null,null,null,null,null,0,0,0]
[null,"ALTAS DE TRATAMIENTO",null,0,0,0,null,null,null,null,null,null,null,null,null,null,null,null,null,null,null,null,null,null,null,null,null,null,null,null,null,null,null,null,null,null,null,null,null,null,null,null,null,null,null,null,null,null,null,null,null,null,null,null,null,null,null,null,null,null,null,null,null,null,null,null,null,null,null,null,null,null,null,null,null,null,null,null,null,null,null,null,null,null,0,0,0]
["REHABILITACIÓN: PRÓTESIS FIJA","PRIMERAS CONSULTAS",null,0,0,0,null,null,null,null,null,null,null,null,null,null,null,null,null,null,null,null,null,null,null,null,null,null,null,null,null,null,null,null,null,null,null,null,null,null,null,null,null,null,null,null,null,null,null,null,null,null,null,null,null,null,null,null,null,null,null,null,null,null,null,null,null,null,null,null,null,null,null,null,null,null,null,null,null,null,null,null,null,null,0,0,0]
[null,"CONSULTAS REPETIDAS",null,{"$f":"SUM(E208+F208)","v":0},{"$f":"SUM(G208+I208+K208+M208+O208+Q208+S208+U208)","v":0},{"$f":"SUM(H208+J208+L208+N208+P208+R208+T208+V208)","v":0},null,null,null,null,null,null,null,null,null,null,null,null,null,null,null,null,null,null,null,null,null,null,null,null,null,null,null,null,null,null,null,null,null,null,null,null,null,null,null,null,null,null,null,null,null,null,null,null,null,null,null,null,null,null,null,null,null,null,null,null,null,null,null,null,null,null,null,null,null,null,null,null,null,null,null,null,null,null,0,0,0]
[null,"INGRESOS A TRATAMIENTO",null,{"$f":"SUM(E209+F209)","v":0},0,0,null,null,null,null,null,null,null,null,null,null,null,null,null,null,null,null,null,null,null,null,null,null,null,null,null,null,null,null,null,null,null,null,null,null,null,null,null,null,null,null,null,null,null,null,null,null,null,null,null,null,null,null,null,null,null,null,null,null,null,null,null,null,null,null,null,null,null,null,null,null,null,null,null,null,null,null,null,null,0,0,0]
[null,"ALTAS DE TRATAMIENTO",null,0,0,0,null,null,null,null,null,null,null,null,null,null,null,null,null,null,null,null,null,null,null,null,null,null,null,null,null,null,null,null,null,null,null,null,null,null,null,null,null,null,null,null,null,null,null,null,null,null,null,null,null,null,null,null,null,null,null,null,null,null,null,null,null,null,null,null,null,null,null,null,null,null,null,null,null,null,null,null,null,null,0,0,0]
["REHABILITACIÓN: PRÓTESIS REMOVIBLE","PRIMERAS CONSULTAS",null,0,0,0,null,null,null,null,null,null,null,null,null,null,null,null,null,null,null,null,null,null,null,null,null,null,null,null,null,null,null,null,null,null,null,null,null,null,null,null,null,null,null,null,null,null,null,null,null,null,null,null,null,null,null,null,null,null,null,null,null,null,null,null,null,null,null,null,null,null,null,null,null,null,null,null,null,null,null,null,null,null,0,0,0]
[null,"CONSULTAS REPETIDAS",null,0,0,0,null,null,null,null,null,null,null,null,null,null,null,null,null,null,null,null,null,null,null,null,null,null,null,null,null,null,null,null,null,null,null,null,null,null,null,null,null,null,null,null,null,null,null,null,null,null,null,null,null,null,null,null,null,null,null,null,null,null,null,null,null,null,null,null,null,null,null,null,null,null,null,null,null,null,null,null,null,null,0,0,0]
[null,"INGRESOS A TRATAMIENTO",null,0,0,0,null,null,null,null,null,null,null,null,null,null,null,null,null,null,null,null,null,null,null,null,null,null,null,null,null,null,null,null,null,null,null,null,null,null,null,null,null,null,null,null,null,null,null,null,null,null,null,null,null,null,null,null,null,null,null,null,null,null,null,null,null,null,null,null,null,null,null,null,null,null,null,null,null,null,null,null,null,null,0,0,0]
[null,"ALTAS DE TRATAMIENTO",null,0,0,0,null,null,null,null,null,null,null,null,null,null,null,null,null,null,null,null,null,null,null,null,null,null,null,null,null,null,null,null,null,null,null,null,null,null,null,null,null,null,null,null,null,null,null,null,null,null,null,null,null,null,null,null,null,null,null,null,null,null,null,null,null,null,null,null,null,null,null,null,null,null,null,null,null,null,null,null,null,null,0,0,0]
["IMPLANTOLOGÍA BUCO MAXILOFACIAL","PRIMERAS CONSULTAS",null,0,0,0,null,null,null,null,null,null,null,null,null,null,null,null,null,null,null,null,null,null,null,null,null,null,null,null,null,null,null,null,null,null,null,null,null,null,null,null,null,null,null,null,null,null,null,null,null,null,null,null,null,null,null,null,null,null,null,null,null,null,null,null,null,null,null,null,null,null,null,null,null,null,null,null,null,null,null,null,null,null,0,0,0]
[null,"CONSULTAS REPETIDAS",null,0,0,0,null,null,null,null,null,null,null,null,null,null,null,null,null,null,null,null,null,null,null,null,null,null,null,null,null,null,null,null,null,null,null,null,null,null,null,null,null,null,null,null,null,null,null,null,null,null,null,null,null,null,null,null,null,null,null,null,null,null,null,null,null,null,null,null,null,null,null,null,null,null,null,null,null,null,null,null,null,null,0,0,0]
[null,"INGRESOS A TRATAMIENTO",null,0,0,0,null,null,null,null,null,null,null,null,null,null,null,null,null,null,null,null,null,null,null,null,null,null,null,null,null,null,null,null,null,null,null,null,null,null,null,null,null,null,null,null,null,null,null,null,null,null,null,null,null,null,null,null,null,null,null,null,null,null,null,null,null,null,null,null,null,null,null,null,null,null,null,null,null,null,null,null,null,null,0,0,0]
[null,"ALTAS DE TRATAMIENTO",null,0,0,0,null,null,null,null,null,null,null,null,null,null,null,null,null,null,null,null,null,null,null,null,null,null,null,null,null,null,null,null,null,null,null,null,null,null,null,null,null,null,null,null,null,null,null,null,null,null,null,null,null,null,null,null,null,null,null,null,null,null,null,null,null,null,null,null,null,null,null,null,null,null,null,null,null,null,null,null,null,null,0,0,0]
["PATOLOGÍA ORAL","PRIMERAS CONSULTAS",null,0,0,0,null,null,null,null,null,null,null,null,null,null,null,null,null,null,null,null,null,null,null,null,null,null,null,null,null,null,null,null,null,null,null,null,null,null,null,null,null,null,null,null,null,null,null,null,null,null,null,null,null,null,null,null,null,null,null,null,null,null,null,null,null,null,null,null,null,null,null,null,null,null,null,null,null,null,null,null,null,null,0,0,0]
[null,"CONSULTAS REPETIDAS",null,0,0,0,null,null,null,null,null,null,null,null,null,null,null,null,null,null,null,null,null,null,null,null,null,null,null,null,null,null,null,null,null,null,null,null,null,null,null,null,null,null,null,null,null,null,null,null,null,null,null,null,null,null,null,null,null,null,null,null,null,null,null,null,null,null,null,null,null,null,null,null,null,null,null,null,null,null,null,null,null,null,0,0,0]
[null,"INGRESOS A TRATAMIENTO",null,0,0,0,null,null,null,null,null,null,null,null,null,null,null,null,null,null,null,null,null,null,null,null,null,null,null,null,null,null,null,null,null,null,null,null,null,null,null,null,null,null,null,null,null,null,null,null,null,null,null,null,null,null,null,null,null,null,null,null,null,null,null,null,null,null,null,null,null,null,null,null,null,null,null,null,null,null,null,null,null,null,0,0,0]
[null,"ALTAS DE TRATAMIENTO",null,0,0,0,null,null,null,null,null,null,null,null,null,null,null,null,null,null,null,null,null,null,null,null,null,null,null,null,null,null,null,null,null,null,null,null,null,null,null,null,null,null,null,null,null,null,null,null,null,null,null,null,null,null,null,null,null,null,null,null,null,null,null,null,null,null,null,null,null,null,null,null,null,null,null,null,null,null,null,null,null,null,0,0,0]
["TRASTORNOS TEMPOROMANDIBULARES Y DOLOR OROFACIAL","PRIMERAS CONSULTAS",null,0,0,0,null,null,null,null,null,null,null,null,null,null,null,null,null,null,null,null,null,null,null,null,null,null,null,null,null,null,null,null,null,null,null,null,null,null,null,null,null,null,null,null,null,null,null,null,null,null,null,null,null,null,null,null,null,null,null,null,null,null,null,null,null,null,null,null,null,null,null,null,null,null,null,null,null,null,null,null,null,null,0,0,0]
[null,"CONSULTAS REPETIDAS",null,0,0,0,null,null,null,null,null,null,null,null,null,null,null,null,null,null,null,null,null,null,null,null,null,null,null,null,null,null,null,null,null,null,null,null,null,null,null,null,null,null,null,null,null,null,null,null,null,null,null,null,null,null,null,null,null,null,null,null,null,null,null,null,null,null,null,null,null,null,null,null,null,null,null,null,null,null,null,null,null,null,0,0,0]
[null,"INGRESOS A TRATAMIENTO",null,0,0,0,null,null,null,null,null,null,null,null,null,null,null,null,null,null,null,null,null,null,null,null,null,null,null,null,null,null,null,null,null,null,null,null,null,null,null,null,null,null,null,null,null,null,null,null,null,null,null,null,null,null,null,null,null,null,null,null,null,null,null,null,null,null,null,null,null,null,null,null,null,null,null,null,null,null,null,null,null,null,0,0,0]
[null,"ALTAS DE TRATAMIENTO",null,0,0,0,null,null,null,null,null,null,null,null,null,null,null,null,null,null,null,null,null,null,null,null,null,null,null,null,null,null,null,null,null,null,null,null,null,null,null,null,null,null,null,null,null,null,null,null,null,null,null,null,null,null,null,null,null,null,null,null,null,null,null,null,null,null,null,null,null,null,null,null,null,null,null,null,null,null,null,null,null,null,0,0,0]
["TOTAL","PRIMERAS CONSULTAS",null,{"$f":"SUM(E227+F227)","v":0},{"$f":"SUM(G227+I227+K227+M227+O227+Q227+S227+U227)","v":0},0,{"$f":"SUM(G179+G183+G187+G191+G195+G199+G203+G215+G219+G223)","v":0},0,0,0,0,0,{"$f":"SUM(M179+M183+M187+M191+M195+M199+M203+M207+M211+M215+M219+M223)","v":0},{"$f":"SUM(N179+N183+N187+N191+N195+N199+N203+N207+N211+N215+N219+N223)","v":0},0,0,0,0,{"$f":"SUM(S179+S183+S187+S195+S199+S203+S207+S211+S215+S219+S223)","v":0},0,0,0,{"$f":"SUM(W179+W183+W187+W195+W203+W207+W211+W215+W219+W223)","v":0},0,{"$f":"SUM(Y179+Y183+Y187+Y195+Y203+Y207+Y211+Y215+Y219+Y223)","v":0},0,"  "]
[null,"CONSULTAS REPETIDAS",null,{"$f":"SUM(E228+F228)","v":0},0,{"$f":"SUM(H228+J228+L228+N228+P228+R228+T228+V228)","v":0},{"$f":"SUM(G180+G184+G188+G192+G196+G200+G204+G216+G220+G224)","v":0},{"$f":"SUM(H180+H184+H188+H192+H196+H200+H204+H216+H220+H224)","v":0},{"$f":"SUM(I180+I184+I188+I192+I196+I200+I204+I216+I220+I224)","v":0},{"$f":"SUM(J180+J184+J188+J192+J196+J200+J204+J216+J220+J224)","v":0},0,{"$f":"SUM(L180+L184+L188+L192+L196+L200+L204+L216+L220+L224)","v":0},{"$f":"SUM(M180+M184+M188+M192+M196+M200+M204+M208+M212+M216+M220+M224)","v":0},0,0,0,0,0,0,0,0,0,0,0,0,0]
[null,"INGRESOS A TRATAMIENTO",null,{"$f":"SUM(E229+F229)","v":0},0,0,{"$f":"SUM(G181+G185+G189+G193+G197+G201+G205+G217+G221+G225)","v":0},{"$f":"SUM(H181+H185+H189+H193+H197+H201+H205+H217+H221+H225)","v":0},0,{"$f":"SUM(J181+J185+J189+J193+J197+J201+J205+J217+J221+J225)","v":0},0,{"$f":"SUM(L181+L185+L189+L193+L197+L201+L205+L217+L221+L225)","v":0},{"$f":"SUM(M181+M185+M189+M193+M197+M201+M205+M209+M213+M217+M221+M225)","v":0},0,0,0,0,0,0,0,0,0,0,0,0,0]
[null,"ALTAS DE TRATAMIENTO",null,{"$f":"SUM(E230+F230)","v":0},0,{"$f":"SUM(H230+J230+L230+N230+P230+R230+T230+V230)","v":0},{"$f":"SUM(G182+G186+G190+G194+G198+G202+G206+G218+G222+G226)","v":0},{"$f":"SUM(H182+H186+H190+H194+H198+H202+H206+H218+H222+H226)","v":0},0,{"$f":"SUM(J182+J186+J190+J194+J198+J202+J206+J218+J222+J226)","v":0},0,{"$f":"SUM(L182+L186+L190+L194+L198+L202+L206+L218+L222+L226)","v":0},{"$f":"SUM(M182+M186+M190+M194+M198+M202+M206+M210+M214+M218+M222+M226)","v":0},0,0,0,0,0,0,0,0,{"$f":"SUM(V182+V186+V190+V198+V202+V206+V210+V214+V218+V222+V226)","v":0},0,0,0,0]
["SECCIÓN J: ACTIVIDADES EFECTUADAS POR TÉCNICO PARAMÉDICO DENTAL Y/O HIGIENISTAS DENTALES"]
["TIPO DE ACTIVIDAD",null,null,"TOTAL",null,null,"Según grupos de edad o de riesgo",null,null,null,null,null,null,null,"EMBARAZADAS","60 AÑOS (INCLUÍDO EN GRUPOS DE 20-64 AÑOS)"]
[null,null,null,null,null,null,"0-5 años","6 años","7 años","12 años","Resto <15 años","15-19\naños","20-64 \naños","65 y \nmás años"]
[null,null,null,"Ambos Sexos","Hombres","Mujeres"]
["APLICACIÓN DE SELLANTES",null,null,{"$f":"SUM(G235:N235)","v":0},null,null,null,null,null,null,null,null,null,null,null,null,null,null,null,null,null,null,null,null,null,null,null,null,null,null,null,null,null,null,null,null,null,null,null,null,null,null,null,null,null,null,null,null,null,null,null,null,null,null,null,null,null,null,null,null,null,null,null,null,null,null,null,null,null,null,null,null,null,null,null,null,null,null,null,null,null,null,null,null,0,0,0]
["PULIDO CORONARIO Y DESTARTRAJE SUPRAGINGIVAL",null,null,{"$f":"SUM(G236:N236)","v":0},null,null,null,null,null,null,null,null,null,null,null,null,null,null,null,null,null,null,null,null,null,null,null,null,null,null,null,null,null,null,null,null,null,null,null,null,null,null,null,null,null,null,null,null,null,null,null,null,null,null,null,null,null,null,null,null,null,null,null,null,null,null,null,null,null,null,null,null,null,null,null,null,null,null,null,null,null,null,null,null,0,0,0]
["FLUORURACIÓN TÓPICA ",null,null,{"$f":"SUM(G237:N237)","v":0},null,null,null,null,null,null,null,null,null,null,null,null,null,null,null,null,null,null,null,null,null,null,null,null,null,null,null,null,null,null,null,null,null,null,null,null,null,null,null,null,null,null,null,null,null,null,null,null,null,null,null,null,null,null,null,null,null,null,null,null,null,null,null,null,null,null,null,null,null,null,null,null,null,null,null,null,null,null,null,null,0,0,0]
[null,null,null,null,null,null,null,null,null,null,null,null,null,null,null,null,"  "]
["EDUCACIÓN INDIVIDUAL CON INSTRUCCIÓN DE TÉCNICA DE CEPILLADO",null,null,{"$f":"SUM(G239:N239)","v":0},null,null,null,null,null,null,null,null,null,null,null,null,null,null,null,null,null,null,null,null,null,null,null,null,null,null,null,null,null,null,null,null,null,null,null,null,null,null,null,null,null,null,null,null,null,null,null,null,null,null,null,null,null,null,null,null,null,null,null,null,null,null,null,null,null,null,null,null,null,null,null,null,null,null,null,null,null,null,null,null,0,0,0]
["RADIOGRAFÍAS INTRAORALES (RETROALVEOLARES Y BITEWING)",null,null,{"$f":"SUM(G240:N240)","v":0},null,null,null,null,null,null,null,null,null,null,null,null,null,null,null,null,null,null,null,null,null,null,null,null,null,null,null,null,null,null,null,null,null,null,null,null,null,null,null,null,null,null,null,null,null,null,null,null,null,null,null,null,null,null,null,null,null,null,null,null,null,null,null,null,null,null,null,null,null,null,null,null,null,null,null,null,null,null,null,null,0,0,0]
["SECCIÓN K.- GESTIÓN DE AGENDA (UNIDADES DENTALES MOVILES)",null,null,null,null,null,null,null,null,null,null,null,null,null,null,null,"  "]
["CONSULTAS","HORAS ODONTOLÓGICAS MENSUALES CONTRATADAS","HORAS DISPONIBLES DE ATENCIÓN CLÍNICA","CITAS AGENDADAS","CITAS EFECTIVAS"]
[]
[]
[]
["NIVEL PRIMARIO",null,null,{"$f":"SUM(D247:D249)","v":0},{"$f":"SUM(E247:E249)","v":0}]
["ATENCIÓN MORBILIDAD"]
["ATENCIÓN TRATAMIENTO"]
["ATENCIÓN URGENCIA"]
["SECCIÓN L: CONSULTORÍAS DE ESPECIALISTAS OTORGADAS"]
["ESPECIALIDADES",null,"Nº CONSULTORÍAS","Nº DE CASOS REVISADOS POR EL EQUIPO","Nº DE CASOS ATENDIDOS"]
["ENDODONCIA"]
["IMAGENOLOGÍA ORAL Y MAXILOFACIAL "]
["ORTODONCIA"]
["ODONTOPEDIATRÍA"]
["PERIODONCIA"]
["REHABILITACIÓN ORAL"]
["CIRUGÍA Y TRAUMATOLOGÍA MAXILOFACIAL"]
[]
[]
[]
[]
[]
[]
[]
[]
[]
[]
[]
[]
[]
[]
[]
[]
[]
[]
[]
[]
[]
[]
[]
[]
[]
[]
[]
[]
[]
[]
[]
[]
[]
[]
[]
[]
[]
[]
[]
[]
[]
[]
[{"$f":"SUM(D12:D15,D38,D56,D63:D73,D77:D78,D111,D122,D127:D155,D160:D163,D169:D171,D172,D227:D230,D235:D237,D239:D240,C252:C258,B246:C246,D247:E249)","v":0},{"$f":"SUM(CG9:CL250)","v":8}]

{"sheet":"A11","index":10,"n_rows":283,"n_cols":151,"rows_kept":283,"cut":false,"hidden":false,"merged":[[156,48,157,49],[183,48,184,49],[238,48,239,49],[183,44,184,45],[183,46,184,47],[238,4,238,35],[238,36,238,39],[238,40,238,43],[238,44,239,45],[238,46,239,47],[184,26,184,27],[184,30,184,31],[184,6,184,7],[184,8,184,9],[184,10,184,11],[184,22,184,23],[183,4,183,35],[217,29,217,30],[217,31,217,32],[217,33,217,34],[217,35,217,36],[217,37,218,37],[217,38,218,38],[217,39,218,39],[184,28,184,29],[184,16,184,17],[156,44,157,45],[156,46,157,47],[156,4,156,35],[157,14,157,15],[157,16,157,17],[157,18,157,19],[157,28,157,29],[157,34,157,35],[157,32,157,33],[157,30,157,31],[157,24,157,25],[157,20,157,21],[157,22,157,23],[157,26,157,27],[184,18,184,19],[184,20,184,21],[184,32,184,33],[184,34,184,35],[184,36,184,37],[184,24,184,25],[184,14,184,15],[157,4,157,5],[190,0,190,1],[142,0,142,1],[179,0,179,1],[174,0,174,1],[167,0,167,1],[168,0,170,0],[171,0,171,1],[172,0,172,1],[173,0,173,1],[177,0,177,1],[157,6,157,7],[157,8,157,9],[157,10,157,11],[184,12,184,13],[157,12,157,13],[162,0,162,1],[163,0,163,1],[164,0,164,1],[165,0,165,1],[166,0,166,1],[159,0,159,1],[160,0,160,1],[181,0,181,1],[183,0,185,1],[183,2,184,3],[184,4,184,5],[175,0,175,1],[178,0,178,1],[180,0,180,1],[205,0,205,1],[208,0,208,1],[206,0,206,1],[207,0,207,1],[151,0,153,0],[154,0,154,1],[156,0,158,1],[161,0,161,1],[156,2,157,3],[204,0,204,1],[202,0,202,1],[187,0,187,1],[201,0,201,1],[194,0,194,1],[195,0,197,0],[198,0,198,1],[199,0,199,1],[200,0,200,1],[191,0,191,1],[192,0,192,1],[193,0,193,1],[188,0,188,1],[189,0,189,1],[186,0,186,1],[140,14,140,15],[8,1,9,2],[8,3,8,42],[31,39,31,40],[150,0,150,1],[30,1,31,2],[30,3,30,42],[52,0,54,0],[52,1,53,2],[52,3,52,42],[96,0,98,0],[96,1,97,2],[96,3,96,42],[118,0,120,0],[118,1,119,2],[119,19,119,20],[119,21,119,22],[119,23,119,24],[119,25,119,26],[119,27,119,28],[119,29,119,30],[119,31,119,32],[5,0,5,15],[8,0,10,0],[9,9,9,10],[148,14,148,15],[30,0,32,0],[31,9,31,10],[143,0,145,0],[146,0,146,1],[147,0,147,17],[148,0,149,1],[148,2,148,4],[148,5,148,7],[148,8,148,10],[148,11,148,13],[139,0,139,16],[140,0,141,1],[119,11,119,12],[119,13,119,14],[119,15,119,16],[119,17,119,18],[140,2,140,4],[140,5,140,7],[140,8,140,10],[140,11,140,13],[217,11,217,12],[217,13,217,14],[217,15,217,16],[217,17,217,18],[217,19,217,20],[217,21,217,22],[217,23,217,24],[217,25,217,26],[217,27,217,28],[227,0,229,0],[227,1,228,2],[227,3,227,36],[227,37,227,38],[227,39,227,40],[216,0,218,0],[216,1,217,2],[216,3,216,36],[216,37,216,38],[216,39,216,40],[228,21,228,22],[228,23,228,24],[228,25,228,26],[228,27,228,28],[228,29,228,30],[228,31,228,32],[228,33,228,34],[228,35,228,36],[228,37,229,37],[228,3,228,4],[228,5,228,6],[217,3,217,4],[217,5,217,6],[217,7,217,8],[228,7,228,8],[228,9,228,10],[228,11,228,12],[228,13,228,14],[228,15,228,16],[228,17,228,18],[228,19,228,20],[8,43,8,44],[8,45,9,46],[31,43,32,43],[31,44,32,44],[53,35,53,36],[53,37,53,38],[53,39,53,40],[53,41,53,42],[53,43,54,43],[74,45,75,46],[96,45,97,46],[228,38,229,38],[228,39,229,39],[228,40,229,40],[216,41,218,41],[216,42,218,42],[217,9,217,10],[8,47,10,47],[8,48,10,48],[9,3,9,4],[9,5,9,6],[9,7,9,8],[9,11,9,12],[9,13,9,14],[9,15,9,16],[9,17,9,18],[9,19,9,20],[9,21,9,22],[9,23,9,24],[9,25,9,26],[9,27,9,28],[9,29,9,30],[9,31,9,32],[9,33,9,34],[9,35,9,36],[9,37,9,38],[9,39,9,40],[9,41,9,42],[9,43,10,43],[9,44,10,44],[30,43,30,44],[30,45,31,46],[30,47,32,47],[30,48,32,48],[31,3,31,4],[31,5,31,6],[31,7,31,8],[31,11,31,12],[31,13,31,14],[31,15,31,16],[31,17,31,18],[31,19,31,20],[31,21,31,22],[31,23,31,24],[31,25,31,26],[31,27,31,28],[31,29,31,30],[31,31,31,32],[31,33,31,34],[31,35,31,36],[31,37,31,38],[31,41,31,42],[52,43,52,44],[53,44,54,44],[52,45,53,46],[52,47,54,47],[52,48,54,48],[53,3,53,4],[53,5,53,6],[53,7,53,8],[53,9,53,10],[53,11,53,12],[53,13,53,14],[53,15,53,16],[53,17,53,18],[53,19,53,20],[53,21,53,22],[53,23,53,24],[53,25,53,26],[53,27,53,28],[53,29,53,30],[53,31,53,32],[53,33,53,34],[74,47,76,47],[74,48,76,48],[75,3,75,4],[75,5,75,6],[75,7,75,8],[75,9,75,10],[75,11,75,12],[75,13,75,14],[75,15,75,16],[75,17,75,18],[75,19,75,20],[75,21,75,22],[75,23,75,24],[75,25,75,26],[75,27,75,28],[75,29,75,30],[75,31,75,32],[75,33,75,34],[75,35,75,36],[75,37,75,38],[75,39,75,40],[75,41,75,42],[75,43,76,43],[75,44,76,44],[96,43,96,44],[97,44,98,44],[74,0,76,0],[74,1,75,2],[74,3,74,42],[74,43,74,44],[97,21,97,22],[97,23,97,24],[97,25,97,26],[97,27,97,28],[97,29,97,30],[97,31,97,32],[97,33,97,34],[97,35,97,36],[97,37,97,38],[97,3,97,4],[97,5,97,6],[97,7,97,8],[97,9,97,10],[97,11,97,12],[96,47,98,47],[96,48,98,48],[97,39,97,40],[97,41,97,42],[97,43,98,43],[119,44,120,44],[97,13,97,14],[97,15,97,16],[97,17,97,18],[97,19,97,20],[119,33,119,34],[119,35,119,36],[119,37,119,38],[119,39,119,40],[119,41,119,42],[118,3,118,42],[118,43,118,44],[118,45,119,46],[118,47,120,47],[118,48,120,48],[119,3,119,4],[119,5,119,6],[119,7,119,8],[119,9,119,10],[119,43,120,43],[239,38,239,39],[239,40,239,41],[184,38,184,39],[184,40,184,41],[184,42,184,43],[227,41,229,41],[227,42,229,42],[239,42,239,43],[217,40,218,40],[239,32,239,33],[239,34,239,35],[239,36,239,37],[157,38,157,39],[157,36,157,37],[156,36,156,39],[157,40,157,41],[157,42,157,43],[156,40,156,43],[183,36,183,39],[183,40,183,43],[241,0,259,0],[260,0,263,0],[238,0,240,1],[238,2,239,3],[239,4,239,5],[239,6,239,7],[239,8,239,9],[239,10,239,11],[239,12,239,13],[239,14,239,15],[239,16,239,17],[239,18,239,19],[239,20,239,21],[239,22,239,23],[239,24,239,25],[239,26,239,27],[239,28,239,29],[239,30,239,31]]}
["SERVICIO DE SALUD"]
[{"$f":"CONCATENATE(\"COMUNA: \",NOMBRE!B2,\" - \",\"( \",NOMBRE!C2,NOMBRE!D2,NOMBRE!E2,NOMBRE!F2,NOMBRE!G2,\" )\")","v":"COMUNA:  - (  )"}]
[{"$f":"CONCATENATE(\"ESTABLECIMIENTO/ESTRATEGIA: \",NOMBRE!B3,\" - \",\"( \",NOMBRE!C3,NOMBRE!D3,NOMBRE!E3,NOMBRE!F3,NOMBRE!G3,NOMBRE!H3,\" )\")","v":"ESTABLECIMIENTO/ESTRATEGIA:  - (  )"}]
[{"$f":"CONCATENATE(\"MES: \",NOMBRE!B6,\" - \",\"( \",NOMBRE!C6,NOMBRE!D6,\" )\")","v":"MES:  - (  )"}]
[{"$f":"CONCATENATE(\"AÑO: \",NOMBRE!B7)","v":"AÑO: 2019"}]
["REM-A11.  EXÁMENES DE PESQUISA DE ENFERMEDADES TRASMISIBLES "]
["SECCION A: EXÁMENES DE SÍFILIS"]
["SECCIÓN A.1: EXAMEN VDRL POR GRUPO DE USUARIOS (Uso exclusivo de establecimientos con Laboratorio que procesan)"]
["GRUPO DE PESQUISA","TOTAL",null,"POR EDAD (en meses - años)",null,null,null,null,null,null,null,null,null,null,null,null,null,null,null,null,null,null,null,null,null,null,null,null,null,null,null,null,null,null,null,null,null,null,null,null,null,null,null,"POR SEXO\n(Procesados)",null,"TRANS",null,"Pueblos Originarios","Migrantes"]
[null,null,null,"Menor de 6 meses",null,"6 a 11 meses",null,"12-24 meses",null,"3 a 4",null,"5 a 9",null,"10 - 14",null,"15 - 19",null,"20 - 24",null,"25 a 29",null,"30 a 34",null,"35 a 39",null,"40 a 44",null,"45 a 49",null,"50 a 54",null,"55 a 59",null,"60 a 64",null,"65 a 69",null,"70 a 74",null,"75 a 79",null,"80 y más",null,"Hombres","Mujeres"]
[null,"Procesados","Reactivos","Procesados","Reactivos","Procesados","Reactivos","Procesados","Reactivos","Procesados","Reactivos","Procesados","Reactivos","Procesados","Reactivos","Procesados","Reactivos","Procesados","Reactivos","Procesados","Reactivos","Procesados","Reactivos","Procesados","Reactivos","Procesados","Reactivos","Procesados","Reactivos","Procesados","Reactivos","Procesados","Reactivos","Procesados","Reactivos","Procesados","Reactivos","Procesados","Reactivos","Procesados","Reactivos","Procesados","Reactivos",null,null,"Masculino","Femenino"]
["GESTANTES PRIMER TRIMESTRE EMBARAZO",{"$f":"+N12+P12+R12+T12+V12+X12+Z12+AB12+AD12+AF12+AH12+AJ12+AL12+AN12+AP12","v":0},{"$f":"+O12+Q12+S12+U12+W12+Y12+AA12+AC12+AE12+AG12+AI12+AK12+AM12+AO12+AQ12","v":0},null,null,null,null,null,null,null,null,null,null,null,null,null,null,null,null,null,null,null,null,null,null,null,null,null,null,null,null,null,null,null,null,null,null,null,null,null,null,null,null,null,null,null,null,null,null,null,null,null,null,null,null,null,null,null,null,null,null,null,null,null,null,null,null,null,null,null,null,null,null,null,null,null,null,{"$f":"IF(B12<   C12,\"* El total de Reactivos NO DEBE ser superior al total de Procesados. \",\"\")","v":""},{"$f":"IF(B12<   C12,\"* El total de Reactivos NO DEBE ser superior al total de Procesados. \",\"\")","v":""},{"$f":"IF(B12<> AR12+ AS12,\"* La suma de las columnas Sexo DEBE SER IGUAL a los Procesados. \",\"\")","v":""},{"$f":"IF(B12<  AT12+ AU12,\"* La suma de las columna Trans NO DEBE ser superior al total de Procesados. \",\"\")","v":""},{"$f":"IF(B12<  AV12,\"* La columna Pueblos Originarios NO DEBE ser superior al total de Procesados. \",\"\")","v":""},{"$f":"IF(B12<  AW12,\"* La columna Migrantes NO DEBE ser superior al total de Procesados. \",\"\")","v":""},{"$f":"IF(B12<   C12,1,0)","v":0},{"$f":"IF(B12<   C12,1,0)","v":0},{"$f":"IF(B12<> AR12+AS12,1,0)","v":0},{"$f":"IF(B12<  AT12+AU12,1,0)","v":0},{"$f":"IF(B12<  AV12,1,0)","v":0},{"$f":"IF(B12<  AW12,1,0)","v":0},null,null,null,null,null,null,null,null,null,null,null,null,null,null,null,null,null,null,null,{"$f":"IF(N12<O12,\"* Los Procesados deben ser mayor o igual a los Reactivos en los 10 - 14. \",\"\")","v":""},{"$f":"IF(N12<O12,\"* Los Procesados deben ser mayor o igual a los Reactivos en los 10 - 14. \",\"\")","v":""},{"$f":"IF(P12<Q12,\"* Los Procesados deben ser mayor o igual a los Reactivos en los 15 - 19. \",\"\")","v":""},{"$f":"IF(R12<S12,\"* Los Procesados deben ser mayor o igual a los Reactivos en los 20 - 24. \",\"\")","v":""},{"$f":"IF(T12<U12,\"* Los Procesados deben ser mayor o igual a los Reactivos en los 25 a 29. \",\"\")","v":""},{"$f":"IF(V12<W12,\"* Los Procesados deben ser mayor o igual a los Reactivos en los 30 a 34. \",\"\")","v":""},{"$f":"IF(X12<Y12,\"* Los Procesados deben ser mayor o igual a los Reactivos en los 35 a 39. \",\"\")","v":""},{"$f":"IF(AF12<AG12,\"* Los Procesados deben ser mayor o igual a los Reactivos en los 55 a 59. \",\"\")","v":""},{"$f":"IF(AH12<AI12,\"* Los Procesados deben ser mayor o igual a los Reactivos en los 60 a 64. \",\"\")","v":""},{"$f":"IF(AJ12<AK12,\"* Los Procesados deben ser mayor o igual a los Reactivos en los 65 a 69. \",\"\")","v":""},{"$f":"IF(AL12<AM12,\"* Los Procesados deben ser mayor o igual a los Reactivos en los 70 a 74. \",\"\")","v":""},{"$f":"IF(AN12<AO12,\"* Los Procesados deben ser mayor o igual a los Reactivos en los 75 a 79. \",\"\")","v":""},{"$f":"IF(AP12<AQ12,\"* Los Procesados deben ser mayor o igual a los Reactivos en los 80 y más. \",\"\")","v":""},null,null,null,null,null,null,null,null,null,null,null,null,null,{"$f":"IF(N12<O12,1,0)","v":0},{"$f":"IF(N12<O12,1,0)","v":0},{"$f":"IF(P12<Q12,1,0)","v":0},{"$f":"IF(R12<S12,1,0)","v":0},{"$f":"IF(T12<U12,1,0)","v":0},{"$f":"IF(V12<W12,1,0)","v":0},{"$f":"IF(X12<Y12,1,0)","v":0},{"$f":"IF(AF12<AG12,1,0)","v":0},{"$f":"IF(AH12<AI12,1,0)","v":0},{"$f":"IF(AJ12<AK12,1,0)","v":0},{"$f":"IF(AL12<AM12,1,0)","v":0},{"$f":"IF(AN12<AO12,1,0)","v":0},{"$f":"IF(AP12<AQ12,1,0)","v":0},0]
["GESTANTES SEGUNDO TRIMESTRE EMBARAZO",0,{"$f":"+O13+Q13+S13+U13+W13+Y13+AA13+AC13+AE13+AG13+AI13+AK13+AM13+AO13+AQ13","v":0},null,null,null,null,null,null,null,null,null,null,null,null,null,null,null,null,null,null,null,null,null,null,null,null,null,null,null,null,null,null,null,null,null,null,null,null,null,null,null,null,null,null,null,null,null,null,null,null,null,null,null,null,null,null,null,null,null,null,null,null,null,null,null,null,null,null,null,null,null,null,null,null,null,null,{"$f":"IF(B13<   C13,\"* El total de Reactivos NO DEBE ser superior al total de Procesados. \",\"\")","v":""},"","","","","",{"$f":"IF(B13<   C13,1,0)","v":0},0,0,0,0,0,null,null,null,null,null,null,null,null,null,null,null,null,null,null,null,null,null,null,null,{"$f":"IF(N13<O13,\"* Los Procesados deben ser mayor o igual a los Reactivos en los 10 - 14. \",\"\")","v":""},"","","","","","","","","","","","",null,null,null,null,null,null,null,null,null,null,null,null,null,{"$f":"IF(N13<O13,1,0)","v":0},0,0,0,0,0,0,0,0,0,0,0,0,0]
["GESTANTES TERCER TRIMESTRE EMBARAZO",0,0,null,null,null,null,null,null,null,null,null,null,null,null,null,null,null,null,null,null,null,null,null,null,null,null,null,null,null,null,null,null,null,null,null,null,null,null,null,null,null,null,null,null,null,null,null,null,null,null,null,null,null,null,null,null,null,null,null,null,null,null,null,null,null,null,null,null,null,null,null,null,null,null,null,null,{"$f":"IF(B14<   C14,\"* El total de Reactivos NO DEBE ser superior al total de Procesados. \",\"\")","v":""},"","","","","",{"$f":"IF(B14<   C14,1,0)","v":0},0,0,0,0,0,null,null,null,null,null,null,null,null,null,null,null,null,null,null,null,null,null,null,null,{"$f":"IF(N14<O14,\"* Los Procesados deben ser mayor o igual a los Reactivos en los 10 - 14. \",\"\")","v":""},"","","","","","","","","","","","",null,null,null,null,null,null,null,null,null,null,null,null,null,{"$f":"IF(N14<O14,1,0)","v":0},0,0,0,0,0,0,0,0,0,0,0,0,0]
["GESTANTES TRIMESTRE EMBARAZO IGNORADO",0,0,null,null,null,null,null,null,null,null,null,null,null,null,null,null,null,null,null,null,null,null,null,null,null,null,null,null,null,null,null,null,null,null,null,null,null,null,null,null,null,null,null,null,null,null,null,null,null,null,null,null,null,null,null,null,null,null,null,null,null,null,null,null,null,null,null,null,null,null,null,null,null,null,null,null,{"$f":"IF(B15<   C15,\"* El total de Reactivos NO DEBE ser superior al total de Procesados. \",\"\")","v":""},"","","","","",{"$f":"IF(B15<   C15,1,0)","v":0},0,0,0,0,0,null,null,null,null,null,null,null,null,null,null,null,null,null,null,null,null,null,null,null,{"$f":"IF(N15<O15,\"* Los Procesados deben ser mayor o igual a los Reactivos en los 10 - 14. \",\"\")","v":""},"","","","","","","","","","","","",null,null,null,null,null,null,null,null,null,null,null,null,null,{"$f":"IF(N15<O15,1,0)","v":0},0,0,0,0,0,0,0,0,0,0,0,0,0]
["GESTANTES EN SEGUIMIENTO POR DIAGNÓSTICO SÍFILIS",0,0,null,null,null,null,null,null,null,null,null,null,null,null,null,null,null,null,null,null,null,null,null,null,null,null,null,null,null,null,null,null,null,null,null,null,null,null,null,null,null,null,null,null,null,null,null,null,null,null,null,null,null,null,null,null,null,null,null,null,null,null,null,null,null,null,null,null,null,null,null,null,null,null,null,null,"","","","","","",0,0,0,0,0,0,null,null,null,null,null,null,null,null,null,null,null,null,null,null,null,null,null,null,null,"","","","","","","","","","","","","",null,null,null,null,null,null,null,null,null,null,null,null,null,0,0,0,0,0,0,0,0,0,0,0,0,0,0]
["PAREJA DE GESTANTE CON SEROLOGÍA REACTIVA",0,0,null,null,null,null,null,null,null,null,null,null,null,null,null,null,null,null,null,null,null,null,null,null,null,null,null,null,null,null,null,null,null,null,null,null,null,null,null,null,null,null,null,null,null,null,null,null,null,null,null,null,null,null,null,null,null,null,null,null,null,null,null,null,null,null,null,null,null,null,null,null,null,null,null,null,"","","","","","",0,0,0,0,0,0,null,null,null,null,null,null,null,null,null,null,null,null,null,null,null,null,null,null,null,"","","","","","","","","","","","","",null,null,null,null,null,null,null,null,null,null,null,null,null,0,0,0,0,0,0,0,0,0,0,0,0,0,0]
["MUJERES QUE INGRESAN A MATERNIDAD POR PARTO",0,0,null,null,null,null,null,null,null,null,null,null,null,null,null,null,null,null,null,null,null,null,null,null,null,null,null,null,null,null,null,null,null,null,null,null,null,null,null,null,null,null,null,null,null,null,null,null,null,null,null,null,null,null,null,null,null,null,null,null,null,null,null,null,null,null,null,null,null,null,null,null,null,null,null,null,"","","","","","",0,0,0,0,0,0,null,null,null,null,null,null,null,null,null,null,null,null,null,null,null,null,null,null,null,"","","","","","","","","","","","","",null,null,null,null,null,null,null,null,null,null,null,null,null,0,0,0,0,0,0,0,0,0,0,0,0,0,0]
["MUJERES QUE INGRESAN POR ABORTO",0,0,null,null,null,null,null,null,null,null,null,null,null,null,null,null,null,null,null,null,null,null,null,null,null,null,null,null,null,null,null,null,null,null,null,null,null,null,null,null,null,null,null,null,null,null,null,null,null,null,null,null,null,null,null,null,null,null,null,null,null,null,null,null,null,null,null,null,null,null,null,null,null,null,null,null,"","","","","","",0,0,0,0,0,0,null,null,null,null,null,null,null,null,null,null,null,null,null,null,null,null,null,null,null,"","","","","","","","","","","","","",null,null,null,null,null,null,null,null,null,null,null,null,null,0,0,0,0,0,0,0,0,0,0,0,0,0,0]
["MUJERES EN CONTROL GINECOLÓGICO",{"$f":"+D20+F20+H20+J20+L20+N20+P20+R20+T20+V20+X20+Z20+AB20+AD20+AF20+AH20+AJ20+AL20+AN20+AP20","v":0},{"$f":"+E20+G20+I20+K20+M20+O20+Q20+S20+U20+W20+Y20+AA20+AC20+AE20+AG20+AI20+AK20+AM20+AO20+AQ20","v":0},null,null,null,null,null,null,null,null,null,null,null,null,null,null,null,null,null,null,null,null,null,null,null,null,null,null,null,null,null,null,null,null,null,null,null,null,null,null,null,null,null,null,null,null,null,null,null,null,null,null,null,null,null,null,null,null,null,null,null,null,null,null,null,null,null,null,null,null,null,null,null,null,null,null,"","","","","","",0,0,0,0,0,0,null,null,null,null,null,null,null,null,null,null,null,null,null,null,{"$f":"IF(D20<E20,\"* Los Procesados deben ser mayor o igual a los Reactivos en los Menor de 6 meses. \",\"\")","v":""},{"$f":"IF(D20<E20,\"* Los Procesados deben ser mayor o igual a los Reactivos en los Menor de 6 meses. \",\"\")","v":""},{"$f":"IF(F20<G20,\"* Los Procesados deben ser mayor o igual a los Reactivos en los 6 a 11 meses. \",\"\")","v":""},{"$f":"IF(H20<I20,\"* Los Procesados deben ser mayor o igual a los Reactivos en los 12-24 meses. \",\"\")","v":""},{"$f":"IF(J20<K20,\"* Los Procesados deben ser mayor o igual a los Reactivos en los 3 a 4. \",\"\")","v":""},{"$f":"IF(L20<M20,\"* Los Procesados deben ser mayor o igual a los Reactivos en los 5 a 9. \",\"\")","v":""},"","","","","","","","","","","","",null,null,null,null,null,null,null,null,{"$f":"IF(D20<E20,1,0)","v":0},{"$f":"IF(D20<E20,1,0)","v":0},{"$f":"IF(F20<G20,1,0)","v":0},{"$f":"IF(H20<I20,1,0)","v":0},{"$f":"IF(J20<K20,1,0)","v":0},{"$f":"IF(L20<M20,1,0)","v":0},0,0,0,0,0,0,0,0,0,0,0,0,0]
["RECIÉN NACIDO Y LACTANTE PARA DETECCIÓN DE SÍFILIS CONGÉNITA",{"$f":"+D21+F21+H21","v":0},{"$f":"+E21+G21+I21","v":0},null,null,null,null,null,null,null,null,null,null,null,null,null,null,null,null,null,null,null,null,null,null,null,null,null,null,null,null,null,null,null,null,null,null,null,null,null,null,null,null,null,null,null,null,null,null,null,null,null,null,null,null,null,null,null,null,null,null,null,null,null,null,null,null,null,null,null,null,null,null,null,null,null,null,{"$f":"IF(B21<   C21,\"* El total de Reactivos NO DEBE ser superior al total de Procesados. \",\"\")","v":""},"","","","","",{"$f":"IF(B21<   C21,1,0)","v":0},0,0,0,0,0,null,null,null,null,null,null,null,null,null,null,null,null,null,null,{"$f":"IF(D21<E21,\"* Los Procesados deben ser mayor o igual a los Reactivos en los Menor de 6 meses. \",\"\")","v":""},{"$f":"IF(D21<E21,\"* Los Procesados deben ser mayor o igual a los Reactivos en los Menor de 6 meses. \",\"\")","v":""},{"$f":"IF(F21<G21,\"* Los Procesados deben ser mayor o igual a los Reactivos en los 6 a 11 meses. \",\"\")","v":""},{"$f":"IF(H21<I21,\"* Los Procesados deben ser mayor o igual a los Reactivos en los 12-24 meses. \",\"\")","v":""},null,null,null,null,null,null,null,null,null,null,null,null,null,null,null,null,null,null,null,null,null,null,{"$f":"IF(D21<E21,1,0)","v":0},{"$f":"IF(D21<E21,1,0)","v":0},{"$f":"IF(F21<G21,1,0)","v":0},{"$f":"IF(H21<I21,1,0)","v":0},null,null,null,null,null,null,null,null,null,null,null,null,null,0,0]
["PERSONAS EN CONTROL POR COMERCIO SEXUAL",{"$f":"+P22+R22+T22+V22+X22+Z22+AB22+AD22+AF22+AH22+AJ22+AL22+AN22+AP22","v":0},{"$f":"+Q22+S22+U22+W22+Y22+AA22+AC22+AE22+AG22+AI22+AK22+AM22+AO22+AQ22","v":0},null,null,null,null,null,null,null,null,null,null,null,null,null,null,null,null,null,null,null,null,null,null,null,null,null,null,null,null,null,null,null,null,null,null,null,null,null,null,null,null,null,null,null,null,null,null,null,null,null,null,null,null,null,null,null,null,null,null,null,null,null,null,null,null,null,null,null,null,null,null,null,null,null,null,"","","","","","",0,0,0,0,0,0,null,null,null,null,null,null,null,null,null,null,null,null,null,null,null,null,null,null,null,null,{"$f":"IF(P22<Q22,\"* Los Procesados deben ser mayor o igual a los Reactivos en los 15 - 19. \",\"\")","v":""},{"$f":"IF(P22<Q22,\"* Los Procesados deben ser mayor o igual a los Reactivos en los 15 - 19. \",\"\")","v":""},{"$f":"IF(R22<S22,\"* Los Procesados deben ser mayor o igual a los Reactivos en los 20 - 24. \",\"\")","v":""},{"$f":"IF(T22<U22,\"* Los Procesados deben ser mayor o igual a los Reactivos en los 25 a 29. \",\"\")","v":""},{"$f":"IF(V22<W22,\"* Los Procesados deben ser mayor o igual a los Reactivos en los 30 a 34. \",\"\")","v":""},{"$f":"IF(X22<Y22,\"* Los Procesados deben ser mayor o igual a los Reactivos en los 35 a 39. \",\"\")","v":""},{"$f":"IF(AF22<AG22,\"* Los Procesados deben ser mayor o igual a los Reactivos en los 55 a 59. \",\"\")","v":""},{"$f":"IF(AH22<AI22,\"* Los Procesados deben ser mayor o igual a los Reactivos en los 60 a 64. \",\"\")","v":""},{"$f":"IF(AJ22<AK22,\"* Los Procesados deben ser mayor o igual a los Reactivos en los 65 a 69. \",\"\")","v":""},{"$f":"IF(AL22<AM22,\"* Los Procesados deben ser mayor o igual a los Reactivos en los 70 a 74. \",\"\")","v":""},{"$f":"IF(AN22<AO22,\"* Los Procesados deben ser mayor o igual a los Reactivos en los 75 a 79. \",\"\")","v":""},{"$f":"IF(AP22<AQ22,\"* Los Procesados deben ser mayor o igual a los Reactivos en los 80 y más. \",\"\")","v":""},null,null,null,null,null,null,null,null,null,null,null,null,null,null,{"$f":"IF(P22<Q22,1,0)","v":0},{"$f":"IF(P22<Q22,1,0)","v":0},{"$f":"IF(R22<S22,1,0)","v":0},{"$f":"IF(T22<U22,1,0)","v":0},{"$f":"IF(V22<W22,1,0)","v":0},{"$f":"IF(X22<Y22,1,0)","v":0},{"$f":"IF(AF22<AG22,1,0)","v":0},{"$f":"IF(AH22<AI22,1,0)","v":0},{"$f":"IF(AJ22<AK22,1,0)","v":0},{"$f":"IF(AL22<AM22,1,0)","v":0},{"$f":"IF(AN22<AO22,1,0)","v":0},{"$f":"IF(AP22<AQ22,1,0)","v":0},0]
["PERSONAS EN CONTROL FECUNDIDAD",{"$f":"+N23+P23+R23+T23+V23+X23+Z23+AB23+AD23+AF23+AH23+AJ23+AL23+AN23+AP23","v":0},{"$f":"+O23+Q23+S23+U23+W23+Y23+AA23+AC23+AE23+AG23+AI23+AK23+AM23+AO23+AQ23","v":0},null,null,null,null,null,null,null,null,null,null,null,null,null,null,null,null,null,null,null,null,null,null,null,null,null,null,null,null,null,null,null,null,null,null,null,null,null,null,null,null,null,null,null,null,null,null,null,null,null,null,null,null,null,null,null,null,null,null,null,null,null,null,null,null,null,null,null,null,null,null,null,null,null,null,"","","","","","",0,0,0,0,0,0,null,null,null,null,null,null,null,null,null,null,null,null,null,null,null,null,null,null,null,{"$f":"IF(N23<O23,\"* Los Procesados deben ser mayor o igual a los Reactivos en los 10 - 14. \",\"\")","v":""},{"$f":"IF(N23<O23,\"* Los Procesados deben ser mayor o igual a los Reactivos en los 10 - 14. \",\"\")","v":""},"","","","","","","",{"$f":"IF(AJ23<AK23,\"* Los Procesados deben ser mayor o igual a los Reactivos en los 65 a 69. \",\"\")","v":""},{"$f":"IF(AL23<AM23,\"* Los Procesados deben ser mayor o igual a los Reactivos en los 70 a 74. \",\"\")","v":""},{"$f":"IF(AN23<AO23,\"* Los Procesados deben ser mayor o igual a los Reactivos en los 75 a 79. \",\"\")","v":""},{"$f":"IF(AP23<AQ23,\"* Los Procesados deben ser mayor o igual a los Reactivos en los 80 y más. \",\"\")","v":""},null,null,null,null,null,null,null,null,null,null,null,null,null,{"$f":"IF(N23<O23,1,0)","v":0},{"$f":"IF(N23<O23,1,0)","v":0},0,0,0,0,0,0,0,{"$f":"IF(AJ23<AK23,1,0)","v":0},{"$f":"IF(AL23<AM23,1,0)","v":0},{"$f":"IF(AN23<AO23,1,0)","v":0},{"$f":"IF(AP23<AQ23,1,0)","v":0},0]
["CONSULTANTES POR ITS",{"$f":"+D24+F24+H24+J24+L24+N24+P24+R24+T24+V24+X24+Z24+AB24+AD24+AF24+AH24+AJ24+AL24+AN24+AP24","v":0},{"$f":"+E24+G24+I24+K24+M24+O24+Q24+S24+U24+W24+Y24+AA24+AC24+AE24+AG24+AI24+AK24+AM24+AO24+AQ24","v":0},null,null,null,null,null,null,null,null,null,null,null,null,null,null,null,null,null,null,null,null,null,null,null,null,null,null,null,null,null,null,null,null,null,null,null,null,null,null,null,null,null,null,null,null,null,null,null,null,null,null,null,null,null,null,null,null,null,null,null,null,null,null,null,null,null,null,null,null,null,null,null,null,null,null,"","","","","","",0,0,0,0,0,0,null,null,null,null,null,null,null,null,null,null,null,null,null,null,{"$f":"IF(D24<E24,\"* Los Procesados deben ser mayor o igual a los Reactivos en los Menor de 6 meses. \",\"\")","v":""},{"$f":"IF(D24<E24,\"* Los Procesados deben ser mayor o igual a los Reactivos en los Menor de 6 meses. \",\"\")","v":""},{"$f":"IF(F24<G24,\"* Los Procesados deben ser mayor o igual a los Reactivos en los 6 a 11 meses. \",\"\")","v":""},{"$f":"IF(H24<I24,\"* Los Procesados deben ser mayor o igual a los Reactivos en los 12-24 meses. \",\"\")","v":""},{"$f":"IF(J24<K24,\"* Los Procesados deben ser mayor o igual a los Reactivos en los 3 a 4. \",\"\")","v":""},{"$f":"IF(L24<M24,\"* Los Procesados deben ser mayor o igual a los Reactivos en los 5 a 9. \",\"\")","v":""},{"$f":"IF(N24<O24,\"* Los Procesados deben ser mayor o igual a los Reactivos en los 10 - 14. \",\"\")","v":""},"","","","","","","",{"$f":"IF(AJ24<AK24,\"* Los Procesados deben ser mayor o igual a los Reactivos en los 65 a 69. \",\"\")","v":""},{"$f":"IF(AL24<AM24,\"* Los Procesados deben ser mayor o igual a los Reactivos en los 70 a 74. \",\"\")","v":""},{"$f":"IF(AN24<AO24,\"* Los Procesados deben ser mayor o igual a los Reactivos en los 75 a 79. \",\"\")","v":""},{"$f":"IF(AP24<AQ24,\"* Los Procesados deben ser mayor o igual a los Reactivos en los 80 y más. \",\"\")","v":""},null,null,null,null,null,null,null,null,{"$f":"IF(D24<E24,1,0)","v":0},{"$f":"IF(D24<E24,1,0)","v":0},{"$f":"IF(F24<G24,1,0)","v":0},{"$f":"IF(H24<I24,1,0)","v":0},{"$f":"IF(J24<K24,1,0)","v":0},{"$f":"IF(L24<M24,1,0)","v":0},{"$f":"IF(N24<O24,1,0)","v":0},0,0,0,0,0,0,0,{"$f":"IF(AJ24<AK24,1,0)","v":0},{"$f":"IF(AL24<AM24,1,0)","v":0},{"$f":"IF(AN24<AO24,1,0)","v":0},{"$f":"IF(AP24<AQ24,1,0)","v":0},0]
["PERSONAS CON EMP",{"$f":"+P25+R25+T25+V25+X25+Z25+AB25+AD25+AF25+AH25+AJ25+AL25+AN25+AP25","v":0},{"$f":"+Q25+S25+U25+W25+Y25+AA25+AC25+AE25+AG25+AI25+AK25+AM25+AO25+AQ25","v":0},null,null,null,null,null,null,null,null,null,null,null,null,null,null,null,null,null,null,null,null,null,null,null,null,null,null,null,null,null,null,null,null,null,null,null,null,null,null,null,null,null,null,null,null,null,null,null,null,null,null,null,null,null,null,null,null,null,null,null,null,null,null,null,null,null,null,null,null,null,null,null,null,null,null,"","","","","","",0,0,0,0,0,0,null,null,null,null,null,null,null,null,null,null,null,null,null,null,null,null,null,null,null,null,"","","","","","","","",{"$f":"IF(AJ25<AK25,\"* Los Procesados deben ser mayor o igual a los Reactivos en los 65 a 69. \",\"\")","v":""},{"$f":"IF(AL25<AM25,\"* Los Procesados deben ser mayor o igual a los Reactivos en los 70 a 74. \",\"\")","v":""},{"$f":"IF(AN25<AO25,\"* Los Procesados deben ser mayor o igual a los Reactivos en los 75 a 79. \",\"\")","v":""},{"$f":"IF(AP25<AQ25,\"* Los Procesados deben ser mayor o igual a los Reactivos en los 80 y más. \",\"\")","v":""},null,null,null,null,null,null,null,null,null,null,null,null,null,null,0,0,0,0,0,0,0,0,{"$f":"IF(AJ25<AK25,1,0)","v":0},{"$f":"IF(AL25<AM25,1,0)","v":0},{"$f":"IF(AN25<AO25,1,0)","v":0},{"$f":"IF(AP25<AQ25,1,0)","v":0},0]
["DONANTES DE SANGRE",{"$f":"+P26+R26+T26+V26+X26+Z26+AB26+AD26+AF26+AH26","v":0},{"$f":"+Q26+S26+U26+W26+Y26+AA26+AC26+AE26+AG26+AI26","v":0},null,null,null,null,null,null,null,null,null,null,null,null,null,null,null,null,null,null,null,null,null,null,null,null,null,null,null,null,null,null,null,null,null,null,null,null,null,null,null,null,null,null,null,null,null,null,null,null,null,null,null,null,null,null,null,null,null,null,null,null,null,null,null,null,null,null,null,null,null,null,null,null,null,null,"","","","","","",0,0,0,0,0,0,null,null,null,null,null,null,null,null,null,null,null,null,null,null,null,null,null,null,null,null,"","","","","","","","",{"$f":"IF(AD26<AE26,\"* Los Procesados deben ser mayor o igual a los Reactivos en los 50 a 54. \",\"\")","v":""},null,null,null,null,null,null,null,null,null,null,null,null,null,null,null,null,null,0,0,0,0,0,0,0,0,{"$f":"IF(AD26<AE26,1,0)","v":0},null,null,0,0]
["DONANTES DE ÓRGANOS Y/O TEJIDOS",{"$f":"+D27+F27+H27+J27+L27+N27+P27+R27+T27+V27+X27+Z27+AB27+AD27+AF27+AH27+AJ27+AL27+AN27+AP27","v":0},{"$f":"+E27+G27+I27+K27+M27+O27+Q27+S27+U27+W27+Y27+AA27+AC27+AE27+AG27+AI27+AK27+AM27+AO27+AQ27","v":0},null,null,null,null,null,null,null,null,null,null,null,null,null,null,null,null,null,null,null,null,null,null,null,null,null,null,null,null,null,null,null,null,null,null,null,null,null,null,null,null,null,null,null,null,null,null,null,null,null,null,null,null,null,null,null,null,null,null,null,null,null,null,null,null,null,null,null,null,null,null,null,null,null,null,"","","","","","",0,0,0,0,0,0,null,null,null,null,null,null,null,null,null,null,null,null,null,null,{"$f":"IF(D27<E27,\"* Los Procesados deben ser mayor o igual a los Reactivos en los Menor de 6 meses. \",\"\")","v":""},{"$f":"IF(D27<E27,\"* Los Procesados deben ser mayor o igual a los Reactivos en los Menor de 6 meses. \",\"\")","v":""},{"$f":"IF(F27<G27,\"* Los Procesados deben ser mayor o igual a los Reactivos en los 6 a 11 meses. \",\"\")","v":""},{"$f":"IF(H27<I27,\"* Los Procesados deben ser mayor o igual a los Reactivos en los 12-24 meses. \",\"\")","v":""},{"$f":"IF(J27<K27,\"* Los Procesados deben ser mayor o igual a los Reactivos en los 3 a 4. \",\"\")","v":""},{"$f":"IF(L27<M27,\"* Los Procesados deben ser mayor o igual a los Reactivos en los 5 a 9. \",\"\")","v":""},{"$f":"IF(N27<O27,\"* Los Procesados deben ser mayor o igual a los Reactivos en los 10 - 14. \",\"\")","v":""},"","","","","","","",{"$f":"IF(AJ27<AK27,\"* Los Procesados deben ser mayor o igual a los Reactivos en los 65 a 69. \",\"\")","v":""},{"$f":"IF(AL27<AM27,\"* Los Procesados deben ser mayor o igual a los Reactivos en los 70 a 74. \",\"\")","v":""},{"$f":"IF(AN27<AO27,\"* Los Procesados deben ser mayor o igual a los Reactivos en los 75 a 79. \",\"\")","v":""},{"$f":"IF(AP27<AQ27,\"* Los Procesados deben ser mayor o igual a los Reactivos en los 80 y más. \",\"\")","v":""},null,null,null,null,null,null,null,null,{"$f":"IF(D27<E27,1,0)","v":0},{"$f":"IF(D27<E27,1,0)","v":0},{"$f":"IF(F27<G27,1,0)","v":0},{"$f":"IF(H27<I27,1,0)","v":0},{"$f":"IF(J27<K27,1,0)","v":0},{"$f":"IF(L27<M27,1,0)","v":0},{"$f":"IF(N27<O27,1,0)","v":0},0,0,0,0,0,0,0,{"$f":"IF(AJ27<AK27,1,0)","v":0},{"$f":"IF(AL27<AM27,1,0)","v":0},{"$f":"IF(AN27<AO27,1,0)","v":0},{"$f":"IF(AP27<AQ27,1,0)","v":0},0]
["PACIENTES EN DIÁLISIS",0,0,null,null,null,null,null,null,null,null,null,null,null,null,null,null,null,null,null,null,null,null,null,null,null,null,null,null,null,null,null,null,null,null,null,null,null,null,null,null,null,null,null,null,null,null,null,null,null,null,null,null,null,null,null,null,null,null,null,null,null,null,null,null,null,null,null,null,null,null,null,null,null,null,null,null,"","","","","","",0,0,0,0,0,0,null,null,null,null,null,null,null,null,null,null,null,null,null,null,{"$f":"IF(D28<E28,\"* Los Procesados deben ser mayor o igual a los Reactivos en los Menor de 6 meses. \",\"\")","v":""},{"$f":"IF(D28<E28,\"* Los Procesados deben ser mayor o igual a los Reactivos en los Menor de 6 meses. \",\"\")","v":""},{"$f":"IF(F28<G28,\"* Los Procesados deben ser mayor o igual a los Reactivos en los 6 a 11 meses. \",\"\")","v":""},{"$f":"IF(H28<I28,\"* Los Procesados deben ser mayor o igual a los Reactivos en los 12-24 meses. \",\"\")","v":""},{"$f":"IF(J28<K28,\"* Los Procesados deben ser mayor o igual a los Reactivos en los 3 a 4. \",\"\")","v":""},{"$f":"IF(L28<M28,\"* Los Procesados deben ser mayor o igual a los Reactivos en los 5 a 9. \",\"\")","v":""},{"$f":"IF(N28<O28,\"* Los Procesados deben ser mayor o igual a los Reactivos en los 10 - 14. \",\"\")","v":""},"","","","","","","",{"$f":"IF(AJ28<AK28,\"* Los Procesados deben ser mayor o igual a los Reactivos en los 65 a 69. \",\"\")","v":""},{"$f":"IF(AL28<AM28,\"* Los Procesados deben ser mayor o igual a los Reactivos en los 70 a 74. \",\"\")","v":""},{"$f":"IF(AN28<AO28,\"* Los Procesados deben ser mayor o igual a los Reactivos en los 75 a 79. \",\"\")","v":""},{"$f":"IF(AP28<AQ28,\"* Los Procesados deben ser mayor o igual a los Reactivos en los 80 y más. \",\"\")","v":""},null,null,null,null,null,null,null,null,{"$f":"IF(D28<E28,1,0)","v":0},{"$f":"IF(D28<E28,1,0)","v":0},{"$f":"IF(F28<G28,1,0)","v":0},{"$f":"IF(H28<I28,1,0)","v":0},{"$f":"IF(J28<K28,1,0)","v":0},{"$f":"IF(L28<M28,1,0)","v":0},{"$f":"IF(N28<O28,1,0)","v":0},0,0,0,0,0,0,0,{"$f":"IF(AJ28<AK28,1,0)","v":0},{"$f":"IF(AL28<AM28,1,0)","v":0},{"$f":"IF(AN28<AO28,1,0)","v":0},{"$f":"IF(AP28<AQ28,1,0)","v":0},0]
["VÍCTIMA DE VIOLENCIA SEXUAL",0,0,null,null,null,null,null,null,null,null,null,null,null,null,null,null,null,null,null,null,null,null,null,null,null,null,null,null,null,null,null,null,null,null,null,null,null,null,null,null,null,null,null,null,null,null,null,null,null,null,null,null,null,null,null,null,null,null,null,null,null,null,null,null,null,null,null,null,null,null,null,null,null,null,null,null,"","","","","","",0,0,0,0,0,0,null,null,null,null,null,null,null,null,null,null,null,null,null,null,{"$f":"IF(D29<E29,\"* Los Procesados deben ser mayor o igual a los Reactivos en los Menor de 6 meses. \",\"\")","v":""},{"$f":"IF(D29<E29,\"* Los Procesados deben ser mayor o igual a los Reactivos en los Menor de 6 meses. \",\"\")","v":""},{"$f":"IF(F29<G29,\"* Los Procesados deben ser mayor o igual a los Reactivos en los 6 a 11 meses. \",\"\")","v":""},{"$f":"IF(H29<I29,\"* Los Procesados deben ser mayor o igual a los Reactivos en los 12-24 meses. \",\"\")","v":""},{"$f":"IF(J29<K29,\"* Los Procesados deben ser mayor o igual a los Reactivos en los 3 a 4. \",\"\")","v":""},{"$f":"IF(L29<M29,\"* Los Procesados deben ser mayor o igual a los Reactivos en los 5 a 9. \",\"\")","v":""},{"$f":"IF(N29<O29,\"* Los Procesados deben ser mayor o igual a los Reactivos en los 10 - 14. \",\"\")","v":""},"","","","","","","",{"$f":"IF(AJ29<AK29,\"* Los Procesados deben ser mayor o igual a los Reactivos en los 65 a 69. \",\"\")","v":""},{"$f":"IF(AL29<AM29,\"* Los Procesados deben ser mayor o igual a los Reactivos en los 70 a 74. \",\"\")","v":""},{"$f":"IF(AN29<AO29,\"* Los Procesados deben ser mayor o igual a los Reactivos en los 75 a 79. \",\"\")","v":""},{"$f":"IF(AP29<AQ29,\"* Los Procesados deben ser mayor o igual a los Reactivos en los 80 y más. \",\"\")","v":""},null,null,null,null,null,null,null,null,{"$f":"IF(D29<E29,1,0)","v":0},{"$f":"IF(D29<E29,1,0)","v":0},{"$f":"IF(F29<G29,1,0)","v":0},{"$f":"IF(H29<I29,1,0)","v":0},{"$f":"IF(J29<K29,1,0)","v":0},{"$f":"IF(L29<M29,1,0)","v":0},{"$f":"IF(N29<O29,1,0)","v":0},0,0,0,0,0,0,0,{"$f":"IF(AJ29<AK29,1,0)","v":0},{"$f":"IF(AL29<AM29,1,0)","v":0},{"$f":"IF(AN29<AO29,1,0)","v":0},{"$f":"IF(AP29<AQ29,1,0)","v":0},0]
["SECCIÓN A.2: EXAMEN VDRL POR GRUPO DE USUARIOS (Uso exclusivo de establecimientos que Compran Servicio)"]
["GRUPO DE PESQUISA","TOTAL",null,"POR EDAD (en meses - años)",null,null,null,null,null,null,null,null,null,null,null,null,null,null,null,null,null,null,null,null,null,null,null,null,null,null,null,null,null,null,null,null,null,null,null,null,null,null,null,"POR SEXO\n(Procesados)",null,"TRANS",null,"Pueblos Originarios","Migrantes"]
[null,null,null,"Menor de 6 meses",null,"6 a 11 meses",null,"12-24 meses",null,"3 a 4",null,"5 a 9",null,"10 - 14",null,"15 - 19",null,"20 - 24",null,"25 a 29",null,"30 a 34",null,"35 a 39",null,"40 a 44",null,"45 a 49",null,"50 a 54",null,"55 a 59",null,"60 a 64",null,"65 a 69",null,"70 a 74",null,"75 a 79",null,"80 y más",null,"Hombres","Mujeres"]
[null,"Procesados","Reactivos","Procesados","Reactivos","Procesados","Reactivos","Procesados","Reactivos","Procesados","Reactivos","Procesados","Reactivos","Procesados","Reactivos","Procesados","Reactivos","Procesados","Reactivos","Procesados","Reactivos","Procesados","Reactivos","Procesados","Reactivos","Procesados","Reactivos","Procesados","Reactivos","Procesados","Reactivos","Procesados","Reactivos","Procesados","Reactivos","Procesados","Reactivos","Procesados","Reactivos","Procesados","Reactivos","Procesados","Reactivos",null,null,"Masculino","Femenino"]
["GESTANTES PRIMER TRIMESTRE EMBARAZO",{"$f":"+N34+P34+R34+T34+V34+X34+Z34+AB34+AD34+AF34+AH34+AJ34+AL34+AN34+AP34","v":0},0,null,null,null,null,null,null,null,null,null,null,null,null,null,null,null,null,null,null,null,null,null,null,null,null,null,null,null,null,null,null,null,null,null,null,null,null,null,null,null,null,null,null,null,null,null,null,null,null,null,null,null,null,null,null,null,null,null,null,null,null,null,null,null,null,null,null,null,null,null,null,null,null,null,null,{"$f":"IF(B34<   C34,\"* El total de Reactivos NO DEBE ser superior al total de Procesados. \",\"\")","v":""},{"$f":"IF(B34<   C34,\"* El total de Reactivos NO DEBE ser superior al total de Procesados. \",\"\")","v":""},{"$f":"IF(B34<> AR34+ AS34,\"* La suma de las columnas Sexo DEBE SER IGUAL a los Procesados. \",\"\")","v":""},{"$f":"IF(B34<  AT34+ AU34,\"* La suma de las columna Trans NO DEBE ser superior al total de Procesados. \",\"\")","v":""},{"$f":"IF(B34<  AV34,\"* La columna Pueblos Originarios NO DEBE ser superior al total de Procesados. \",\"\")","v":""},{"$f":"IF(B34<  AW34,\"* La columna Migrantes NO DEBE ser superior al total de Procesados. \",\"\")","v":""},{"$f":"IF(B34<   C34,1,0)","v":0},{"$f":"IF(B34<   C34,1,0)","v":0},{"$f":"IF(B34<> AR34+AS34,1,0)","v":0},{"$f":"IF(B34<  AT34+AU34,1,0)","v":0},{"$f":"IF(B34<  AV34,1,0)","v":0},{"$f":"IF(B34<  AW34,1,0)","v":0},null,null,null,null,null,null,null,null,null,null,null,null,null,null,null,null,null,null,null,{"$f":"IF(N34<O34,\"* Los Procesados deben ser mayor o igual a los Reactivos en los 10 - 14. \",\"\")","v":""},{"$f":"IF(N34<O34,\"* Los Procesados deben ser mayor o igual a los Reactivos en los 10 - 14. \",\"\")","v":""},{"$f":"IF(P34<Q34,\"* Los Procesados deben ser mayor o igual a los Reactivos en los 15 - 19. \",\"\")","v":""},{"$f":"IF(R34<S34,\"* Los Procesados deben ser mayor o igual a los Reactivos en los 20 - 24. \",\"\")","v":""},{"$f":"IF(T34<U34,\"* Los Procesados deben ser mayor o igual a los Reactivos en los 25 a 29. \",\"\")","v":""},{"$f":"IF(V34<W34,\"* Los Procesados deben ser mayor o igual a los Reactivos en los 30 a 34. \",\"\")","v":""},{"$f":"IF(X34<Y34,\"* Los Procesados deben ser mayor o igual a los Reactivos en los 35 a 39. \",\"\")","v":""},{"$f":"IF(AF34<AG34,\"* Los Procesados deben ser mayor o igual a los Reactivos en los 55 a 59. \",\"\")","v":""},{"$f":"IF(AH34<AI34,\"* Los Procesados deben ser mayor o igual a los Reactivos en los 60 a 64. \",\"\")","v":""},{"$f":"IF(AJ34<AK34,\"* Los Procesados deben ser mayor o igual a los Reactivos en los 65 a 69. \",\"\")","v":""},{"$f":"IF(AL34<AM34,\"* Los Procesados deben ser mayor o igual a los Reactivos en los 70 a 74. \",\"\")","v":""},{"$f":"IF(AN34<AO34,\"* Los Procesados deben ser mayor o igual a los Reactivos en los 75 a 79. \",\"\")","v":""},{"$f":"IF(AP34<AQ34,\"* Los Procesados deben ser mayor o igual a los Reactivos en los 80 y más. \",\"\")","v":""},null,null,null,null,null,null,null,null,null,null,null,null,null,{"$f":"IF(N34<O34,1,0)","v":0},{"$f":"IF(N34<O34,1,0)","v":0},{"$f":"IF(P34<Q34,1,0)","v":0},{"$f":"IF(R34<S34,1,0)","v":0},{"$f":"IF(T34<U34,1,0)","v":0},{"$f":"IF(V34<W34,1,0)","v":0},{"$f":"IF(X34<Y34,1,0)","v":0},{"$f":"IF(AF34<AG34,1,0)","v":0},{"$f":"IF(AH34<AI34,1,0)","v":0},{"$f":"IF(AJ34<AK34,1,0)","v":0},{"$f":"IF(AL34<AM34,1,0)","v":0},{"$f":"IF(AN34<AO34,1,0)","v":0},{"$f":"IF(AP34<AQ34,1,0)","v":0},0]
["GESTANTES SEGUNDO TRIMESTRE EMBARAZO",0,0,null,null,null,null,null,null,null,null,null,null,null,null,null,null,null,null,null,null,null,null,null,null,null,null,null,null,null,null,null,null,null,null,null,null,null,null,null,null,null,null,null,null,null,null,null,null,null,null,null,null,null,null,null,null,null,null,null,null,null,null,null,null,null,null,null,null,null,null,null,null,null,null,null,null,"","","","","","",0,0,0,0,0,0,null,null,null,null,null,null,null,null,null,null,null,null,null,null,null,null,null,null,null,"","","","","","","","","","","","","",null,null,null,null,null,null,null,null,null,null,null,null,null,0,0,0,0,0,0,0,0,0,0,0,0,0,0]
["GESTANTES TERCER TRIMESTRE EMBARAZO",0,0,null,null,null,null,null,null,null,null,null,null,null,null,null,null,null,null,null,null,null,null,null,null,null,null,null,null,null,null,null,null,null,null,null,null,null,null,null,null,null,null,null,null,null,null,null,null,null,null,null,null,null,null,null,null,null,null,null,null,null,null,null,null,null,null,null,null,null,null,null,null,null,null,null,null,"","","","","","",0,0,0,0,0,0,null,null,null,null,null,null,null,null,null,null,null,null,null,null,null,null,null,null,null,"","","","","","","","","","","","","",null,null,null,null,null,null,null,null,null,null,null,null,null,0,0,0,0,0,0,0,0,0,0,0,0,0,0]
["GESTANTES TRIMESTRE EMBARAZO IGNORADO",0,0,null,null,null,null,null,null,null,null,null,null,null,null,null,null,null,null,null,null,null,null,null,null,null,null,null,null,null,null,null,null,null,null,null,null,null,null,null,null,null,null,null,null,null,null,null,null,null,null,null,null,null,null,null,null,null,null,null,null,null,null,null,null,null,null,null,null,null,null,null,null,null,null,null,null,"","","","","","",0,0,0,0,0,0,null,null,null,null,null,null,null,null,null,null,null,null,null,null,null,null,null,null,null,"","","","","","","","","","","","","",null,null,null,null,null,null,null,null,null,null,null,null,null,0,0,0,0,0,0,0,0,0,0,0,0,0,0]
["GESTANTES EN SEGUIMIENTO POR DIAGNÓSTICO SÍFILIS",0,0,null,null,null,null,null,null,null,null,null,null,null,null,null,null,null,null,null,null,null,null,null,null,null,null,null,null,null,null,null,null,null,null,null,null,null,null,null,null,null,null,null,null,null,null,null,null,null,null,null,null,null,null,null,null,null,null,null,null,null,null,null,null,null,null,null,null,null,null,null,null,null,null,null,null,"","","","","","",0,0,0,0,0,0,null,null,null,null,null,null,null,null,null,null,null,null,null,null,null,null,null,null,null,"","","","","","","","","","","","","",null,null,null,null,null,null,null,null,null,null,null,null,null,0,0,0,0,0,0,0,0,0,0,0,0,0,0]
["PAREJA DE GESTANTE CON SEROLOGÍA REACTIVA",0,0,null,null,null,null,null,null,null,null,null,null,null,null,null,null,null,null,null,null,null,null,null,null,null,null,null,null,null,null,null,null,null,null,null,null,null,null,null,null,null,null,null,null,null,null,null,null,null,null,null,null,null,null,null,null,null,null,null,null,null,null,null,null,null,null,null,null,null,null,null,null,null,null,null,null,"","","","","","",0,0,0,0,0,0,null,null,null,null,null,null,null,null,null,null,null,null,null,null,null,null,null,null,null,"","","","","","","","","","","","","",null,null,null,null,null,null,null,null,null,null,null,null,null,0,0,0,0,0,0,0,0,0,0,0,0,0,0]
["MUJERES QUE INGRESAN A MATERNIDAD POR PARTO",0,0,null,null,null,null,null,null,null,null,null,null,null,null,null,null,null,null,null,null,null,null,null,null,null,null,null,null,null,null,null,null,null,null,null,null,null,null,null,null,null,null,null,null,null,null,null,null,null,null,null,null,null,null,null,null,null,null,null,null,null,null,null,null,null,null,null,null,null,null,null,null,null,null,null,null,{"$f":"IF(B40<   C40,\"* El total de Reactivos NO DEBE ser superior al total de Procesados. \",\"\")","v":""},"","","","","",{"$f":"IF(B40<   C40,1,0)","v":0},0,0,0,0,0,null,null,null,null,null,null,null,null,null,null,null,null,null,null,null,null,null,null,null,{"$f":"IF(N40<O40,\"* Los Procesados deben ser mayor o igual a los Reactivos en los 10 - 14. \",\"\")","v":""},"","","","","","","","","","","","",null,null,null,null,null,null,null,null,null,null,null,null,null,{"$f":"IF(N40<O40,1,0)","v":0},0,0,0,0,0,0,0,0,0,0,0,0,0]
["MUJERES QUE INGRESAN POR ABORTO",0,0,null,null,null,null,null,null,null,null,null,null,null,null,null,null,null,null,null,null,null,null,null,null,null,null,null,null,null,null,null,null,null,null,null,null,null,null,null,null,null,null,null,null,null,null,null,null,null,null,null,null,null,null,null,null,null,null,null,null,null,null,null,null,null,null,null,null,null,null,null,null,null,null,null,null,"","","","","","",0,0,0,0,0,0,null,null,null,null,null,null,null,null,null,null,null,null,null,null,null,null,null,null,null,{"$f":"IF(N41<O41,\"* Los Procesados deben ser mayor o igual a los Reactivos en los 10 - 14. \",\"\")","v":""},"","","","","","","","","","","","",null,null,null,null,null,null,null,null,null,null,null,null,null,{"$f":"IF(N41<O41,1,0)","v":0},0,0,0,0,0,0,0,0,0,0,0,0,0]
["MUJERES EN CONTROL GINECOLÓGICO",{"$f":"+D42+F42+H42+J42+L42+N42+P42+R42+T42+V42+X42+Z42+AB42+AD42+AF42+AH42+AJ42+AL42+AN42+AP42","v":0},{"$f":"+E42+G42+I42+K42+M42+O42+Q42+S42+U42+W42+Y42+AA42+AC42+AE42+AG42+AI42+AK42+AM42+AO42+AQ42","v":0},null,null,null,null,null,null,null,null,null,null,null,null,null,null,null,null,null,null,null,null,null,null,null,null,null,null,null,null,null,null,null,null,null,null,null,null,null,null,null,null,null,null,null,null,null,null,null,null,null,null,null,null,null,null,null,null,null,null,null,null,null,null,null,null,null,null,null,null,null,null,null,null,null,null,"","","","","","",0,0,0,0,0,0,null,null,null,null,null,null,null,null,null,null,null,null,null,null,{"$f":"IF(D42<E42,\"* Los Procesados deben ser mayor o igual a los Reactivos en los Menor de 6 meses. \",\"\")","v":""},{"$f":"IF(D42<E42,\"* Los Procesados deben ser mayor o igual a los Reactivos en los Menor de 6 meses. \",\"\")","v":""},{"$f":"IF(F42<G42,\"* Los Procesados deben ser mayor o igual a los Reactivos en los 6 a 11 meses. \",\"\")","v":""},{"$f":"IF(H42<I42,\"* Los Procesados deben ser mayor o igual a los Reactivos en los 12-24 meses. \",\"\")","v":""},{"$f":"IF(J42<K42,\"* Los Procesados deben ser mayor o igual a los Reactivos en los 3 a 4. \",\"\")","v":""},{"$f":"IF(L42<M42,\"* Los Procesados deben ser mayor o igual a los Reactivos en los 5 a 9. \",\"\")","v":""},"","","","","","","","","","","","",null,null,null,null,null,null,null,null,{"$f":"IF(D42<E42,1,0)","v":0},{"$f":"IF(D42<E42,1,0)","v":0},{"$f":"IF(F42<G42,1,0)","v":0},{"$f":"IF(H42<I42,1,0)","v":0},{"$f":"IF(J42<K42,1,0)","v":0},{"$f":"IF(L42<M42,1,0)","v":0},0,0,0,0,0,0,0,0,0,0,0,0,0]
["RECIÉN NACIDO Y LACTANTE PARA DETECCIÓN DE SÍFILIS CONGÉNITA",{"$f":"+D43+F43+H43","v":0},{"$f":"+E43+G43+I43","v":0},null,null,null,null,null,null,null,null,null,null,null,null,null,null,null,null,null,null,null,null,null,null,null,null,null,null,null,null,null,null,null,null,null,null,null,null,null,null,null,null,null,null,null,null,null,null,null,null,null,null,null,null,null,null,null,null,null,null,null,null,null,null,null,null,null,null,null,null,null,null,null,null,null,null,"","","","","","",0,0,0,0,0,0,null,null,null,null,null,null,null,null,null,null,null,null,null,null,{"$f":"IF(D43<E43,\"* Los Procesados deben ser mayor o igual a los Reactivos en los Menor de 6 meses. \",\"\")","v":""},{"$f":"IF(D43<E43,\"* Los Procesados deben ser mayor o igual a los Reactivos en los Menor de 6 meses. \",\"\")","v":""},{"$f":"IF(F43<G43,\"* Los Procesados deben ser mayor o igual a los Reactivos en los 6 a 11 meses. \",\"\")","v":""},{"$f":"IF(H43<I43,\"* Los Procesados deben ser mayor o igual a los Reactivos en los 12-24 meses. \",\"\")","v":""},null,null,null,null,null,null,null,null,null,null,null,null,null,null,null,null,null,null,null,null,null,null,{"$f":"IF(D43<E43,1,0)","v":0},{"$f":"IF(D43<E43,1,0)","v":0},{"$f":"IF(F43<G43,1,0)","v":0},{"$f":"IF(H43<I43,1,0)","v":0},null,null,null,null,null,null,null,null,null,null,null,null,null,0,0]
["PERSONAS EN CONTROL POR COMERCIO SEXUAL",{"$f":"+P44+R44+T44+V44+X44+Z44+AB44+AD44+AF44+AH44+AJ44+AL44+AN44+AP44","v":0},{"$f":"+Q44+S44+U44+W44+Y44+AA44+AC44+AE44+AG44+AI44+AK44+AM44+AO44+AQ44","v":0},null,null,null,null,null,null,null,null,null,null,null,null,null,null,null,null,null,null,null,null,null,null,null,null,null,null,null,null,null,null,null,null,null,null,null,null,null,null,null,null,null,null,null,null,null,null,null,null,null,null,null,null,null,null,null,null,null,null,null,null,null,null,null,null,null,null,null,null,null,null,null,null,null,null,"","","","","","",0,0,0,0,0,0,null,null,null,null,null,null,null,null,null,null,null,null,null,null,null,null,null,null,null,null,{"$f":"IF(P44<Q44,\"* Los Procesados deben ser mayor o igual a los Reactivos en los 15 - 19. \",\"\")","v":""},{"$f":"IF(P44<Q44,\"* Los Procesados deben ser mayor o igual a los Reactivos en los 15 - 19. \",\"\")","v":""},{"$f":"IF(R44<S44,\"* Los Procesados deben ser mayor o igual a los Reactivos en los 20 - 24. \",\"\")","v":""},{"$f":"IF(T44<U44,\"* Los Procesados deben ser mayor o igual a los Reactivos en los 25 a 29. \",\"\")","v":""},{"$f":"IF(V44<W44,\"* Los Procesados deben ser mayor o igual a los Reactivos en los 30 a 34. \",\"\")","v":""},{"$f":"IF(X44<Y44,\"* Los Procesados deben ser mayor o igual a los Reactivos en los 35 a 39. \",\"\")","v":""},{"$f":"IF(AF44<AG44,\"* Los Procesados deben ser mayor o igual a los Reactivos en los 55 a 59. \",\"\")","v":""},{"$f":"IF(AH44<AI44,\"* Los Procesados deben ser mayor o igual a los Reactivos en los 60 a 64. \",\"\")","v":""},{"$f":"IF(AJ44<AK44,\"* Los Procesados deben ser mayor o igual a los Reactivos en los 65 a 69. \",\"\")","v":""},{"$f":"IF(AL44<AM44,\"* Los Procesados deben ser mayor o igual a los Reactivos en los 70 a 74. \",\"\")","v":""},{"$f":"IF(AN44<AO44,\"* Los Procesados deben ser mayor o igual a los Reactivos en los 75 a 79. \",\"\")","v":""},{"$f":"IF(AP44<AQ44,\"* Los Procesados deben ser mayor o igual a los Reactivos en los 80 y más. \",\"\")","v":""},null,null,null,null,null,null,null,null,null,null,null,null,null,null,{"$f":"IF(P44<Q44,1,0)","v":0},{"$f":"IF(P44<Q44,1,0)","v":0},{"$f":"IF(R44<S44,1,0)","v":0},{"$f":"IF(T44<U44,1,0)","v":0},{"$f":"IF(V44<W44,1,0)","v":0},{"$f":"IF(X44<Y44,1,0)","v":0},{"$f":"IF(AF44<AG44,1,0)","v":0},{"$f":"IF(AH44<AI44,1,0)","v":0},{"$f":"IF(AJ44<AK44,1,0)","v":0},{"$f":"IF(AL44<AM44,1,0)","v":0},{"$f":"IF(AN44<AO44,1,0)","v":0},{"$f":"IF(AP44<AQ44,1,0)","v":0},0]
["PERSONAS EN CONTROL FECUNDIDAD",{"$f":"+N45+P45+R45+T45+V45+X45+Z45+AB45+AD45+AF45+AH45+AJ45+AL45+AN45+AP45","v":0},{"$f":"+O45+Q45+S45+U45+W45+Y45+AA45+AC45+AE45+AG45+AI45+AK45+AM45+AO45+AQ45","v":0},null,null,null,null,null,null,null,null,null,null,null,null,null,null,null,null,null,null,null,null,null,null,null,null,null,null,null,null,null,null,null,null,null,null,null,null,null,null,null,null,null,null,null,null,null,null,null,null,null,null,null,null,null,null,null,null,null,null,null,null,null,null,null,null,null,null,null,null,null,null,null,null,null,null,"","","","","","",0,0,0,0,0,0,null,null,null,null,null,null,null,null,null,null,null,null,null,null,null,null,null,null,null,{"$f":"IF(N45<O45,\"* Los Procesados deben ser mayor o igual a los Reactivos en los 10 - 14. \",\"\")","v":""},{"$f":"IF(N45<O45,\"* Los Procesados deben ser mayor o igual a los Reactivos en los 10 - 14. \",\"\")","v":""},"","","","","","","",{"$f":"IF(AJ45<AK45,\"* Los Procesados deben ser mayor o igual a los Reactivos en los 65 a 69. \",\"\")","v":""},{"$f":"IF(AL45<AM45,\"* Los Procesados deben ser mayor o igual a los Reactivos en los 70 a 74. \",\"\")","v":""},{"$f":"IF(AN45<AO45,\"* Los Procesados deben ser mayor o igual a los Reactivos en los 75 a 79. \",\"\")","v":""},{"$f":"IF(AP45<AQ45,\"* Los Procesados deben ser mayor o igual a los Reactivos en los 80 y más. \",\"\")","v":""},null,null,null,null,null,null,null,null,null,null,null,null,null,{"$f":"IF(N45<O45,1,0)","v":0},{"$f":"IF(N45<O45,1,0)","v":0},0,0,0,0,0,0,0,{"$f":"IF(AJ45<AK45,1,0)","v":0},{"$f":"IF(AL45<AM45,1,0)","v":0},{"$f":"IF(AN45<AO45,1,0)","v":0},{"$f":"IF(AP45<AQ45,1,0)","v":0},0]
["CONSULTANTES POR ITS",{"$f":"+D46+F46+H46+J46+L46+N46+P46+R46+T46+V46+X46+Z46+AB46+AD46+AF46+AH46+AJ46+AL46+AN46+AP46","v":0},{"$f":"+E46+G46+I46+K46+M46+O46+Q46+S46+U46+W46+Y46+AA46+AC46+AE46+AG46+AI46+AK46+AM46+AO46+AQ46","v":0},null,null,null,null,null,null,null,null,null,null,null,null,null,null,null,null,null,null,null,null,null,null,null,null,null,null,null,null,null,null,null,null,null,null,null,null,null,null,null,null,null,null,null,null,null,null,null,null,null,null,null,null,null,null,null,null,null,null,null,null,null,null,null,null,null,null,null,null,null,null,null,null,null,null,"","","","","","",0,0,0,0,0,0,null,null,null,null,null,null,null,null,null,null,null,null,null,null,{"$f":"IF(D46<E46,\"* Los Procesados deben ser mayor o igual a los Reactivos en los Menor de 6 meses. \",\"\")","v":""},{"$f":"IF(D46<E46,\"* Los Procesados deben ser mayor o igual a los Reactivos en los Menor de 6 meses. \",\"\")","v":""},{"$f":"IF(F46<G46,\"* Los Procesados deben ser mayor o igual a los Reactivos en los 6 a 11 meses. \",\"\")","v":""},{"$f":"IF(H46<I46,\"* Los Procesados deben ser mayor o igual a los Reactivos en los 12-24 meses. \",\"\")","v":""},{"$f":"IF(J46<K46,\"* Los Procesados deben ser mayor o igual a los Reactivos en los 3 a 4. \",\"\")","v":""},{"$f":"IF(L46<M46,\"* Los Procesados deben ser mayor o igual a los Reactivos en los 5 a 9. \",\"\")","v":""},{"$f":"IF(N46<O46,\"* Los Procesados deben ser mayor o igual a los Reactivos en los 10 - 14. \",\"\")","v":""},"","","","","","","",{"$f":"IF(AJ46<AK46,\"* Los Procesados deben ser mayor o igual a los Reactivos en los 65 a 69. \",\"\")","v":""},{"$f":"IF(AL46<AM46,\"* Los Procesados deben ser mayor o igual a los Reactivos en los 70 a 74. \",\"\")","v":""},{"$f":"IF(AN46<AO46,\"* Los Procesados deben ser mayor o igual a los Reactivos en los 75 a 79. \",\"\")","v":""},{"$f":"IF(AP46<AQ46,\"* Los Procesados deben ser mayor o igual a los Reactivos en los 80 y más. \",\"\")","v":""},null,null,null,null,null,null,null,null,{"$f":"IF(D46<E46,1,0)","v":0},{"$f":"IF(D46<E46,1,0)","v":0},{"$f":"IF(F46<G46,1,0)","v":0},{"$f":"IF(H46<I46,1,0)","v":0},{"$f":"IF(J46<K46,1,0)","v":0},{"$f":"IF(L46<M46,1,0)","v":0},{"$f":"IF(N46<O46,1,0)","v":0},0,0,0,0,0,0,0,{"$f":"IF(AJ46<AK46,1,0)","v":0},{"$f":"IF(AL46<AM46,1,0)","v":0},{"$f":"IF(AN46<AO46,1,0)","v":0},{"$f":"IF(AP46<AQ46,1,0)","v":0},0]
["PERSONAS CON EMP",{"$f":"+P47+R47+T47+V47+X47+Z47+AB47+AD47+AF47+AH47+AJ47+AL47+AN47+AP47","v":0},{"$f":"+Q47+S47+U47+W47+Y47+AA47+AC47+AE47+AG47+AI47+AK47+AM47+AO47+AQ47","v":0},null,null,null,null,null,null,null,null,null,null,null,null,null,null,null,null,null,null,null,null,null,null,null,null,null,null,null,null,null,null,null,null,null,null,null,null,null,null,null,null,null,null,null,null,null,null,null,null,null,null,null,null,null,null,null,null,null,null,null,null,null,null,null,null,null,null,null,null,null,null,null,null,null,null,"","","","","","",0,0,0,0,0,0,null,null,null,null,null,null,null,null,null,null,null,null,null,null,null,null,null,null,null,null,{"$f":"IF(P47<Q47,\"* Los Procesados deben ser mayor o igual a los Reactivos en los 15 - 19. \",\"\")","v":""},"","","","","","","",{"$f":"IF(AJ47<AK47,\"* Los Procesados deben ser mayor o igual a los Reactivos en los 65 a 69. \",\"\")","v":""},{"$f":"IF(AL47<AM47,\"* Los Procesados deben ser mayor o igual a los Reactivos en los 70 a 74. \",\"\")","v":""},{"$f":"IF(AN47<AO47,\"* Los Procesados deben ser mayor o igual a los Reactivos en los 75 a 79. \",\"\")","v":""},{"$f":"IF(AP47<AQ47,\"* Los Procesados deben ser mayor o igual a los Reactivos en los 80 y más. \",\"\")","v":""},null,null,null,null,null,null,null,null,null,null,null,null,null,null,{"$f":"IF(P47<Q47,1,0)","v":0},0,0,0,0,0,0,0,{"$f":"IF(AJ47<AK47,1,0)","v":0},{"$f":"IF(AL47<AM47,1,0)","v":0},{"$f":"IF(AN47<AO47,1,0)","v":0},{"$f":"IF(AP47<AQ47,1,0)","v":0},0]
["DONANTES DE SANGRE",{"$f":"+P48+R48+T48+V48+X48+Z48+AB48+AD48+AF48+AH48","v":0},{"$f":"+Q48+S48+U48+W48+Y48+AA48+AC48+AE48+AG48+AI48","v":0},null,null,null,null,null,null,null,null,null,null,null,null,null,null,null,null,null,null,null,null,null,null,null,null,null,null,null,null,null,null,null,null,null,null,null,null,null,null,null,null,null,null,null,null,null,null,null,null,null,null,null,null,null,null,null,null,null,null,null,null,null,null,null,null,null,null,null,null,null,null,null,null,null,null,"","","","","","",0,0,0,0,0,0,null,null,null,null,null,null,null,null,null,null,null,null,null,null,null,null,null,null,null,null,{"$f":"IF(P48<Q48,\"* Los Procesados deben ser mayor o igual a los Reactivos en los 15 - 19. \",\"\")","v":""},"","","","","","","",{"$f":"IF(AD48<AE48,\"* Los Procesados deben ser mayor o igual a los Reactivos en los 50 a 54. \",\"\")","v":""},null,null,null,null,null,null,null,null,null,null,null,null,null,null,null,null,null,{"$f":"IF(P48<Q48,1,0)","v":0},0,0,0,0,0,0,0,{"$f":"IF(AD48<AE48,1,0)","v":0},null,null,0,0]
["DONANTES DE ÓRGANOS Y/O TEJIDOS",{"$f":"+D49+F49+H49+J49+L49+N49+P49+R49+T49+V49+X49+Z49+AB49+AD49+AF49+AH49+AJ49+AL49+AN49+AP49","v":0},0,null,null,null,null,null,null,null,null,null,null,null,null,null,null,null,null,null,null,null,null,null,null,null,null,null,null,null,null,null,null,null,null,null,null,null,null,null,null,null,null,null,null,null,null,null,null,null,null,null,null,null,null,null,null,null,null,null,null,null,null,null,null,null,null,null,null,null,null,null,null,null,null,null,null,"","","","","","",0,0,0,0,0,0,null,null,null,null,null,null,null,null,null,null,null,null,null,null,{"$f":"IF(D49<E49,\"* Los Procesados deben ser mayor o igual a los Reactivos en los Menor de 6 meses. \",\"\")","v":""},{"$f":"IF(D49<E49,\"* Los Procesados deben ser mayor o igual a los Reactivos en los Menor de 6 meses. \",\"\")","v":""},{"$f":"IF(F49<G49,\"* Los Procesados deben ser mayor o igual a los Reactivos en los 6 a 11 meses. \",\"\")","v":""},{"$f":"IF(H49<I49,\"* Los Procesados deben ser mayor o igual a los Reactivos en los 12-24 meses. \",\"\")","v":""},{"$f":"IF(J49<K49,\"* Los Procesados deben ser mayor o igual a los Reactivos en los 3 a 4. \",\"\")","v":""},{"$f":"IF(L49<M49,\"* Los Procesados deben ser mayor o igual a los Reactivos en los 5 a 9. \",\"\")","v":""},{"$f":"IF(N49<O49,\"* Los Procesados deben ser mayor o igual a los Reactivos en los 10 - 14. \",\"\")","v":""},"","","","","","","",{"$f":"IF(AJ49<AK49,\"* Los Procesados deben ser mayor o igual a los Reactivos en los 65 a 69. \",\"\")","v":""},{"$f":"IF(AL49<AM49,\"* Los Procesados deben ser mayor o igual a los Reactivos en los 70 a 74. \",\"\")","v":""},{"$f":"IF(AN49<AO49,\"* Los Procesados deben ser mayor o igual a los Reactivos en los 75 a 79. \",\"\")","v":""},{"$f":"IF(AP49<AQ49,\"* Los Procesados deben ser mayor o igual a los Reactivos en los 80 y más. \",\"\")","v":""},null,null,null,null,null,null,null,null,{"$f":"IF(D49<E49,1,0)","v":0},{"$f":"IF(D49<E49,1,0)","v":0},{"$f":"IF(F49<G49,1,0)","v":0},{"$f":"IF(H49<I49,1,0)","v":0},{"$f":"IF(J49<K49,1,0)","v":0},{"$f":"IF(L49<M49,1,0)","v":0},{"$f":"IF(N49<O49,1,0)","v":0},0,0,0,0,0,0,0,{"$f":"IF(AJ49<AK49,1,0)","v":0},{"$f":"IF(AL49<AM49,1,0)","v":0},{"$f":"IF(AN49<AO49,1,0)","v":0},{"$f":"IF(AP49<AQ49,1,0)","v":0},0]
["PACIENTES EN DIÁLISIS",0,0,null,null,null,null,null,null,null,null,null,null,null,null,null,null,null,null,null,null,null,null,null,null,null,null,null,null,null,null,null,null,null,null,null,null,null,null,null,null,null,null,null,null,null,null,null,null,null,null,null,null,null,null,null,null,null,null,null,null,null,null,null,null,null,null,null,null,null,null,null,null,null,null,null,null,"","","","","","",0,0,0,0,0,0,null,null,null,null,null,null,null,null,null,null,null,null,null,null,{"$f":"IF(D50<E50,\"* Los Procesados deben ser mayor o igual a los Reactivos en los Menor de 6 meses. \",\"\")","v":""},{"$f":"IF(D50<E50,\"* Los Procesados deben ser mayor o igual a los Reactivos en los Menor de 6 meses. \",\"\")","v":""},{"$f":"IF(F50<G50,\"* Los Procesados deben ser mayor o igual a los Reactivos en los 6 a 11 meses. \",\"\")","v":""},{"$f":"IF(H50<I50,\"* Los Procesados deben ser mayor o igual a los Reactivos en los 12-24 meses. \",\"\")","v":""},{"$f":"IF(J50<K50,\"* Los Procesados deben ser mayor o igual a los Reactivos en los 3 a 4. \",\"\")","v":""},{"$f":"IF(L50<M50,\"* Los Procesados deben ser mayor o igual a los Reactivos en los 5 a 9. \",\"\")","v":""},{"$f":"IF(N50<O50,\"* Los Procesados deben ser mayor o igual a los Reactivos en los 10 - 14. \",\"\")","v":""},"","","","","","","",{"$f":"IF(AJ50<AK50,\"* Los Procesados deben ser mayor o igual a los Reactivos en los 65 a 69. \",\"\")","v":""},{"$f":"IF(AL50<AM50,\"* Los Procesados deben ser mayor o igual a los Reactivos en los 70 a 74. \",\"\")","v":""},{"$f":"IF(AN50<AO50,\"* Los Procesados deben ser mayor o igual a los Reactivos en los 75 a 79. \",\"\")","v":""},{"$f":"IF(AP50<AQ50,\"* Los Procesados deben ser mayor o igual a los Reactivos en los 80 y más. \",\"\")","v":""},null,null,null,null,null,null,null,null,{"$f":"IF(D50<E50,1,0)","v":0},{"$f":"IF(D50<E50,1,0)","v":0},{"$f":"IF(F50<G50,1,0)","v":0},{"$f":"IF(H50<I50,1,0)","v":0},{"$f":"IF(J50<K50,1,0)","v":0},{"$f":"IF(L50<M50,1,0)","v":0},{"$f":"IF(N50<O50,1,0)","v":0},0,0,0,0,0,0,0,{"$f":"IF(AJ50<AK50,1,0)","v":0},{"$f":"IF(AL50<AM50,1,0)","v":0},{"$f":"IF(AN50<AO50,1,0)","v":0},{"$f":"IF(AP50<AQ50,1,0)","v":0},0]
["VÍCTIMA DE VIOLENCIA SEXUAL",0,0,null,null,null,null,null,null,null,null,null,null,null,null,null,null,null,null,null,null,null,null,null,null,null,null,null,null,null,null,null,null,null,null,null,null,null,null,null,null,null,null,null,null,null,null,null,null,null,null,null,null,null,null,null,null,null,null,null,null,null,null,null,null,null,null,null,null,null,null,null,null,null,null,null,null,"","","","","","",0,0,0,0,0,0,null,null,null,null,null,null,null,null,null,null,null,null,null,null,{"$f":"IF(D51<E51,\"* Los Procesados deben ser mayor o igual a los Reactivos en los Menor de 6 meses. \",\"\")","v":""},{"$f":"IF(D51<E51,\"* Los Procesados deben ser mayor o igual a los Reactivos en los Menor de 6 meses. \",\"\")","v":""},{"$f":"IF(F51<G51,\"* Los Procesados deben ser mayor o igual a los Reactivos en los 6 a 11 meses. \",\"\")","v":""},{"$f":"IF(H51<I51,\"* Los Procesados deben ser mayor o igual a los Reactivos en los 12-24 meses. \",\"\")","v":""},{"$f":"IF(J51<K51,\"* Los Procesados deben ser mayor o igual a los Reactivos en los 3 a 4. \",\"\")","v":""},{"$f":"IF(L51<M51,\"* Los Procesados deben ser mayor o igual a los Reactivos en los 5 a 9. \",\"\")","v":""},{"$f":"IF(N51<O51,\"* Los Procesados deben ser mayor o igual a los Reactivos en los 10 - 14. \",\"\")","v":""},"","","","","","","",{"$f":"IF(AJ51<AK51,\"* Los Procesados deben ser mayor o igual a los Reactivos en los 65 a 69. \",\"\")","v":""},{"$f":"IF(AL51<AM51,\"* Los Procesados deben ser mayor o igual a los Reactivos en los 70 a 74. \",\"\")","v":""},{"$f":"IF(AN51<AO51,\"* Los Procesados deben ser mayor o igual a los Reactivos en los 75 a 79. \",\"\")","v":""},{"$f":"IF(AP51<AQ51,\"* Los Procesados deben ser mayor o igual a los Reactivos en los 80 y más. \",\"\")","v":""},null,null,null,null,null,null,null,null,{"$f":"IF(D51<E51,1,0)","v":0},{"$f":"IF(D51<E51,1,0)","v":0},{"$f":"IF(F51<G51,1,0)","v":0},{"$f":"IF(H51<I51,1,0)","v":0},{"$f":"IF(J51<K51,1,0)","v":0},{"$f":"IF(L51<M51,1,0)","v":0},{"$f":"IF(N51<O51,1,0)","v":0},0,0,0,0,0,0,0,{"$f":"IF(AJ51<AK51,1,0)","v":0},{"$f":"IF(AL51<AM51,1,0)","v":0},{"$f":"IF(AN51<AO51,1,0)","v":0},{"$f":"IF(AP51<AQ51,1,0)","v":0},0]
["SECCIÓN A.3: EXAMEN RPR POR GRUPO DE USUARIOS (Uso exclusivo de establecimientos con Laboratorio que procesan)"]
["GRUPO DE PESQUISA","TOTAL",null,"POR EDAD (en meses - años)",null,null,null,null,null,null,null,null,null,null,null,null,null,null,null,null,null,null,null,null,null,null,null,null,null,null,null,null,null,null,null,null,null,null,null,null,null,null,null,"POR SEXO\n(Procesados)",null,"TRANS",null,"Pueblos Originarios","Migrantes"]
[null,null,null,"Menor de 6 meses",null,"6 a 11 meses",null,"12-24 meses",null,"3 a 4",null,"5 a 9",null,"10 - 14",null,"15 - 19",null,"20 - 24",null,"25 a 29",null,"30 a 34",null,"35 a 39",null,"40 a 44",null,"45 a 49",null,"50 a 54",null,"55 a 59",null,"60 a 64",null,"65 a 69",null,"70 a 74",null,"75 a 79",null,"80 y más",null,"Hombres","Mujeres"]
[null,"Procesados","Reactivos","Procesados","Reactivos","Procesados","Reactivos","Procesados","Reactivos","Procesados","Reactivos","Procesados","Reactivos","Procesados","Reactivos","Procesados","Reactivos","Procesados","Reactivos","Procesados","Reactivos","Procesados","Reactivos","Procesados","Reactivos","Procesados","Reactivos","Procesados","Reactivos","Procesados","Reactivos","Procesados","Reactivos","Procesados","Reactivos","Procesados","Reactivos","Procesados","Reactivos","Procesados","Reactivos","Procesados","Reactivos",null,null,"Masculino","Femenino"]
["GESTANTES PRIMER TRIMESTRE EMBARAZO",{"$f":"+N56+P56+R56+T56+V56+X56+Z56+AB56+AD56+AF56+AH56+AJ56+AL56+AN56+AP56","v":0},{"$f":"+O56+Q56+S56+U56+W56+Y56+AA56+AC56+AE56+AG56+AI56+AK56+AM56+AO56+AQ56","v":0},null,null,null,null,null,null,null,null,null,null,null,null,null,null,null,null,null,null,null,null,null,null,null,null,null,null,null,null,null,null,null,null,null,null,null,null,null,null,null,null,null,null,null,null,null,null,null,null,null,null,null,null,null,null,null,null,null,null,null,null,null,null,null,null,null,null,null,null,null,null,null,null,null,null,{"$f":"IF(B56<   C56,\"* El total de Reactivos NO DEBE ser superior al total de Procesados. \",\"\")","v":""},{"$f":"IF(B56<   C56,\"* El total de Reactivos NO DEBE ser superior al total de Procesados. \",\"\")","v":""},{"$f":"IF(B56<> AR56+ AS56,\"* La suma de las columnas Sexo DEBE SER IGUAL a los Procesados. \",\"\")","v":""},{"$f":"IF(B56<  AT56+ AU56,\"* La suma de las columna Trans NO DEBE ser superior al total de Procesados. \",\"\")","v":""},{"$f":"IF(B56<  AV56,\"* La columna Pueblos Originarios NO DEBE ser superior al total de Procesados. \",\"\")","v":""},{"$f":"IF(B56<  AW56,\"* La columna Migrantes NO DEBE ser superior al total de Procesados. \",\"\")","v":""},{"$f":"IF(B56<   C56,1,0)","v":0},{"$f":"IF(B56<   C56,1,0)","v":0},{"$f":"IF(B56<> AR56+AS56,1,0)","v":0},{"$f":"IF(B56<  AT56+AU56,1,0)","v":0},{"$f":"IF(B56<  AV56,1,0)","v":0},{"$f":"IF(B56<  AW56,1,0)","v":0},null,null,null,null,null,null,null,null,null,null,null,null,null,null,null,null,null,null,null,{"$f":"IF(N56<O56,\"* Los Procesados deben ser mayor o igual a los Reactivos en los 10 - 14. \",\"\")","v":""},{"$f":"IF(N56<O56,\"* Los Procesados deben ser mayor o igual a los Reactivos en los 10 - 14. \",\"\")","v":""},{"$f":"IF(P56<Q56,\"* Los Procesados deben ser mayor o igual a los Reactivos en los 15 - 19. \",\"\")","v":""},{"$f":"IF(R56<S56,\"* Los Procesados deben ser mayor o igual a los Reactivos en los 20 - 24. \",\"\")","v":""},{"$f":"IF(T56<U56,\"* Los Procesados deben ser mayor o igual a los Reactivos en los 25 a 29. \",\"\")","v":""},{"$f":"IF(V56<W56,\"* Los Procesados deben ser mayor o igual a los Reactivos en los 30 a 34. \",\"\")","v":""},{"$f":"IF(X56<Y56,\"* Los Procesados deben ser mayor o igual a los Reactivos en los 35 a 39. \",\"\")","v":""},{"$f":"IF(AF56<AG56,\"* Los Procesados deben ser mayor o igual a los Reactivos en los 55 a 59. \",\"\")","v":""},{"$f":"IF(AH56<AI56,\"* Los Procesados deben ser mayor o igual a los Reactivos en los 60 a 64. \",\"\")","v":""},{"$f":"IF(AJ56<AK56,\"* Los Procesados deben ser mayor o igual a los Reactivos en los 65 a 69. \",\"\")","v":""},{"$f":"IF(AL56<AM56,\"* Los Procesados deben ser mayor o igual a los Reactivos en los 70 a 74. \",\"\")","v":""},{"$f":"IF(AN56<AO56,\"* Los Procesados deben ser mayor o igual a los Reactivos en los 75 a 79. \",\"\")","v":""},{"$f":"IF(AP56<AQ56,\"* Los Procesados deben ser mayor o igual a los Reactivos en los 80 y más. \",\"\")","v":""},null,null,null,null,null,null,null,null,null,null,null,null,null,{"$f":"IF(N56<O56,1,0)","v":0},{"$f":"IF(N56<O56,1,0)","v":0},{"$f":"IF(P56<Q56,1,0)","v":0},{"$f":"IF(R56<S56,1,0)","v":0},{"$f":"IF(T56<U56,1,0)","v":0},{"$f":"IF(V56<W56,1,0)","v":0},{"$f":"IF(X56<Y56,1,0)","v":0},{"$f":"IF(AF56<AG56,1,0)","v":0},{"$f":"IF(AH56<AI56,1,0)","v":0},{"$f":"IF(AJ56<AK56,1,0)","v":0},{"$f":"IF(AL56<AM56,1,0)","v":0},{"$f":"IF(AN56<AO56,1,0)","v":0},{"$f":"IF(AP56<AQ56,1,0)","v":0},0]
["GESTANTES SEGUNDO TRIMESTRE EMBARAZO",0,0,null,null,null,null,null,null,null,null,null,null,null,null,null,null,null,null,null,null,null,null,null,null,null,null,null,null,null,null,null,null,null,null,null,null,null,null,null,null,null,null,null,null,null,null,null,null,null,null,null,null,null,null,null,null,null,null,null,null,null,null,null,null,null,null,null,null,null,null,null,null,null,null,null,null,"","","","","","",0,0,0,0,0,0,null,null,null,null,null,null,null,null,null,null,null,null,null,null,null,null,null,null,null,"","","","","","","","","","","","","",null,null,null,null,null,null,null,null,null,null,null,null,null,0,0,0,0,0,0,0,0,0,0,0,0,0,0]
["GESTANTES TERCER TRIMESTRE EMBARAZO",0,0,null,null,null,null,null,null,null,null,null,null,null,null,null,null,null,null,null,null,null,null,null,null,null,null,null,null,null,null,null,null,null,null,null,null,null,null,null,null,null,null,null,null,null,null,null,null,null,null,null,null,null,null,null,null,null,null,null,null,null,null,null,null,null,null,null,null,null,null,null,null,null,null,null,null,"","","","","","",0,0,0,0,0,0,null,null,null,null,null,null,null,null,null,null,null,null,null,null,null,null,null,null,null,"","","","","","","","","","","","","",null,null,null,null,null,null,null,null,null,null,null,null,null,0,0,0,0,0,0,0,0,0,0,0,0,0,0]
["GESTANTES TRIMESTRE EMBARAZO IGNORADO",0,0,null,null,null,null,null,null,null,null,null,null,null,null,null,null,null,null,null,null,null,null,null,null,null,null,null,null,null,null,null,null,null,null,null,null,null,null,null,null,null,null,null,null,null,null,null,null,null,null,null,null,null,null,null,null,null,null,null,null,null,null,null,null,null,null,null,null,null,null,null,null,null,null,null,null,"","","","","","",0,0,0,0,0,0,null,null,null,null,null,null,null,null,null,null,null,null,null,null,null,null,null,null,null,"","","","","","","","","","","","","",null,null,null,null,null,null,null,null,null,null,null,null,null,0,0,0,0,0,0,0,0,0,0,0,0,0,0]
["GESTANTES EN SEGUIMIENTO POR DIAGNÓSTICO SÍFILIS",0,0,null,null,null,null,null,null,null,null,null,null,null,null,null,null,null,null,null,null,null,null,null,null,null,null,null,null,null,null,null,null,null,null,null,null,null,null,null,null,null,null,null,null,null,null,null,null,null,null,null,null,null,null,null,null,null,null,null,null,null,null,null,null,null,null,null,null,null,null,null,null,null,null,null,null,"","","","","","",0,0,0,0,0,0,null,null,null,null,null,null,null,null,null,null,null,null,null,null,null,null,null,null,null,"","","","","","","","","","","","","",null,null,null,null,null,null,null,null,null,null,null,null,null,0,0,0,0,0,0,0,0,0,0,0,0,0,0]
["PAREJA DE GESTANTE CON SEROLOGÍA REACTIVA",0,0,null,null,null,null,null,null,null,null,null,null,null,null,null,null,null,null,null,null,null,null,null,null,null,null,null,null,null,null,null,null,null,null,null,null,null,null,null,null,null,null,null,null,null,null,null,null,null,null,null,null,null,null,null,null,null,null,null,null,null,null,null,null,null,null,null,null,null,null,null,null,null,null,null,null,"","","","","","",0,0,0,0,0,0,null,null,null,null,null,null,null,null,null,null,null,null,null,null,null,null,null,null,null,"","","","","","","","","","","","","",null,null,null,null,null,null,null,null,null,null,null,null,null,0,0,0,0,0,0,0,0,0,0,0,0,0,0]
["MUJERES QUE INGRESAN A MATERNIDAD POR PARTO",0,0,null,null,null,null,null,null,null,null,null,null,null,null,null,null,null,null,null,null,null,null,null,null,null,null,null,null,null,null,null,null,null,null,null,null,null,null,null,null,null,null,null,null,null,null,null,null,null,null,null,null,null,null,null,null,null,null,null,null,null,null,null,null,null,null,null,null,null,null,null,null,null,null,null,null,"","","","","","",0,0,0,0,0,0,null,null,null,null,null,null,null,null,null,null,null,null,null,null,null,null,null,null,null,"","","","","","","","","","","","","",null,null,null,null,null,null,null,null,null,null,null,null,null,0,0,0,0,0,0,0,0,0,0,0,0,0,0]
["MUJERES QUE INGRESAN POR ABORTO",0,0,null,null,null,null,null,null,null,null,null,null,null,null,null,null,null,null,null,null,null,null,null,null,null,null,null,null,null,null,null,null,null,null,null,null,null,null,null,null,null,null,null,null,null,null,null,null,null,null,null,null,null,null,null,null,null,null,null,null,null,null,null,null,null,null,null,null,null,null,null,null,null,null,null,null,"","","","","","",0,0,0,0,0,0,null,null,null,null,null,null,null,null,null,null,null,null,null,null,null,null,null,null,null,"","","","","","","","","","","","","",null,null,null,null,null,null,null,null,null,null,null,null,null,0,0,0,0,0,0,0,0,0,0,0,0,0,0]
["MUJERES EN CONTROL GINECOLÓGICO",{"$f":"+D64+F64+H64+J64+L64+N64+P64+R64+T64+V64+X64+Z64+AB64+AD64+AF64+AH64+AJ64+AL64+AN64+AP64","v":0},{"$f":"+E64+G64+I64+K64+M64+O64+Q64+S64+U64+W64+Y64+AA64+AC64+AE64+AG64+AI64+AK64+AM64+AO64+AQ64","v":0},null,null,null,null,null,null,null,null,null,null,null,null,null,null,null,null,null,null,null,null,null,null,null,null,null,null,null,null,null,null,null,null,null,null,null,null,null,null,null,null,null,null,null,null,null,null,null,null,null,null,null,null,null,null,null,null,null,null,null,null,null,null,null,null,null,null,null,null,null,null,null,null,null,null,"","","","","","",0,0,0,0,0,0,null,null,null,null,null,null,null,null,null,null,null,null,null,null,{"$f":"IF(D64<E64,\"* Los Procesados deben ser mayor o igual a los Reactivos en los Menor de 6 meses. \",\"\")","v":""},{"$f":"IF(D64<E64,\"* Los Procesados deben ser mayor o igual a los Reactivos en los Menor de 6 meses. \",\"\")","v":""},{"$f":"IF(F64<G64,\"* Los Procesados deben ser mayor o igual a los Reactivos en los 6 a 11 meses. \",\"\")","v":""},{"$f":"IF(H64<I64,\"* Los Procesados deben ser mayor o igual a los Reactivos en los 12-24 meses. \",\"\")","v":""},{"$f":"IF(J64<K64,\"* Los Procesados deben ser mayor o igual a los Reactivos en los 3 a 4. \",\"\")","v":""},{"$f":"IF(L64<M64,\"* Los Procesados deben ser mayor o igual a los Reactivos en los 5 a 9. \",\"\")","v":""},"","","","","","","","","","","","",null,null,null,null,null,null,null,null,{"$f":"IF(D64<E64,1,0)","v":0},{"$f":"IF(D64<E64,1,0)","v":0},{"$f":"IF(F64<G64,1,0)","v":0},{"$f":"IF(H64<I64,1,0)","v":0},{"$f":"IF(J64<K64,1,0)","v":0},{"$f":"IF(L64<M64,1,0)","v":0},0,0,0,0,0,0,0,0,0,0,0,0,0]
["RECIÉN NACIDO Y LACTANTE PARA DETECCIÓN DE SÍFILIS CONGÉNITA",{"$f":"+D65+F65+H65","v":0},{"$f":"+E65+G65+I65","v":0},null,null,null,null,null,null,null,null,null,null,null,null,null,null,null,null,null,null,null,null,null,null,null,null,null,null,null,null,null,null,null,null,null,null,null,null,null,null,null,null,null,null,null,null,null,null,null,null,null,null,null,null,null,null,null,null,null,null,null,null,null,null,null,null,null,null,null,null,null,null,null,null,null,null,"","","","","","",0,0,0,0,0,0,null,null,null,null,null,null,null,null,null,null,null,null,null,null,{"$f":"IF(D65<E65,\"* Los Procesados deben ser mayor o igual a los Reactivos en los Menor de 6 meses. \",\"\")","v":""},{"$f":"IF(D65<E65,\"* Los Procesados deben ser mayor o igual a los Reactivos en los Menor de 6 meses. \",\"\")","v":""},{"$f":"IF(F65<G65,\"* Los Procesados deben ser mayor o igual a los Reactivos en los 6 a 11 meses. \",\"\")","v":""},{"$f":"IF(H65<I65,\"* Los Procesados deben ser mayor o igual a los Reactivos en los 12-24 meses. \",\"\")","v":""},null,null,null,null,null,null,null,null,null,null,null,null,null,null,null,null,null,null,null,null,null,null,{"$f":"IF(D65<E65,1,0)","v":0},{"$f":"IF(D65<E65,1,0)","v":0},{"$f":"IF(F65<G65,1,0)","v":0},{"$f":"IF(H65<I65,1,0)","v":0},null,null,null,null,null,null,null,null,null,null,null,null,null,0,0]
["PERSONAS EN CONTROL POR COMERCIO SEXUAL",{"$f":"+P66+R66+T66+V66+X66+Z66+AB66+AD66+AF66+AH66+AJ66+AL66+AN66+AP66","v":0},{"$f":"+Q66+S66+U66+W66+Y66+AA66+AC66+AE66+AG66+AI66+AK66+AM66+AO66+AQ66","v":0},null,null,null,null,null,null,null,null,null,null,null,null,null,null,null,null,null,null,null,null,null,null,null,null,null,null,null,null,null,null,null,null,null,null,null,null,null,null,null,null,null,null,null,null,null,null,null,null,null,null,null,null,null,null,null,null,null,null,null,null,null,null,null,null,null,null,null,null,null,null,null,null,null,null,"","","","","","",0,0,0,0,0,0,null,null,null,null,null,null,null,null,null,null,null,null,null,null,null,null,null,null,null,null,{"$f":"IF(P66<Q66,\"* Los Procesados deben ser mayor o igual a los Reactivos en los 15 - 19. \",\"\")","v":""},{"$f":"IF(P66<Q66,\"* Los Procesados deben ser mayor o igual a los Reactivos en los 15 - 19. \",\"\")","v":""},{"$f":"IF(R66<S66,\"* Los Procesados deben ser mayor o igual a los Reactivos en los 20 - 24. \",\"\")","v":""},{"$f":"IF(T66<U66,\"* Los Procesados deben ser mayor o igual a los Reactivos en los 25 a 29. \",\"\")","v":""},{"$f":"IF(V66<W66,\"* Los Procesados deben ser mayor o igual a los Reactivos en los 30 a 34. \",\"\")","v":""},{"$f":"IF(X66<Y66,\"* Los Procesados deben ser mayor o igual a los Reactivos en los 35 a 39. \",\"\")","v":""},{"$f":"IF(AF66<AG66,\"* Los Procesados deben ser mayor o igual a los Reactivos en los 55 a 59. \",\"\")","v":""},{"$f":"IF(AH66<AI66,\"* Los Procesados deben ser mayor o igual a los Reactivos en los 60 a 64. \",\"\")","v":""},{"$f":"IF(AJ66<AK66,\"* Los Procesados deben ser mayor o igual a los Reactivos en los 65 a 69. \",\"\")","v":""},{"$f":"IF(AL66<AM66,\"* Los Procesados deben ser mayor o igual a los Reactivos en los 70 a 74. \",\"\")","v":""},{"$f":"IF(AN66<AO66,\"* Los Procesados deben ser mayor o igual a los Reactivos en los 75 a 79. \",\"\")","v":""},{"$f":"IF(AP66<AQ66,\"* Los Procesados deben ser mayor o igual a los Reactivos en los 80 y más. \",\"\")","v":""},null,null,null,null,null,null,null,null,null,null,null,null,null,null,{"$f":"IF(P66<Q66,1,0)","v":0},{"$f":"IF(P66<Q66,1,0)","v":0},{"$f":"IF(R66<S66,1,0)","v":0},{"$f":"IF(T66<U66,1,0)","v":0},{"$f":"IF(V66<W66,1,0)","v":0},{"$f":"IF(X66<Y66,1,0)","v":0},{"$f":"IF(AF66<AG66,1,0)","v":0},{"$f":"IF(AH66<AI66,1,0)","v":0},{"$f":"IF(AJ66<AK66,1,0)","v":0},{"$f":"IF(AL66<AM66,1,0)","v":0},{"$f":"IF(AN66<AO66,1,0)","v":0},{"$f":"IF(AP66<AQ66,1,0)","v":0},0]
["PERSONAS EN CONTROL FECUNDIDAD",{"$f":"+N67+P67+R67+T67+V67+X67+Z67+AB67+AD67+AF67+AH67+AJ67+AL67+AN67+AP67","v":0},{"$f":"+O67+Q67+S67+U67+W67+Y67+AA67+AC67+AE67+AG67+AI67+AK67+AM67+AO67+AQ67","v":0},null,null,null,null,null,null,null,null,null,null,null,null,null,null,null,null,null,null,null,null,null,null,null,null,null,null,null,null,null,null,null,null,null,null,null,null,null,null,null,null,null,null,null,null,null,null,null,null,null,null,null,null,null,null,null,null,null,null,null,null,null,null,null,null,null,null,null,null,null,null,null,null,null,null,"","","","","","",0,0,0,0,0,0,null,null,null,null,null,null,null,null,null,null,null,null,null,null,null,null,null,null,null,{"$f":"IF(N67<O67,\"* Los Procesados deben ser mayor o igual a los Reactivos en los 10 - 14. \",\"\")","v":""},{"$f":"IF(N67<O67,\"* Los Procesados deben ser mayor o igual a los Reactivos en los 10 - 14. \",\"\")","v":""},"","","","","","","",{"$f":"IF(AJ67<AK67,\"* Los Procesados deben ser mayor o igual a los Reactivos en los 65 a 69. \",\"\")","v":""},{"$f":"IF(AL67<AM67,\"* Los Procesados deben ser mayor o igual a los Reactivos en los 70 a 74. \",\"\")","v":""},{"$f":"IF(AN67<AO67,\"* Los Procesados deben ser mayor o igual a los Reactivos en los 75 a 79. \",\"\")","v":""},{"$f":"IF(AP67<AQ67,\"* Los Procesados deben ser mayor o igual a los Reactivos en los 80 y más. \",\"\")","v":""},null,null,null,null,null,null,null,null,null,null,null,null,null,{"$f":"IF(N67<O67,1,0)","v":0},{"$f":"IF(N67<O67,1,0)","v":0},0,0,0,0,0,0,0,{"$f":"IF(AJ67<AK67,1,0)","v":0},{"$f":"IF(AL67<AM67,1,0)","v":0},{"$f":"IF(AN67<AO67,1,0)","v":0},{"$f":"IF(AP67<AQ67,1,0)","v":0},0]
["CONSULTANTES POR ITS",{"$f":"+D68+F68+H68+J68+L68+N68+P68+R68+T68+V68+X68+Z68+AB68+AD68+AF68+AH68+AJ68+AL68+AN68+AP68","v":0},{"$f":"+E68+G68+I68+K68+M68+O68+Q68+S68+U68+W68+Y68+AA68+AC68+AE68+AG68+AI68+AK68+AM68+AO68+AQ68","v":0},null,null,null,null,null,null,null,null,null,null,null,null,null,null,null,null,null,null,null,null,null,null,null,null,null,null,null,null,null,null,null,null,null,null,null,null,null,null,null,null,null,null,null,null,null,null,null,null,null,null,null,null,null,null,null,null,null,null,null,null,null,null,null,null,null,null,null,null,null,null,null,null,null,null,"","","","","","",0,0,0,0,0,0,null,null,null,null,null,null,null,null,null,null,null,null,null,null,{"$f":"IF(D68<E68,\"* Los Procesados deben ser mayor o igual a los Reactivos en los Menor de 6 meses. \",\"\")","v":""},{"$f":"IF(D68<E68,\"* Los Procesados deben ser mayor o igual a los Reactivos en los Menor de 6 meses. \",\"\")","v":""},{"$f":"IF(F68<G68,\"* Los Procesados deben ser mayor o igual a los Reactivos en los 6 a 11 meses. \",\"\")","v":""},{"$f":"IF(H68<I68,\"* Los Procesados deben ser mayor o igual a los Reactivos en los 12-24 meses. \",\"\")","v":""},{"$f":"IF(J68<K68,\"* Los Procesados deben ser mayor o igual a los Reactivos en los 3 a 4. \",\"\")","v":""},{"$f":"IF(L68<M68,\"* Los Procesados deben ser mayor o igual a los Reactivos en los 5 a 9. \",\"\")","v":""},{"$f":"IF(N68<O68,\"* Los Procesados deben ser mayor o igual a los Reactivos en los 10 - 14. \",\"\")","v":""},"","","","","","","",{"$f":"IF(AJ68<AK68,\"* Los Procesados deben ser mayor o igual a los Reactivos en los 65 a 69. \",\"\")","v":""},{"$f":"IF(AL68<AM68,\"* Los Procesados deben ser mayor o igual a los Reactivos en los 70 a 74. \",\"\")","v":""},{"$f":"IF(AN68<AO68,\"* Los Procesados deben ser mayor o igual a los Reactivos en los 75 a 79. \",\"\")","v":""},{"$f":"IF(AP68<AQ68,\"* Los Procesados deben ser mayor o igual a los Reactivos en los 80 y más. \",\"\")","v":""},null,null,null,null,null,null,null,null,{"$f":"IF(D68<E68,1,0)","v":0},{"$f":"IF(D68<E68,1,0)","v":0},{"$f":"IF(F68<G68,1,0)","v":0},{"$f":"IF(H68<I68,1,0)","v":0},{"$f":"IF(J68<K68,1,0)","v":0},{"$f":"IF(L68<M68,1,0)","v":0},{"$f":"IF(N68<O68,1,0)","v":0},0,0,0,0,0,0,0,{"$f":"IF(AJ68<AK68,1,0)","v":0},{"$f":"IF(AL68<AM68,1,0)","v":0},{"$f":"IF(AN68<AO68,1,0)","v":0},{"$f":"IF(AP68<AQ68,1,0)","v":0},0]
["PERSONAS CON EMP",{"$f":"+P69+R69+T69+V69+X69+Z69+AB69+AD69+AF69+AH69+AJ69+AL69+AN69+AP69","v":0},{"$f":"+Q69+S69+U69+W69+Y69+AA69+AC69+AE69+AG69+AI69+AK69+AM69+AO69+AQ69","v":0},null,null,null,null,null,null,null,null,null,null,null,null,null,null,null,null,null,null,null,null,null,null,null,null,null,null,null,null,null,null,null,null,null,null,null,null,null,null,null,null,null,null,null,null,null,null,null,null,null,null,null,null,null,null,null,null,null,null,null,null,null,null,null,null,null,null,null,null,null,null,null,null,null,null,"","","","","","",0,0,0,0,0,0,null,null,null,null,null,null,null,null,null,null,null,null,null,null,null,null,null,null,null,null,"","","","","","","","",{"$f":"IF(AJ69<AK69,\"* Los Procesados deben ser mayor o igual a los Reactivos en los 65 a 69. \",\"\")","v":""},{"$f":"IF(AL69<AM69,\"* Los Procesados deben ser mayor o igual a los Reactivos en los 70 a 74. \",\"\")","v":""},{"$f":"IF(AN69<AO69,\"* Los Procesados deben ser mayor o igual a los Reactivos en los 75 a 79. \",\"\")","v":""},{"$f":"IF(AP69<AQ69,\"* Los Procesados deben ser mayor o igual a los Reactivos en los 80 y más. \",\"\")","v":""},null,null,null,null,null,null,null,null,null,null,null,null,null,null,0,0,0,0,0,0,0,0,{"$f":"IF(AJ69<AK69,1,0)","v":0},{"$f":"IF(AL69<AM69,1,0)","v":0},{"$f":"IF(AN69<AO69,1,0)","v":0},{"$f":"IF(AP69<AQ69,1,0)","v":0},0]
["DONANTES DE SANGRE",{"$f":"+P70+R70+T70+V70+X70+Z70+AB70+AD70+AF70+AH70","v":0},{"$f":"+Q70+S70+U70+W70+Y70+AA70+AC70+AE70+AG70+AI70","v":0},null,null,null,null,null,null,null,null,null,null,null,null,null,null,null,null,null,null,null,null,null,null,null,null,null,null,null,null,null,null,null,null,null,null,null,null,null,null,null,null,null,null,null,null,null,null,null,null,null,null,null,null,null,null,null,null,null,null,null,null,null,null,null,null,null,null,null,null,null,null,null,null,null,null,"","","","","","",0,0,0,0,0,0,null,null,null,null,null,null,null,null,null,null,null,null,null,null,null,null,null,null,null,null,"","","","","","","","",{"$f":"IF(AD70<AE70,\"* Los Procesados deben ser mayor o igual a los Reactivos en los 50 a 54. \",\"\")","v":""},null,null,null,null,null,null,null,null,null,null,null,null,null,null,null,null,null,0,0,0,0,0,0,0,0,{"$f":"IF(AD70<AE70,1,0)","v":0},null,null,0,0]
["DONANTES DE ÓRGANOS Y/O TEJIDOS",{"$f":"+D71+F71+H71+J71+L71+N71+P71+R71+T71+V71+X71+Z71+AB71+AD71+AF71+AH71+AJ71+AL71+AN71+AP71","v":0},{"$f":"+E71+G71+I71+K71+M71+O71+Q71+S71+U71+W71+Y71+AA71+AC71+AE71+AG71+AI71+AK71+AM71+AO71+AQ71","v":0},null,null,null,null,null,null,null,null,null,null,null,null,null,null,null,null,null,null,null,null,null,null,null,null,null,null,null,null,null,null,null,null,null,null,null,null,null,null,null,null,null,null,null,null,null,null,null,null,null,null,null,null,null,null,null,null,null,null,null,null,null,null,null,null,null,null,null,null,null,null,null,null,null,null,"","","","","","",0,0,0,0,0,0,null,null,null,null,null,null,null,null,null,null,null,null,null,null,{"$f":"IF(D71<E71,\"* Los Procesados deben ser mayor o igual a los Reactivos en los Menor de 6 meses. \",\"\")","v":""},{"$f":"IF(D71<E71,\"* Los Procesados deben ser mayor o igual a los Reactivos en los Menor de 6 meses. \",\"\")","v":""},{"$f":"IF(F71<G71,\"* Los Procesados deben ser mayor o igual a los Reactivos en los 6 a 11 meses. \",\"\")","v":""},{"$f":"IF(H71<I71,\"* Los Procesados deben ser mayor o igual a los Reactivos en los 12-24 meses. \",\"\")","v":""},{"$f":"IF(J71<K71,\"* Los Procesados deben ser mayor o igual a los Reactivos en los 3 a 4. \",\"\")","v":""},{"$f":"IF(L71<M71,\"* Los Procesados deben ser mayor o igual a los Reactivos en los 5 a 9. \",\"\")","v":""},{"$f":"IF(N71<O71,\"* Los Procesados deben ser mayor o igual a los Reactivos en los 10 - 14. \",\"\")","v":""},"","","","","","","",{"$f":"IF(AJ71<AK71,\"* Los Procesados deben ser mayor o igual a los Reactivos en los 65 a 69. \",\"\")","v":""},{"$f":"IF(AL71<AM71,\"* Los Procesados deben ser mayor o igual a los Reactivos en los 70 a 74. \",\"\")","v":""},{"$f":"IF(AN71<AO71,\"* Los Procesados deben ser mayor o igual a los Reactivos en los 75 a 79. \",\"\")","v":""},{"$f":"IF(AP71<AQ71,\"* Los Procesados deben ser mayor o igual a los Reactivos en los 80 y más. \",\"\")","v":""},null,null,null,null,null,null,null,null,{"$f":"IF(D71<E71,1,0)","v":0},{"$f":"IF(D71<E71,1,0)","v":0},{"$f":"IF(F71<G71,1,0)","v":0},{"$f":"IF(H71<I71,1,0)","v":0},{"$f":"IF(J71<K71,1,0)","v":0},{"$f":"IF(L71<M71,1,0)","v":0},{"$f":"IF(N71<O71,1,0)","v":0},0,0,0,0,0,0,0,{"$f":"IF(AJ71<AK71,1,0)","v":0},{"$f":"IF(AL71<AM71,1,0)","v":0},{"$f":"IF(AN71<AO71,1,0)","v":0},{"$f":"IF(AP71<AQ71,1,0)","v":0},0]
["PACIENTES EN DIÁLISIS",0,0,null,null,null,null,null,null,null,null,null,null,null,null,null,null,null,null,null,null,null,null,null,null,null,null,null,null,null,null,null,null,null,null,null,null,null,null,null,null,null,null,null,null,null,null,null,null,null,null,null,null,null,null,null,null,null,null,null,null,null,null,null,null,null,null,null,null,null,null,null,null,null,null,null,null,"","","","","","",0,0,0,0,0,0,null,null,null,null,null,null,null,null,null,null,null,null,null,null,{"$f":"IF(D72<E72,\"* Los Procesados deben ser mayor o igual a los Reactivos en los Menor de 6 meses. \",\"\")","v":""},{"$f":"IF(D72<E72,\"* Los Procesados deben ser mayor o igual a los Reactivos en los Menor de 6 meses. \",\"\")","v":""},{"$f":"IF(F72<G72,\"* Los Procesados deben ser mayor o igual a los Reactivos en los 6 a 11 meses. \",\"\")","v":""},{"$f":"IF(H72<I72,\"* Los Procesados deben ser mayor o igual a los Reactivos en los 12-24 meses. \",\"\")","v":""},{"$f":"IF(J72<K72,\"* Los Procesados deben ser mayor o igual a los Reactivos en los 3 a 4. \",\"\")","v":""},{"$f":"IF(L72<M72,\"* Los Procesados deben ser mayor o igual a los Reactivos en los 5 a 9. \",\"\")","v":""},{"$f":"IF(N72<O72,\"* Los Procesados deben ser mayor o igual a los Reactivos en los 10 - 14. \",\"\")","v":""},"","","","","","","",{"$f":"IF(AJ72<AK72,\"* Los Procesados deben ser mayor o igual a los Reactivos en los 65 a 69. \",\"\")","v":""},{"$f":"IF(AL72<AM72,\"* Los Procesados deben ser mayor o igual a los Reactivos en los 70 a 74. \",\"\")","v":""},{"$f":"IF(AN72<AO72,\"* Los Procesados deben ser mayor o igual a los Reactivos en los 75 a 79. \",\"\")","v":""},{"$f":"IF(AP72<AQ72,\"* Los Procesados deben ser mayor o igual a los Reactivos en los 80 y más. \",\"\")","v":""},null,null,null,null,null,null,null,null,{"$f":"IF(D72<E72,1,0)","v":0},{"$f":"IF(D72<E72,1,0)","v":0},{"$f":"IF(F72<G72,1,0)","v":0},{"$f":"IF(H72<I72,1,0)","v":0},{"$f":"IF(J72<K72,1,0)","v":0},{"$f":"IF(L72<M72,1,0)","v":0},{"$f":"IF(N72<O72,1,0)","v":0},0,0,0,0,0,0,0,{"$f":"IF(AJ72<AK72,1,0)","v":0},{"$f":"IF(AL72<AM72,1,0)","v":0},{"$f":"IF(AN72<AO72,1,0)","v":0},{"$f":"IF(AP72<AQ72,1,0)","v":0},0]
["VÍCTIMA DE VIOLENCIA SEXUAL",0,0,null,null,null,null,null,null,null,null,null,null,null,null,null,null,null,null,null,null,null,null,null,null,null,null,null,null,null,null,null,null,null,null,null,null,null,null,null,null,null,null,null,null,null,null,null,null,null,null,null,null,null,null,null,null,null,null,null,null,null,null,null,null,null,null,null,null,null,null,null,null,null,null,null,null,"","","","","","",0,0,0,0,0,0,null,null,null,null,null,null,null,null,null,null,null,null,null,null,{"$f":"IF(D73<E73,\"* Los Procesados deben ser mayor o igual a los Reactivos en los Menor de 6 meses. \",\"\")","v":""},{"$f":"IF(D73<E73,\"* Los Procesados deben ser mayor o igual a los Reactivos en los Menor de 6 meses. \",\"\")","v":""},{"$f":"IF(F73<G73,\"* Los Procesados deben ser mayor o igual a los Reactivos en los 6 a 11 meses. \",\"\")","v":""},{"$f":"IF(H73<I73,\"* Los Procesados deben ser mayor o igual a los Reactivos en los 12-24 meses. \",\"\")","v":""},{"$f":"IF(J73<K73,\"* Los Procesados deben ser mayor o igual a los Reactivos en los 3 a 4. \",\"\")","v":""},{"$f":"IF(L73<M73,\"* Los Procesados deben ser mayor o igual a los Reactivos en los 5 a 9. \",\"\")","v":""},{"$f":"IF(N73<O73,\"* Los Procesados deben ser mayor o igual a los Reactivos en los 10 - 14. \",\"\")","v":""},"","","","","","","",{"$f":"IF(AJ73<AK73,\"* Los Procesados deben ser mayor o igual a los Reactivos en los 65 a 69. \",\"\")","v":""},{"$f":"IF(AL73<AM73,\"* Los Procesados deben ser mayor o igual a los Reactivos en los 70 a 74. \",\"\")","v":""},{"$f":"IF(AN73<AO73,\"* Los Procesados deben ser mayor o igual a los Reactivos en los 75 a 79. \",\"\")","v":""},{"$f":"IF(AP73<AQ73,\"* Los Procesados deben ser mayor o igual a los Reactivos en los 80 y más. \",\"\")","v":""},null,null,null,null,null,null,null,null,{"$f":"IF(D73<E73,1,0)","v":0},{"$f":"IF(D73<E73,1,0)","v":0},{"$f":"IF(F73<G73,1,0)","v":0},{"$f":"IF(H73<I73,1,0)","v":0},{"$f":"IF(J73<K73,1,0)","v":0},{"$f":"IF(L73<M73,1,0)","v":0},{"$f":"IF(N73<O73,1,0)","v":0},0,0,0,0,0,0,0,{"$f":"IF(AJ73<AK73,1,0)","v":0},{"$f":"IF(AL73<AM73,1,0)","v":0},{"$f":"IF(AN73<AO73,1,0)","v":0},{"$f":"IF(AP73<AQ73,1,0)","v":0},0]
["SECCIÓN A.4: EXAMEN RPR POR GRUPO DE USUARIOS (Uso exclusivo de establecimientos que Compran Servicio)",null,null,null,null,null,null,null,null,null,null,null,null,null,null,null,null,null,null,null,null,null,null,null,null,null,null,null,null,null,null,null,null,null,null,null,null,null,null,null,null,null,null,"                   "]
["GRUPO DE PESQUISA","TOTAL",null,"POR EDAD (en meses - años)",null,null,null,null,null,null,null,null,null,null,null,null,null,null,null,null,null,null,null,null,null,null,null,null,null,null,null,null,null,null,null,null,null,null,null,null,null,null,null,"POR SEXO\n(Procesados)",null,"TRANS",null,"Pueblos Originarios","Migrantes"]
[null,null,null,"Menor de 6 meses",null,"6 a 11 meses",null,"12-24 meses",null,"3 a 4",null,"5 a 9",null,"10 - 14",null,"15 - 19",null,"20 - 24",null,"25 a 29",null,"30 a 34",null,"35 a 39",null,"40 a 44",null,"45 a 49",null,"50 a 54",null,"55 a 59",null,"60 a 64",null,"65 a 69",null,"70 a 74",null,"75 a 79",null,"80 y más",null,"Hombres","Mujeres"]
[null,"Procesados","Reactivos","Procesados","Reactivos","Procesados","Reactivos","Procesados","Reactivos","Procesados","Reactivos","Procesados","Reactivos","Procesados","Reactivos","Procesados","Reactivos","Procesados","Reactivos","Procesados","Reactivos","Procesados","Reactivos","Procesados","Reactivos","Procesados","Reactivos","Procesados","Reactivos","Procesados","Reactivos","Procesados","Reactivos","Procesados","Reactivos","Procesados","Reactivos","Procesados","Reactivos","Procesados","Reactivos","Procesados","Reactivos",null,null,"Masculino","Femenino"]
["GESTANTES PRIMER TRIMESTRE EMBARAZO",{"$f":"+N78+P78+R78+T78+V78+X78+Z78+AB78+AD78+AF78+AH78+AJ78+AL78+AN78+AP78","v":0},{"$f":"+O78+Q78+S78+U78+W78+Y78+AA78+AC78+AE78+AG78+AI78+AK78+AM78+AO78+AQ78","v":0},null,null,null,null,null,null,null,null,null,null,null,null,null,null,null,null,null,null,null,null,null,null,null,null,null,null,null,null,null,null,null,null,null,null,null,null,null,null,null,null,null,null,null,null,null,null,null,null,null,null,null,null,null,null,null,null,null,null,null,null,null,null,null,null,null,null,null,null,null,null,null,null,null,null,{"$f":"IF(B78<   C78,\"* El total de Reactivos NO DEBE ser superior al total de Procesados. \",\"\")","v":""},{"$f":"IF(B78<   C78,\"* El total de Reactivos NO DEBE ser superior al total de Procesados. \",\"\")","v":""},{"$f":"IF(B78<> AR78+ AS78,\"* La suma de las columnas Sexo DEBE SER IGUAL a los Procesados. \",\"\")","v":""},{"$f":"IF(B78<  AT78+ AU78,\"* La suma de las columna Trans NO DEBE ser superior al total de Procesados. \",\"\")","v":""},{"$f":"IF(B78<  AV78,\"* La columna Pueblos Originarios NO DEBE ser superior al total de Procesados. \",\"\")","v":""},{"$f":"IF(B78<  AW78,\"* La columna Migrantes NO DEBE ser superior al total de Procesados. \",\"\")","v":""},{"$f":"IF(B78<   C78,1,0)","v":0},{"$f":"IF(B78<   C78,1,0)","v":0},{"$f":"IF(B78<> AR78+AS78,1,0)","v":0},{"$f":"IF(B78<  AT78+AU78,1,0)","v":0},{"$f":"IF(B78<  AV78,1,0)","v":0},{"$f":"IF(B78<  AW78,1,0)","v":0},null,null,null,null,null,null,null,null,null,null,null,null,null,null,null,null,null,null,null,{"$f":"IF(N78<O78,\"* Los Procesados deben ser mayor o igual a los Reactivos en los 10 - 14. \",\"\")","v":""},{"$f":"IF(N78<O78,\"* Los Procesados deben ser mayor o igual a los Reactivos en los 10 - 14. \",\"\")","v":""},{"$f":"IF(P78<Q78,\"* Los Procesados deben ser mayor o igual a los Reactivos en los 15 - 19. \",\"\")","v":""},{"$f":"IF(R78<S78,\"* Los Procesados deben ser mayor o igual a los Reactivos en los 20 - 24. \",\"\")","v":""},{"$f":"IF(T78<U78,\"* Los Procesados deben ser mayor o igual a los Reactivos en los 25 a 29. \",\"\")","v":""},{"$f":"IF(V78<W78,\"* Los Procesados deben ser mayor o igual a los Reactivos en los 30 a 34. \",\"\")","v":""},{"$f":"IF(X78<Y78,\"* Los Procesados deben ser mayor o igual a los Reactivos en los 35 a 39. \",\"\")","v":""},{"$f":"IF(AF78<AG78,\"* Los Procesados deben ser mayor o igual a los Reactivos en los 55 a 59. \",\"\")","v":""},{"$f":"IF(AH78<AI78,\"* Los Procesados deben ser mayor o igual a los Reactivos en los 60 a 64. \",\"\")","v":""},{"$f":"IF(AJ78<AK78,\"* Los Procesados deben ser mayor o igual a los Reactivos en los 65 a 69. \",\"\")","v":""},{"$f":"IF(AL78<AM78,\"* Los Procesados deben ser mayor o igual a los Reactivos en los 70 a 74. \",\"\")","v":""},{"$f":"IF(AN78<AO78,\"* Los Procesados deben ser mayor o igual a los Reactivos en los 75 a 79. \",\"\")","v":""},{"$f":"IF(AP78<AQ78,\"* Los Procesados deben ser mayor o igual a los Reactivos en los 80 y más. \",\"\")","v":""},null,null,null,null,null,null,null,null,null,null,null,null,null,{"$f":"IF(N78<O78,1,0)","v":0},{"$f":"IF(N78<O78,1,0)","v":0},{"$f":"IF(P78<Q78,1,0)","v":0},{"$f":"IF(R78<S78,1,0)","v":0},{"$f":"IF(T78<U78,1,0)","v":0},{"$f":"IF(V78<W78,1,0)","v":0},{"$f":"IF(X78<Y78,1,0)","v":0},{"$f":"IF(AF78<AG78,1,0)","v":0},{"$f":"IF(AH78<AI78,1,0)","v":0},{"$f":"IF(AJ78<AK78,1,0)","v":0},{"$f":"IF(AL78<AM78,1,0)","v":0},{"$f":"IF(AN78<AO78,1,0)","v":0},{"$f":"IF(AP78<AQ78,1,0)","v":0},0]
["GESTANTES SEGUNDO TRIMESTRE EMBARAZO",0,0,null,null,null,null,null,null,null,null,null,null,null,null,null,null,null,null,null,null,null,null,null,null,null,null,null,null,null,null,null,null,null,null,null,null,null,null,null,null,null,null,null,null,null,null,null,null,null,null,null,null,null,null,null,null,null,null,null,null,null,null,null,null,null,null,null,null,null,null,null,null,null,null,null,null,"","","","","","",0,0,0,0,0,0,null,null,null,null,null,null,null,null,null,null,null,null,null,null,null,null,null,null,null,"","","","","","","","","","","","","",null,null,null,null,null,null,null,null,null,null,null,null,null,0,0,0,0,0,0,0,0,0,0,0,0,0,0]
["GESTANTES TERCER TRIMESTRE EMBARAZO",0,0,null,null,null,null,null,null,null,null,null,null,null,null,null,null,null,null,null,null,null,null,null,null,null,null,null,null,null,null,null,null,null,null,null,null,null,null,null,null,null,null,null,null,null,null,null,null,null,null,null,null,null,null,null,null,null,null,null,null,null,null,null,null,null,null,null,null,null,null,null,null,null,null,null,null,"","","","","","",0,0,0,0,0,0,null,null,null,null,null,null,null,null,null,null,null,null,null,null,null,null,null,null,null,"","","","","","","","","","","","","",null,null,null,null,null,null,null,null,null,null,null,null,null,0,0,0,0,0,0,0,0,0,0,0,0,0,0]
["GESTANTES TRIMESTRE EMBARAZO IGNORADO",0,0,null,null,null,null,null,null,null,null,null,null,null,null,null,null,null,null,null,null,null,null,null,null,null,null,null,null,null,null,null,null,null,null,null,null,null,null,null,null,null,null,null,null,null,null,null,null,null,null,null,null,null,null,null,null,null,null,null,null,null,null,null,null,null,null,null,null,null,null,null,null,null,null,null,null,"","","","","","",0,0,0,0,0,0,null,null,null,null,null,null,null,null,null,null,null,null,null,null,null,null,null,null,null,"","","","","","","","","","","","","",null,null,null,null,null,null,null,null,null,null,null,null,null,0,0,0,0,0,0,0,0,0,0,0,0,0,0]
["GESTANTES EN SEGUIMIENTO POR DIAGNÓSTICO SÍFILIS",0,0,null,null,null,null,null,null,null,null,null,null,null,null,null,null,null,null,null,null,null,null,null,null,null,null,null,null,null,null,null,null,null,null,null,null,null,null,null,null,null,null,null,null,null,null,null,null,null,null,null,null,null,null,null,null,null,null,null,null,null,null,null,null,null,null,null,null,null,null,null,null,null,null,null,null,"","","","","","",0,0,0,0,0,0,null,null,null,null,null,null,null,null,null,null,null,null,null,null,null,null,null,null,null,"","","","","","","","","","","","","",null,null,null,null,null,null,null,null,null,null,null,null,null,0,0,0,0,0,0,0,0,0,0,0,0,0,0]
["PAREJA DE GESTANTE CON SEROLOGÍA REACTIVA",0,0,null,null,null,null,null,null,null,null,null,null,null,null,null,null,null,null,null,null,null,null,null,null,null,null,null,null,null,null,null,null,null,null,null,null,null,null,null,null,null,null,null,null,null,null,null,null,null,null,null,null,null,null,null,null,null,null,null,null,null,null,null,null,null,null,null,null,null,null,null,null,null,null,null,null,"","","","","","",0,0,0,0,0,0,null,null,null,null,null,null,null,null,null,null,null,null,null,null,null,null,null,null,null,"","","","","","","","","","","","","",null,null,null,null,null,null,null,null,null,null,null,null,null,0,0,0,0,0,0,0,0,0,0,0,0,0,0]
["MUJERES QUE INGRESAN A MATERNIDAD POR PARTO",0,0,null,null,null,null,null,null,null,null,null,null,null,null,null,null,null,null,null,null,null,null,null,null,null,null,null,null,null,null,null,null,null,null,null,null,null,null,null,null,null,null,null,null,null,null,null,null,null,null,null,null,null,null,null,null,null,null,null,null,null,null,null,null,null,null,null,null,null,null,null,null,null,null,null,null,"","","","","","",0,0,0,0,0,0,null,null,null,null,null,null,null,null,null,null,null,null,null,null,null,null,null,null,null,"","","","","","","","","","","","","",null,null,null,null,null,null,null,null,null,null,null,null,null,0,0,0,0,0,0,0,0,0,0,0,0,0,0]
["MUJERES QUE INGRESAN POR ABORTO",0,0,null,null,null,null,null,null,null,null,null,null,null,null,null,null,null,null,null,null,null,null,null,null,null,null,null,null,null,null,null,null,null,null,null,null,null,null,null,null,null,null,null,null,null,null,null,null,null,null,null,null,null,null,null,null,null,null,null,null,null,null,null,null,null,null,null,null,null,null,null,null,null,null,null,null,"","","","","","",0,0,0,0,0,0,null,null,null,null,null,null,null,null,null,null,null,null,null,null,null,null,null,null,null,"","","","","","","","","","","","","",null,null,null,null,null,null,null,null,null,null,null,null,null,0,0,0,0,0,0,0,0,0,0,0,0,0,0]
["MUJERES EN CONTROL GINECOLÓGICO",{"$f":"+D86+F86+H86+J86+L86+N86+P86+R86+T86+V86+X86+Z86+AB86+AD86+AF86+AH86+AJ86+AL86+AN86+AP86","v":0},{"$f":"+E86+G86+I86+K86+M86+O86+Q86+S86+U86+W86+Y86+AA86+AC86+AE86+AG86+AI86+AK86+AM86+AO86+AQ86","v":0},null,null,null,null,null,null,null,null,null,null,null,null,null,null,null,null,null,null,null,null,null,null,null,null,null,null,null,null,null,null,null,null,null,null,null,null,null,null,null,null,null,null,null,null,null,null,null,null,null,null,null,null,null,null,null,null,null,null,null,null,null,null,null,null,null,null,null,null,null,null,null,null,null,null,"","","","","","",0,0,0,0,0,0,null,null,null,null,null,null,null,null,null,null,null,null,null,null,{"$f":"IF(D86<E86,\"* Los Procesados deben ser mayor o igual a los Reactivos en los Menor de 6 meses. \",\"\")","v":""},{"$f":"IF(D86<E86,\"* Los Procesados deben ser mayor o igual a los Reactivos en los Menor de 6 meses. \",\"\")","v":""},{"$f":"IF(F86<G86,\"* Los Procesados deben ser mayor o igual a los Reactivos en los 6 a 11 meses. \",\"\")","v":""},{"$f":"IF(H86<I86,\"* Los Procesados deben ser mayor o igual a los Reactivos en los 12-24 meses. \",\"\")","v":""},{"$f":"IF(J86<K86,\"* Los Procesados deben ser mayor o igual a los Reactivos en los 3 a 4. \",\"\")","v":""},{"$f":"IF(L86<M86,\"* Los Procesados deben ser mayor o igual a los Reactivos en los 5 a 9. \",\"\")","v":""},"","","","","","","","","","","","",null,null,null,null,null,null,null,null,{"$f":"IF(D86<E86,1,0)","v":0},{"$f":"IF(D86<E86,1,0)","v":0},{"$f":"IF(F86<G86,1,0)","v":0},{"$f":"IF(H86<I86,1,0)","v":0},{"$f":"IF(J86<K86,1,0)","v":0},{"$f":"IF(L86<M86,1,0)","v":0},0,0,0,0,0,0,0,0,0,0,0,0,0]
["RECIÉN NACIDO Y LACTANTE PARA DETECCIÓN DE SÍFILIS CONGÉNITA",{"$f":"+D87+F87+H87","v":0},{"$f":"+E87+G87+I87","v":0},null,null,null,null,null,null,null,null,null,null,null,null,null,null,null,null,null,null,null,null,null,null,null,null,null,null,null,null,null,null,null,null,null,null,null,null,null,null,null,null,null,null,null,null,null,null,null,null,null,null,null,null,null,null,null,null,null,null,null,null,null,null,null,null,null,null,null,null,null,null,null,null,null,null,"","","","","","",0,0,0,0,0,0,null,null,null,null,null,null,null,null,null,null,null,null,null,null,{"$f":"IF(D87<E87,\"* Los Procesados deben ser mayor o igual a los Reactivos en los Menor de 6 meses. \",\"\")","v":""},{"$f":"IF(D87<E87,\"* Los Procesados deben ser mayor o igual a los Reactivos en los Menor de 6 meses. \",\"\")","v":""},{"$f":"IF(F87<G87,\"* Los Procesados deben ser mayor o igual a los Reactivos en los 6 a 11 meses. \",\"\")","v":""},{"$f":"IF(H87<I87,\"* Los Procesados deben ser mayor o igual a los Reactivos en los 12-24 meses. \",\"\")","v":""},null,null,null,null,null,null,null,null,null,null,null,null,null,null,null,null,null,null,null,null,null,null,{"$f":"IF(D87<E87,1,0)","v":0},{"$f":"IF(D87<E87,1,0)","v":0},{"$f":"IF(F87<G87,1,0)","v":0},{"$f":"IF(H87<I87,1,0)","v":0},null,null,null,null,null,null,null,null,null,null,null,null,null,0,0]
["PERSONAS EN CONTROL POR COMERCIO SEXUAL",{"$f":"+P88+R88+T88+V88+X88+Z88+AB88+AD88+AF88+AH88+AJ88+AL88+AN88+AP88","v":0},{"$f":"+Q88+S88+U88+W88+Y88+AA88+AC88+AE88+AG88+AI88+AK88+AM88+AO88+AQ88","v":0},null,null,null,null,null,null,null,null,null,null,null,null,null,null,null,null,null,null,null,null,null,null,null,null,null,null,null,null,null,null,null,null,null,null,null,null,null,null,null,null,null,null,null,null,null,null,null,null,null,null,null,null,null,null,null,null,null,null,null,null,null,null,null,null,null,null,null,null,null,null,null,null,null,null,"","","","","","",0,0,0,0,0,0,null,null,null,null,null,null,null,null,null,null,null,null,null,null,null,null,null,null,null,null,{"$f":"IF(P88<Q88,\"* Los Procesados deben ser mayor o igual a los Reactivos en los 15 - 19. \",\"\")","v":""},{"$f":"IF(P88<Q88,\"* Los Procesados deben ser mayor o igual a los Reactivos en los 15 - 19. \",\"\")","v":""},{"$f":"IF(R88<S88,\"* Los Procesados deben ser mayor o igual a los Reactivos en los 20 - 24. \",\"\")","v":""},{"$f":"IF(T88<U88,\"* Los Procesados deben ser mayor o igual a los Reactivos en los 25 a 29. \",\"\")","v":""},{"$f":"IF(V88<W88,\"* Los Procesados deben ser mayor o igual a los Reactivos en los 30 a 34. \",\"\")","v":""},{"$f":"IF(X88<Y88,\"* Los Procesados deben ser mayor o igual a los Reactivos en los 35 a 39. \",\"\")","v":""},{"$f":"IF(AF88<AG88,\"* Los Procesados deben ser mayor o igual a los Reactivos en los 55 a 59. \",\"\")","v":""},{"$f":"IF(AH88<AI88,\"* Los Procesados deben ser mayor o igual a los Reactivos en los 60 a 64. \",\"\")","v":""},{"$f":"IF(AJ88<AK88,\"* Los Procesados deben ser mayor o igual a los Reactivos en los 65 a 69. \",\"\")","v":""},{"$f":"IF(AL88<AM88,\"* Los Procesados deben ser mayor o igual a los Reactivos en los 70 a 74. \",\"\")","v":""},{"$f":"IF(AN88<AO88,\"* Los Procesados deben ser mayor o igual a los Reactivos en los 75 a 79. \",\"\")","v":""},{"$f":"IF(AP88<AQ88,\"* Los Procesados deben ser mayor o igual a los Reactivos en los 80 y más. \",\"\")","v":""},null,null,null,null,null,null,null,null,null,null,null,null,null,null,{"$f":"IF(P88<Q88,1,0)","v":0},{"$f":"IF(P88<Q88,1,0)","v":0},{"$f":"IF(R88<S88,1,0)","v":0},{"$f":"IF(T88<U88,1,0)","v":0},{"$f":"IF(V88<W88,1,0)","v":0},{"$f":"IF(X88<Y88,1,0)","v":0},{"$f":"IF(AF88<AG88,1,0)","v":0},{"$f":"IF(AH88<AI88,1,0)","v":0},{"$f":"IF(AJ88<AK88,1,0)","v":0},{"$f":"IF(AL88<AM88,1,0)","v":0},{"$f":"IF(AN88<AO88,1,0)","v":0},{"$f":"IF(AP88<AQ88,1,0)","v":0},0]
["PERSONAS EN CONTROL FECUNDIDAD",{"$f":"+N89+P89+R89+T89+V89+X89+Z89+AB89+AD89+AF89+AH89+AJ89+AL89+AN89+AP89","v":0},{"$f":"+O89+Q89+S89+U89+W89+Y89+AA89+AC89+AE89+AG89+AI89+AK89+AM89+AO89+AQ89","v":0},null,null,null,null,null,null,null,null,null,null,null,null,null,null,null,null,null,null,null,null,null,null,null,null,null,null,null,null,null,null,null,null,null,null,null,null,null,null,null,null,null,null,null,null,null,null,null,null,null,null,null,null,null,null,null,null,null,null,null,null,null,null,null,null,null,null,null,null,null,null,null,null,null,null,"","","","","","",0,0,0,0,0,0,null,null,null,null,null,null,null,null,null,null,null,null,null,null,null,null,null,null,null,{"$f":"IF(N89<O89,\"* Los Procesados deben ser mayor o igual a los Reactivos en los 10 - 14. \",\"\")","v":""},{"$f":"IF(N89<O89,\"* Los Procesados deben ser mayor o igual a los Reactivos en los 10 - 14. \",\"\")","v":""},"","","","","","","",{"$f":"IF(AJ89<AK89,\"* Los Procesados deben ser mayor o igual a los Reactivos en los 65 a 69. \",\"\")","v":""},{"$f":"IF(AL89<AM89,\"* Los Procesados deben ser mayor o igual a los Reactivos en los 70 a 74. \",\"\")","v":""},{"$f":"IF(AN89<AO89,\"* Los Procesados deben ser mayor o igual a los Reactivos en los 75 a 79. \",\"\")","v":""},{"$f":"IF(AP89<AQ89,\"* Los Procesados deben ser mayor o igual a los Reactivos en los 80 y más. \",\"\")","v":""},null,null,null,null,null,null,null,null,null,null,null,null,null,{"$f":"IF(N89<O89,1,0)","v":0},{"$f":"IF(N89<O89,1,0)","v":0},0,0,0,0,0,0,0,{"$f":"IF(AJ89<AK89,1,0)","v":0},{"$f":"IF(AL89<AM89,1,0)","v":0},{"$f":"IF(AN89<AO89,1,0)","v":0},{"$f":"IF(AP89<AQ89,1,0)","v":0},0]
["CONSULTANTES POR ITS",{"$f":"+D90+F90+H90+J90+L90+N90+P90+R90+T90+V90+X90+Z90+AB90+AD90+AF90+AH90+AJ90+AL90+AN90+AP90","v":0},{"$f":"+E90+G90+I90+K90+M90+O90+Q90+S90+U90+W90+Y90+AA90+AC90+AE90+AG90+AI90+AK90+AM90+AO90+AQ90","v":0},null,null,null,null,null,null,null,null,null,null,null,null,null,null,null,null,null,null,null,null,null,null,null,null,null,null,null,null,null,null,null,null,null,null,null,null,null,null,null,null,null,null,null,null,null,null,null,null,null,null,null,null,null,null,null,null,null,null,null,null,null,null,null,null,null,null,null,null,null,null,null,null,null,null,"","","","","","",0,0,0,0,0,0,null,null,null,null,null,null,null,null,null,null,null,null,null,null,{"$f":"IF(D90<E90,\"* Los Procesados deben ser mayor o igual a los Reactivos en los Menor de 6 meses. \",\"\")","v":""},{"$f":"IF(D90<E90,\"* Los Procesados deben ser mayor o igual a los Reactivos en los Menor de 6 meses. \",\"\")","v":""},{"$f":"IF(F90<G90,\"* Los Procesados deben ser mayor o igual a los Reactivos en los 6 a 11 meses. \",\"\")","v":""},{"$f":"IF(H90<I90,\"* Los Procesados deben ser mayor o igual a los Reactivos en los 12-24 meses. \",\"\")","v":""},{"$f":"IF(J90<K90,\"* Los Procesados deben ser mayor o igual a los Reactivos en los 3 a 4. \",\"\")","v":""},{"$f":"IF(L90<M90,\"* Los Procesados deben ser mayor o igual a los Reactivos en los 5 a 9. \",\"\")","v":""},{"$f":"IF(N90<O90,\"* Los Procesados deben ser mayor o igual a los Reactivos en los 10 - 14. \",\"\")","v":""},"","","","","","","",{"$f":"IF(AJ90<AK90,\"* Los Procesados deben ser mayor o igual a los Reactivos en los 65 a 69. \",\"\")","v":""},{"$f":"IF(AL90<AM90,\"* Los Procesados deben ser mayor o igual a los Reactivos en los 70 a 74. \",\"\")","v":""},{"$f":"IF(AN90<AO90,\"* Los Procesados deben ser mayor o igual a los Reactivos en los 75 a 79. \",\"\")","v":""},{"$f":"IF(AP90<AQ90,\"* Los Procesados deben ser mayor o igual a los Reactivos en los 80 y más. \",\"\")","v":""},null,null,null,null,null,null,null,null,{"$f":"IF(D90<E90,1,0)","v":0},{"$f":"IF(D90<E90,1,0)","v":0},{"$f":"IF(F90<G90,1,0)","v":0},{"$f":"IF(H90<I90,1,0)","v":0},{"$f":"IF(J90<K90,1,0)","v":0},{"$f":"IF(L90<M90,1,0)","v":0},{"$f":"IF(N90<O90,1,0)","v":0},0,0,0,0,0,0,0,{"$f":"IF(AJ90<AK90,1,0)","v":0},{"$f":"IF(AL90<AM90,1,0)","v":0},{"$f":"IF(AN90<AO90,1,0)","v":0},{"$f":"IF(AP90<AQ90,1,0)","v":0},0]
["PERSONAS CON EMP",{"$f":"+P91+R91+T91+V91+X91+Z91+AB91+AD91+AF91+AH91+AJ91+AL91+AN91+AP91","v":0},{"$f":"+Q91+S91+U91+W91+Y91+AA91+AC91+AE91+AG91+AI91+AK91+AM91+AO91+AQ91","v":0},null,null,null,null,null,null,null,null,null,null,null,null,null,null,null,null,null,null,null,null,null,null,null,null,null,null,null,null,null,null,null,null,null,null,null,null,null,null,null,null,null,null,null,null,null,null,null,null,null,null,null,null,null,null,null,null,null,null,null,null,null,null,null,null,null,null,null,null,null,null,null,null,null,null,"","","","","","",0,0,0,0,0,0,null,null,null,null,null,null,null,null,null,null,null,null,null,null,null,null,null,null,null,null,"","","","","","","","",{"$f":"IF(AJ91<AK91,\"* Los Procesados deben ser mayor o igual a los Reactivos en los 65 a 69. \",\"\")","v":""},{"$f":"IF(AL91<AM91,\"* Los Procesados deben ser mayor o igual a los Reactivos en los 70 a 74. \",\"\")","v":""},{"$f":"IF(AN91<AO91,\"* Los Procesados deben ser mayor o igual a los Reactivos en los 75 a 79. \",\"\")","v":""},{"$f":"IF(AP91<AQ91,\"* Los Procesados deben ser mayor o igual a los Reactivos en los 80 y más. \",\"\")","v":""},null,null,null,null,null,null,null,null,null,null,null,null,null,null,0,0,0,0,0,0,0,0,{"$f":"IF(AJ91<AK91,1,0)","v":0},{"$f":"IF(AL91<AM91,1,0)","v":0},{"$f":"IF(AN91<AO91,1,0)","v":0},{"$f":"IF(AP91<AQ91,1,0)","v":0},0]
["DONANTES DE SANGRE",{"$f":"+P92+R92+T92+V92+X92+Z92+AB92+AD92+AF92+AH92","v":0},{"$f":"+Q92+S92+U92+W92+Y92+AA92+AC92+AE92+AG92+AI92","v":0},null,null,null,null,null,null,null,null,null,null,null,null,null,null,null,null,null,null,null,null,null,null,null,null,null,null,null,null,null,null,null,null,null,null,null,null,null,null,null,null,null,null,null,null,null,null,null,null,null,null,null,null,null,null,null,null,null,null,null,null,null,null,null,null,null,null,null,null,null,null,null,null,null,null,"","","","","","",0,0,0,0,0,0,null,null,null,null,null,null,null,null,null,null,null,null,null,null,null,null,null,null,null,null,"","","","","","","","",{"$f":"IF(AD92<AE92,\"* Los Procesados deben ser mayor o igual a los Reactivos en los 50 a 54. \",\"\")","v":""},null,null,null,null,null,null,null,null,null,null,null,null,null,null,null,null,null,0,0,0,0,0,0,0,0,{"$f":"IF(AD92<AE92,1,0)","v":0},null,null,0,0]
["DONANTES DE ÓRGANOS Y/O TEJIDOS",{"$f":"+D93+F93+H93+J93+L93+N93+P93+R93+T93+V93+X93+Z93+AB93+AD93+AF93+AH93+AJ93+AL93+AN93+AP93","v":0},{"$f":"+E93+G93+I93+K93+M93+O93+Q93+S93+U93+W93+Y93+AA93+AC93+AE93+AG93+AI93+AK93+AM93+AO93+AQ93","v":0},null,null,null,null,null,null,null,null,null,null,null,null,null,null,null,null,null,null,null,null,null,null,null,null,null,null,null,null,null,null,null,null,null,null,null,null,null,null,null,null,null,null,null,null,null,null,null,null,null,null,null,null,null,null,null,null,null,null,null,null,null,null,null,null,null,null,null,null,null,null,null,null,null,null,"","","","","","",0,0,0,0,0,0,null,null,null,null,null,null,null,null,null,null,null,null,null,null,{"$f":"IF(D93<E93,\"* Los Procesados deben ser mayor o igual a los Reactivos en los Menor de 6 meses. \",\"\")","v":""},{"$f":"IF(D93<E93,\"* Los Procesados deben ser mayor o igual a los Reactivos en los Menor de 6 meses. \",\"\")","v":""},{"$f":"IF(F93<G93,\"* Los Procesados deben ser mayor o igual a los Reactivos en los 6 a 11 meses. \",\"\")","v":""},{"$f":"IF(H93<I93,\"* Los Procesados deben ser mayor o igual a los Reactivos en los 12-24 meses. \",\"\")","v":""},{"$f":"IF(J93<K93,\"* Los Procesados deben ser mayor o igual a los Reactivos en los 3 a 4. \",\"\")","v":""},{"$f":"IF(L93<M93,\"* Los Procesados deben ser mayor o igual a los Reactivos en los 5 a 9. \",\"\")","v":""},{"$f":"IF(N93<O93,\"* Los Procesados deben ser mayor o igual a los Reactivos en los 10 - 14. \",\"\")","v":""},"","","","","","","",{"$f":"IF(AJ93<AK93,\"* Los Procesados deben ser mayor o igual a los Reactivos en los 65 a 69. \",\"\")","v":""},{"$f":"IF(AL93<AM93,\"* Los Procesados deben ser mayor o igual a los Reactivos en los 70 a 74. \",\"\")","v":""},{"$f":"IF(AN93<AO93,\"* Los Procesados deben ser mayor o igual a los Reactivos en los 75 a 79. \",\"\")","v":""},{"$f":"IF(AP93<AQ93,\"* Los Procesados deben ser mayor o igual a los Reactivos en los 80 y más. \",\"\")","v":""},null,null,null,null,null,null,null,null,{"$f":"IF(D93<E93,1,0)","v":0},{"$f":"IF(D93<E93,1,0)","v":0},{"$f":"IF(F93<G93,1,0)","v":0},{"$f":"IF(H93<I93,1,0)","v":0},{"$f":"IF(J93<K93,1,0)","v":0},{"$f":"IF(L93<M93,1,0)","v":0},{"$f":"IF(N93<O93,1,0)","v":0},0,0,0,0,0,0,0,{"$f":"IF(AJ93<AK93,1,0)","v":0},{"$f":"IF(AL93<AM93,1,0)","v":0},{"$f":"IF(AN93<AO93,1,0)","v":0},{"$f":"IF(AP93<AQ93,1,0)","v":0},0]
["PACIENTES EN DIÁLISIS",0,0,null,null,null,null,null,null,null,null,null,null,null,null,null,null,null,null,null,null,null,null,null,null,null,null,null,null,null,null,null,null,null,null,null,null,null,null,null,null,null,null,null,null,null,null,null,null,null,null,null,null,null,null,null,null,null,null,null,null,null,null,null,null,null,null,null,null,null,null,null,null,null,null,null,null,"","","","","","",0,0,0,0,0,0,null,null,null,null,null,null,null,null,null,null,null,null,null,null,{"$f":"IF(D94<E94,\"* Los Procesados deben ser mayor o igual a los Reactivos en los Menor de 6 meses. \",\"\")","v":""},{"$f":"IF(D94<E94,\"* Los Procesados deben ser mayor o igual a los Reactivos en los Menor de 6 meses. \",\"\")","v":""},{"$f":"IF(F94<G94,\"* Los Procesados deben ser mayor o igual a los Reactivos en los 6 a 11 meses. \",\"\")","v":""},{"$f":"IF(H94<I94,\"* Los Procesados deben ser mayor o igual a los Reactivos en los 12-24 meses. \",\"\")","v":""},{"$f":"IF(J94<K94,\"* Los Procesados deben ser mayor o igual a los Reactivos en los 3 a 4. \",\"\")","v":""},{"$f":"IF(L94<M94,\"* Los Procesados deben ser mayor o igual a los Reactivos en los 5 a 9. \",\"\")","v":""},{"$f":"IF(N94<O94,\"* Los Procesados deben ser mayor o igual a los Reactivos en los 10 - 14. \",\"\")","v":""},"","","","","","","",{"$f":"IF(AJ94<AK94,\"* Los Procesados deben ser mayor o igual a los Reactivos en los 65 a 69. \",\"\")","v":""},{"$f":"IF(AL94<AM94,\"* Los Procesados deben ser mayor o igual a los Reactivos en los 70 a 74. \",\"\")","v":""},{"$f":"IF(AN94<AO94,\"* Los Procesados deben ser mayor o igual a los Reactivos en los 75 a 79. \",\"\")","v":""},{"$f":"IF(AP94<AQ94,\"* Los Procesados deben ser mayor o igual a los Reactivos en los 80 y más. \",\"\")","v":""},null,null,null,null,null,null,null,null,{"$f":"IF(D94<E94,1,0)","v":0},{"$f":"IF(D94<E94,1,0)","v":0},{"$f":"IF(F94<G94,1,0)","v":0},{"$f":"IF(H94<I94,1,0)","v":0},{"$f":"IF(J94<K94,1,0)","v":0},{"$f":"IF(L94<M94,1,0)","v":0},{"$f":"IF(N94<O94,1,0)","v":0},0,0,0,0,0,0,0,{"$f":"IF(AJ94<AK94,1,0)","v":0},{"$f":"IF(AL94<AM94,1,0)","v":0},{"$f":"IF(AN94<AO94,1,0)","v":0},{"$f":"IF(AP94<AQ94,1,0)","v":0},0]
["VÍCTIMA DE VIOLENCIA SEXUAL",0,0,null,null,null,null,null,null,null,null,null,null,null,null,null,null,null,null,null,null,null,null,null,null,null,null,null,null,null,null,null,null,null,null,null,null,null,null,null,null,null,null,null,null,null,null,null,null,null,null,null,null,null,null,null,null,null,null,null,null,null,null,null,null,null,null,null,null,null,null,null,null,null,null,null,null,"","","","","","",0,0,0,0,0,0,null,null,null,null,null,null,null,null,null,null,null,null,null,null,{"$f":"IF(D95<E95,\"* Los Procesados deben ser mayor o igual a los Reactivos en los Menor de 6 meses. \",\"\")","v":""},{"$f":"IF(D95<E95,\"* Los Procesados deben ser mayor o igual a los Reactivos en los Menor de 6 meses. \",\"\")","v":""},{"$f":"IF(F95<G95,\"* Los Procesados deben ser mayor o igual a los Reactivos en los 6 a 11 meses. \",\"\")","v":""},{"$f":"IF(H95<I95,\"* Los Procesados deben ser mayor o igual a los Reactivos en los 12-24 meses. \",\"\")","v":""},{"$f":"IF(J95<K95,\"* Los Procesados deben ser mayor o igual a los Reactivos en los 3 a 4. \",\"\")","v":""},{"$f":"IF(L95<M95,\"* Los Procesados deben ser mayor o igual a los Reactivos en los 5 a 9. \",\"\")","v":""},{"$f":"IF(N95<O95,\"* Los Procesados deben ser mayor o igual a los Reactivos en los 10 - 14. \",\"\")","v":""},"","","","","","","",{"$f":"IF(AJ95<AK95,\"* Los Procesados deben ser mayor o igual a los Reactivos en los 65 a 69. \",\"\")","v":""},{"$f":"IF(AL95<AM95,\"* Los Procesados deben ser mayor o igual a los Reactivos en los 70 a 74. \",\"\")","v":""},{"$f":"IF(AN95<AO95,\"* Los Procesados deben ser mayor o igual a los Reactivos en los 75 a 79. \",\"\")","v":""},{"$f":"IF(AP95<AQ95,\"* Los Procesados deben ser mayor o igual a los Reactivos en los 80 y más. \",\"\")","v":""},null,null,null,null,null,null,null,null,{"$f":"IF(D95<E95,1,0)","v":0},{"$f":"IF(D95<E95,1,0)","v":0},{"$f":"IF(F95<G95,1,0)","v":0},{"$f":"IF(H95<I95,1,0)","v":0},{"$f":"IF(J95<K95,1,0)","v":0},{"$f":"IF(L95<M95,1,0)","v":0},{"$f":"IF(N95<O95,1,0)","v":0},0,0,0,0,0,0,0,{"$f":"IF(AJ95<AK95,1,0)","v":0},{"$f":"IF(AL95<AM95,1,0)","v":0},{"$f":"IF(AN95<AO95,1,0)","v":0},{"$f":"IF(AP95<AQ95,1,0)","v":0},0]
["SECCIÓN A.5: EXAMEN MHA-TP POR GRUPO DE USUARIOS (Uso exclusivo de establecimientos con Laboratorio que procesan)"]
["GRUPO DE PESQUISA","TOTAL",null,"POR EDAD (en meses - años)",null,null,null,null,null,null,null,null,null,null,null,null,null,null,null,null,null,null,null,null,null,null,null,null,null,null,null,null,null,null,null,null,null,null,null,null,null,null,null,"POR SEXO\n(Procesados)",null,"TRANS",null,"Pueblos Originarios","Migrantes"]
[null,null,null,"Menor de 6 meses",null,"6 a 11 meses",null,"12-24 meses",null,"3 a 4",null,"5 a 9",null,"10 - 14",null,"15 - 19",null,"20 - 24",null,"25 a 29",null,"30 a 34",null,"35 a 39",null,"40 a 44",null,"45 a 49",null,"50 a 54",null,"55 a 59",null,"60 a 64",null,"65 a 69",null,"70 a 74",null,"75 a 79",null,"80 y más",null,"Hombres","Mujeres"]
[null,"Procesados","Reactivos","Procesados","Reactivos","Procesados","Reactivos","Procesados","Reactivos","Procesados","Reactivos","Procesados","Reactivos","Procesados","Reactivos","Procesados","Reactivos","Procesados","Reactivos","Procesados","Reactivos","Procesados","Reactivos","Procesados","Reactivos","Procesados","Reactivos","Procesados","Reactivos","Procesados","Reactivos","Procesados","Reactivos","Procesados","Reactivos","Procesados","Reactivos","Procesados","Reactivos","Procesados","Reactivos","Procesados","Reactivos",null,null,"Masculino","Femenino"]
["GESTANTES PRIMER TRIMESTRE EMBARAZO",{"$f":"+N100+P100+R100+T100+V100+X100+Z100+AB100+AD100+AF100+AH100+AJ100+AL100+AN100+AP100","v":0},{"$f":"+O100+Q100+S100+U100+W100+Y100+AA100+AC100+AE100+AG100+AI100+AK100+AM100+AO100+AQ100","v":0},null,null,null,null,null,null,null,null,null,null,null,null,null,null,null,null,null,null,null,null,null,null,null,null,null,null,null,null,null,null,null,null,null,null,null,null,null,null,null,null,null,null,null,null,null,null,null,null,null,null,null,null,null,null,null,null,null,null,null,null,null,null,null,null,null,null,null,null,null,null,null,null,null,null,{"$f":"IF(B100<   C100,\"* El total de Reactivos NO DEBE ser superior al total de Procesados. \",\"\")","v":""},{"$f":"IF(B100<   C100,\"* El total de Reactivos NO DEBE ser superior al total de Procesados. \",\"\")","v":""},{"$f":"IF(B100<> AR100+ AS100,\"* La suma de las columnas Sexo DEBE SER IGUAL a los Procesados. \",\"\")","v":""},{"$f":"IF(B100<  AT100+ AU100,\"* La suma de las columna Trans NO DEBE ser superior al total de Procesados. \",\"\")","v":""},{"$f":"IF(B100<  AV100,\"* La columna Pueblos Originarios NO DEBE ser superior al total de Procesados. \",\"\")","v":""},{"$f":"IF(B100<  AW100,\"* La columna Migrantes NO DEBE ser superior al total de Procesados. \",\"\")","v":""},{"$f":"IF(B100<   C100,1,0)","v":0},{"$f":"IF(B100<   C100,1,0)","v":0},{"$f":"IF(B100<> AR100+AS100,1,0)","v":0},{"$f":"IF(B100<  AT100+AU100,1,0)","v":0},{"$f":"IF(B100<  AV100,1,0)","v":0},{"$f":"IF(B100<  AW100,1,0)","v":0},null,null,null,null,null,null,null,null,null,null,null,null,null,null,null,null,null,null,null,{"$f":"IF(N100<O100,\"* Los Procesados deben ser mayor o igual a los Reactivos en los 10 - 14. \",\"\")","v":""},{"$f":"IF(N100<O100,\"* Los Procesados deben ser mayor o igual a los Reactivos en los 10 - 14. \",\"\")","v":""},{"$f":"IF(P100<Q100,\"* Los Procesados deben ser mayor o igual a los Reactivos en los 15 - 19. \",\"\")","v":""},{"$f":"IF(R100<S100,\"* Los Procesados deben ser mayor o igual a los Reactivos en los 20 - 24. \",\"\")","v":""},{"$f":"IF(T100<U100,\"* Los Procesados deben ser mayor o igual a los Reactivos en los 25 a 29. \",\"\")","v":""},{"$f":"IF(V100<W100,\"* Los Procesados deben ser mayor o igual a los Reactivos en los 30 a 34. \",\"\")","v":""},{"$f":"IF(X100<Y100,\"* Los Procesados deben ser mayor o igual a los Reactivos en los 35 a 39. \",\"\")","v":""},{"$f":"IF(AF100<AG100,\"* Los Procesados deben ser mayor o igual a los Reactivos en los 55 a 59. \",\"\")","v":""},{"$f":"IF(AH100<AI100,\"* Los Procesados deben ser mayor o igual a los Reactivos en los 60 a 64. \",\"\")","v":""},{"$f":"IF(AJ100<AK100,\"* Los Procesados deben ser mayor o igual a los Reactivos en los 65 a 69. \",\"\")","v":""},{"$f":"IF(AL100<AM100,\"* Los Procesados deben ser mayor o igual a los Reactivos en los 70 a 74. \",\"\")","v":""},{"$f":"IF(AN100<AO100,\"* Los Procesados deben ser mayor o igual a los Reactivos en los 75 a 79. \",\"\")","v":""},{"$f":"IF(AP100<AQ100,\"* Los Procesados deben ser mayor o igual a los Reactivos en los 80 y más. \",\"\")","v":""},null,null,null,null,null,null,null,null,null,null,null,null,null,{"$f":"IF(N100<O100,1,0)","v":0},{"$f":"IF(N100<O100,1,0)","v":0},{"$f":"IF(P100<Q100,1,0)","v":0},{"$f":"IF(R100<S100,1,0)","v":0},{"$f":"IF(T100<U100,1,0)","v":0},{"$f":"IF(V100<W100,1,0)","v":0},{"$f":"IF(X100<Y100,1,0)","v":0},{"$f":"IF(AF100<AG100,1,0)","v":0},{"$f":"IF(AH100<AI100,1,0)","v":0},{"$f":"IF(AJ100<AK100,1,0)","v":0},{"$f":"IF(AL100<AM100,1,0)","v":0},{"$f":"IF(AN100<AO100,1,0)","v":0},{"$f":"IF(AP100<AQ100,1,0)","v":0},0]
["GESTANTES SEGUNDO TRIMESTRE EMBARAZO",0,0,null,null,null,null,null,null,null,null,null,null,null,null,null,null,null,null,null,null,null,null,null,null,null,null,null,null,null,null,null,null,null,null,null,null,null,null,null,null,null,null,null,null,null,null,null,null,null,null,null,null,null,null,null,null,null,null,null,null,null,null,null,null,null,null,null,null,null,null,null,null,null,null,null,null,"","","","","","",0,0,0,0,0,0,null,null,null,null,null,null,null,null,null,null,null,null,null,null,null,null,null,null,null,"","","","","","","","","","","","","",null,null,null,null,null,null,null,null,null,null,null,null,null,0,0,0,0,0,0,0,0,0,0,0,0,0,0]
["GESTANTES TERCER TRIMESTRE EMBARAZO",0,0,null,null,null,null,null,null,null,null,null,null,null,null,null,null,null,null,null,null,null,null,null,null,null,null,null,null,null,null,null,null,null,null,null,null,null,null,null,null,null,null,null,null,null,null,null,null,null,null,null,null,null,null,null,null,null,null,null,null,null,null,null,null,null,null,null,null,null,null,null,null,null,null,null,null,"","","","","","",0,0,0,0,0,0,null,null,null,null,null,null,null,null,null,null,null,null,null,null,null,null,null,null,null,"","","","","","","","","","","","","",null,null,null,null,null,null,null,null,null,null,null,null,null,0,0,0,0,0,0,0,0,0,0,0,0,0,0]
["GESTANTES TRIMESTRE EMBARAZO IGNORADO",0,0,null,null,null,null,null,null,null,null,null,null,null,null,null,null,null,null,null,null,null,null,null,null,null,null,null,null,null,null,null,null,null,null,null,null,null,null,null,null,null,null,null,null,null,null,null,null,null,null,null,null,null,null,null,null,null,null,null,null,null,null,null,null,null,null,null,null,null,null,null,null,null,null,null,null,"","","","","","",0,0,0,0,0,0,null,null,null,null,null,null,null,null,null,null,null,null,null,null,null,null,null,null,null,"","","","","","","","","","","","","",null,null,null,null,null,null,null,null,null,null,null,null,null,0,0,0,0,0,0,0,0,0,0,0,0,0,0]
["GESTANTES EN SEGUIMIENTO POR DIAGNÓSTICO SÍFILIS",0,0,null,null,null,null,null,null,null,null,null,null,null,null,null,null,null,null,null,null,null,null,null,null,null,null,null,null,null,null,null,null,null,null,null,null,null,null,null,null,null,null,null,null,null,null,null,null,null,null,null,null,null,null,null,null,null,null,null,null,null,null,null,null,null,null,null,null,null,null,null,null,null,null,null,null,"","","","","","",0,0,0,0,0,0,null,null,null,null,null,null,null,null,null,null,null,null,null,null,null,null,null,null,null,"","","","","","","","","","","","","",null,null,null,null,null,null,null,null,null,null,null,null,null,0,0,0,0,0,0,0,0,0,0,0,0,0,0]
["PAREJA DE GESTANTE CON SEROLOGÍA REACTIVA",0,0,null,null,null,null,null,null,null,null,null,null,null,null,null,null,null,null,null,null,null,null,null,null,null,null,null,null,null,null,null,null,null,null,null,null,null,null,null,null,null,null,null,null,null,null,null,null,null,null,null,null,null,null,null,null,null,null,null,null,null,null,null,null,null,null,null,null,null,null,null,null,null,null,null,null,"","","","","","",0,0,0,0,0,0,null,null,null,null,null,null,null,null,null,null,null,null,null,null,null,null,null,null,null,"","","","","","","","","","","","","",null,null,null,null,null,null,null,null,null,null,null,null,null,0,0,0,0,0,0,0,0,0,0,0,0,0,0]
["MUJERES QUE INGRESAN A MATERNIDAD POR PARTO",0,0,null,null,null,null,null,null,null,null,null,null,null,null,null,null,null,null,null,null,null,null,null,null,null,null,null,null,null,null,null,null,null,null,null,null,null,null,null,null,null,null,null,null,null,null,null,null,null,null,null,null,null,null,null,null,null,null,null,null,null,null,null,null,null,null,null,null,null,null,null,null,null,null,null,null,"","","","","","",0,0,0,0,0,0,null,null,null,null,null,null,null,null,null,null,null,null,null,null,null,null,null,null,null,"","","","","","","","","","","","","",null,null,null,null,null,null,null,null,null,null,null,null,null,0,0,0,0,0,0,0,0,0,0,0,0,0,0]
["MUJERES QUE INGRESAN POR ABORTO",0,0,null,null,null,null,null,null,null,null,null,null,null,null,null,null,null,null,null,null,null,null,null,null,null,null,null,null,null,null,null,null,null,null,null,null,null,null,null,null,null,null,null,null,null,null,null,null,null,null,null,null,null,null,null,null,null,null,null,null,null,null,null,null,null,null,null,null,null,null,null,null,null,null,null,null,"","","","","","",0,0,0,0,0,0,null,null,null,null,null,null,null,null,null,null,null,null,null,null,null,null,null,null,null,"","","","","","","","","","","","","",null,null,null,null,null,null,null,null,null,null,null,null,null,0,0,0,0,0,0,0,0,0,0,0,0,0,0]
["MUJERES EN CONTROL GINECOLÓGICO",{"$f":"+D108+F108+H108+J108+L108+N108+P108+R108+T108+V108+X108+Z108+AB108+AD108+AF108+AH108+AJ108+AL108+AN108+AP108","v":0},{"$f":"+E108+G108+I108+K108+M108+O108+Q108+S108+U108+W108+Y108+AA108+AC108+AE108+AG108+AI108+AK108+AM108+AO108+AQ108","v":0},null,null,null,null,null,null,null,null,null,null,null,null,null,null,null,null,null,null,null,null,null,null,null,null,null,null,null,null,null,null,null,null,null,null,null,null,null,null,null,null,null,null,null,null,null,null,null,null,null,null,null,null,null,null,null,null,null,null,null,null,null,null,null,null,null,null,null,null,null,null,null,null,null,null,"","","","","","",0,0,0,0,0,0,null,null,null,null,null,null,null,null,null,null,null,null,null,null,{"$f":"IF(D108<E108,\"* Los Procesados deben ser mayor o igual a los Reactivos en los Menor de 6 meses. \",\"\")","v":""},{"$f":"IF(D108<E108,\"* Los Procesados deben ser mayor o igual a los Reactivos en los Menor de 6 meses. \",\"\")","v":""},{"$f":"IF(F108<G108,\"* Los Procesados deben ser mayor o igual a los Reactivos en los 6 a 11 meses. \",\"\")","v":""},{"$f":"IF(H108<I108,\"* Los Procesados deben ser mayor o igual a los Reactivos en los 12-24 meses. \",\"\")","v":""},{"$f":"IF(J108<K108,\"* Los Procesados deben ser mayor o igual a los Reactivos en los 3 a 4. \",\"\")","v":""},{"$f":"IF(L108<M108,\"* Los Procesados deben ser mayor o igual a los Reactivos en los 5 a 9. \",\"\")","v":""},"","","","","","","","","","","","",null,null,null,null,null,null,null,null,{"$f":"IF(D108<E108,1,0)","v":0},{"$f":"IF(D108<E108,1,0)","v":0},{"$f":"IF(F108<G108,1,0)","v":0},{"$f":"IF(H108<I108,1,0)","v":0},{"$f":"IF(J108<K108,1,0)","v":0},{"$f":"IF(L108<M108,1,0)","v":0},0,0,0,0,0,0,0,0,0,0,0,0,0]
["RECIÉN NACIDO Y LACTANTE PARA DETECCIÓN DE SÍFILIS CONGÉNITA",{"$f":"+D109+F109+H109","v":0},{"$f":"+E109+G109+I109","v":0},null,null,null,null,null,null,null,null,null,null,null,null,null,null,null,null,null,null,null,null,null,null,null,null,null,null,null,null,null,null,null,null,null,null,null,null,null,null,null,null,null,null,null,null,null,null,null,null,null,null,null,null,null,null,null,null,null,null,null,null,null,null,null,null,null,null,null,null,null,null,null,null,null,null,"","","","","","",0,0,0,0,0,0,null,null,null,null,null,null,null,null,null,null,null,null,null,null,{"$f":"IF(D109<E109,\"* Los Procesados deben ser mayor o igual a los Reactivos en los Menor de 6 meses. \",\"\")","v":""},{"$f":"IF(D109<E109,\"* Los Procesados deben ser mayor o igual a los Reactivos en los Menor de 6 meses. \",\"\")","v":""},{"$f":"IF(F109<G109,\"* Los Procesados deben ser mayor o igual a los Reactivos en los 6 a 11 meses. \",\"\")","v":""},{"$f":"IF(H109<I109,\"* Los Procesados deben ser mayor o igual a los Reactivos en los 12-24 meses. \",\"\")","v":""},null,null,null,null,null,null,null,null,null,null,null,null,null,null,null,null,null,null,null,null,null,null,{"$f":"IF(D109<E109,1,0)","v":0},{"$f":"IF(D109<E109,1,0)","v":0},{"$f":"IF(F109<G109,1,0)","v":0},{"$f":"IF(H109<I109,1,0)","v":0},null,null,null,null,null,null,null,null,null,null,null,null,null,0,0]
["PERSONAS EN CONTROL POR COMERCIO SEXUAL",{"$f":"+P110+R110+T110+V110+X110+Z110+AB110+AD110+AF110+AH110+AJ110+AL110+AN110+AP110","v":0},{"$f":"+Q110+S110+U110+W110+Y110+AA110+AC110+AE110+AG110+AI110+AK110+AM110+AO110+AQ110","v":0},null,null,null,null,null,null,null,null,null,null,null,null,null,null,null,null,null,null,null,null,null,null,null,null,null,null,null,null,null,null,null,null,null,null,null,null,null,null,null,null,null,null,null,null,null,null,null,null,null,null,null,null,null,null,null,null,null,null,null,null,null,null,null,null,null,null,null,null,null,null,null,null,null,null,"","","","","","",0,0,0,0,0,0,null,null,null,null,null,null,null,null,null,null,null,null,null,null,null,null,null,null,null,null,{"$f":"IF(P110<Q110,\"* Los Procesados deben ser mayor o igual a los Reactivos en los 15 - 19. \",\"\")","v":""},{"$f":"IF(P110<Q110,\"* Los Procesados deben ser mayor o igual a los Reactivos en los 15 - 19. \",\"\")","v":""},{"$f":"IF(R110<S110,\"* Los Procesados deben ser mayor o igual a los Reactivos en los 20 - 24. \",\"\")","v":""},{"$f":"IF(T110<U110,\"* Los Procesados deben ser mayor o igual a los Reactivos en los 25 a 29. \",\"\")","v":""},{"$f":"IF(V110<W110,\"* Los Procesados deben ser mayor o igual a los Reactivos en los 30 a 34. \",\"\")","v":""},{"$f":"IF(X110<Y110,\"* Los Procesados deben ser mayor o igual a los Reactivos en los 35 a 39. \",\"\")","v":""},{"$f":"IF(AF110<AG110,\"* Los Procesados deben ser mayor o igual a los Reactivos en los 55 a 59. \",\"\")","v":""},{"$f":"IF(AH110<AI110,\"* Los Procesados deben ser mayor o igual a los Reactivos en los 60 a 64. \",\"\")","v":""},{"$f":"IF(AJ110<AK110,\"* Los Procesados deben ser mayor o igual a los Reactivos en los 65 a 69. \",\"\")","v":""},{"$f":"IF(AL110<AM110,\"* Los Procesados deben ser mayor o igual a los Reactivos en los 70 a 74. \",\"\")","v":""},{"$f":"IF(AN110<AO110,\"* Los Procesados deben ser mayor o igual a los Reactivos en los 75 a 79. \",\"\")","v":""},{"$f":"IF(AP110<AQ110,\"* Los Procesados deben ser mayor o igual a los Reactivos en los 80 y más. \",\"\")","v":""},null,null,null,null,null,null,null,null,null,null,null,null,null,null,{"$f":"IF(P110<Q110,1,0)","v":0},{"$f":"IF(P110<Q110,1,0)","v":0},{"$f":"IF(R110<S110,1,0)","v":0},{"$f":"IF(T110<U110,1,0)","v":0},{"$f":"IF(V110<W110,1,0)","v":0},{"$f":"IF(X110<Y110,1,0)","v":0},{"$f":"IF(AF110<AG110,1,0)","v":0},{"$f":"IF(AH110<AI110,1,0)","v":0},{"$f":"IF(AJ110<AK110,1,0)","v":0},{"$f":"IF(AL110<AM110,1,0)","v":0},{"$f":"IF(AN110<AO110,1,0)","v":0},{"$f":"IF(AP110<AQ110,1,0)","v":0},0]
["PERSONAS EN CONTROL FECUNDIDAD",{"$f":"+N111+P111+R111+T111+V111+X111+Z111+AB111+AD111+AF111+AH111+AJ111+AL111+AN111+AP111","v":0},{"$f":"+O111+Q111+S111+U111+W111+Y111+AA111+AC111+AE111+AG111+AI111+AK111+AM111+AO111+AQ111","v":0},null,null,null,null,null,null,null,null,null,null,null,null,null,null,null,null,null,null,null,null,null,null,null,null,null,null,null,null,null,null,null,null,null,null,null,null,null,null,null,null,null,null,null,null,null,null,null,null,null,null,null,null,null,null,null,null,null,null,null,null,null,null,null,null,null,null,null,null,null,null,null,null,null,null,"","","","","","",0,0,0,0,0,0,null,null,null,null,null,null,null,null,null,null,null,null,null,null,null,null,null,null,null,{"$f":"IF(N111<O111,\"* Los Procesados deben ser mayor o igual a los Reactivos en los 10 - 14. \",\"\")","v":""},{"$f":"IF(N111<O111,\"* Los Procesados deben ser mayor o igual a los Reactivos en los 10 - 14. \",\"\")","v":""},"","","","","","","",{"$f":"IF(AJ111<AK111,\"* Los Procesados deben ser mayor o igual a los Reactivos en los 65 a 69. \",\"\")","v":""},{"$f":"IF(AL111<AM111,\"* Los Procesados deben ser mayor o igual a los Reactivos en los 70 a 74. \",\"\")","v":""},{"$f":"IF(AN111<AO111,\"* Los Procesados deben ser mayor o igual a los Reactivos en los 75 a 79. \",\"\")","v":""},{"$f":"IF(AP111<AQ111,\"* Los Procesados deben ser mayor o igual a los Reactivos en los 80 y más. \",\"\")","v":""},null,null,null,null,null,null,null,null,null,null,null,null,null,{"$f":"IF(N111<O111,1,0)","v":0},{"$f":"IF(N111<O111,1,0)","v":0},0,0,0,0,0,0,0,{"$f":"IF(AJ111<AK111,1,0)","v":0},{"$f":"IF(AL111<AM111,1,0)","v":0},{"$f":"IF(AN111<AO111,1,0)","v":0},{"$f":"IF(AP111<AQ111,1,0)","v":0},0]
["CONSULTANTES POR ITS",{"$f":"+D112+F112+H112+J112+L112+N112+P112+R112+T112+V112+X112+Z112+AB112+AD112+AF112+AH112+AJ112+AL112+AN112+AP112","v":0},{"$f":"+E112+G112+I112+K112+M112+O112+Q112+S112+U112+W112+Y112+AA112+AC112+AE112+AG112+AI112+AK112+AM112+AO112+AQ112","v":0},null,null,null,null,null,null,null,null,null,null,null,null,null,null,null,null,null,null,null,null,null,null,null,null,null,null,null,null,null,null,null,null,null,null,null,null,null,null,null,null,null,null,null,null,null,null,null,null,null,null,null,null,null,null,null,null,null,null,null,null,null,null,null,null,null,null,null,null,null,null,null,null,null,null,"","","","","","",0,0,0,0,0,0,null,null,null,null,null,null,null,null,null,null,null,null,null,null,{"$f":"IF(D112<E112,\"* Los Procesados deben ser mayor o igual a los Reactivos en los Menor de 6 meses. \",\"\")","v":""},{"$f":"IF(D112<E112,\"* Los Procesados deben ser mayor o igual a los Reactivos en los Menor de 6 meses. \",\"\")","v":""},{"$f":"IF(F112<G112,\"* Los Procesados deben ser mayor o igual a los Reactivos en los 6 a 11 meses. \",\"\")","v":""},{"$f":"IF(H112<I112,\"* Los Procesados deben ser mayor o igual a los Reactivos en los 12-24 meses. \",\"\")","v":""},{"$f":"IF(J112<K112,\"* Los Procesados deben ser mayor o igual a los Reactivos en los 3 a 4. \",\"\")","v":""},{"$f":"IF(L112<M112,\"* Los Procesados deben ser mayor o igual a los Reactivos en los 5 a 9. \",\"\")","v":""},{"$f":"IF(N112<O112,\"* Los Procesados deben ser mayor o igual a los Reactivos en los 10 - 14. \",\"\")","v":""},"","","","","","","",{"$f":"IF(AJ112<AK112,\"* Los Procesados deben ser mayor o igual a los Reactivos en los 65 a 69. \",\"\")","v":""},{"$f":"IF(AL112<AM112,\"* Los Procesados deben ser mayor o igual a los Reactivos en los 70 a 74. \",\"\")","v":""},{"$f":"IF(AN112<AO112,\"* Los Procesados deben ser mayor o igual a los Reactivos en los 75 a 79. \",\"\")","v":""},{"$f":"IF(AP112<AQ112,\"* Los Procesados deben ser mayor o igual a los Reactivos en los 80 y más. \",\"\")","v":""},null,null,null,null,null,null,null,null,{"$f":"IF(D112<E112,1,0)","v":0},{"$f":"IF(D112<E112,1,0)","v":0},{"$f":"IF(F112<G112,1,0)","v":0},{"$f":"IF(H112<I112,1,0)","v":0},{"$f":"IF(J112<K112,1,0)","v":0},{"$f":"IF(L112<M112,1,0)","v":0},{"$f":"IF(N112<O112,1,0)","v":0},0,0,0,0,0,0,0,{"$f":"IF(AJ112<AK112,1,0)","v":0},{"$f":"IF(AL112<AM112,1,0)","v":0},{"$f":"IF(AN112<AO112,1,0)","v":0},{"$f":"IF(AP112<AQ112,1,0)","v":0},0]
["PERSONAS CON EMP",{"$f":"+P113+R113+T113+V113+X113+Z113+AB113+AD113+AF113+AH113+AJ113+AL113+AN113+AP113","v":0},{"$f":"+Q113+S113+U113+W113+Y113+AA113+AC113+AE113+AG113+AI113+AK113+AM113+AO113+AQ113","v":0},null,null,null,null,null,null,null,null,null,null,null,null,null,null,null,null,null,null,null,null,null,null,null,null,null,null,null,null,null,null,null,null,null,null,null,null,null,null,null,null,null,null,null,null,null,null,null,null,null,null,null,null,null,null,null,null,null,null,null,null,null,null,null,null,null,null,null,null,null,null,null,null,null,null,"","","","","","",0,0,0,0,0,0,null,null,null,null,null,null,null,null,null,null,null,null,null,null,null,null,null,null,null,null,"","","","","","","","",{"$f":"IF(AJ113<AK113,\"* Los Procesados deben ser mayor o igual a los Reactivos en los 65 a 69. \",\"\")","v":""},{"$f":"IF(AL113<AM113,\"* Los Procesados deben ser mayor o igual a los Reactivos en los 70 a 74. \",\"\")","v":""},{"$f":"IF(AN113<AO113,\"* Los Procesados deben ser mayor o igual a los Reactivos en los 75 a 79. \",\"\")","v":""},{"$f":"IF(AP113<AQ113,\"* Los Procesados deben ser mayor o igual a los Reactivos en los 80 y más. \",\"\")","v":""},null,null,null,null,null,null,null,null,null,null,null,null,null,null,0,0,0,0,0,0,0,0,{"$f":"IF(AJ113<AK113,1,0)","v":0},{"$f":"IF(AL113<AM113,1,0)","v":0},{"$f":"IF(AN113<AO113,1,0)","v":0},{"$f":"IF(AP113<AQ113,1,0)","v":0},0]
["DONANTES DE SANGRE",{"$f":"+P114+R114+T114+V114+X114+Z114+AB114+AD114+AF114+AH114","v":0},{"$f":"+Q114+S114+U114+W114+Y114+AA114+AC114+AE114+AG114+AI114","v":0},null,null,null,null,null,null,null,null,null,null,null,null,null,null,null,null,null,null,null,null,null,null,null,null,null,null,null,null,null,null,null,null,null,null,null,null,null,null,null,null,null,null,null,null,null,null,null,null,null,null,null,null,null,null,null,null,null,null,null,null,null,null,null,null,null,null,null,null,null,null,null,null,null,null,"","","","","","",0,0,0,0,0,0,null,null,null,null,null,null,null,null,null,null,null,null,null,null,null,null,null,null,null,null,"","","","","","","","",{"$f":"IF(AD114<AE114,\"* Los Procesados deben ser mayor o igual a los Reactivos en los 50 a 54. \",\"\")","v":""},null,null,null,null,null,null,null,null,null,null,null,null,null,null,null,null,null,0,0,0,0,0,0,0,0,{"$f":"IF(AD114<AE114,1,0)","v":0},null,null,0,0]
["DONANTES DE ÓRGANOS Y/O TEJIDOS",{"$f":"+D115+F115+H115+J115+L115+N115+P115+R115+T115+V115+X115+Z115+AB115+AD115+AF115+AH115+AJ115+AL115+AN115+AP115","v":0},{"$f":"+E115+G115+I115+K115+M115+O115+Q115+S115+U115+W115+Y115+AA115+AC115+AE115+AG115+AI115+AK115+AM115+AO115+AQ115","v":0},null,null,null,null,null,null,null,null,null,null,null,null,null,null,null,null,null,null,null,null,null,null,null,null,null,null,null,null,null,null,null,null,null,null,null,null,null,null,null,null,null,null,null,null,null,null,null,null,null,null,null,null,null,null,null,null,null,null,null,null,null,null,null,null,null,null,null,null,null,null,null,null,null,null,"","","","","","",0,0,0,0,0,0,null,null,null,null,null,null,null,null,null,null,null,null,null,null,{"$f":"IF(D115<E115,\"* Los Procesados deben ser mayor o igual a los Reactivos en los Menor de 6 meses. \",\"\")","v":""},{"$f":"IF(D115<E115,\"* Los Procesados deben ser mayor o igual a los Reactivos en los Menor de 6 meses. \",\"\")","v":""},{"$f":"IF(F115<G115,\"* Los Procesados deben ser mayor o igual a los Reactivos en los 6 a 11 meses. \",\"\")","v":""},{"$f":"IF(H115<I115,\"* Los Procesados deben ser mayor o igual a los Reactivos en los 12-24 meses. \",\"\")","v":""},{"$f":"IF(J115<K115,\"* Los Procesados deben ser mayor o igual a los Reactivos en los 3 a 4. \",\"\")","v":""},{"$f":"IF(L115<M115,\"* Los Procesados deben ser mayor o igual a los Reactivos en los 5 a 9. \",\"\")","v":""},{"$f":"IF(N115<O115,\"* Los Procesados deben ser mayor o igual a los Reactivos en los 10 - 14. \",\"\")","v":""},"","","","","","","",{"$f":"IF(AJ115<AK115,\"* Los Procesados deben ser mayor o igual a los Reactivos en los 65 a 69. \",\"\")","v":""},{"$f":"IF(AL115<AM115,\"* Los Procesados deben ser mayor o igual a los Reactivos en los 70 a 74. \",\"\")","v":""},{"$f":"IF(AN115<AO115,\"* Los Procesados deben ser mayor o igual a los Reactivos en los 75 a 79. \",\"\")","v":""},{"$f":"IF(AP115<AQ115,\"* Los Procesados deben ser mayor o igual a los Reactivos en los 80 y más. \",\"\")","v":""},null,null,null,null,null,null,null,null,{"$f":"IF(D115<E115,1,0)","v":0},{"$f":"IF(D115<E115,1,0)","v":0},{"$f":"IF(F115<G115,1,0)","v":0},{"$f":"IF(H115<I115,1,0)","v":0},{"$f":"IF(J115<K115,1,0)","v":0},{"$f":"IF(L115<M115,1,0)","v":0},{"$f":"IF(N115<O115,1,0)","v":0},0,0,0,0,0,0,0,{"$f":"IF(AJ115<AK115,1,0)","v":0},{"$f":"IF(AL115<AM115,1,0)","v":0},{"$f":"IF(AN115<AO115,1,0)","v":0},{"$f":"IF(AP115<AQ115,1,0)","v":0},0]
["PACIENTES EN DIÁLISIS",0,0,null,null,null,null,null,null,null,null,null,null,null,null,null,null,null,null,null,null,null,null,null,null,null,null,null,null,null,null,null,null,null,null,null,null,null,null,null,null,null,null,null,null,null,null,null,null,null,null,null,null,null,null,null,null,null,null,null,null,null,null,null,null,null,null,null,null,null,null,null,null,null,null,null,null,"","","","","","",0,0,0,0,0,0,null,null,null,null,null,null,null,null,null,null,null,null,null,null,{"$f":"IF(D116<E116,\"* Los Procesados deben ser mayor o igual a los Reactivos en los Menor de 6 meses. \",\"\")","v":""},{"$f":"IF(D116<E116,\"* Los Procesados deben ser mayor o igual a los Reactivos en los Menor de 6 meses. \",\"\")","v":""},{"$f":"IF(F116<G116,\"* Los Procesados deben ser mayor o igual a los Reactivos en los 6 a 11 meses. \",\"\")","v":""},{"$f":"IF(H116<I116,\"* Los Procesados deben ser mayor o igual a los Reactivos en los 12-24 meses. \",\"\")","v":""},{"$f":"IF(J116<K116,\"* Los Procesados deben ser mayor o igual a los Reactivos en los 3 a 4. \",\"\")","v":""},{"$f":"IF(L116<M116,\"* Los Procesados deben ser mayor o igual a los Reactivos en los 5 a 9. \",\"\")","v":""},{"$f":"IF(N116<O116,\"* Los Procesados deben ser mayor o igual a los Reactivos en los 10 - 14. \",\"\")","v":""},"","","","","","","",{"$f":"IF(AJ116<AK116,\"* Los Procesados deben ser mayor o igual a los Reactivos en los 65 a 69. \",\"\")","v":""},{"$f":"IF(AL116<AM116,\"* Los Procesados deben ser mayor o igual a los Reactivos en los 70 a 74. \",\"\")","v":""},{"$f":"IF(AN116<AO116,\"* Los Procesados deben ser mayor o igual a los Reactivos en los 75 a 79. \",\"\")","v":""},{"$f":"IF(AP116<AQ116,\"* Los Procesados deben ser mayor o igual a los Reactivos en los 80 y más. \",\"\")","v":""},null,null,null,null,null,null,null,null,{"$f":"IF(D116<E116,1,0)","v":0},{"$f":"IF(D116<E116,1,0)","v":0},{"$f":"IF(F116<G116,1,0)","v":0},{"$f":"IF(H116<I116,1,0)","v":0},{"$f":"IF(J116<K116,1,0)","v":0},{"$f":"IF(L116<M116,1,0)","v":0},{"$f":"IF(N116<O116,1,0)","v":0},0,0,0,0,0,0,0,{"$f":"IF(AJ116<AK116,1,0)","v":0},{"$f":"IF(AL116<AM116,1,0)","v":0},{"$f":"IF(AN116<AO116,1,0)","v":0},{"$f":"IF(AP116<AQ116,1,0)","v":0},0]
["VÍCTIMA DE VIOLENCIA SEXUAL",0,0,null,null,null,null,null,null,null,null,null,null,null,null,null,null,null,null,null,null,null,null,null,null,null,null,null,null,null,null,null,null,null,null,null,null,null,null,null,null,null,null,null,null,null,null,null,null,null,null,null,null,null,null,null,null,null,null,null,null,null,null,null,null,null,null,null,null,null,null,null,null,null,null,null,null,"","","","","","",0,0,0,0,0,0,null,null,null,null,null,null,null,null,null,null,null,null,null,null,{"$f":"IF(D117<E117,\"* Los Procesados deben ser mayor o igual a los Reactivos en los Menor de 6 meses. \",\"\")","v":""},{"$f":"IF(D117<E117,\"* Los Procesados deben ser mayor o igual a los Reactivos en los Menor de 6 meses. \",\"\")","v":""},{"$f":"IF(F117<G117,\"* Los Procesados deben ser mayor o igual a los Reactivos en los 6 a 11 meses. \",\"\")","v":""},{"$f":"IF(H117<I117,\"* Los Procesados deben ser mayor o igual a los Reactivos en los 12-24 meses. \",\"\")","v":""},{"$f":"IF(J117<K117,\"* Los Procesados deben ser mayor o igual a los Reactivos en los 3 a 4. \",\"\")","v":""},{"$f":"IF(L117<M117,\"* Los Procesados deben ser mayor o igual a los Reactivos en los 5 a 9. \",\"\")","v":""},{"$f":"IF(N117<O117,\"* Los Procesados deben ser mayor o igual a los Reactivos en los 10 - 14. \",\"\")","v":""},"","","","","","","",{"$f":"IF(AJ117<AK117,\"* Los Procesados deben ser mayor o igual a los Reactivos en los 65 a 69. \",\"\")","v":""},{"$f":"IF(AL117<AM117,\"* Los Procesados deben ser mayor o igual a los Reactivos en los 70 a 74. \",\"\")","v":""},{"$f":"IF(AN117<AO117,\"* Los Procesados deben ser mayor o igual a los Reactivos en los 75 a 79. \",\"\")","v":""},{"$f":"IF(AP117<AQ117,\"* Los Procesados deben ser mayor o igual a los Reactivos en los 80 y más. \",\"\")","v":""},null,null,null,null,null,null,null,null,{"$f":"IF(D117<E117,1,0)","v":0},{"$f":"IF(D117<E117,1,0)","v":0},{"$f":"IF(F117<G117,1,0)","v":0},{"$f":"IF(H117<I117,1,0)","v":0},{"$f":"IF(J117<K117,1,0)","v":0},{"$f":"IF(L117<M117,1,0)","v":0},{"$f":"IF(N117<O117,1,0)","v":0},0,0,0,0,0,0,0,{"$f":"IF(AJ117<AK117,1,0)","v":0},{"$f":"IF(AL117<AM117,1,0)","v":0},{"$f":"IF(AN117<AO117,1,0)","v":0},{"$f":"IF(AP117<AQ117,1,0)","v":0},0]
["SECCIÓN A.6: EXAMEN MHA-TP POR GRUPO DE USUARIOS (Uso exclusivo de establecimientos que Compran Servicio)"]
["GRUPO DE PESQUISA","TOTAL",null,"POR EDAD (en meses - años)",null,null,null,null,null,null,null,null,null,null,null,null,null,null,null,null,null,null,null,null,null,null,null,null,null,null,null,null,null,null,null,null,null,null,null,null,null,null,null,"POR SEXO\n(Procesados)",null,"TRANS",null,"Pueblos Originarios","Migrantes"]
[null,null,null,"Menor de 6 meses",null,"6 a 11 meses",null,"12-24 meses",null,"3 a 4",null,"5 a 9",null,"10 - 14",null,"15 - 19",null,"20 - 24",null,"25 a 29",null,"30 a 34",null,"35 a 39",null,"40 a 44",null,"45 a 49",null,"50 a 54",null,"55 a 59",null,"60 a 64",null,"65 a 69",null,"70 a 74",null,"75 a 79",null,"80 y más",null,"Hombres","Mujeres"]
[null,"Procesados","Reactivos","Procesados","Reactivos","Procesados","Reactivos","Procesados","Reactivos","Procesados","Reactivos","Procesados","Reactivos","Procesados","Reactivos","Procesados","Reactivos","Procesados","Reactivos","Procesados","Reactivos","Procesados","Reactivos","Procesados","Reactivos","Procesados","Reactivos","Procesados","Reactivos","Procesados","Reactivos","Procesados","Reactivos","Procesados","Reactivos","Procesados","Reactivos","Procesados","Reactivos","Procesados","Reactivos","Procesados","Reactivos",null,null,"Masculino","Femenino"]
["GESTANTES PRIMER TRIMESTRE EMBARAZO",{"$f":"+N122+P122+R122+T122+V122+X122+Z122+AB122+AD122+AF122+AH122+AJ122+AL122+AN122+AP122","v":0},{"$f":"+O122+Q122+S122+U122+W122+Y122+AA122+AC122+AE122+AG122+AI122+AK122+AM122+AO122+AQ122","v":0},null,null,null,null,null,null,null,null,null,null,null,null,null,null,null,null,null,null,null,null,null,null,null,null,null,null,null,null,null,null,null,null,null,null,null,null,null,null,null,null,null,null,null,null,null,null,null,null,null,null,null,null,null,null,null,null,null,null,null,null,null,null,null,null,null,null,null,null,null,null,null,null,null,null,{"$f":"IF(B122<   C122,\"* El total de Reactivos NO DEBE ser superior al total de Procesados. \",\"\")","v":""},{"$f":"IF(B122<   C122,\"* El total de Reactivos NO DEBE ser superior al total de Procesados. \",\"\")","v":""},{"$f":"IF(B122<> AR122+ AS122,\"* La suma de las columnas Sexo DEBE SER IGUAL a los Procesados. \",\"\")","v":""},{"$f":"IF(B122<  AT122+ AU122,\"* La suma de las columna Trans NO DEBE ser superior al total de Procesados. \",\"\")","v":""},{"$f":"IF(B122<  AV122,\"* La columna Pueblos Originarios NO DEBE ser superior al total de Procesados. \",\"\")","v":""},{"$f":"IF(B122<  AW122,\"* La columna Migrantes NO DEBE ser superior al total de Procesados. \",\"\")","v":""},{"$f":"IF(B122<   C122,1,0)","v":0},{"$f":"IF(B122<   C122,1,0)","v":0},{"$f":"IF(B122<> AR122+AS122,1,0)","v":0},{"$f":"IF(B122<  AT122+AU122,1,0)","v":0},{"$f":"IF(B122<  AV122,1,0)","v":0},{"$f":"IF(B122<  AW122,1,0)","v":0},null,null,null,null,null,null,null,null,null,null,null,null,null,null,null,null,null,null,null,{"$f":"IF(N122<O122,\"* Los Procesados deben ser mayor o igual a los Reactivos en los 10 - 14. \",\"\")","v":""},{"$f":"IF(N122<O122,\"* Los Procesados deben ser mayor o igual a los Reactivos en los 10 - 14. \",\"\")","v":""},{"$f":"IF(P122<Q122,\"* Los Procesados deben ser mayor o igual a los Reactivos en los 15 - 19. \",\"\")","v":""},{"$f":"IF(R122<S122,\"* Los Procesados deben ser mayor o igual a los Reactivos en los 20 - 24. \",\"\")","v":""},{"$f":"IF(T122<U122,\"* Los Procesados deben ser mayor o igual a los Reactivos en los 25 a 29. \",\"\")","v":""},{"$f":"IF(V122<W122,\"* Los Procesados deben ser mayor o igual a los Reactivos en los 30 a 34. \",\"\")","v":""},{"$f":"IF(X122<Y122,\"* Los Procesados deben ser mayor o igual a los Reactivos en los 35 a 39. \",\"\")","v":""},{"$f":"IF(AF122<AG122,\"* Los Procesados deben ser mayor o igual a los Reactivos en los 55 a 59. \",\"\")","v":""},{"$f":"IF(AH122<AI122,\"* Los Procesados deben ser mayor o igual a los Reactivos en los 60 a 64. \",\"\")","v":""},{"$f":"IF(AJ122<AK122,\"* Los Procesados deben ser mayor o igual a los Reactivos en los 65 a 69. \",\"\")","v":""},{"$f":"IF(AL122<AM122,\"* Los Procesados deben ser mayor o igual a los Reactivos en los 70 a 74. \",\"\")","v":""},{"$f":"IF(AN122<AO122,\"* Los Procesados deben ser mayor o igual a los Reactivos en los 75 a 79. \",\"\")","v":""},{"$f":"IF(AP122<AQ122,\"* Los Procesados deben ser mayor o igual a los Reactivos en los 80 y más. \",\"\")","v":""},null,null,null,null,null,null,null,null,null,null,null,null,null,{"$f":"IF(N122<O122,1,0)","v":0},{"$f":"IF(N122<O122,1,0)","v":0},{"$f":"IF(P122<Q122,1,0)","v":0},{"$f":"IF(R122<S122,1,0)","v":0},{"$f":"IF(T122<U122,1,0)","v":0},{"$f":"IF(V122<W122,1,0)","v":0},{"$f":"IF(X122<Y122,1,0)","v":0},{"$f":"IF(AF122<AG122,1,0)","v":0},{"$f":"IF(AH122<AI122,1,0)","v":0},{"$f":"IF(AJ122<AK122,1,0)","v":0},{"$f":"IF(AL122<AM122,1,0)","v":0},{"$f":"IF(AN122<AO122,1,0)","v":0},{"$f":"IF(AP122<AQ122,1,0)","v":0},0]
["GESTANTES SEGUNDO TRIMESTRE EMBARAZO",0,0,null,null,null,null,null,null,null,null,null,null,null,null,null,null,null,null,null,null,null,null,null,null,null,null,null,null,null,null,null,null,null,null,null,null,null,null,null,null,null,null,null,null,null,null,null,null,null,null,null,null,null,null,null,null,null,null,null,null,null,null,null,null,null,null,null,null,null,null,null,null,null,null,null,null,"","","","","","",0,0,0,0,0,0,null,null,null,null,null,null,null,null,null,null,null,null,null,null,null,null,null,null,null,"","","","","","","","","","","","","",null,null,null,null,null,null,null,null,null,null,null,null,null,0,0,0,0,0,0,0,0,0,0,0,0,0,0]
["GESTANTES TERCER TRIMESTRE EMBARAZO",0,0,null,null,null,null,null,null,null,null,null,null,null,null,null,null,null,null,null,null,null,null,null,null,null,null,null,null,null,null,null,null,null,null,null,null,null,null,null,null,null,null,null,null,null,null,null,null,null,null,null,null,null,null,null,null,null,null,null,null,null,null,null,null,null,null,null,null,null,null,null,null,null,null,null,null,"","","","","","",0,0,0,0,0,0,null,null,null,null,null,null,null,null,null,null,null,null,null,null,null,null,null,null,null,"","","","","","","","","","","","","",null,null,null,null,null,null,null,null,null,null,null,null,null,0,0,0,0,0,0,0,0,0,0,0,0,0,0]
["GESTANTES TRIMESTRE EMBARAZO IGNORADO",0,0,null,null,null,null,null,null,null,null,null,null,null,null,null,null,null,null,null,null,null,null,null,null,null,null,null,null,null,null,null,null,null,null,null,null,null,null,null,null,null,null,null,null,null,null,null,null,null,null,null,null,null,null,null,null,null,null,null,null,null,null,null,null,null,null,null,null,null,null,null,null,null,null,null,null,"","","","","","",0,0,0,0,0,0,null,null,null,null,null,null,null,null,null,null,null,null,null,null,null,null,null,null,null,"","","","","","","","","","","","","",null,null,null,null,null,null,null,null,null,null,null,null,null,0,0,0,0,0,0,0,0,0,0,0,0,0,0]
["GESTANTES EN SEGUIMIENTO POR DIAGNÓSTICO SÍFILIS",0,0,null,null,null,null,null,null,null,null,null,null,null,null,null,null,null,null,null,null,null,null,null,null,null,null,null,null,null,null,null,null,null,null,null,null,null,null,null,null,null,null,null,null,null,null,null,null,null,null,null,null,null,null,null,null,null,null,null,null,null,null,null,null,null,null,null,null,null,null,null,null,null,null,null,null,"","","","","","",0,0,0,0,0,0,null,null,null,null,null,null,null,null,null,null,null,null,null,null,null,null,null,null,null,"","","","","","","","","","","","","",null,null,null,null,null,null,null,null,null,null,null,null,null,0,0,0,0,0,0,0,0,0,0,0,0,0,0]
["PAREJA DE GESTANTE CON SEROLOGÍA REACTIVA",0,0,null,null,null,null,null,null,null,null,null,null,null,null,null,null,null,null,null,null,null,null,null,null,null,null,null,null,null,null,null,null,null,null,null,null,null,null,null,null,null,null,null,null,null,null,null,null,null,null,null,null,null,null,null,null,null,null,null,null,null,null,null,null,null,null,null,null,null,null,null,null,null,null,null,null,"","","","","","",0,0,0,0,0,0,null,null,null,null,null,null,null,null,null,null,null,null,null,null,null,null,null,null,null,"","","","","","","","","","","","","",null,null,null,null,null,null,null,null,null,null,null,null,null,0,0,0,0,0,0,0,0,0,0,0,0,0,0]
["MUJERES QUE INGRESAN A MATERNIDAD POR PARTO",0,0,null,null,null,null,null,null,null,null,null,null,null,null,null,null,null,null,null,null,null,null,null,null,null,null,null,null,null,null,null,null,null,null,null,null,null,null,null,null,null,null,null,null,null,null,null,null,null,null,null,null,null,null,null,null,null,null,null,null,null,null,null,null,null,null,null,null,null,null,null,null,null,null,null,null,"","","","","","",0,0,0,0,0,0,null,null,null,null,null,null,null,null,null,null,null,null,null,null,null,null,null,null,null,"","","","","","","","","","","","","",null,null,null,null,null,null,null,null,null,null,null,null,null,0,0,0,0,0,0,0,0,0,0,0,0,0,0]
["MUJERES QUE INGRESAN POR ABORTO",0,0,null,null,null,null,null,null,null,null,null,null,null,null,null,null,null,null,null,null,null,null,null,null,null,null,null,null,null,null,null,null,null,null,null,null,null,null,null,null,null,null,null,null,null,null,null,null,null,null,null,null,null,null,null,null,null,null,null,null,null,null,null,null,null,null,null,null,null,null,null,null,null,null,null,null,"","","","","","",0,0,0,0,0,0,null,null,null,null,null,null,null,null,null,null,null,null,null,null,null,null,null,null,null,"","","","","","","","","","","","","",null,null,null,null,null,null,null,null,null,null,null,null,null,0,0,0,0,0,0,0,0,0,0,0,0,0,0]
["MUJERES EN CONTROL GINECOLÓGICO",{"$f":"+D130+F130+H130+J130+L130+N130+P130+R130+T130+V130+X130+Z130+AB130+AD130+AF130+AH130+AJ130+AL130+AN130+AP130","v":0},{"$f":"+E130+G130+I130+K130+M130+O130+Q130+S130+U130+W130+Y130+AA130+AC130+AE130+AG130+AI130+AK130+AM130+AO130+AQ130","v":0},null,null,null,null,null,null,null,null,null,null,null,null,null,null,null,null,null,null,null,null,null,null,null,null,null,null,null,null,null,null,null,null,null,null,null,null,null,null,null,null,null,null,null,null,null,null,null,null,null,null,null,null,null,null,null,null,null,null,null,null,null,null,null,null,null,null,null,null,null,null,null,null,null,null,"","","","","","",0,0,0,0,0,0,null,null,null,null,null,null,null,null,null,null,null,null,null,null,{"$f":"IF(D130<E130,\"* Los Procesados deben ser mayor o igual a los Reactivos en los Menor de 6 meses. \",\"\")","v":""},{"$f":"IF(D130<E130,\"* Los Procesados deben ser mayor o igual a los Reactivos en los Menor de 6 meses. \",\"\")","v":""},{"$f":"IF(F130<G130,\"* Los Procesados deben ser mayor o igual a los Reactivos en los 6 a 11 meses. \",\"\")","v":""},{"$f":"IF(H130<I130,\"* Los Procesados deben ser mayor o igual a los Reactivos en los 12-24 meses. \",\"\")","v":""},{"$f":"IF(J130<K130,\"* Los Procesados deben ser mayor o igual a los Reactivos en los 3 a 4. \",\"\")","v":""},{"$f":"IF(L130<M130,\"* Los Procesados deben ser mayor o igual a los Reactivos en los 5 a 9. \",\"\")","v":""},"","","","","","","","","","","","",null,null,null,null,null,null,null,null,{"$f":"IF(D130<E130,1,0)","v":0},{"$f":"IF(D130<E130,1,0)","v":0},{"$f":"IF(F130<G130,1,0)","v":0},{"$f":"IF(H130<I130,1,0)","v":0},{"$f":"IF(J130<K130,1,0)","v":0},{"$f":"IF(L130<M130,1,0)","v":0},0,0,0,0,0,0,0,0,0,0,0,0,0]
["RECIÉN NACIDO Y LACTANTE PARA DETECCIÓN DE SÍFILIS CONGÉNITA",{"$f":"+D131+F131+H131","v":0},{"$f":"+E131+G131+I131","v":0},null,null,null,null,null,null,null,null,null,null,null,null,null,null,null,null,null,null,null,null,null,null,null,null,null,null,null,null,null,null,null,null,null,null,null,null,null,null,null,null,null,null,null,null,null,null,null,null,null,null,null,null,null,null,null,null,null,null,null,null,null,null,null,null,null,null,null,null,null,null,null,null,null,null,"","","","","","",0,0,0,0,0,0,null,null,null,null,null,null,null,null,null,null,null,null,null,null,{"$f":"IF(D131<E131,\"* Los Procesados deben ser mayor o igual a los Reactivos en los Menor de 6 meses. \",\"\")","v":""},{"$f":"IF(D131<E131,\"* Los Procesados deben ser mayor o igual a los Reactivos en los Menor de 6 meses. \",\"\")","v":""},{"$f":"IF(F131<G131,\"* Los Procesados deben ser mayor o igual a los Reactivos en los 6 a 11 meses. \",\"\")","v":""},{"$f":"IF(H131<I131,\"* Los Procesados deben ser mayor o igual a los Reactivos en los 12-24 meses. \",\"\")","v":""},null,null,null,null,null,null,null,null,null,null,null,null,null,null,null,null,null,null,null,null,null,null,{"$f":"IF(D131<E131,1,0)","v":0},{"$f":"IF(D131<E131,1,0)","v":0},{"$f":"IF(F131<G131,1,0)","v":0},{"$f":"IF(H131<I131,1,0)","v":0},null,null,null,null,null,null,null,null,null,null,null,null,null,0,0]
["PERSONAS EN CONTROL POR COMERCIO SEXUAL",{"$f":"+P132+R132+T132+V132+X132+Z132+AB132+AD132+AF132+AH132+AJ132+AL132+AN132+AP132","v":0},{"$f":"+Q132+S132+U132+W132+Y132+AA132+AC132+AE132+AG132+AI132+AK132+AM132+AO132+AQ132","v":0},null,null,null,null,null,null,null,null,null,null,null,null,null,null,null,null,null,null,null,null,null,null,null,null,null,null,null,null,null,null,null,null,null,null,null,null,null,null,null,null,null,null,null,null,null,null,null,null,null,null,null,null,null,null,null,null,null,null,null,null,null,null,null,null,null,null,null,null,null,null,null,null,null,null,"","","","","","",0,0,0,0,0,0,null,null,null,null,null,null,null,null,null,null,null,null,null,null,null,null,null,null,null,null,{"$f":"IF(P132<Q132,\"* Los Procesados deben ser mayor o igual a los Reactivos en los 15 - 19. \",\"\")","v":""},{"$f":"IF(P132<Q132,\"* Los Procesados deben ser mayor o igual a los Reactivos en los 15 - 19. \",\"\")","v":""},{"$f":"IF(R132<S132,\"* Los Procesados deben ser mayor o igual a los Reactivos en los 20 - 24. \",\"\")","v":""},{"$f":"IF(T132<U132,\"* Los Procesados deben ser mayor o igual a los Reactivos en los 25 a 29. \",\"\")","v":""},{"$f":"IF(V132<W132,\"* Los Procesados deben ser mayor o igual a los Reactivos en los 30 a 34. \",\"\")","v":""},{"$f":"IF(X132<Y132,\"* Los Procesados deben ser mayor o igual a los Reactivos en los 35 a 39. \",\"\")","v":""},{"$f":"IF(AF132<AG132,\"* Los Procesados deben ser mayor o igual a los Reactivos en los 55 a 59. \",\"\")","v":""},{"$f":"IF(AH132<AI132,\"* Los Procesados deben ser mayor o igual a los Reactivos en los 60 a 64. \",\"\")","v":""},{"$f":"IF(AJ132<AK132,\"* Los Procesados deben ser mayor o igual a los Reactivos en los 65 a 69. \",\"\")","v":""},{"$f":"IF(AL132<AM132,\"* Los Procesados deben ser mayor o igual a los Reactivos en los 70 a 74. \",\"\")","v":""},{"$f":"IF(AN132<AO132,\"* Los Procesados deben ser mayor o igual a los Reactivos en los 75 a 79. \",\"\")","v":""},{"$f":"IF(AP132<AQ132,\"* Los Procesados deben ser mayor o igual a los Reactivos en los 80 y más. \",\"\")","v":""},null,null,null,null,null,null,null,null,null,null,null,null,null,null,{"$f":"IF(P132<Q132,1,0)","v":0},{"$f":"IF(P132<Q132,1,0)","v":0},{"$f":"IF(R132<S132,1,0)","v":0},{"$f":"IF(T132<U132,1,0)","v":0},{"$f":"IF(V132<W132,1,0)","v":0},{"$f":"IF(X132<Y132,1,0)","v":0},{"$f":"IF(AF132<AG132,1,0)","v":0},{"$f":"IF(AH132<AI132,1,0)","v":0},{"$f":"IF(AJ132<AK132,1,0)","v":0},{"$f":"IF(AL132<AM132,1,0)","v":0},{"$f":"IF(AN132<AO132,1,0)","v":0},{"$f":"IF(AP132<AQ132,1,0)","v":0},0]
["PERSONAS EN CONTROL FECUNDIDAD",{"$f":"+N133+P133+R133+T133+V133+X133+Z133+AB133+AD133+AF133+AH133+AJ133+AL133+AN133+AP133","v":0},{"$f":"+O133+Q133+S133+U133+W133+Y133+AA133+AC133+AE133+AG133+AI133+AK133+AM133+AO133+AQ133","v":0},null,null,null,null,null,null,null,null,null,null,null,null,null,null,null,null,null,null,null,null,null,null,null,null,null,null,null,null,null,null,null,null,null,null,null,null,null,null,null,null,null,null,null,null,null,null,null,null,null,null,null,null,null,null,null,null,null,null,null,null,null,null,null,null,null,null,null,null,null,null,null,null,null,null,"","","","","","",0,0,0,0,0,0,null,null,null,null,null,null,null,null,null,null,null,null,null,null,null,null,null,null,null,{"$f":"IF(N133<O133,\"* Los Procesados deben ser mayor o igual a los Reactivos en los 10 - 14. \",\"\")","v":""},{"$f":"IF(N133<O133,\"* Los Procesados deben ser mayor o igual a los Reactivos en los 10 - 14. \",\"\")","v":""},"","","","","","","",{"$f":"IF(AJ133<AK133,\"* Los Procesados deben ser mayor o igual a los Reactivos en los 65 a 69. \",\"\")","v":""},{"$f":"IF(AL133<AM133,\"* Los Procesados deben ser mayor o igual a los Reactivos en los 70 a 74. \",\"\")","v":""},{"$f":"IF(AN133<AO133,\"* Los Procesados deben ser mayor o igual a los Reactivos en los 75 a 79. \",\"\")","v":""},{"$f":"IF(AP133<AQ133,\"* Los Procesados deben ser mayor o igual a los Reactivos en los 80 y más. \",\"\")","v":""},null,null,null,null,null,null,null,null,null,null,null,null,null,{"$f":"IF(N133<O133,1,0)","v":0},{"$f":"IF(N133<O133,1,0)","v":0},0,0,0,0,0,0,0,{"$f":"IF(AJ133<AK133,1,0)","v":0},{"$f":"IF(AL133<AM133,1,0)","v":0},{"$f":"IF(AN133<AO133,1,0)","v":0},{"$f":"IF(AP133<AQ133,1,0)","v":0},0]
["CONSULTANTES POR ITS",{"$f":"+D134+F134+H134+J134+L134+N134+P134+R134+T134+V134+X134+Z134+AB134+AD134+AF134+AH134+AJ134+AL134+AN134+AP134","v":0},{"$f":"+E134+G134+I134+K134+M134+O134+Q134+S134+U134+W134+Y134+AA134+AC134+AE134+AG134+AI134+AK134+AM134+AO134+AQ134","v":0},null,null,null,null,null,null,null,null,null,null,null,null,null,null,null,null,null,null,null,null,null,null,null,null,null,null,null,null,null,null,null,null,null,null,null,null,null,null,null,null,null,null,null,null,null,null,null,null,null,null,null,null,null,null,null,null,null,null,null,null,null,null,null,null,null,null,null,null,null,null,null,null,null,null,"","","","","","",0,0,0,0,0,0,null,null,null,null,null,null,null,null,null,null,null,null,null,null,{"$f":"IF(D134<E134,\"* Los Procesados deben ser mayor o igual a los Reactivos en los Menor de 6 meses. \",\"\")","v":""},{"$f":"IF(D134<E134,\"* Los Procesados deben ser mayor o igual a los Reactivos en los Menor de 6 meses. \",\"\")","v":""},{"$f":"IF(F134<G134,\"* Los Procesados deben ser mayor o igual a los Reactivos en los 6 a 11 meses. \",\"\")","v":""},{"$f":"IF(H134<I134,\"* Los Procesados deben ser mayor o igual a los Reactivos en los 12-24 meses. \",\"\")","v":""},{"$f":"IF(J134<K134,\"* Los Procesados deben ser mayor o igual a los Reactivos en los 3 a 4. \",\"\")","v":""},{"$f":"IF(L134<M134,\"* Los Procesados deben ser mayor o igual a los Reactivos en los 5 a 9. \",\"\")","v":""},{"$f":"IF(N134<O134,\"* Los Procesados deben ser mayor o igual a los Reactivos en los 10 - 14. \",\"\")","v":""},"","","","","","","",{"$f":"IF(AJ134<AK134,\"* Los Procesados deben ser mayor o igual a los Reactivos en los 65 a 69. \",\"\")","v":""},{"$f":"IF(AL134<AM134,\"* Los Procesados deben ser mayor o igual a los Reactivos en los 70 a 74. \",\"\")","v":""},{"$f":"IF(AN134<AO134,\"* Los Procesados deben ser mayor o igual a los Reactivos en los 75 a 79. \",\"\")","v":""},{"$f":"IF(AP134<AQ134,\"* Los Procesados deben ser mayor o igual a los Reactivos en los 80 y más. \",\"\")","v":""},null,null,null,null,null,null,null,null,{"$f":"IF(D134<E134,1,0)","v":0},{"$f":"IF(D134<E134,1,0)","v":0},{"$f":"IF(F134<G134,1,0)","v":0},{"$f":"IF(H134<I134,1,0)","v":0},{"$f":"IF(J134<K134,1,0)","v":0},{"$f":"IF(L134<M134,1,0)","v":0},{"$f":"IF(N134<O134,1,0)","v":0},0,0,0,0,0,0,0,{"$f":"IF(AJ134<AK134,1,0)","v":0},{"$f":"IF(AL134<AM134,1,0)","v":0},{"$f":"IF(AN134<AO134,1,0)","v":0},{"$f":"IF(AP134<AQ134,1,0)","v":0},0]
["PERSONAS CON EMP",{"$f":"+P135+R135+T135+V135+X135+Z135+AB135+AD135+AF135+AH135+AJ135+AL135+AN135+AP135","v":0},{"$f":"+Q135+S135+U135+W135+Y135+AA135+AC135+AE135+AG135+AI135+AK135+AM135+AO135+AQ135","v":0},null,null,null,null,null,null,null,null,null,null,null,null,null,null,null,null,null,null,null,null,null,null,null,null,null,null,null,null,null,null,null,null,null,null,null,null,null,null,null,null,null,null,null,null,null,null,null,null,null,null,null,null,null,null,null,null,null,null,null,null,null,null,null,null,null,null,null,null,null,null,null,null,null,null,"","","","","","",0,0,0,0,0,0,null,null,null,null,null,null,null,null,null,null,null,null,null,null,null,null,null,null,null,null,"","","","","","","","",{"$f":"IF(AJ135<AK135,\"* Los Procesados deben ser mayor o igual a los Reactivos en los 65 a 69. \",\"\")","v":""},{"$f":"IF(AL135<AM135,\"* Los Procesados deben ser mayor o igual a los Reactivos en los 70 a 74. \",\"\")","v":""},{"$f":"IF(AN135<AO135,\"* Los Procesados deben ser mayor o igual a los Reactivos en los 75 a 79. \",\"\")","v":""},{"$f":"IF(AP135<AQ135,\"* Los Procesados deben ser mayor o igual a los Reactivos en los 80 y más. \",\"\")","v":""},null,null,null,null,null,null,null,null,null,null,null,null,null,null,0,0,0,0,0,0,0,0,{"$f":"IF(AJ135<AK135,1,0)","v":0},{"$f":"IF(AL135<AM135,1,0)","v":0},{"$f":"IF(AN135<AO135,1,0)","v":0},{"$f":"IF(AP135<AQ135,1,0)","v":0},0]
["DONANTES DE SANGRE",{"$f":"+P136+R136+T136+V136+X136+Z136+AB136+AD136+AF136+AH136","v":0},{"$f":"+Q136+S136+U136+W136+Y136+AA136+AC136+AE136+AG136+AI136","v":0},null,null,null,null,null,null,null,null,null,null,null,null,null,null,null,null,null,null,null,null,null,null,null,null,null,null,null,null,null,null,null,null,null,null,null,null,null,null,null,null,null,null,null,null,null,null,null,null,null,null,null,null,null,null,null,null,null,null,null,null,null,null,null,null,null,null,null,null,null,null,null,null,null,null,"","","","","","",0,0,0,0,0,0,null,null,null,null,null,null,null,null,null,null,null,null,null,null,null,null,null,null,null,null,"","","","","","","","",{"$f":"IF(AD136<AE136,\"* Los Procesados deben ser mayor o igual a los Reactivos en los 50 a 54. \",\"\")","v":""},null,null,null,null,null,null,null,null,null,null,null,null,null,null,null,null,null,0,0,0,0,0,0,0,0,{"$f":"IF(AD136<AE136,1,0)","v":0},null,null,0,0]
["DONANTES DE ÓRGANOS Y/O TEJIDOS",{"$f":"+D137+F137+H137+J137+L137+N137+P137+R137+T137+V137+X137+Z137+AB137+AD137+AF137+AH137+AJ137+AL137+AN137+AP137","v":0},{"$f":"+E137+G137+I137+K137+M137+O137+Q137+S137+U137+W137+Y137+AA137+AC137+AE137+AG137+AI137+AK137+AM137+AO137+AQ137","v":0},null,null,null,null,null,null,null,null,null,null,null,null,null,null,null,null,null,null,null,null,null,null,null,null,null,null,null,null,null,null,null,null,null,null,null,null,null,null,null,null,null,null,null,null,null,null,null,null,null,null,null,null,null,null,null,null,null,null,null,null,null,null,null,null,null,null,null,null,null,null,null,null,null,null,"","","","","","",0,0,0,0,0,0,null,null,null,null,null,null,null,null,null,null,null,null,null,null,{"$f":"IF(D137<E137,\"* Los Procesados deben ser mayor o igual a los Reactivos en los Menor de 6 meses. \",\"\")","v":""},{"$f":"IF(D137<E137,\"* Los Procesados deben ser mayor o igual a los Reactivos en los Menor de 6 meses. \",\"\")","v":""},{"$f":"IF(F137<G137,\"* Los Procesados deben ser mayor o igual a los Reactivos en los 6 a 11 meses. \",\"\")","v":""},{"$f":"IF(H137<I137,\"* Los Procesados deben ser mayor o igual a los Reactivos en los 12-24 meses. \",\"\")","v":""},{"$f":"IF(J137<K137,\"* Los Procesados deben ser mayor o igual a los Reactivos en los 3 a 4. \",\"\")","v":""},{"$f":"IF(L137<M137,\"* Los Procesados deben ser mayor o igual a los Reactivos en los 5 a 9. \",\"\")","v":""},{"$f":"IF(N137<O137,\"* Los Procesados deben ser mayor o igual a los Reactivos en los 10 - 14. \",\"\")","v":""},"","","","","","","",{"$f":"IF(AJ137<AK137,\"* Los Procesados deben ser mayor o igual a los Reactivos en los 65 a 69. \",\"\")","v":""},{"$f":"IF(AL137<AM137,\"* Los Procesados deben ser mayor o igual a los Reactivos en los 70 a 74. \",\"\")","v":""},{"$f":"IF(AN137<AO137,\"* Los Procesados deben ser mayor o igual a los Reactivos en los 75 a 79. \",\"\")","v":""},{"$f":"IF(AP137<AQ137,\"* Los Procesados deben ser mayor o igual a los Reactivos en los 80 y más. \",\"\")","v":""},null,null,null,null,null,null,null,null,{"$f":"IF(D137<E137,1,0)","v":0},{"$f":"IF(D137<E137,1,0)","v":0},{"$f":"IF(F137<G137,1,0)","v":0},{"$f":"IF(H137<I137,1,0)","v":0},{"$f":"IF(J137<K137,1,0)","v":0},{"$f":"IF(L137<M137,1,0)","v":0},{"$f":"IF(N137<O137,1,0)","v":0},0,0,0,0,0,0,0,{"$f":"IF(AJ137<AK137,1,0)","v":0},{"$f":"IF(AL137<AM137,1,0)","v":0},{"$f":"IF(AN137<AO137,1,0)","v":0},{"$f":"IF(AP137<AQ137,1,0)","v":0},0]
["PACIENTES EN DIÁLISIS",0,0,null,null,null,null,null,null,null,null,null,null,null,null,null,null,null,null,null,null,null,null,null,null,null,null,null,null,null,null,null,null,null,null,null,null,null,null,null,null,null,null,null,null,null,null,null,null,null,null,null,null,null,null,null,null,null,null,null,null,null,null,null,null,null,null,null,null,null,null,null,null,null,null,null,null,"","","","","","",0,0,0,0,0,0,null,null,null,null,null,null,null,null,null,null,null,null,null,null,{"$f":"IF(D138<E138,\"* Los Procesados deben ser mayor o igual a los Reactivos en los Menor de 6 meses. \",\"\")","v":""},{"$f":"IF(D138<E138,\"* Los Procesados deben ser mayor o igual a los Reactivos en los Menor de 6 meses. \",\"\")","v":""},{"$f":"IF(F138<G138,\"* Los Procesados deben ser mayor o igual a los Reactivos en los 6 a 11 meses. \",\"\")","v":""},{"$f":"IF(H138<I138,\"* Los Procesados deben ser mayor o igual a los Reactivos en los 12-24 meses. \",\"\")","v":""},{"$f":"IF(J138<K138,\"* Los Procesados deben ser mayor o igual a los Reactivos en los 3 a 4. \",\"\")","v":""},{"$f":"IF(L138<M138,\"* Los Procesados deben ser mayor o igual a los Reactivos en los 5 a 9. \",\"\")","v":""},{"$f":"IF(N138<O138,\"* Los Procesados deben ser mayor o igual a los Reactivos en los 10 - 14. \",\"\")","v":""},"","","","","","","",{"$f":"IF(AJ138<AK138,\"* Los Procesados deben ser mayor o igual a los Reactivos en los 65 a 69. \",\"\")","v":""},{"$f":"IF(AL138<AM138,\"* Los Procesados deben ser mayor o igual a los Reactivos en los 70 a 74. \",\"\")","v":""},{"$f":"IF(AN138<AO138,\"* Los Procesados deben ser mayor o igual a los Reactivos en los 75 a 79. \",\"\")","v":""},{"$f":"IF(AP138<AQ138,\"* Los Procesados deben ser mayor o igual a los Reactivos en los 80 y más. \",\"\")","v":""},null,null,null,null,null,null,null,null,{"$f":"IF(D138<E138,1,0)","v":0},{"$f":"IF(D138<E138,1,0)","v":0},{"$f":"IF(F138<G138,1,0)","v":0},{"$f":"IF(H138<I138,1,0)","v":0},{"$f":"IF(J138<K138,1,0)","v":0},{"$f":"IF(L138<M138,1,0)","v":0},{"$f":"IF(N138<O138,1,0)","v":0},0,0,0,0,0,0,0,{"$f":"IF(AJ138<AK138,1,0)","v":0},{"$f":"IF(AL138<AM138,1,0)","v":0},{"$f":"IF(AN138<AO138,1,0)","v":0},{"$f":"IF(AP138<AQ138,1,0)","v":0},0]
["VÍCTIMA DE VIOLENCIA SEXUAL",0,0,null,null,null,null,null,null,null,null,null,null,null,null,null,null,null,null,null,null,null,null,null,null,null,null,null,null,null,null,null,null,null,null,null,null,null,null,null,null,null,null,null,null,null,null,null,null,null,null,null,null,null,null,null,null,null,null,null,null,null,null,null,null,null,null,null,null,null,null,null,null,null,null,null,null,"","","","","","",0,0,0,0,0,0,null,null,null,null,null,null,null,null,null,null,null,null,null,null,{"$f":"IF(D139<E139,\"* Los Procesados deben ser mayor o igual a los Reactivos en los Menor de 6 meses. \",\"\")","v":""},{"$f":"IF(D139<E139,\"* Los Procesados deben ser mayor o igual a los Reactivos en los Menor de 6 meses. \",\"\")","v":""},{"$f":"IF(F139<G139,\"* Los Procesados deben ser mayor o igual a los Reactivos en los 6 a 11 meses. \",\"\")","v":""},{"$f":"IF(H139<I139,\"* Los Procesados deben ser mayor o igual a los Reactivos en los 12-24 meses. \",\"\")","v":""},{"$f":"IF(J139<K139,\"* Los Procesados deben ser mayor o igual a los Reactivos en los 3 a 4. \",\"\")","v":""},{"$f":"IF(L139<M139,\"* Los Procesados deben ser mayor o igual a los Reactivos en los 5 a 9. \",\"\")","v":""},{"$f":"IF(N139<O139,\"* Los Procesados deben ser mayor o igual a los Reactivos en los 10 - 14. \",\"\")","v":""},"","","","","","","",{"$f":"IF(AJ139<AK139,\"* Los Procesados deben ser mayor o igual a los Reactivos en los 65 a 69. \",\"\")","v":""},{"$f":"IF(AL139<AM139,\"* Los Procesados deben ser mayor o igual a los Reactivos en los 70 a 74. \",\"\")","v":""},{"$f":"IF(AN139<AO139,\"* Los Procesados deben ser mayor o igual a los Reactivos en los 75 a 79. \",\"\")","v":""},{"$f":"IF(AP139<AQ139,\"* Los Procesados deben ser mayor o igual a los Reactivos en los 80 y más. \",\"\")","v":""},null,null,null,null,null,null,null,null,{"$f":"IF(D139<E139,1,0)","v":0},{"$f":"IF(D139<E139,1,0)","v":0},{"$f":"IF(F139<G139,1,0)","v":0},{"$f":"IF(H139<I139,1,0)","v":0},{"$f":"IF(J139<K139,1,0)","v":0},{"$f":"IF(L139<M139,1,0)","v":0},{"$f":"IF(N139<O139,1,0)","v":0},0,0,0,0,0,0,0,{"$f":"IF(AJ139<AK139,1,0)","v":0},{"$f":"IF(AL139<AM139,1,0)","v":0},{"$f":"IF(AN139<AO139,1,0)","v":0},{"$f":"IF(AP139<AQ139,1,0)","v":0},0]
["SECCIÓN B.1: EXÁMENES SEGÚN GRUPOS DE USUARIOS POR CONDICIÓN DE HEPATITIS B, HEPATITIS C, CHAGAS, HTLV 1 Y SIFILIS (Uso exclusivo de establecimientos con Laboratorio que procesan)"]
["GRUPO DE USUARIOS",null,"HEPATITIS  B",null,null,"HEPATITIS  C",null,null,"CHAGAS",null,null,"HTLV1",null,null,"SÍFILIS"]
[null,null,"Procesados","Reactivos","Confirmados","Procesados","Reactivos","Confirmados","Procesados","Reactivos","Confirmados","Procesados","Reactivos","Confirmados","Procesados","Reactivos"]
["USUARIOS",null,null,null,null,null,null,null,null,null,null,null,null,null,null,null,null,null,null,null,null,null,null,null,null,null,null,null,null,null,null,null,null,null,null,null,null,null,null,null,null,null,null,null,null,null,null,null,null,null,null,null,null,null,null,null,null,null,null,null,null,null,null,null,null,null,null,null,null,null,null,null,null,null,null,null,null,null,{"$f":"IF(C143>=D143,\"\",\"* Los exámenes Reactivos de Hepatitis B NO DEBEN ser mayor a los exámenes Procesados. \")","v":""},{"$f":"IF(F143>=G143,\"\",\"* Los exámenes Reactivos de Hepatitis C NO DEBEN ser mayor a los exámenes Procesados. \")","v":""},{"$f":"IF(I143>=J143,\"\",\"* Los exámenes Reactivos de CHAGAS NO DEBEN ser mayor a los exámenes Procesados. \")","v":""},{"$f":"IF(L143>=M143,\"\",\"* Los exámenes Reactivos de HTLV1 NO DEBEN ser mayor a los exámenes Procesados. \")","v":""},{"$f":"IF(O143>=P143,\"\",\"* Los exámenes Reactivos de SIFILIS NO DEBEN ser mayor a los exámenes Procesados. \")","v":""},null,null,null,null,{"$f":"IF(C143>=D143,0,1)","v":0},{"$f":"IF(F143>=G143,0,1)","v":0},{"$f":"IF(I143>=J143,0,1)","v":0},{"$f":"IF(L143>=M143,0,1)","v":0},{"$f":"IF(O143>=P143,0,1)","v":0}]
["DONANTES","ALTRUISTA NUEVO",null,null,null,null,null,null,null,null,null,null,null,null,null,null,null,null,null,null,null,null,null,null,null,null,null,null,null,null,null,null,null,null,null,null,null,null,null,null,null,null,null,null,null,null,null,null,null,null,null,null,null,null,null,null,null,null,null,null,null,null,null,null,null,null,null,null,null,null,null,null,null,null,null,null,null,null,{"$f":"IF(C144>=D144,\"\",\"* Los exámenes Reactivos de Hepatitis B NO DEBEN ser mayor a los exámenes Procesados. \")","v":""},{"$f":"IF(F144>=G144,\"\",\"* Los exámenes Reactivos de Hepatitis C NO DEBEN ser mayor a los exámenes Procesados. \")","v":""},{"$f":"IF(I144>=J144,\"\",\"* Los exámenes Reactivos de CHAGAS NO DEBEN ser mayor a los exámenes Procesados. \")","v":""},{"$f":"IF(L144>=M144,\"\",\"* Los exámenes Reactivos de HTLV1 NO DEBEN ser mayor a los exámenes Procesados. \")","v":""},{"$f":"IF(O144>=P144,\"\",\"* Los exámenes Reactivos de SIFILIS NO DEBEN ser mayor a los exámenes Procesados. \")","v":""},null,null,null,null,{"$f":"IF(C144>=D144,0,1)","v":0},{"$f":"IF(F144>=G144,0,1)","v":0},{"$f":"IF(I144>=J144,0,1)","v":0},{"$f":"IF(L144>=M144,0,1)","v":0},{"$f":"IF(O144>=P144,0,1)","v":0}]
[null,"ALTRUISTA REPETIDO",null,null,null,null,null,null,null,null,null,null,null,null,null,null,null,null,null,null,null,null,null,null,null,null,null,null,null,null,null,null,null,null,null,null,null,null,null,null,null,null,null,null,null,null,null,null,null,null,null,null,null,null,null,null,null,null,null,null,null,null,null,null,null,null,null,null,null,null,null,null,null,null,null,null,null,null,{"$f":"IF(C145>=D145,\"\",\"* Los exámenes Reactivos de Hepatitis B NO DEBEN ser mayor a los exámenes Procesados. \")","v":""},{"$f":"IF(F145>=G145,\"\",\"* Los exámenes Reactivos de Hepatitis C NO DEBEN ser mayor a los exámenes Procesados. \")","v":""},{"$f":"IF(I145>=J145,\"\",\"* Los exámenes Reactivos de CHAGAS NO DEBEN ser mayor a los exámenes Procesados. \")","v":""},{"$f":"IF(L145>=M145,\"\",\"* Los exámenes Reactivos de HTLV1 NO DEBEN ser mayor a los exámenes Procesados. \")","v":""},{"$f":"IF(O145>=P145,\"\",\"* Los exámenes Reactivos de SIFILIS NO DEBEN ser mayor a los exámenes Procesados. \")","v":""},null,null,null,null,{"$f":"IF(C145>=D145,0,1)","v":0},{"$f":"IF(F145>=G145,0,1)","v":0},{"$f":"IF(I145>=J145,0,1)","v":0},{"$f":"IF(L145>=M145,0,1)","v":0},{"$f":"IF(O145>=P145,0,1)","v":0}]
[null,"FAMILIAR O REPOSICIÓN",null,null,null,null,null,null,null,null,null,null,null,null,null,null,null,null,null,null,null,null,null,null,null,null,null,null,null,null,null,null,null,null,null,null,null,null,null,null,null,null,null,null,null,null,null,null,null,null,null,null,null,null,null,null,null,null,null,null,null,null,null,null,null,null,null,null,null,null,null,null,null,null,null,null,null,null,{"$f":"IF(C146>=D146,\"\",\"* Los exámenes Reactivos de Hepatitis B NO DEBEN ser mayor a los exámenes Procesados. \")","v":""},{"$f":"IF(F146>=G146,\"\",\"* Los exámenes Reactivos de Hepatitis C NO DEBEN ser mayor a los exámenes Procesados. \")","v":""},{"$f":"IF(I146>=J146,\"\",\"* Los exámenes Reactivos de CHAGAS NO DEBEN ser mayor a los exámenes Procesados. \")","v":""},{"$f":"IF(L146>=M146,\"\",\"* Los exámenes Reactivos de HTLV1 NO DEBEN ser mayor a los exámenes Procesados. \")","v":""},{"$f":"IF(O146>=P146,\"\",\"* Los exámenes Reactivos de SIFILIS NO DEBEN ser mayor a los exámenes Procesados. \")","v":""},null,null,null,null,{"$f":"IF(C146>=D146,0,1)","v":0},{"$f":"IF(F146>=G146,0,1)","v":0},{"$f":"IF(I146>=J146,0,1)","v":0},{"$f":"IF(L146>=M146,0,1)","v":0},{"$f":"IF(O146>=P146,0,1)","v":0}]
["DONANTES DE ÓRGANOS Y/O TEJIDOS",null,null,null,null,null,null,null,null,null,null,null,null,null,null,null,null,null,null,null,null,null,null,null,null,null,null,null,null,null,null,null,null,null,null,null,null,null,null,null,null,null,null,null,null,null,null,null,null,null,null,null,null,null,null,null,null,null,null,null,null,null,null,null,null,null,null,null,null,null,null,null,null,null,null,null,null,null,{"$f":"IF(C147>=D147,\"\",\"* Los exámenes Reactivos de Hepatitis B NO DEBEN ser mayor a los exámenes Procesados. \")","v":""},{"$f":"IF(F147>=G147,\"\",\"* Los exámenes Reactivos de Hepatitis C NO DEBEN ser mayor a los exámenes Procesados. \")","v":""},{"$f":"IF(I147>=J147,\"\",\"* Los exámenes Reactivos de CHAGAS NO DEBEN ser mayor a los exámenes Procesados. \")","v":""},{"$f":"IF(L147>=M147,\"\",\"* Los exámenes Reactivos de HTLV1 NO DEBEN ser mayor a los exámenes Procesados. \")","v":""},{"$f":"IF(O147>=P147,\"\",\"* Los exámenes Reactivos de SIFILIS NO DEBEN ser mayor a los exámenes Procesados. \")","v":""},null,null,null,null,{"$f":"IF(C147>=D147,0,1)","v":0},{"$f":"IF(F147>=G147,0,1)","v":0},{"$f":"IF(I147>=J147,0,1)","v":0},{"$f":"IF(L147>=M147,0,1)","v":0},{"$f":"IF(O147>=P147,0,1)","v":0}]
["SECCIÓN B.2: EXÁMENES SEGÚN GRUPOS DE USUARIOS POR CONDICIÓN DE HEPATITIS B, HEPATITIS C, CHAGAS, HTLV 1 Y SIFILIS (Uso exclusivo de establecimientos que Compran Servicio)"]
["GRUPO DE USUARIOS",null,"HEPATITIS  B",null,null,"HEPATITIS  C",null,null,"CHAGAS",null,null,"HTLV1",null,null,"SÍFILIS"]
[null,null,"Procesados","Reactivos","Confirmados","Procesados","Reactivos","Confirmados","Procesados","Reactivos","Confirmados","Procesados","Reactivos","Confirmados","Procesados","Reactivos"]
["USUARIOS",null,null,null,null,null,null,null,null,null,null,null,null,null,null,null,null,null,null,null,null,null,null,null,null,null,null,null,null,null,null,null,null,null,null,null,null,null,null,null,null,null,null,null,null,null,null,null,null,null,null,null,null,null,null,null,null,null,null,null,null,null,null,null,null,null,null,null,null,null,null,null,null,null,null,null,null,null,{"$f":"IF(C151>=D151,\"\",\"* Los exámenes Reactivos de Hepatitis B NO DEBEN ser mayor a los exámenes Procesados. \")","v":""},{"$f":"IF(F151>=G151,\"\",\"* Los exámenes Reactivos de Hepatitis C NO DEBEN ser mayor a los exámenes Procesados. \")","v":""},{"$f":"IF(I151>=J151,\"\",\"* Los exámenes Reactivos de CHAGAS NO DEBEN ser mayor a los exámenes Procesados. \")","v":""},{"$f":"IF(L151>=M151,\"\",\"* Los exámenes Reactivos de HTLV1 NO DEBEN ser mayor a los exámenes Procesados. \")","v":""},{"$f":"IF(O151>=P151,\"\",\"* Los exámenes Reactivos de SIFILIS NO DEBEN ser mayor a los exámenes Procesados. \")","v":""},null,null,null,null,{"$f":"IF(C151>=D151,0,1)","v":0},{"$f":"IF(F151>=G151,0,1)","v":0},{"$f":"IF(I151>=J151,0,1)","v":0},{"$f":"IF(L151>=M151,0,1)","v":0},{"$f":"IF(O151>=P151,0,1)","v":0}]
["DONANTES","ALTRUISTA NUEVO",null,null,null,null,null,null,null,null,null,null,null,null,null,null,null,null,null,null,null,null,null,null,null,null,null,null,null,null,null,null,null,null,null,null,null,null,null,null,null,null,null,null,null,null,null,null,null,null,null,null,null,null,null,null,null,null,null,null,null,null,null,null,null,null,null,null,null,null,null,null,null,null,null,null,null,null,{"$f":"IF(C152>=D152,\"\",\"* Los exámenes Reactivos de Hepatitis B NO DEBEN ser mayor a los exámenes Procesados. \")","v":""},{"$f":"IF(F152>=G152,\"\",\"* Los exámenes Reactivos de Hepatitis C NO DEBEN ser mayor a los exámenes Procesados. \")","v":""},{"$f":"IF(I152>=J152,\"\",\"* Los exámenes Reactivos de CHAGAS NO DEBEN ser mayor a los exámenes Procesados. \")","v":""},{"$f":"IF(L152>=M152,\"\",\"* Los exámenes Reactivos de HTLV1 NO DEBEN ser mayor a los exámenes Procesados. \")","v":""},{"$f":"IF(O152>=P152,\"\",\"* Los exámenes Reactivos de SIFILIS NO DEBEN ser mayor a los exámenes Procesados. \")","v":""},null,null,null,null,{"$f":"IF(C152>=D152,0,1)","v":0},{"$f":"IF(F152>=G152,0,1)","v":0},{"$f":"IF(I152>=J152,0,1)","v":0},{"$f":"IF(L152>=M152,0,1)","v":0},{"$f":"IF(O152>=P152,0,1)","v":0}]
[null,"ALTRUISTA REPETIDO",null,null,null,null,null,null,null,null,null,null,null,null,null,null,null,null,null,null,null,null,null,null,null,null,null,null,null,null,null,null,null,null,null,null,null,null,null,null,null,null,null,null,null,null,null,null,null,null,null,null,null,null,null,null,null,null,null,null,null,null,null,null,null,null,null,null,null,null,null,null,null,null,null,null,null,null,{"$f":"IF(C153>=D153,\"\",\"* Los exámenes Reactivos de Hepatitis B NO DEBEN ser mayor a los exámenes Procesados. \")","v":""},{"$f":"IF(F153>=G153,\"\",\"* Los exámenes Reactivos de Hepatitis C NO DEBEN ser mayor a los exámenes Procesados. \")","v":""},{"$f":"IF(I153>=J153,\"\",\"* Los exámenes Reactivos de CHAGAS NO DEBEN ser mayor a los exámenes Procesados. \")","v":""},{"$f":"IF(L153>=M153,\"\",\"* Los exámenes Reactivos de HTLV1 NO DEBEN ser mayor a los exámenes Procesados. \")","v":""},{"$f":"IF(O153>=P153,\"\",\"* Los exámenes Reactivos de SIFILIS NO DEBEN ser mayor a los exámenes Procesados. \")","v":""},null,null,null,null,{"$f":"IF(C153>=D153,0,1)","v":0},{"$f":"IF(F153>=G153,0,1)","v":0},{"$f":"IF(I153>=J153,0,1)","v":0},{"$f":"IF(L153>=M153,0,1)","v":0},{"$f":"IF(O153>=P153,0,1)","v":0}]
[null,"FAMILIAR O REPOSICIÓN",null,null,null,null,null,null,null,null,null,null,null,null,null,null,null,null,null,null,null,null,null,null,null,null,null,null,null,null,null,null,null,null,null,null,null,null,null,null,null,null,null,null,null,null,null,null,null,null,null,null,null,null,null,null,null,null,null,null,null,null,null,null,null,null,null,null,null,null,null,null,null,null,null,null,null,null,{"$f":"IF(C154>=D154,\"\",\"* Los exámenes Reactivos de Hepatitis B NO DEBEN ser mayor a los exámenes Procesados. \")","v":""},{"$f":"IF(F154>=G154,\"\",\"* Los exámenes Reactivos de Hepatitis C NO DEBEN ser mayor a los exámenes Procesados. \")","v":""},{"$f":"IF(I154>=J154,\"\",\"* Los exámenes Reactivos de CHAGAS NO DEBEN ser mayor a los exámenes Procesados. \")","v":""},{"$f":"IF(L154>=M154,\"\",\"* Los exámenes Reactivos de HTLV1 NO DEBEN ser mayor a los exámenes Procesados. \")","v":""},{"$f":"IF(O154>=P154,\"\",\"* Los exámenes Reactivos de SIFILIS NO DEBEN ser mayor a los exámenes Procesados. \")","v":""},null,null,null,null,{"$f":"IF(C154>=D154,0,1)","v":0},{"$f":"IF(F154>=G154,0,1)","v":0},{"$f":"IF(I154>=J154,0,1)","v":0},{"$f":"IF(L154>=M154,0,1)","v":0},{"$f":"IF(O154>=P154,0,1)","v":0}]
["DONANTES DE ÓRGANOS Y/O TEJIDOS ",null,null,null,null,null,null,null,null,null,null,null,null,null,null,null,null,null,null,null,null,null,null,null,null,null,null,null,null,null,null,null,null,null,null,null,null,null,null,null,null,null,null,null,null,null,null,null,null,null,null,null,null,null,null,null,null,null,null,null,null,null,null,null,null,null,null,null,null,null,null,null,null,null,null,null,null,null,{"$f":"IF(C155>=D155,\"\",\"* Los exámenes Reactivos de Hepatitis B NO DEBEN ser mayor a los exámenes Procesados. \")","v":""},{"$f":"IF(F155>=G155,\"\",\"* Los exámenes Reactivos de Hepatitis C NO DEBEN ser mayor a los exámenes Procesados. \")","v":""},{"$f":"IF(I155>=J155,\"\",\"* Los exámenes Reactivos de CHAGAS NO DEBEN ser mayor a los exámenes Procesados. \")","v":""},{"$f":"IF(L155>=M155,\"\",\"* Los exámenes Reactivos de HTLV1 NO DEBEN ser mayor a los exámenes Procesados. \")","v":""},{"$f":"IF(O155>=P155,\"\",\"* Los exámenes Reactivos de SIFILIS NO DEBEN ser mayor a los exámenes Procesados. \")","v":""},null,null,null,null,{"$f":"IF(C155>=D155,0,1)","v":0},{"$f":"IF(F155>=G155,0,1)","v":0},{"$f":"IF(I155>=J155,0,1)","v":0},{"$f":"IF(L155>=M155,0,1)","v":0},{"$f":"IF(O155>=P155,0,1)","v":0}]
["SECCIÓN C.1: EXÁMENES  DE  VIH POR GRUPOS DE USUARIOS (Uso exclusivo de establecimientos con Laboratorio que procesan)"]
["GRUPO DE USUARIOS",null,"TOTAL",null,"GRUPO DE EDAD (En años)",null,null,null,null,null,null,null,null,null,null,null,null,null,null,null,null,null,null,null,null,null,null,null,null,null,null,null,null,null,null,null,"POR SEXO",null,null,null,"TRANS",null,null,null,"Pueblos originarios",null,"Migrantes",null,"14-18 años"]
[null,null,null,null,"Menor de 12 meses",null,"12-24 meses",null,"3 a 4 años",null,"5 a 9 años",null,"10 a 14 años",null,"15 a 19 años",null,"20 a 24 años",null,"25 a 29 años",null,"30 a 34 años",null,"35 a 39 años",null,"40 a 44 años",null,"45 a 49 años",null,"50 a 54 años",null,"55 a 59 años",null,"60 a 64 años",null," 65 y más años",null,"Hombres",null,"Mujeres",null,"Femenino",null,"Masculino"]
[null,null,"Procesados","Confirmados positivos por ISP","Procesados","Confirmados positivos por ISP","Procesados","Confirmados positivos por ISP","Procesados","Confirmados positivos por ISP","Procesados","Confirmados positivos por ISP","Procesados","Confirmados positivos por ISP","Procesados","Confirmados positivos por ISP","Procesados","Confirmados positivos por ISP","Procesados","Confirmados positivos por ISP","Procesados","Confirmados positivos por ISP","Procesados","Confirmados positivos por ISP","Procesados","Confirmados positivos por ISP","Procesados","Confirmados positivos por ISP","Procesados","Confirmados positivos por ISP","Procesados","Confirmados positivos por ISP","Procesados","Confirmados positivos por ISP","Procesados","Confirmados positivos por ISP","Procesados","Confirmados positivos por ISP","Procesados","Confirmados positivos por ISP","Procesados","Confirmados positivos por ISP","Procesados","Confirmados positivos por ISP","Procesados","Confirmados positivos por ISP","Procesados","Confirmados positivos por ISP","Procesados","Confirmados positivos por ISP"]
["GESTANTES PRIMER EXAMEN",null,{"$f":"+M160+O160+Q160+S160+U160+W160+Y160+AA160+AC160+AE160","v":0},0,null,null,null,null,null,null,null,null,null,null,null,null,null,null,null,null,null,null,null,null,null,null,null,null,null,null,null,null,null,null,null,null,null,null,null,null,null,null,null,null,null,null,null,null,null,null,null,null,null,null,null,null,null,null,null,null,null,null,null,null,null,null,null,null,null,null,null,null,null,{"$f":"IF(C160<   D160,\"* El total de Reactivos NO DEBE ser superior al total de Procesados. \",\"\")","v":""},{"$f":"IF(C160<>#REF! +#REF!,\"* La suma de las columnas Sexo DEBE SER IGUAL a los Procesados. \",\"\")","v":{"$error":"#REF!"}},{"$f":"IF(C160<   D160,\"* El total de Reactivos NO DEBE ser superior al total de Procesados. \",\"\")","v":""},{"$f":"IF(C160<> AK160+ AN160,\"* La suma de las columnas Sexo DEBE SER IGUAL a los Procesados. \",\"\")","v":""},{"$f":"IF(C160<  AO160+ AR160,\"* La suma de las columna Trans NO DEBE ser superior al total de Procesados. \",\"\")","v":""},{"$f":"IF(C160<   D160,\"* El total de Reactivos NO DEBE ser superior al total de Procesados. \",\"\")","v":""},{"$f":"IF(C160<> AS160+ AT160,\"* La suma de las columnas Sexo DEBE SER IGUAL a los Procesados. \",\"\")","v":""},{"$f":"IF(C160<  AU160+ AV160,\"* La suma de las columna Trans NO DEBE ser superior al total de Procesados. \",\"\")","v":""},{"$f":"IF(C160<  AW160,\"* La columna Pueblos Originarios NO DEBE ser superior al total de Procesados. \",\"\")","v":""},{"$f":"IF(C160<  AX160,\"* La columna Migrantes NO DEBE ser superior al total de Procesados. \",\"\")","v":""},{"$f":"IF((O160 + Q160) <  AY160,\"* La columna 14-18 AÑOS no puede ser mayor al total por grupo edad de 10 a 19 años. \",\"\")","v":""},{"$f":"IF(C160<> AS160+AT160,1,0)","v":0},{"$f":"IF(C160<  AU160+AV160,1,0)","v":0},{"$f":"IF(C160<  AW160,1,0)","v":0},{"$f":"IF(C160<  AX160,1,0)","v":0},{"$f":"IF((O160 + Q160) <  AY160,1,0)","v":0},null,null,null,null,null,null,null,null,null,null,{"$f":"IF(F160> E160,\"* Los exámenes Reactivos de Menor de 6 meses NO DEBEN ser mayor a los Exámenes Procesados de la misma edad. \",\"\")","v":""},{"$f":"IF(H160> G160,\"* Los exámenes Reactivos de 6 a 11 meses NO DEBEN ser mayor a los Exámenes Procesados de la misma edad. \",\"\")","v":""},{"$f":"IF(F160> E160,\"* Los exámenes Reactivos de Menor de 6 meses NO DEBEN ser mayor a los Exámenes Procesados de la misma edad. \",\"\")","v":""},{"$f":"IF(H160> G160,\"* Los exámenes Reactivos de 6 a 11 meses NO DEBEN ser mayor a los Exámenes Procesados de la misma edad. \",\"\")","v":""},{"$f":"IF(J160> I160,\"* Los exámenes Reactivos de 12 a 24 meses NO DEBEN ser mayor a los Exámenes Procesados de la misma edad. \",\"\")","v":""},{"$f":"IF(F160> E160,\"* Los exámenes Reactivos de Menor de 6 meses NO DEBEN ser mayor a los Exámenes Procesados de la misma edad. \",\"\")","v":""},{"$f":"IF(H160> G160,\"* Los exámenes Reactivos de 6 a 11 meses NO DEBEN ser mayor a los Exámenes Procesados de la misma edad. \",\"\")","v":""},{"$f":"IF(J160> I160,\"* Los exámenes Reactivos de 12 a 24 meses NO DEBEN ser mayor a los Exámenes Procesados de la misma edad. \",\"\")","v":""},{"$f":"IF(L160> K160,\"* Los exámenes Reactivos de 3 a 4 años NO DEBEN ser mayor a los Exámenes Procesados de la misma edad. \",\"\")","v":""},{"$f":"IF(N160> M160,\"* Los exámenes Reactivos de 5 a 9 años NO DEBEN ser mayor a los Exámenes Procesados de la misma edad. \",\"\")","v":""},{"$f":"IF(P160> O160,\"* Los exámenes Reactivos de 10 a 14 años NO DEBEN ser mayor a los Exámenes Procesados de la misma edad. \",\"\")","v":""},{"$f":"IF(R160> Q160,\"* Los exámenes Reactivos de 15 a 19 años NO DEBEN ser mayor a los Exámenes Procesados de la misma edad. \",\"\")","v":""},{"$f":"IF(T160> S160,\"* Los exámenes Reactivos de 20 a 24 años NO DEBEN ser mayor a los Exámenes Procesados de la misma edad. \",\"\")","v":""},{"$f":"IF(V160> U160,\"* Los exámenes Reactivos de 25 a 29 años NO DEBEN ser mayor a los Exámenes Procesados de la misma edad. \",\"\")","v":""},{"$f":"IF(X160> W160,\"* Los exámenes Reactivos de 30 a 34 años NO DEBEN ser mayor a los Exámenes Procesados de la misma edad. \",\"\")","v":""},{"$f":"IF(Z160> Y160,\"* Los exámenes Reactivos de 35 a 39 años NO DEBEN ser mayor a los Exámenes Procesados de la misma edad. \",\"\")","v":""},{"$f":"IF(AB160> AA160,\"* Los exámenes Reactivos de 40 a 44 años NO DEBEN ser mayor a los Exámenes Procesados de la misma edad. \",\"\")","v":""},{"$f":"IF(AD160> AC160,\"* Los exámenes Reactivos de 45 a 49 años NO DEBEN ser mayor a los Exámenes Procesados de la misma edad. \",\"\")","v":""},{"$f":"IF(AF160> AE160,\"* Los exámenes Reactivos de 50 a 54 años NO DEBEN ser mayor a los Exámenes Procesados de la misma edad. \",\"\")","v":""},{"$f":"IF(AH160> AG160,\"* Los exámenes Reactivos de 55 a 59 años NO DEBEN ser mayor a los Exámenes Procesados de la misma edad. \",\"\")","v":""},{"$f":"IF(AJ160> AI160,\"* Los exámenes Reactivos de 60 a 64 años NO DEBEN ser mayor a los Exámenes Procesados de la misma edad. \",\"\")","v":""},{"$f":"IF(AL160> AK160,\"* Los exámenes Reactivos de 65 a 69 años NO DEBEN ser mayor a los Exámenes Procesados de la misma edad. \",\"\")","v":""},{"$f":"IF(AN160> AM160,\"* Los exámenes Reactivos de 70 a 74 años NO DEBEN ser mayor a los Exámenes Procesados de la misma edad. \",\"\")","v":""},{"$f":"IF(AP160> AO160,\"* Los exámenes Reactivos de 75 a 79 años NO DEBEN ser mayor a los Exámenes Procesados de la misma edad. \",\"\")","v":""},{"$f":"IF(AR160> AQ160,\"* Los exámenes Reactivos de 80 y mas años NO DEBEN ser mayor a los Exámenes Procesados de la misma edad. \",\"\")","v":""},null,{"$f":"IF(F160> E160,1,0)","v":0},{"$f":"IF(H160> G160,1,0)","v":0},{"$f":"IF(F160> E160,1,0)","v":0},{"$f":"IF(H160> G160,1,0)","v":0},{"$f":"IF(J160> I160,1,0)","v":0},{"$f":"IF(F160> E160,1,0)","v":0},{"$f":"IF(H160> G160,1,0)","v":0},{"$f":"IF(J160> I160,1,0)","v":0},{"$f":"IF(L160> K160,1,0)","v":0},{"$f":"IF(N160> M160,1,0)","v":0},{"$f":"IF(P160> O160,1,0)","v":0},{"$f":"IF(R160> Q160,1,0)","v":0},{"$f":"IF(T160> S160,1,0)","v":0},{"$f":"IF(V160> U160,1,0)","v":0},{"$f":"IF(X160> W160,1,0)","v":0},{"$f":"IF(Z160> Y160,1,0)","v":0},{"$f":"IF(AB160> AA160,1,0)","v":0},{"$f":"IF(AD160> AC160,1,0)","v":0},{"$f":"IF(AF160> AE160,1,0)","v":0},{"$f":"IF(AH160> AG160,1,0)","v":0},{"$f":"IF(AJ160> AI160,1,0)","v":0},{"$f":"IF(AL160> AK160,1,0)","v":0},{"$f":"IF(AN160> AM160,1,0)","v":0},{"$f":"IF(AP160> AO160,1,0)","v":0},{"$f":"IF(AR160> AQ160,1,0)","v":0},0]
["GESTANTES SEGUNDO EXAMEN",null,0,0,null,null,null,null,null,null,null,null,null,null,null,null,null,null,null,null,null,null,null,null,null,null,null,null,null,null,null,null,null,null,null,null,null,null,null,null,null,null,null,null,null,null,null,null,null,null,null,null,null,null,null,null,null,null,null,null,null,null,null,null,null,null,null,null,null,null,null,null,null,"",{"$f":"IF(C161<>#REF! +#REF!,\"* La suma de las columnas Sexo DEBE SER IGUAL a los Procesados. \",\"\")","v":{"$error":"#REF!"}},{"$f":"IF(C161<  AK161+ AN161,\"* La suma de las columna Trans NO DEBE ser superior al total de Procesados. \",\"\")","v":""},{"$f":"IF(C161<  AO161,\"* La columna Pueblos Originarios NO DEBE ser superior al total de Procesados. \",\"\")","v":""},{"$f":"IF(C161<  AR161,\"* La columna Migrantes NO DEBE ser superior al total de Procesados. \",\"\")","v":""},"","","","","","",0,0,0,0,0,null,null,null,null,null,null,null,null,null,null,"","",{"$f":"IF(J161> I161,\"* Los exámenes Reactivos de 12 a 24 meses NO DEBEN ser mayor a los Exámenes Procesados de la misma edad. \",\"\")","v":""},{"$f":"IF(L161> K161,\"* Los exámenes Reactivos de 3 a 4 años NO DEBEN ser mayor a los Exámenes Procesados de la misma edad. \",\"\")","v":""},{"$f":"IF(N161> M161,\"* Los exámenes Reactivos de 5 a 9 años NO DEBEN ser mayor a los Exámenes Procesados de la misma edad. \",\"\")","v":""},"","","","","","","","","","","","","","","","","","","","",null,0,0,{"$f":"IF(J161> I161,1,0)","v":0},{"$f":"IF(L161> K161,1,0)","v":0},{"$f":"IF(N161> M161,1,0)","v":0},0,0,0,0,0,0,0,0,0,0,0,0,0,0,0,0,0,0,0,0,0]
["MUJER EN TRABAJO DE PRE PARTO O PARTO",null,0,0,null,null,null,null,null,null,null,null,null,null,null,null,null,null,null,null,null,null,null,null,null,null,null,null,null,null,null,null,null,null,null,null,null,null,null,null,null,null,null,null,null,null,null,null,null,null,null,null,null,null,null,null,null,null,null,null,null,null,null,null,null,null,null,null,null,null,null,null,null,"",{"$f":"IF(C162<>#REF! +#REF!,\"* La suma de las columnas Sexo DEBE SER IGUAL a los Procesados. \",\"\")","v":{"$error":"#REF!"}},"","","","","","","","","",0,0,0,0,0,null,null,null,null,null,null,null,null,null,null,"","","","","","","","","","","","","","","","","","","","","","","","","",null,0,0,0,0,0,0,0,0,0,0,0,0,0,0,0,0,0,0,0,0,0,0,0,0,0,0]
["PERSONAS EN CONTROL POR COMERCIO SEXUAL",null,{"$f":"+O163+Q163+S163+U163+W163+Y163+AA163+AC163+AE163+AG163+AI163","v":0},{"$f":"+P163+R163+T163+V163+X163+Z163+AB163+AD163+AF163+AH163+AJ163","v":0},null,null,null,null,null,null,null,null,null,null,null,null,null,null,null,null,null,null,null,null,null,null,null,null,null,null,null,null,null,null,null,null,null,null,null,null,null,null,null,null,null,null,null,null,null,null,null,null,null,null,null,null,null,null,null,null,null,null,null,null,null,null,null,null,null,null,null,null,null,"",{"$f":"IF(C163<>#REF! +#REF!,\"* La suma de las columnas Sexo DEBE SER IGUAL a los Procesados. \",\"\")","v":{"$error":"#REF!"}},"","","","","","","","","",0,0,0,0,0,null,null,null,null,null,null,null,null,null,null,"","","","","","","","","","","","","","","","","","","","","","","","","",null,0,0,0,0,0,0,0,0,0,0,0,0,0,0,0,0,0,0,0,0,0,0,0,0,0,0]
["PACIENTES EN DIÁLISIS",null,{"$f":"+E164+G164+I164+K164+M164+O164+Q164+S164+U164+W164+Y164+AA164+AC164+AE164+AG164+AI164","v":0},{"$f":"+F164+H164+J164+L164+N164+P164+R164+T164+V164+X164+Z164+AB164+AD164+AF164+AH164+AJ164","v":0},null,null,null,null,null,null,null,null,null,null,null,null,null,null,null,null,null,null,null,null,null,null,null,null,null,null,null,null,null,null,null,null,null,null,null,null,null,null,null,null,null,null,null,null,null,null,null,null,null,null,null,null,null,null,null,null,null,null,null,null,null,null,null,null,null,null,null,null,null,"",{"$f":"IF(C164<>#REF! +#REF!,\"* La suma de las columnas Sexo DEBE SER IGUAL a los Procesados. \",\"\")","v":{"$error":"#REF!"}},"","","","","","","","","",0,0,0,0,0,null,null,null,null,null,null,null,null,null,null,"","","","","","","","","","","","","","","","","","","","","","","","","",null,0,0,0,0,0,0,0,0,0,0,0,0,0,0,0,0,0,0,0,0,0,0,0,0,0,0]
["POR CONSULTA ITS",null,{"$f":"+E165+G165+I165+K165+M165+O165+Q165+S165+U165+W165+Y165+AA165+AC165+AE165+AG165+AI165","v":0},{"$f":"+F165+H165+J165+L165+N165+P165+R165+T165+V165+X165+Z165+AB165+AD165+AF165+AH165+AJ165","v":0},null,null,null,null,null,null,null,null,null,null,null,null,null,null,null,null,null,null,null,null,null,null,null,null,null,null,null,null,null,null,null,null,null,null,null,null,null,null,null,null,null,null,null,null,null,null,null,null,null,null,null,null,null,null,null,null,null,null,null,null,null,null,null,null,null,null,null,null,null,"",{"$f":"IF(C165<>#REF! +#REF!,\"* La suma de las columnas Sexo DEBE SER IGUAL a los Procesados. \",\"\")","v":{"$error":"#REF!"}},"","","","","","","","","",0,0,0,0,0,null,null,null,null,null,null,null,null,null,null,"","","","","","","","","","","","","","","","","","","","","","","","","",null,0,0,0,0,0,0,0,0,0,0,0,0,0,0,0,0,0,0,0,0,0,0,0,0,0,0]
["PERSONAS EN CONTROL DE REGULACIÓN FECUNDIDAD, GINECOLOGICO, CLIMATERIO",null,{"$f":"+O166+Q166+S166+U166+W166+Y166+AA166+AC166+AE166+AG166+AI166","v":0},{"$f":"+P166+R166+T166+V166+X166+Z166+AB166+AD166+AF166+AH166+AJ166","v":0},null,null,null,null,null,null,null,null,null,null,null,null,null,null,null,null,null,null,null,null,null,null,null,null,null,null,null,null,null,null,null,null,null,null,null,null,null,null,null,null,null,null,null,null,null,null,null,null,null,null,null,null,null,null,null,null,null,null,null,null,null,null,null,null,null,null,null,null,null,"",{"$f":"IF(C166<>#REF! +#REF!,\"* La suma de las columnas Sexo DEBE SER IGUAL a los Procesados. \",\"\")","v":{"$error":"#REF!"}},"","","","","","","","","",0,0,0,0,0,null,null,null,null,null,null,null,null,null,null,"","","","","","","","","","","","","","","","","","","","","","","","","",null,0,0,0,0,0,0,0,0,0,0,0,0,0,0,0,0,0,0,0,0,0,0,0,0,0,0]
["PERSONAS CON EMP",null,null,null,null,null,null,null,null,null,null,null,null,null,null,null,null,null,null,null,null,null,null,null,null,null,null,null,null,null,null,null,null,null,null,null,null,null,null,null,null,null,null,null,null,null,null,null,null,null,null,null,null,null,null,null,null,null,null,null,null,null,null,null,null,null,null,null,null,null,null,null,null,"",{"$f":"IF(C167<>#REF! +#REF!,\"* La suma de las columnas Sexo DEBE SER IGUAL a los Procesados. \",\"\")","v":{"$error":"#REF!"}},"","","","","","","","","",0,0,0,0,0,null,null,null,null,null,null,null,null,null,null,"","","","","","","","","","","","","","","","","","","","","","","","","",null,0,0,0,0,0,0,0,0,0,0,0,0,0,0,0,0,0,0,0,0,0,0,0,0,0,0]
["PERSONAS EN CONTROL DE SALUD SEGÚN CICLO VITAL",null,{"$f":"+E168+G168+I168+K168+M168+O168+Q168+S168+U168+W168+Y168+AA168+AC168+AE168+AG168+AI168","v":0},{"$f":"+F168+H168+J168+L168+N168+P168+R168+T168+V168+X168+Z168+AB168+AD168+AF168+AH168+AJ168","v":0},null,null,null,null,null,null,null,null,null,null,null,null,null,null,null,null,null,null,null,null,null,null,null,null,null,null,null,null,null,null,null,null,null,null,null,null,null,null,null,null,null,null,null,null,null,null,null,null,null,null,null,null,null,null,null,null,null,null,null,null,null,null,null,null,null,null,null,null,null,"",{"$f":"IF(C168<>#REF! +#REF!,\"* La suma de las columnas Sexo DEBE SER IGUAL a los Procesados. \",\"\")","v":{"$error":"#REF!"}},"","","","","","","","","",0,0,0,0,0,null,null,null,null,null,null,null,null,null,null,"","","","","","","","","","","","","","","","","","","","","","","","","",null,0,0,0,0,0,0,0,0,0,0,0,0,0,0,0,0,0,0,0,0,0,0,0,0,0,0]
["DONANTES DE SANGRE","ALTRUISTA NUEVO",{"$f":"+O169+Q169+S169+U169+W169+Y169+AA169+AC169+AE169+AG169","v":0},{"$f":"+P169+R169+T169+V169+X169+Z169+AB169+AD169+AF169+AH169","v":0},null,null,null,null,null,null,null,null,null,null,null,null,null,null,null,null,null,null,null,null,null,null,null,null,null,null,null,null,null,null,null,null,null,null,null,null,null,null,null,null,null,null,null,null,null,null,null,null,null,null,null,null,null,null,null,null,null,null,null,null,null,null,null,null,null,null,null,null,null,"",{"$f":"IF(C169<>#REF! +#REF!,\"* La suma de las columnas Sexo DEBE SER IGUAL a los Procesados. \",\"\")","v":{"$error":"#REF!"}},"","","","","","","","","",0,0,0,0,0,null,null,null,null,null,null,null,null,null,null,"","","","","","","","","","","","","","","","","","","","","","","","","",null,0,0,0,0,0,0,0,0,0,0,0,0,0,0,0,0,0,0,0,0,0,0,0,0,0,0]
[null,"ALTRUISTA REPETIDO",{"$f":"+O170+Q170+S170+U170+W170+Y170+AA170+AC170+AE170+AG170","v":0},{"$f":"+P170+R170+T170+V170+X170+Z170+AB170+AD170+AF170+AH170","v":0},null,null,null,null,null,null,null,null,null,null,null,null,null,null,null,null,null,null,null,null,null,null,null,null,null,null,null,null,null,null,null,null,null,null,null,null,null,null,null,null,null,null,null,null,null,null,null,null,null,null,null,null,null,null,null,null,null,null,null,null,null,null,null,null,null,null,null,null,null,"",{"$f":"IF(C170<>#REF! +#REF!,\"* La suma de las columnas Sexo DEBE SER IGUAL a los Procesados. \",\"\")","v":{"$error":"#REF!"}},"","","","","","","","","",0,0,0,0,0,null,null,null,null,null,null,null,null,null,null,"","","","","","","","","","","","","","","","","","","","","","","","","",null,0,0,0,0,0,0,0,0,0,0,0,0,0,0,0,0,0,0,0,0,0,0,0,0,0,0]
[null,"FAMILIAR O REPOSICIÓN",{"$f":"+O171+Q171+S171+U171+W171+Y171+AA171+AC171+AE171+AG171","v":0},{"$f":"+P171+R171+T171+V171+X171+Z171+AB171+AD171+AF171+AH171","v":0},null,null,null,null,null,null,null,null,null,null,null,null,null,null,null,null,null,null,null,null,null,null,null,null,null,null,null,null,null,null,null,null,null,null,null,null,null,null,null,null,null,null,null,null,null,null,null,null,null,null,null,null,null,null,null,null,null,null,null,null,null,null,null,null,null,null,null,null,null,"",{"$f":"IF(C171<>#REF! +#REF!,\"* La suma de las columnas Sexo DEBE SER IGUAL a los Procesados. \",\"\")","v":{"$error":"#REF!"}},"","","","","","","","","",0,0,0,0,0,null,null,null,null,null,null,null,null,null,null,"","","","","","","","","","","","","","","","","","","","","","","","","",null,0,0,0,0,0,0,0,0,0,0,0,0,0,0,0,0,0,0,0,0,0,0,0,0,0,0]
["DONANTES DE ÓRGANOS Y/O TEJIDOS",null,{"$f":"+E172+G172+I172+K172+M172+O172+Q172+S172+U172+W172+Y172+AA172+AC172+AE172+AG172+AI172","v":0},{"$f":"+F172+H172+J172+L172+N172+P172+R172+T172+V172+X172+Z172+AB172+AD172+AF172+AH172+AJ172","v":0},null,null,null,null,null,null,null,null,null,null,null,null,null,null,null,null,null,null,null,null,null,null,null,null,null,null,null,null,null,null,null,null,null,null,null,null,null,null,null,null,null,null,null,null,null,null,null,null,null,null,null,null,null,null,null,null,null,null,null,null,null,null,null,null,null,null,null,null,null,"",{"$f":"IF(C172<>#REF! +#REF!,\"* La suma de las columnas Sexo DEBE SER IGUAL a los Procesados. \",\"\")","v":{"$error":"#REF!"}},"","","","","","","","","",0,0,0,0,0,null,null,null,null,null,null,null,null,null,null,"","","","","","","","","","","","","","","","","","","","","","","","","",null,0,0,0,0,0,0,0,0,0,0,0,0,0,0,0,0,0,0,0,0,0,0,0,0,0,0]
["PERSONA EN CONTROL POR TBC",null,0,0,null,null,null,null,null,null,null,null,null,null,null,null,null,null,null,null,null,null,null,null,null,null,null,null,null,null,null,null,null,null,null,null,null,null,null,null,null,null,null,null,null,null,null,null,null,null,null,null,null,null,null,null,null,null,null,null,null,null,null,null,null,null,null,null,null,null,null,null,null,"",{"$f":"IF(C173<>#REF! +#REF!,\"* La suma de las columnas Sexo DEBE SER IGUAL a los Procesados. \",\"\")","v":{"$error":"#REF!"}},"","","","","","","","","",0,0,0,0,0,null,null,null,null,null,null,null,null,null,null,"","","","","","","","","","","","","","","","","","","","","","","","","",null,0,0,0,0,0,0,0,0,0,0,0,0,0,0,0,0,0,0,0,0,0,0,0,0,0,0]
["VÍCTIMA DE VIOLENCIA SEXUAL",null,0,{"$f":"+F174+H174+J174+L174+N174+P174+R174+T174+V174+X174+Z174+AB174+AD174+AF174+AH174+AJ174","v":0},null,null,null,null,null,null,null,null,null,null,null,null,null,null,null,null,null,null,null,null,null,null,null,null,null,null,null,null,null,null,null,null,null,null,null,null,null,null,null,null,null,null,null,null,null,null,null,null,null,null,null,null,null,null,null,null,null,null,null,null,null,null,null,null,null,null,null,null,null,"",{"$f":"IF(C174<>#REF! +#REF!,\"* La suma de las columnas Sexo DEBE SER IGUAL a los Procesados. \",\"\")","v":{"$error":"#REF!"}},"","","","","","","","","",0,0,0,0,0,null,null,null,null,null,null,null,null,null,null,"","","","","","","","","","","","","","","","","","","","","","","","","",null,0,0,0,0,0,0,0,0,0,0,0,0,0,0,0,0,0,0,0,0,0,0,0,0,0,0]
["PAREJA SERODISCORDANTE",null,{"$f":"+O175+Q175+S175+U175+W175+Y175+AA175+AC175+AE175+AG175+AI175","v":0},{"$f":"+P175+R175+T175+V175+X175+Z175+AB175+AD175+AF175+AH175+AJ175","v":0},null,null,null,null,null,null,null,null,null,null,null,null,null,null,null,null,null,null,null,null,null,null,null,null,null,null,null,null,null,null,null,null,null,null,null,null,null,null,null,null,null,null,null,null,null,null,null,null,null,null,null,null,null,null,null,null,null,null,null,null,null,null,null,null,null,null,null,null,null,"",{"$f":"IF(C175<>#REF! +#REF!,\"* La suma de las columnas Sexo DEBE SER IGUAL a los Procesados. \",\"\")","v":{"$error":"#REF!"}},"","","","","","","","","",0,0,0,0,0,null,null,null,null,null,null,null,null,null,null,"","","","","","","","","","","","","","","","","","","","","","","","","",null,0,0,0,0,0,0,0,0,0,0,0,0,0,0,0,0,0,0,0,0,0,0,0,0,0,0]
["PAREJA DE GESTANTE VIH POSITIVO",null,{"$f":"+O176+Q176+S176+U176+W176+Y176+AA176+AC176+AE176+AG176+AI176","v":0},{"$f":"+P176+R176+T176+V176+X176+Z176+AB176+AD176+AF176+AH176+AJ176","v":0},null,null,null,null,null,null,null,null,null,null,null,null,null,null,null,null,null,null,null,null,null,null,null,null,null,null,null,null,null,null,null,null,null,null,null,null,null,null,null,null,null,null,null,null,null,null,null,null,null,null,null,null,null,null,null,null,null,null,null,null,null,null,null,null,null,null,null,null,null,"",{"$f":"IF(C176<>#REF! +#REF!,\"* La suma de las columnas Sexo DEBE SER IGUAL a los Procesados. \",\"\")","v":{"$error":"#REF!"}},"","","","","","","","","",0,0,0,0,0,null,null,null,null,null,null,null,null,null,null,"","","","","","","","","","","","","","","","","","","","","","","","","",null,0,0,0,0,0,0,0,0,0,0,0,0,0,0,0,0,0,0,0,0,0,0,0,0,0,0]
["PERSONAL DE SALUD EXPUESTO A ACCIDENTE CORTOPUNZANTE",null,{"$f":"+O177+Q177+S177+U177+W177+Y177+AA177+AC177+AE177+AG177+AI177","v":0},{"$f":"+P177+R177+T177+V177+X177+Z177+AB177+AD177+AF177+AH177+AJ177","v":0},null,null,null,null,null,null,null,null,null,null,null,null,null,null,null,null,null,null,null,null,null,null,null,null,null,null,null,null,null,null,null,null,null,null,null,null,null,null,null,null,null,null,null,null,null,null,null,null,null,null,null,null,null,null,null,null,null,null,null,null,null,null,null,null,null,null,null,null,null,"",{"$f":"IF(C177<>#REF! +#REF!,\"* La suma de las columnas Sexo DEBE SER IGUAL a los Procesados. \",\"\")","v":{"$error":"#REF!"}},"","","","","","","","","",0,0,0,0,0,null,null,null,null,null,null,null,null,null,null,"","","","","","","","","","","","","","","","","","","","","","","","","",null,0,0,0,0,0,0,0,0,0,0,0,0,0,0,0,0,0,0,0,0,0,0,0,0,0,0]
["PACIENTES FUENTE DE ACCIDENTE CORTOPUNZANTE",null,{"$f":"+E178+G178+I178+K178+M178+O178+Q178+S178+U178+W178+Y178+AA178+AC178+AE178+AG178+AI178","v":0},{"$f":"+F178+H178+J178+L178+N178+P178+R178+T178+V178+X178+Z178+AB178+AD178+AF178+AH178+AJ178","v":0},null,null,null,null,null,null,null,null,null,null,null,null,null,null,null,null,null,null,null,null,null,null,null,null,null,null,null,null,null,null,null,null,null,null,null,null,null,null,null,null,null,null,null,null,null,null,null,null,null,null,null,null,null,null,null,null,null,null,null,null,null,null,null,null,null,null,null,null,null,"",{"$f":"IF(C178<>#REF! +#REF!,\"* La suma de las columnas Sexo DEBE SER IGUAL los Procesados. \",\"\")","v":{"$error":"#REF!"}},"","","","","","","","","",0,0,0,0,0,null,null,null,null,null,null,null,null,null,null,"","","","","","","","","","","","","","","","","","","","","","","","","",null,0,0,0,0,0,0,0,0,0,0,0,0,0,0,0,0,0,0,0,0,0,0,0,0,0,0]
["PERSONA EN CONTROL POR HEPATITIS B",null,0,0,null,null,null,null,null,null,null,null,null,null,null,null,null,null,null,null,null,null,null,null,null,null,null,null,null,null,null,null,null,null,null,null,null,null,null,null,null,null,null,null,null,null,null,null,null,null,null,null,null,null,null,null,null,null,null,null,null,null,null,null,null,null,null,null,null,null,null,null,null,"",{"$f":"IF(C179<>#REF! +#REF!,\"* La suma de las columnas Sexo DEBE SER IGUAL los Procesados. \",\"\")","v":{"$error":"#REF!"}},"","","","","","","","","",0,0,0,0,0,null,null,null,null,null,null,null,null,null,null,"","","","","","","","","","","","","","","","","","","","","","","","","",null,0,0,0,0,0,0,0,0,0,0,0,0,0,0,0,0,0,0,0,0,0,0,0,0,0,0]
["PERSONA EN CONTROL POR HEPATITIS C",null,0,0,null,null,null,null,null,null,null,null,null,null,null,null,null,null,null,null,null,null,null,null,null,null,null,null,null,null,null,null,null,null,null,null,null,null,null,null,null,null,null,null,null,null,null,null,null,null,null,null,null,null,null,null,null,null,null,null,null,null,null,null,null,null,null,null,null,null,null,null,null,"",{"$f":"IF(C180<>#REF! +#REF!,\"* La suma de las columnas Sexo DEBE SER IGUAL los Procesados. \",\"\")","v":{"$error":"#REF!"}},"","","","","","","","","",0,0,0,0,0,null,null,null,null,null,null,null,null,null,null,"","","","","","","","","","","","","","","","","","","","","","","","","",null,0,0,0,0,0,0,0,0,0,0,0,0,0,0,0,0,0,0,0,0,0,0,0,0,0,0]
["CONSULTANTES POR MORBILIDAD",null,0,0,null,null,null,null,null,null,null,null,null,null,null,null,null,null,null,null,null,null,null,null,null,null,null,null,null,null,null,null,null,null,null,null,null,null,null,null,null,null,null,null,null,null,null,null,null,null,null,null,null,null,null,null,null,null,null,null,null,null,null,null,null,null,null,null,null,null,null,null,null,"",{"$f":"IF(C181<>#REF! +#REF!,\"* La suma de las columnas Sexo DEBE SER IGUAL los Procesados. \",\"\")","v":{"$error":"#REF!"}},"","","","","","","","","",0,0,0,0,0,null,null,null,null,null,null,null,null,null,null,"","","","","","","","","","","","","","","","","","","","","","","","","",null,0,0,0,0,0,0,0,0,0,0,0,0,0,0,0,0,0,0,0,0,0,0,0,0,0,0]
["POR CONSULTA ESPONTÁNEA",null,0,0,null,null,null,null,null,null,null,null,null,null,null,null,null,null,null,null,null,null,null,null,null,null,null,null,null,null,null,null,null,null,null,null,null,null,null,null,null,null,null,null,null,null,null,null,null,null,null,null,null,null,null,null,null,null,null,null,null,null,null,null,null,null,null,null,null,null,null,null,null,"",{"$f":"IF(C182<>#REF! +#REF!,\"* La suma de las columnas Sexo DEBE SER IGUAL los Procesados. \",\"\")","v":{"$error":"#REF!"}},"","","","","","","","","",0,0,0,0,0,null,null,null,null,null,null,null,null,null,null,"","","","","","","","","","","","","","","","","","","","","","","","","",null,0,0,0,0,0,0,0,0,0,0,0,0,0,0,0,0,0,0,0,0,0,0,0,0,0,0]
["SECCIÓN C.2: EXÁMENES  DE  VIH POR GRUPOS DE USUARIOS (Uso exclusivo de establecimientos que Compran Servicio)"]
["GRUPO DE USUARIOS",null,"TOTAL",null,"GRUPO DE EDAD (En años)",null,null,null,null,null,null,null,null,null,null,null,null,null,null,null,null,null,null,null,null,null,null,null,null,null,null,null,null,null,null,null,"POR SEXO",null,null,null,"TRANS",null,null,null,"Pueblos originarios",null,"Migrantes",null,"14-18 años"]
[null,null,null,null,"Menor de 12 meses",null,"12-24 meses",null,"3 a 4 años",null,"5 a 9 años",null,"10 a 14 años",null,"15 a 19 años",null,"20 a 24 años",null,"25 a 29 años",null,"30 a 34 años",null,"35 a 39 años",null,"40 a 44 años",null,"45 a 49 años",null,"50 a 54 años",null,"55 a 59 años",null,"60 a 64 años",null," 65 y más años",null,"Hombres",null,"Mujeres",null,"Femenino",null,"Masculino"]
[null,null,"Procesados","Confirmados positivos por ISP","Procesados","Confirmados positivos por ISP","Procesados","Confirmados positivos por ISP","Procesados","Confirmados positivos por ISP","Procesados","Confirmados positivos por ISP","Procesados","Confirmados positivos por ISP","Procesados","Confirmados positivos por ISP","Procesados","Confirmados positivos por ISP","Procesados","Confirmados positivos por ISP","Procesados","Confirmados positivos por ISP","Procesados","Confirmados positivos por ISP","Procesados","Confirmados positivos por ISP","Procesados","Confirmados positivos por ISP","Procesados","Confirmados positivos por ISP","Procesados","Confirmados positivos por ISP","Procesados","Confirmados positivos por ISP","Procesados","Confirmados positivos por ISP","Procesados","Confirmados positivos por ISP","Procesados","Confirmados positivos por ISP","Procesados","Confirmados positivos por ISP","Procesados","Confirmados positivos por ISP","Procesados","Confirmados positivos por ISP","Procesados","Confirmados positivos por ISP","Procesados","Confirmados positivos por ISP"]
["GESTANTES PRIMER EXAMEN",null,{"$f":"+M187+O187+Q187+S187+U187+W187+Y187+AA187+AC187+AE187","v":0},0,null,null,null,null,null,null,null,null,null,null,null,null,null,null,null,null,null,null,null,null,null,null,null,null,null,null,null,null,null,null,null,null,null,null,null,null,null,null,null,null,null,null,null,null,null,null,null,null,null,null,null,null,null,null,null,null,null,null,null,null,null,null,null,null,null,null,null,null,null,null,{"$f":"IF(C187<   D187,\"* El total de Reactivos NO DEBE ser superior al total de Procesados. \",\"\")","v":""},{"$f":"IF(C187<> AS187+ AT187,\"* La suma de las columnas Sexo DEBE SER IGUAL a los Procesados. \",\"\")","v":""},{"$f":"IF(C187<  AU187+ AV187,\"* La suma de las columna Trans NO DEBE ser superior al total de Procesados. \",\"\")","v":""},{"$f":"IF(C187<   D187,\"* El total de Reactivos NO DEBE ser superior al total de Procesados. \",\"\")","v":""},{"$f":"IF(C187<   D187,\"* El total de Reactivos NO DEBE ser superior al total de Procesados. \",\"\")","v":""},{"$f":"IF(C187<> AS187+ AT187,\"* La suma de las columnas Sexo DEBE SER IGUAL a los Procesados. \",\"\")","v":""},{"$f":"IF(C187<  AU187+ AV187,\"* La suma de las columna Trans NO DEBE ser superior al total de Procesados. \",\"\")","v":""},{"$f":"IF(C187<  AW187,\"* La columna Pueblos Originarios NO DEBE ser superior al total de Procesados. \",\"\")","v":""},{"$f":"IF(C187<  AX187,\"* La columna Migrantes NO DEBE ser superior al total de Procesados. \",\"\")","v":""},{"$f":"IF((O187 + Q187) <  AY187,\"* La columna 14-18 AÑOS no puede ser mayor al total por grupo edad de 10 a 19 años. \",\"\")","v":""},{"$f":"IF(C187<> AS187+AT187,1,0)","v":0},{"$f":"IF(C187<  AU187+AV187,1,0)","v":0},{"$f":"IF(C187<  AW187,1,0)","v":0},{"$f":"IF(C187<  AX187,1,0)","v":0},{"$f":"IF((O187 + Q187) <  AY187,1,0)","v":0},null,null,null,null,null,null,null,null,null,null,null,{"$f":"IF(F187> E187,\"* Los exámenes Reactivos de Menor de 6 meses NO DEBEN ser mayor a los Exámenes Procesados de la misma edad. \",\"\")","v":""},{"$f":"IF(H187> G187,\"* Los exámenes Reactivos de 6 a 11 meses NO DEBEN ser mayor a los Exámenes Procesados de la misma edad. \",\"\")","v":""},{"$f":"IF(J187> I187,\"* Los exámenes Reactivos de 12 a 24 meses NO DEBEN ser mayor a los Exámenes Procesados de la misma edad. \",\"\")","v":""},{"$f":"IF(F187> E187,\"* Los exámenes Reactivos de Menor de 6 meses NO DEBEN ser mayor a los Exámenes Procesados de la misma edad. \",\"\")","v":""},{"$f":"IF(F187> E187,\"* Los exámenes Reactivos de Menor de 6 meses NO DEBEN ser mayor a los Exámenes Procesados de la misma edad. \",\"\")","v":""},{"$f":"IF(H187> G187,\"* Los exámenes Reactivos de 6 a 11 meses NO DEBEN ser mayor a los Exámenes Procesados de la misma edad. \",\"\")","v":""},{"$f":"IF(J187> I187,\"* Los exámenes Reactivos de 12 a 24 meses NO DEBEN ser mayor a los Exámenes Procesados de la misma edad. \",\"\")","v":""},{"$f":"IF(L187> K187,\"* Los exámenes Reactivos de 3 a 4 años NO DEBEN ser mayor a los Exámenes Procesados de la misma edad. \",\"\")","v":""},{"$f":"IF(N187> M187,\"* Los exámenes Reactivos de 5 a 9 años NO DEBEN ser mayor a los Exámenes Procesados de la misma edad. \",\"\")","v":""},{"$f":"IF(P187> O187,\"* Los exámenes Reactivos de 10 a 14 años NO DEBEN ser mayor a los Exámenes Procesados de la misma edad. \",\"\")","v":""},{"$f":"IF(R187> Q187,\"* Los exámenes Reactivos de 15 a 19 años NO DEBEN ser mayor a los Exámenes Procesados de la misma edad. \",\"\")","v":""},{"$f":"IF(T187> S187,\"* Los exámenes Reactivos de 20 a 24 años NO DEBEN ser mayor a los Exámenes Procesados de la misma edad. \",\"\")","v":""},{"$f":"IF(V187> U187,\"* Los exámenes Reactivos de 25 a 29 años NO DEBEN ser mayor a los Exámenes Procesados de la misma edad. \",\"\")","v":""},{"$f":"IF(X187> W187,\"* Los exámenes Reactivos de 30 a 34 años NO DEBEN ser mayor a los Exámenes Procesados de la misma edad. \",\"\")","v":""},{"$f":"IF(Z187> Y187,\"* Los exámenes Reactivos de 35 a 39 años NO DEBEN ser mayor a los Exámenes Procesados de la misma edad. \",\"\")","v":""},{"$f":"IF(AB187> AA187,\"* Los exámenes Reactivos de 40 a 44 años NO DEBEN ser mayor a los Exámenes Procesados de la misma edad. \",\"\")","v":""},{"$f":"IF(AD187> AC187,\"* Los exámenes Reactivos de 45 a 49 años NO DEBEN ser mayor a los Exámenes Procesados de la misma edad. \",\"\")","v":""},{"$f":"IF(AF187> AE187,\"* Los exámenes Reactivos de 50 a 54 años NO DEBEN ser mayor a los Exámenes Procesados de la misma edad. \",\"\")","v":""},{"$f":"IF(AH187> AG187,\"* Los exámenes Reactivos de 55 a 59 años NO DEBEN ser mayor a los Exámenes Procesados de la misma edad. \",\"\")","v":""},{"$f":"IF(AJ187> AI187,\"* Los exámenes Reactivos de 60 a 64 años NO DEBEN ser mayor a los Exámenes Procesados de la misma edad. \",\"\")","v":""},{"$f":"IF(AL187> AK187,\"* Los exámenes Reactivos de 65 a 69 años NO DEBEN ser mayor a los Exámenes Procesados de la misma edad. \",\"\")","v":""},{"$f":"IF(AN187> AM187,\"* Los exámenes Reactivos de 70 a 74 años NO DEBEN ser mayor a los Exámenes Procesados de la misma edad. \",\"\")","v":""},{"$f":"IF(AP187> AO187,\"* Los exámenes Reactivos de 75 a 79 años NO DEBEN ser mayor a los Exámenes Procesados de la misma edad. \",\"\")","v":""},{"$f":"IF(AR187> AQ187,\"* Los exámenes Reactivos de 80 y mas años NO DEBEN ser mayor a los Exámenes Procesados de la misma edad. \",\"\")","v":""},null,null,{"$f":"IF(F187> E187,1,0)","v":0},{"$f":"IF(H187> G187,1,0)","v":0},{"$f":"IF(J187> I187,1,0)","v":0},{"$f":"IF(F187> E187,1,0)","v":0},{"$f":"IF(F187> E187,1,0)","v":0},{"$f":"IF(H187> G187,1,0)","v":0},{"$f":"IF(J187> I187,1,0)","v":0},{"$f":"IF(L187> K187,1,0)","v":0},{"$f":"IF(N187> M187,1,0)","v":0},{"$f":"IF(P187> O187,1,0)","v":0},{"$f":"IF(R187> Q187,1,0)","v":0},{"$f":"IF(T187> S187,1,0)","v":0},{"$f":"IF(V187> U187,1,0)","v":0},{"$f":"IF(X187> W187,1,0)","v":0},{"$f":"IF(Z187> Y187,1,0)","v":0},{"$f":"IF(AB187> AA187,1,0)","v":0},{"$f":"IF(AD187> AC187,1,0)","v":0},{"$f":"IF(AF187> AE187,1,0)","v":0},{"$f":"IF(AH187> AG187,1,0)","v":0},{"$f":"IF(AJ187> AI187,1,0)","v":0},{"$f":"IF(AL187> AK187,1,0)","v":0},{"$f":"IF(AN187> AM187,1,0)","v":0},{"$f":"IF(AP187> AO187,1,0)","v":0},{"$f":"IF(AR187> AQ187,1,0)","v":0},0]
["GESTANTES SEGUNDO EXAMEN",null,0,0,null,null,null,null,null,null,null,null,null,null,null,null,null,null,null,null,null,null,null,null,null,null,null,null,null,null,null,null,null,null,null,null,null,null,null,null,null,null,null,null,null,null,null,null,null,null,null,null,null,null,null,null,null,null,null,null,null,null,null,null,null,null,null,null,null,null,null,null,null,null,"","","","","","","","","","",0,0,0,0,0,null,null,null,null,null,null,null,null,null,null,null,"","","","","","","","","","","","","","","","","","","","","","","","",null,null,0,0,0,0,0,0,0,0,0,0,0,0,0,0,0,0,0,0,0,0,0,0,0,0,0]
["MUJER EN TRABAJO DE PRE PARTO O PARTO",null,0,0,null,null,null,null,null,null,null,null,null,null,null,null,null,null,null,null,null,null,null,null,null,null,null,null,null,null,null,null,null,null,null,null,null,null,null,null,null,null,null,null,null,null,null,null,null,null,null,null,null,null,null,null,null,null,null,null,null,null,null,null,null,null,null,null,null,null,null,null,null,null,"","","","","","","","","","",0,0,0,0,0,null,null,null,null,null,null,null,null,null,null,null,"","","","","","","","","","","","","","","","","","","","","","","","",null,null,0,0,0,0,0,0,0,0,0,0,0,0,0,0,0,0,0,0,0,0,0,0,0,0,0]
["PERSONAS EN CONTROL POR COMERCIO SEXUAL",null,{"$f":"+O190+Q190+S190+U190+W190+Y190+AA190+AC190+AE190+AG190+AI190","v":0},{"$f":"+P190+R190+T190+V190+X190+Z190+AB190+AD190+AF190+AH190+AJ190","v":0},null,null,null,null,null,null,null,null,null,null,null,null,null,null,null,null,null,null,null,null,null,null,null,null,null,null,null,null,null,null,null,null,null,null,null,null,null,null,null,null,null,null,null,null,null,null,null,null,null,null,null,null,null,null,null,null,null,null,null,null,null,null,null,null,null,null,null,null,null,null,"","","","","","","","","","",0,0,0,0,0,null,null,null,null,null,null,null,null,null,null,null,"","","","","","","","","","","","","","","","","","","","","","","","",null,null,0,0,0,0,0,0,0,0,0,0,0,0,0,0,0,0,0,0,0,0,0,0,0,0,0]
["PACIENTES EN DIÁLISIS",null,{"$f":"+E191+G191+I191+K191+M191+O191+Q191+S191+U191+W191+Y191+AA191+AC191+AE191+AG191+AI191","v":0},{"$f":"+F191+H191+J191+L191+N191+P191+R191+T191+V191+X191+Z191+AB191+AD191+AF191+AH191+AJ191","v":0},null,null,null,null,null,null,null,null,null,null,null,null,null,null,null,null,null,null,null,null,null,null,null,null,null,null,null,null,null,null,null,null,null,null,null,null,null,null,null,null,null,null,null,null,null,null,null,null,null,null,null,null,null,null,null,null,null,null,null,null,null,null,null,null,null,null,null,null,null,null,"","","","","","","","","","",0,0,0,0,0,null,null,null,null,null,null,null,null,null,null,null,"","","","","","","","","","","","","","","","","","","","","","","","",null,null,0,0,0,0,0,0,0,0,0,0,0,0,0,0,0,0,0,0,0,0,0,0,0,0,0]
["POR CONSULTA ITS",null,{"$f":"+E192+G192+I192+K192+M192+O192+Q192+S192+U192+W192+Y192+AA192+AC192+AE192+AG192+AI192","v":0},{"$f":"+F192+H192+J192+L192+N192+P192+R192+T192+V192+X192+Z192+AB192+AD192+AF192+AH192+AJ192","v":0},null,null,null,null,null,null,null,null,null,null,null,null,null,null,null,null,null,null,null,null,null,null,null,null,null,null,null,null,null,null,null,null,null,null,null,null,null,null,null,null,null,null,null,null,null,null,null,null,null,null,null,null,null,null,null,null,null,null,null,null,null,null,null,null,null,null,null,null,null,null,"","","","","","","","","","",0,0,0,0,0,null,null,null,null,null,null,null,null,null,null,null,"","","","","","","","","","","","","","","","","","","","","","","","",null,null,0,0,0,0,0,0,0,0,0,0,0,0,0,0,0,0,0,0,0,0,0,0,0,0,0]
["PERSONAS EN CONTROL DE REGULACIÓN FECUNDIDAD, GINECOLOGICO, CLIMATERIO",null,{"$f":"+O193+Q193+S193+U193+W193+Y193+AA193+AC193+AE193+AG193+AI193","v":0},{"$f":"+P193+R193+T193+V193+X193+Z193+AB193+AD193+AF193+AH193+AJ193","v":0},null,null,null,null,null,null,null,null,null,null,null,null,null,null,null,null,null,null,null,null,null,null,null,null,null,null,null,null,null,null,null,null,null,null,null,null,null,null,null,null,null,null,null,null,null,null,null,null,null,null,null,null,null,null,null,null,null,null,null,null,null,null,null,null,null,null,null,null,null,null,"","","","","","","","","","",0,0,0,0,0,null,null,null,null,null,null,null,null,null,null,null,"","","","","","","","","","","","","","","","","","","","","","","","",null,null,0,0,0,0,0,0,0,0,0,0,0,0,0,0,0,0,0,0,0,0,0,0,0,0,0]
["PERSONAS CON EMP",null,null,null,null,null,null,null,null,null,null,null,null,null,null,null,null,null,null,null,null,null,null,null,null,null,null,null,null,null,null,null,null,null,null,null,null,null,null,null,null,null,null,null,null,null,null,null,null,null,null,null,null,null,null,null,null,null,null,null,null,null,null,null,null,null,null,null,null,null,null,null,null,null,"","","","","","","","","","",0,0,0,0,0,null,null,null,null,null,null,null,null,null,null,null,"","","","","","","","","","","","","","","","","","","","","","","","",null,null,0,0,0,0,0,0,0,0,0,0,0,0,0,0,0,0,0,0,0,0,0,0,0,0,0]
["PERSONAS EN CONTROL DE SALUD SEGÚN CICLO VITAL",null,{"$f":"+E195+G195+I195+K195+M195+O195+Q195+S195+U195+W195+Y195+AA195+AC195+AE195+AG195+AI195","v":0},{"$f":"+F195+H195+J195+L195+N195+P195+R195+T195+V195+X195+Z195+AB195+AD195+AF195+AH195+AJ195","v":0},null,null,null,null,null,null,null,null,null,null,null,null,null,null,null,null,null,null,null,null,null,null,null,null,null,null,null,null,null,null,null,null,null,null,null,null,null,null,null,null,null,null,null,null,null,null,null,null,null,null,null,null,null,null,null,null,null,null,null,null,null,null,null,null,null,null,null,null,null,null,"","","","","","","","","","",0,0,0,0,0,null,null,null,null,null,null,null,null,null,null,null,"","","","","","","","","","","","","","","","","","","","","","","","",null,null,0,0,0,0,0,0,0,0,0,0,0,0,0,0,0,0,0,0,0,0,0,0,0,0,0]
["DONANTES DE SANGRE","ALTRUISTA NUEVO",{"$f":"+O196+Q196+S196+U196+W196+Y196+AA196+AC196+AE196+AG196","v":0},{"$f":"+P196+R196+T196+V196+X196+Z196+AB196+AD196+AF196+AH196","v":0},null,null,null,null,null,null,null,null,null,null,null,null,null,null,null,null,null,null,null,null,null,null,null,null,null,null,null,null,null,null,null,null,null,null,null,null,null,null,null,null,null,null,null,null,null,null,null,null,null,null,null,null,null,null,null,null,null,null,null,null,null,null,null,null,null,null,null,null,null,null,"","","","","","","","","","",0,0,0,0,0,null,null,null,null,null,null,null,null,null,null,null,"","","","","","","","","","","","","","","","","","","","","","","","",null,null,0,0,0,0,0,0,0,0,0,0,0,0,0,0,0,0,0,0,0,0,0,0,0,0,0]
[null,"ALTRUISTA REPETIDO",{"$f":"+O197+Q197+S197+U197+W197+Y197+AA197+AC197+AE197+AG197","v":0},{"$f":"+P197+R197+T197+V197+X197+Z197+AB197+AD197+AF197+AH197","v":0},null,null,null,null,null,null,null,null,null,null,null,null,null,null,null,null,null,null,null,null,null,null,null,null,null,null,null,null,null,null,null,null,null,null,null,null,null,null,null,null,null,null,null,null,null,null,null,null,null,null,null,null,null,null,null,null,null,null,null,null,null,null,null,null,null,null,null,null,null,null,"","","","","","","","","","",0,0,0,0,0,null,null,null,null,null,null,null,null,null,null,null,"","","","","","","","","","","","","","","","","","","","","","","","",null,null,0,0,0,0,0,0,0,0,0,0,0,0,0,0,0,0,0,0,0,0,0,0,0,0,0]
[null,"FAMILIAR O REPOSICIÓN",{"$f":"+O198+Q198+S198+U198+W198+Y198+AA198+AC198+AE198+AG198","v":0},{"$f":"+P198+R198+T198+V198+X198+Z198+AB198+AD198+AF198+AH198","v":0},null,null,null,null,null,null,null,null,null,null,null,null,null,null,null,null,null,null,null,null,null,null,null,null,null,null,null,null,null,null,null,null,null,null,null,null,null,null,null,null,null,null,null,null,null,null,null,null,null,null,null,null,null,null,null,null,null,null,null,null,null,null,null,null,null,null,null,null,null,null,"","","","","","","","","","",0,0,0,0,0,null,null,null,null,null,null,null,null,null,null,null,"","","","","","","","","","","","","","","","","","","","","","","","",null,null,0,0,0,0,0,0,0,0,0,0,0,0,0,0,0,0,0,0,0,0,0,0,0,0,0]
["DONANTES DE ÓRGANOS Y/O TEJIDOS",null,{"$f":"+E199+G199+I199+K199+M199+O199+Q199+S199+U199+W199+Y199+AA199+AC199+AE199+AG199+AI199","v":0},0,null,null,null,null,null,null,null,null,null,null,null,null,null,null,null,null,null,null,null,null,null,null,null,null,null,null,null,null,null,null,null,null,null,null,null,null,null,null,null,null,null,null,null,null,null,null,null,null,null,null,null,null,null,null,null,null,null,null,null,null,null,null,null,null,null,null,null,null,null,null,"","","","","","","","","","",0,0,0,0,0,null,null,null,null,null,null,null,null,null,null,null,"","","","","","","","","","","","","","","","","","","","","","","","",null,null,0,0,0,0,0,0,0,0,0,0,0,0,0,0,0,0,0,0,0,0,0,0,0,0,0]
["PERSONA EN CONTROL POR TBC",null,0,0,null,null,null,null,null,null,null,null,null,null,null,null,null,null,null,null,null,null,null,null,null,null,null,null,null,null,null,null,null,null,null,null,null,null,null,null,null,null,null,null,null,null,null,null,null,null,null,null,null,null,null,null,null,null,null,null,null,null,null,null,null,null,null,null,null,null,null,null,null,null,"","","","","","","","","","",0,0,0,0,0,null,null,null,null,null,null,null,null,null,null,null,"","","","","","","","","","","","","","","","","","","","","","","","",null,null,0,0,0,0,0,0,0,0,0,0,0,0,0,0,0,0,0,0,0,0,0,0,0,0,0]
["VÍCTIMA DE VIOLENCIA SEXUAL",null,0,0,null,null,null,null,null,null,null,null,null,null,null,null,null,null,null,null,null,null,null,null,null,null,null,null,null,null,null,null,null,null,null,null,null,null,null,null,null,null,null,null,null,null,null,null,null,null,null,null,null,null,null,null,null,null,null,null,null,null,null,null,null,null,null,null,null,null,null,null,null,null,"","","","","","","","","","",0,0,0,0,0,null,null,null,null,null,null,null,null,null,null,null,"","","","","","","","","","","","","","","","","","","","","","","","",null,null,0,0,0,0,0,0,0,0,0,0,0,0,0,0,0,0,0,0,0,0,0,0,0,0,0]
["PAREJA SERODISCORDANTE",null,{"$f":"+O202+Q202+S202+U202+W202+Y202+AA202+AC202+AE202+AG202+AI202","v":0},0,null,null,null,null,null,null,null,null,null,null,null,null,null,null,null,null,null,null,null,null,null,null,null,null,null,null,null,null,null,null,null,null,null,null,null,null,null,null,null,null,null,null,null,null,null,null,null,null,null,null,null,null,null,null,null,null,null,null,null,null,null,null,null,null,null,null,null,null,null,null,"","","","","","","","","","",0,0,0,0,0,null,null,null,null,null,null,null,null,null,null,null,"","","","","","","","","","","","","","","","","","","","","","","","",null,null,0,0,0,0,0,0,0,0,0,0,0,0,0,0,0,0,0,0,0,0,0,0,0,0,0]
["PAREJA DE GESTANTE VIH POSITIVO",null,{"$f":"+O203+Q203+S203+U203+W203+Y203+AA203+AC203+AE203+AG203+AI203","v":0},{"$f":"+P203+R203+T203+V203+X203+Z203+AB203+AD203+AF203+AH203+AJ203","v":0},null,null,null,null,null,null,null,null,null,null,null,null,null,null,null,null,null,null,null,null,null,null,null,null,null,null,null,null,null,null,null,null,null,null,null,null,null,null,null,null,null,null,null,null,null,null,null,null,null,null,null,null,null,null,null,null,null,null,null,null,null,null,null,null,null,null,null,null,null,null,"","","","","","","","","","",0,0,0,0,0,null,null,null,null,null,null,null,null,null,null,null,"","","","","","","","","","","","","","","","","","","","","","","","",null,null,0,0,0,0,0,0,0,0,0,0,0,0,0,0,0,0,0,0,0,0,0,0,0,0,0]
["PERSONAL DE SALUD EXPUESTO A ACCIDENTE CORTOPUNZANTE",null,0,0,null,null,null,null,null,null,null,null,null,null,null,null,null,null,null,null,null,null,null,null,null,null,null,null,null,null,null,null,null,null,null,null,null,null,null,null,null,null,null,null,null,null,null,null,null,null,null,null,null,null,null,null,null,null,null,null,null,null,null,null,null,null,null,null,null,null,null,null,null,null,"","","","","","","","","","",0,0,0,0,0,null,null,null,null,null,null,null,null,null,null,null,"","","","","","","","","","","","","","","","","","","","","","","","",null,null,0,0,0,0,0,0,0,0,0,0,0,0,0,0,0,0,0,0,0,0,0,0,0,0,0]
["PACIENTES FUENTE DE ACCIDENTE CORTOPUNZANTE",null,{"$f":"+E205+G205+I205+K205+M205+O205+Q205+S205+U205+W205+Y205+AA205+AC205+AE205+AG205+AI205","v":0},0,null,null,null,null,null,null,null,null,null,null,null,null,null,null,null,null,null,null,null,null,null,null,null,null,null,null,null,null,null,null,null,null,null,null,null,null,null,null,null,null,null,null,null,null,null,null,null,null,null,null,null,null,null,null,null,null,null,null,null,null,null,null,null,null,null,null,null,null,null,null,"",{"$f":"IF(C205<> AS205+ AT205,\"* La suma de las columnas Sexo DEBE SER IGUAL los Procesados. \",\"\")","v":""},"","","","","","","","",0,0,0,0,0,null,null,null,null,null,null,null,null,null,null,null,{"$f":"IF(F205> E205,\"* Los exámenes Reactivos de Menor de 6 meses NO DEBEN ser mayor a los Exámenes Procesados de la misma edad. \",\"\")","v":""},{"$f":"IF(H205> G205,\"* Los exámenes Reactivos de 6 a 11 meses NO DEBEN ser mayor a los Exámenes Procesados de la misma edad. \",\"\")","v":""},{"$f":"IF(J205> I205,\"* Los exámenes Reactivos de 12 a 24 meses NO DEBEN ser mayor a los Exámenes Procesados de la misma edad. \",\"\")","v":""},"","","","","","","","","","","","","","","","","","","","","",null,null,{"$f":"IF(F205> E205,1,0)","v":0},{"$f":"IF(H205> G205,1,0)","v":0},{"$f":"IF(J205> I205,1,0)","v":0},0,0,0,0,0,0,0,0,0,0,0,0,0,0,0,0,0,0,0,0,0,0]
["PERSONA EN CONTROL POR HEPATITIS B",null,0,0,null,null,null,null,null,null,null,null,null,null,null,null,null,null,null,null,null,null,null,null,null,null,null,null,null,null,null,null,null,null,null,null,null,null,null,null,null,null,null,null,null,null,null,null,null,null,null,null,null,null,null,null,null,null,null,null,null,null,null,null,null,null,null,null,null,null,null,null,null,null,"",{"$f":"IF(C206<> AS206+ AT206,\"* La suma de las columnas Sexo DEBE SER IGUAL los Procesados. \",\"\")","v":""},"","","","","","","","",0,0,0,0,0,null,null,null,null,null,null,null,null,null,null,null,"","","","","","","","","","","","","","","","","","","","","","","","",null,null,0,0,0,0,0,0,0,0,0,0,0,0,0,0,0,0,0,0,0,0,0,0,0,0,0]
["PERSONA EN CONTROL POR HEPATITIS C",null,0,0,null,null,null,null,null,null,null,null,null,null,null,null,null,null,null,null,null,null,null,null,null,null,null,null,null,null,null,null,null,null,null,null,null,null,null,null,null,null,null,null,null,null,null,null,null,null,null,null,null,null,null,null,null,null,null,null,null,null,null,null,null,null,null,null,null,null,null,null,null,null,"",{"$f":"IF(C207<> AS207+ AT207,\"* La suma de las columnas Sexo DEBE SER IGUAL los Procesados. \",\"\")","v":""},"","","","","","","","",0,0,0,0,0,null,null,null,null,null,null,null,null,null,null,null,"","","","","","","","","","","","","","","","","","","","","","","","",null,null,0,0,0,0,0,0,0,0,0,0,0,0,0,0,0,0,0,0,0,0,0,0,0,0,0]
["CONSULTANTES POR MORBILIDAD",null,0,0,null,null,null,null,null,null,null,null,null,null,null,null,null,null,null,null,null,null,null,null,null,null,null,null,null,null,null,null,null,null,null,null,null,null,null,null,null,null,null,null,null,null,null,null,null,null,null,null,null,null,null,null,null,null,null,null,null,null,null,null,null,null,null,null,null,null,null,null,null,null,"",{"$f":"IF(C208<> AS208+ AT208,\"* La suma de las columnas Sexo DEBE SER IGUAL los Procesados. \",\"\")","v":""},"","","","","","","","",0,0,0,0,0,null,null,null,null,null,null,null,null,null,null,null,"","","","","","","","","","","","","","","","","","","","","","","","",null,null,0,0,0,0,0,0,0,0,0,0,0,0,0,0,0,0,0,0,0,0,0,0,0,0,0]
["POR CONSULTA ESPONTÁNEA",null,0,0,null,null,null,null,null,null,null,null,null,null,null,null,null,null,null,null,null,null,null,null,null,null,null,null,null,null,null,null,null,null,null,null,null,null,null,null,null,null,null,null,null,null,null,null,null,null,null,null,null,null,null,null,null,null,null,null,null,null,null,null,null,null,null,null,null,null,null,null,null,null,"",{"$f":"IF(C209<> AS209+ AT209,\"* La suma de las columnas Sexo DEBE SER IGUAL los Procesados. \",\"\")","v":""},"","","","","","","","",0,0,0,0,0,null,null,null,null,null,null,null,null,null,null,null,"","","","","","","","","","","","","","","","","","","","","","","","",null,null,0,0,0,0,0,0,0,0,0,0,0,0,0,0,0,0,0,0,0,0,0,0,0,0,0]
["SECCIÓN D: DETECCIÓN ENFERMEDAD DE CHAGAS EN GESTANTES Y RECIÉN NACIDOS SEGÚN RESULTADO DE EXÁMENES DE LABORATORIO"]
["TIPO DE EXÁMENES","EXÁMENES DE TAMIZAJE INFECCIÓN POR T. cruzi REALIZADOS","EXÁMENES TAMIZAJE DE INFECCIÓN POR T. cruzi CON RESULTADO REACTIVO ","EXÁMENES DE CONFIRMACIÓN DE INFECCIÓN POR T. cruzi CON RESULTADO POSITIVO "]
["GESTANTES QUE INGRESAN A CONTROL PRENATAL       "]
["MUJERES EN TRABAJO DE PARTO O ABORTO SIN TAMIZAJE PREVIO CUALQUIERA SEA LA CAUSA"]
["RECIÉN NACIDOS, HIJOS DE MADRE CON ENFERMEDAD DE CHAGAS "]
["LACTANTES, HIJOS DE MADRE CON ENFERMEDAD DE CHAGAS "]
["SECCIÓN E: EXÁMENES DE GONORREA POR GRUPOS DE USUARIOS "]
["GRUPO DE USUARIOS","TOTAL",null,"GRUPO DE EDAD (En años)",null,null,null,null,null,null,null,null,null,null,null,null,null,null,null,null,null,null,null,null,null,null,null,null,null,null,null,null,null,null,null,null,null,"POR SEXO\n(Procesados)",null,"TRANS",null,"Pueblos Originarios","Migrantes"]
[null,null,null,"0 a 4 años",null,"5 a 9 años",null,"10 a 14 años",null,"15 a 19 años",null,"20 a 24 años",null,"25 a 29 años",null,"30 a 34 años",null,"35 a 39 años",null,"40 a 44 años",null,"45 a 49 años",null,"50 a 54 años",null,"55 a 59 años",null,"60 a 64 años",null,"65 a 69 años",null,"70 a 74 años",null,"75 a 79 años",null,"80 y más años",null,"Hombres","Mujeres","Masculino","Femenino"]
[null,"Procesados","Reactivos","Procesados","Reactivos","Procesados","Reactivos","Procesados","Reactivos","Procesados","Reactivos","Procesados","Reactivos","Procesados","Reactivos","Procesados","Reactivos","Procesados","Reactivos","Procesados","Reactivos","Procesados","Reactivos","Procesados","Reactivos","Procesados","Reactivos","Procesados","Reactivos","Procesados","Reactivos","Procesados","Reactivos","Procesados","Reactivos","Procesados","Reactivos"]
["GESTANTES",{"$f":"SUM(D220+F220+H220+J220+L220+N220+P220+R220+T220+V220+X220+Z220+AB220+AD220+AF220+AH220+AJ220)","v":0},{"$f":"SUM(E220+G220+I220+K220+M220+O220+Q220+S220+U220+W220+Y220+AA220+AC220+AE220+AG220+AI220+AK220)","v":0},null,null,null,null,null,null,null,null,null,null,null,null,null,null,null,null,null,null,null,null,null,null,null,null,null,null,null,null,null,null,null,null,null,null,null,null,null,null,null,null,null,null,null,null,null,null,null,null,null,null,null,null,null,null,null,null,null,null,null,null,null,null,null,null,null,null,null,null,null,null,null,null,null,null,null,{"$f":"IF(B220<   C220,\"* El total de Reactivos NO DEBE ser superior al total de Procesados. \",\"\")","v":""},{"$f":"IF(B220<> AL220+ AM220,\"* La suma de las columnas Sexo DEBE SER IGUAL a los Procesados. \",\"\")","v":""},{"$f":"IF(B220<  AN220+ AO220,\"* La suma de las columna Trans NO DEBE ser superior al total de Procesados. \",\"\")","v":""},{"$f":"IF(B220<  AP220,\"* La columna Pueblos Originarios NO DEBE ser superior al total de Procesados. \",\"\")","v":""},{"$f":"IF(B220<  AQ220,\"* La columna Migrantes NO DEBE ser superior al total de Procesados. \",\"\")","v":""},null,{"$f":"IF(B220<   C220,1,0)","v":0},{"$f":"IF(B220<> AL220+AM220,1,0)","v":0},{"$f":"IF(B220<  AN220+AO220,1,0)","v":0},{"$f":"IF(B220<  AP220,1,0)","v":0},{"$f":"IF(B220<  AQ220,1,0)","v":0},null,null,null,null,null,null,null,null,null,null,null,null,null,null,null,{"$f":"IF(D220<E220,\"* Los exámenes Reactivos de 0 a 4 años años NO DEBEN ser mayor a los Exámenes Procesados de la misma edad. \",\"\")","v":""},{"$f":"IF(F220<G220,\"* Los exámenes Reactivos de 5 a 9 años años NO DEBEN ser mayor a los Exámenes Procesados de la misma edad. \",\"\")","v":""},{"$f":"IF(H220<I220,\"* Los exámenes Reactivos de 10 a 14 años años NO DEBEN ser mayor a los Exámenes Procesados de la misma edad. \",\"\")","v":""},{"$f":"IF(J220<K220,\"* Los exámenes Reactivos de 15 a 19 años años NO DEBEN ser mayor a los Exámenes Procesados de la misma edad. \",\"\")","v":""},{"$f":"IF(L220<M220,\"* Los exámenes Reactivos de 20 a 24 años años NO DEBEN ser mayor a los Exámenes Procesados de la misma edad. \",\"\")","v":""},{"$f":"IF(N220<O220,\"* Los exámenes Reactivos de 25 a 29 años años NO DEBEN ser mayor a los Exámenes Procesados de la misma edad. \",\"\")","v":""},{"$f":"IF(P220<Q220,\"* Los exámenes Reactivos de 30 a 34 años años NO DEBEN ser mayor a los Exámenes Procesados de la misma edad. \",\"\")","v":""},{"$f":"IF(R220<S220,\"* Los exámenes Reactivos de 35 a 39 años años NO DEBEN ser mayor a los Exámenes Procesados de la misma edad. \",\"\")","v":""},{"$f":"IF(T220<U220,\"* Los exámenes Reactivos de 40 a 44 años años NO DEBEN ser mayor a los Exámenes Procesados de la misma edad. \",\"\")","v":""},{"$f":"IF(V220<W220,\"* Los exámenes Reactivos de 45 a 49 años años NO DEBEN ser mayor a los Exámenes Procesados de la misma edad. \",\"\")","v":""},{"$f":"IF(X220<Y220,\"* Los exámenes Reactivos de 50 a 54 años años NO DEBEN ser mayor a los Exámenes Procesados de la misma edad. \",\"\")","v":""},{"$f":"IF(AF220<AG220,\"* Los exámenes Reactivos de 70 a 74 años años NO DEBEN ser mayor a los Exámenes Procesados de la misma edad. \",\"\")","v":""},{"$f":"IF(AH220<AI220,\"* Los exámenes Reactivos de 75 a 79 años años NO DEBEN ser mayor a los Exámenes Procesados de la misma edad. \",\"\")","v":""},{"$f":"IF(AJ220<AK220,\"* Los exámenes Reactivos de 80 y más años años NO DEBEN ser mayor a los Exámenes Procesados de la misma edad. \",\"\")","v":""},null,null,null,null,null,null,null,null,null,null,null,null,{"$f":"IF(D220<E220,1,0)","v":0},{"$f":"IF(F220<G220,1,0)","v":0},{"$f":"IF(H220<I220,1,0)","v":0},{"$f":"IF(J220<K220,1,0)","v":0},{"$f":"IF(L220<M220,1,0)","v":0},{"$f":"IF(N220<O220,1,0)","v":0},{"$f":"IF(P220<Q220,1,0)","v":0},{"$f":"IF(R220<S220,1,0)","v":0},{"$f":"IF(T220<U220,1,0)","v":0},{"$f":"IF(V220<W220,1,0)","v":0},{"$f":"IF(X220<Y220,1,0)","v":0},{"$f":"IF(AF220<AG220,1,0)","v":0},{"$f":"IF(AH220<AI220,1,0)","v":0},{"$f":"IF(AJ220<AK220,1,0)","v":0},null,null,null,0]
["COMERCIO SEXUAL",0,0,null,null,null,null,null,null,null,null,null,null,null,null,null,null,null,null,null,null,null,null,null,null,null,null,null,null,null,null,null,null,null,null,null,null,null,null,null,null,null,null,null,null,null,null,null,null,null,null,null,null,null,null,null,null,null,null,null,null,null,null,null,null,null,null,null,null,null,null,null,null,null,null,null,null,null,"","","","","",null,0,0,0,0,0,null,null,null,null,null,null,null,null,null,null,null,null,null,null,null,"","","","","","","","","","","","","","",null,null,null,null,null,null,null,null,null,null,null,null,0,0,0,0,0,0,0,0,0,0,0,0,0,0,null,null,null,0]
["PERSONAS VIH (+)",0,0,null,null,null,null,null,null,null,null,null,null,null,null,null,null,null,null,null,null,null,null,null,null,null,null,null,null,null,null,null,null,null,null,null,null,null,null,null,null,null,null,null,null,null,null,null,null,null,null,null,null,null,null,null,null,null,null,null,null,null,null,null,null,null,null,null,null,null,null,null,null,null,null,null,null,null,"","","","","",null,0,0,0,0,0,null,null,null,null,null,null,null,null,null,null,null,null,null,null,null,"","","","","","","","","","","","","","",null,null,null,null,null,null,null,null,null,null,null,null,0,0,0,0,0,0,0,0,0,0,0,0,0,0,null,null,null,0]
["CONSULTANTE ITS AMBULATORIO (nivel1º y 2º)",0,{"$f":"SUM(E223+G223+I223+K223+M223+O223+Q223+S223+U223+W223+Y223+AA223+AC223+AE223+AG223+AI223+AK223)","v":0},null,null,null,null,null,null,null,null,null,null,null,null,null,null,null,null,null,null,null,null,null,null,null,null,null,null,null,null,null,null,null,null,null,null,null,null,null,null,null,null,null,null,null,null,null,null,null,null,null,null,null,null,null,null,null,null,null,null,null,null,null,null,null,null,null,null,null,null,null,null,null,null,null,null,null,"","","","","",null,0,0,0,0,0,null,null,null,null,null,null,null,null,null,null,null,null,null,null,null,"","","","","","","","","","","","","","",null,null,null,null,null,null,null,null,null,null,null,null,0,0,0,0,0,0,0,0,0,0,0,0,0,0,null,null,null,0]
["CONSULTANTE ITS HOSPITALARIO (nivel 3º y urgencia)",0,{"$f":"SUM(E224+G224+I224+K224+M224+O224+Q224+S224+U224+W224+Y224+AA224+AC224+AE224+AG224+AI224+AK224)","v":0},null,null,null,null,null,null,null,null,null,null,null,null,null,null,null,null,null,null,null,null,null,null,null,null,null,null,null,null,null,null,null,null,null,null,null,null,null,null,null,null,null,null,null,null,null,null,null,null,null,null,null,null,null,null,null,null,null,null,null,null,null,null,null,null,null,null,null,null,null,null,null,null,null,null,null,"","","","","",null,0,0,0,0,0,null,null,null,null,null,null,null,null,null,null,null,null,null,null,null,"","","","","","","","","","","","","","",null,null,null,null,null,null,null,null,null,null,null,null,0,0,0,0,0,0,0,0,0,0,0,0,0,0,null,null,null,0]
["VICTIMA DE VIOLENCIA SEXUAL",0,0,null,null,null,null,null,null,null,null,null,null,null,null,null,null,null,null,null,null,null,null,null,null,null,null,null,null,null,null,null,null,null,null,null,null,null,null,null,null,null,null,null,null,null,null,null,null,null,null,null,null,null,null,null,null,null,null,null,null,null,null,null,null,null,null,null,null,null,null,null,null,null,null,null,null,null,"","","","","",null,0,0,0,0,0,null,null,null,null,null,null,null,null,null,null,null,null,null,null,null,"","","","","","","","","","","","","","",null,null,null,null,null,null,null,null,null,null,null,null,0,0,0,0,0,0,0,0,0,0,0,0,0,0,null,null,null,0]
["OTROS",0,0,null,null,null,null,null,null,null,null,null,null,null,null,null,null,null,null,null,null,null,null,null,null,null,null,null,null,null,null,null,null,null,null,null,null,null,null,null,null,null,null,null,null,null,null,null,null,null,null,null,null,null,null,null,null,null,null,null,null,null,null,null,null,null,null,null,null,null,null,null,null,null,null,null,null,null,"","","","","",null,0,0,0,0,0,null,null,null,null,null,null,null,null,null,null,null,null,null,null,null,"","","","","","","","","","","","","","",null,null,null,null,null,null,null,null,null,null,null,null,0,0,0,0,0,0,0,0,0,0,0,0,0,0,null,null,null,0]
["SECCIÓN F: EXÁMENES DE CHLAMYIDIA TRACHOMATIS POR GRUPOS DE USUARIOS "]
["GRUPO DE USUARIOS","TOTAL",null,"GRUPO DE EDAD (En años)",null,null,null,null,null,null,null,null,null,null,null,null,null,null,null,null,null,null,null,null,null,null,null,null,null,null,null,null,null,null,null,null,null,"POR SEXO\n(Procesados)",null,"TRANS",null,"Pueblos Originarios","Migrantes"]
[null,null,null,"0 a 4 años",null,"5 a 9 años",null,"10 a 14 años",null,"15 a 19 años",null,"20 a 24 años",null,"25 a 29 años",null,"30 a 34 años",null,"35 a 39 años",null,"40 a 44 años",null,"45 a 49 años",null,"50 a 54 años",null,"55 a 59 años",null,"60 a 64 años",null,"65 a 69 años",null,"70 a 74 años",null,"75 a 79 años",null,"80 y más años",null,"Hombres","Mujeres","Masculino","Femenino"]
[null,"Procesados","Reactivos","Procesados","Reactivos","Procesados","Reactivos","Procesados","Reactivos","Procesados","Reactivos","Procesados","Reactivos","Procesados","Reactivos","Procesados","Reactivos","Procesados","Reactivos","Procesados","Reactivos","Procesados","Reactivos","Procesados","Reactivos","Procesados","Reactivos","Procesados","Reactivos","Procesados","Reactivos","Procesados","Reactivos","Procesados","Reactivos","Procesados","Reactivos"]
["GESTANTES",{"$f":"SUM(D231+F231+H231+J231+L231+N231+P231+R231+T231+V231+X231+Z231+AB231+AD231+AF231+AH231+AJ231)","v":0},0,null,null,null,null,null,null,null,null,null,null,null,null,null,null,null,null,null,null,null,null,null,null,null,null,null,null,null,null,null,null,null,null,null,null,null,null,null,null,null,null,null,null,null,null,null,null,null,null,null,null,null,null,null,null,null,null,null,null,null,null,null,null,null,null,null,null,null,null,null,null,null,null,null,null,null,{"$f":"IF(B231<   C231,\"* El total de Reactivos NO DEBE ser superior al total de Procesados. \",\"\")","v":""},{"$f":"IF(B231<> AL231+ AM231,\"* La suma de las columnas Sexo DEBE SER IGUAL a los Procesados. \",\"\")","v":""},{"$f":"IF(B231<  AN231+ AO231,\"* La suma de las columna Trans NO DEBE ser superior al total de Procesados. \",\"\")","v":""},{"$f":"IF(B231<  AP231,\"* La columna Pueblos Originarios NO DEBE ser superior al total de Procesados. \",\"\")","v":""},{"$f":"IF(B231<  AQ231,\"* La columna Migrantes NO DEBE ser superior al total de Procesados. \",\"\")","v":""},null,{"$f":"IF(B231<   C231,1,0)","v":0},{"$f":"IF(B231<> AL231+AM231,1,0)","v":0},{"$f":"IF(B231<  AN231+AO231,1,0)","v":0},{"$f":"IF(B231<  AP231,1,0)","v":0},{"$f":"IF(B231<  AQ231,1,0)","v":0},null,null,null,null,null,null,null,null,null,null,null,null,null,null,null,{"$f":"IF(D231<E231,\"* Los exámenes Reactivos de 0 a 4 años años NO DEBEN ser mayor a los Exámenes Procesados de la misma edad. \",\"\")","v":""},{"$f":"IF(F231<G231,\"* Los exámenes Reactivos de 5 a 9 años años NO DEBEN ser mayor a los Exámenes Procesados de la misma edad. \",\"\")","v":""},{"$f":"IF(H231<I231,\"* Los exámenes Reactivos de 10 a 14 años años NO DEBEN ser mayor a los Exámenes Procesados de la misma edad. \",\"\")","v":""},{"$f":"IF(J231<K231,\"* Los exámenes Reactivos de 15 a 19 años años NO DEBEN ser mayor a los Exámenes Procesados de la misma edad. \",\"\")","v":""},{"$f":"IF(L231<M231,\"* Los exámenes Reactivos de 20 a 24 años años NO DEBEN ser mayor a los Exámenes Procesados de la misma edad. \",\"\")","v":""},{"$f":"IF(N231<O231,\"* Los exámenes Reactivos de 25 a 29 años años NO DEBEN ser mayor a los Exámenes Procesados de la misma edad. \",\"\")","v":""},{"$f":"IF(P231<Q231,\"* Los exámenes Reactivos de 30 a 34 años años NO DEBEN ser mayor a los Exámenes Procesados de la misma edad. \",\"\")","v":""},{"$f":"IF(R231<S231,\"* Los exámenes Reactivos de 35 a 39 años años NO DEBEN ser mayor a los Exámenes Procesados de la misma edad. \",\"\")","v":""},{"$f":"IF(T231<U231,\"* Los exámenes Reactivos de 40 a 44 años años NO DEBEN ser mayor a los Exámenes Procesados de la misma edad. \",\"\")","v":""},{"$f":"IF(V231<W231,\"* Los exámenes Reactivos de 45 a 49 años años NO DEBEN ser mayor a los Exámenes Procesados de la misma edad. \",\"\")","v":""},{"$f":"IF(X231<Y231,\"* Los exámenes Reactivos de 50 a 54 años años NO DEBEN ser mayor a los Exámenes Procesados de la misma edad. \",\"\")","v":""},{"$f":"IF(AF231<AG231,\"* Los exámenes Reactivos de 70 a 74 años años NO DEBEN ser mayor a los Exámenes Procesados de la misma edad. \",\"\")","v":""},{"$f":"IF(AH231<AI231,\"* Los exámenes Reactivos de 75 a 79 años años NO DEBEN ser mayor a los Exámenes Procesados de la misma edad. \",\"\")","v":""},{"$f":"IF(AJ231<AK231,\"* Los exámenes Reactivos de 80 y más años años NO DEBEN ser mayor a los Exámenes Procesados de la misma edad. \",\"\")","v":""},null,null,null,null,null,null,null,null,null,null,null,null,{"$f":"IF(D231<E231,1,0)","v":0},{"$f":"IF(F231<G231,1,0)","v":0},{"$f":"IF(H231<I231,1,0)","v":0},{"$f":"IF(J231<K231,1,0)","v":0},{"$f":"IF(L231<M231,1,0)","v":0},{"$f":"IF(N231<O231,1,0)","v":0},{"$f":"IF(P231<Q231,1,0)","v":0},{"$f":"IF(R231<S231,1,0)","v":0},{"$f":"IF(T231<U231,1,0)","v":0},{"$f":"IF(V231<W231,1,0)","v":0},{"$f":"IF(X231<Y231,1,0)","v":0},{"$f":"IF(AF231<AG231,1,0)","v":0},{"$f":"IF(AH231<AI231,1,0)","v":0},{"$f":"IF(AJ231<AK231,1,0)","v":0},null,null,null,0]
["COMERCIO SEXUAL",0,0,null,null,null,null,null,null,null,null,null,null,null,null,null,null,null,null,null,null,null,null,null,null,null,null,null,null,null,null,null,null,null,null,null,null,null,null,null,null,null,null,null,null,null,null,null,null,null,null,null,null,null,null,null,null,null,null,null,null,null,null,null,null,null,null,null,null,null,null,null,null,null,null,null,null,null,{"$f":"IF(B232<   C232,\"* El total de Reactivos NO DEBE ser superior al total de Procesados. \",\"\")","v":""},{"$f":"IF(B232<> AL232+ AM232,\"* La suma de las columnas Sexo DEBE SER IGUAL a los Procesados. \",\"\")","v":""},{"$f":"IF(B232<  AN232+ AO232,\"* La suma de las columna Trans NO DEBE ser superior al total de Procesados. \",\"\")","v":""},{"$f":"IF(B232<  AP232,\"* La columna Pueblos Originarios NO DEBE ser superior al total de Procesados. \",\"\")","v":""},{"$f":"IF(B232<  AQ232,\"* La columna Migrantes NO DEBE ser superior al total de Procesados. \",\"\")","v":""},null,{"$f":"IF(B232<   C232,1,0)","v":0},{"$f":"IF(B232<> AL232+AM232,1,0)","v":0},{"$f":"IF(B232<  AN232+AO232,1,0)","v":0},{"$f":"IF(B232<  AP232,1,0)","v":0},{"$f":"IF(B232<  AQ232,1,0)","v":0},null,null,null,null,null,null,null,null,null,null,null,null,null,null,null,{"$f":"IF(D232<E232,\"* Los exámenes Reactivos de 0 a 4 años años NO DEBEN ser mayor a los Exámenes Procesados de la misma edad. \",\"\")","v":""},{"$f":"IF(F232<G232,\"* Los exámenes Reactivos de 5 a 9 años años NO DEBEN ser mayor a los Exámenes Procesados de la misma edad. \",\"\")","v":""},{"$f":"IF(H232<I232,\"* Los exámenes Reactivos de 10 a 14 años años NO DEBEN ser mayor a los Exámenes Procesados de la misma edad. \",\"\")","v":""},{"$f":"IF(J232<K232,\"* Los exámenes Reactivos de 15 a 19 años años NO DEBEN ser mayor a los Exámenes Procesados de la misma edad. \",\"\")","v":""},{"$f":"IF(L232<M232,\"* Los exámenes Reactivos de 20 a 24 años años NO DEBEN ser mayor a los Exámenes Procesados de la misma edad. \",\"\")","v":""},{"$f":"IF(N232<O232,\"* Los exámenes Reactivos de 25 a 29 años años NO DEBEN ser mayor a los Exámenes Procesados de la misma edad. \",\"\")","v":""},{"$f":"IF(P232<Q232,\"* Los exámenes Reactivos de 30 a 34 años años NO DEBEN ser mayor a los Exámenes Procesados de la misma edad. \",\"\")","v":""},{"$f":"IF(R232<S232,\"* Los exámenes Reactivos de 35 a 39 años años NO DEBEN ser mayor a los Exámenes Procesados de la misma edad. \",\"\")","v":""},{"$f":"IF(T232<U232,\"* Los exámenes Reactivos de 40 a 44 años años NO DEBEN ser mayor a los Exámenes Procesados de la misma edad. \",\"\")","v":""},{"$f":"IF(V232<W232,\"* Los exámenes Reactivos de 45 a 49 años años NO DEBEN ser mayor a los Exámenes Procesados de la misma edad. \",\"\")","v":""},{"$f":"IF(X232<Y232,\"* Los exámenes Reactivos de 50 a 54 años años NO DEBEN ser mayor a los Exámenes Procesados de la misma edad. \",\"\")","v":""},{"$f":"IF(AF232<AG232,\"* Los exámenes Reactivos de 70 a 74 años años NO DEBEN ser mayor a los Exámenes Procesados de la misma edad. \",\"\")","v":""},{"$f":"IF(AH232<AI232,\"* Los exámenes Reactivos de 75 a 79 años años NO DEBEN ser mayor a los Exámenes Procesados de la misma edad. \",\"\")","v":""},{"$f":"IF(AJ232<AK232,\"* Los exámenes Reactivos de 80 y más años años NO DEBEN ser mayor a los Exámenes Procesados de la misma edad. \",\"\")","v":""},null,null,null,null,null,null,null,null,null,null,null,null,{"$f":"IF(D232<E232,1,0)","v":0},{"$f":"IF(F232<G232,1,0)","v":0},{"$f":"IF(H232<I232,1,0)","v":0},{"$f":"IF(J232<K232,1,0)","v":0},{"$f":"IF(L232<M232,1,0)","v":0},{"$f":"IF(N232<O232,1,0)","v":0},{"$f":"IF(P232<Q232,1,0)","v":0},{"$f":"IF(R232<S232,1,0)","v":0},{"$f":"IF(T232<U232,1,0)","v":0},{"$f":"IF(V232<W232,1,0)","v":0},{"$f":"IF(X232<Y232,1,0)","v":0},{"$f":"IF(AF232<AG232,1,0)","v":0},{"$f":"IF(AH232<AI232,1,0)","v":0},{"$f":"IF(AJ232<AK232,1,0)","v":0},null,null,null,0]
["PERSONAS VIH (+)",0,0,null,null,null,null,null,null,null,null,null,null,null,null,null,null,null,null,null,null,null,null,null,null,null,null,null,null,null,null,null,null,null,null,null,null,null,null,null,null,null,null,null,null,null,null,null,null,null,null,null,null,null,null,null,null,null,null,null,null,null,null,null,null,null,null,null,null,null,null,null,null,null,null,null,null,null,{"$f":"IF(B233<   C233,\"* El total de Reactivos NO DEBE ser superior al total de Procesados. \",\"\")","v":""},{"$f":"IF(B233<> AL233+ AM233,\"* La suma de las columnas Sexo DEBE SER IGUAL a los Procesados. \",\"\")","v":""},{"$f":"IF(B233<  AN233+ AO233,\"* La suma de las columna Trans NO DEBE ser superior al total de Procesados. \",\"\")","v":""},{"$f":"IF(B233<  AP233,\"* La columna Pueblos Originarios NO DEBE ser superior al total de Procesados. \",\"\")","v":""},{"$f":"IF(B233<  AQ233,\"* La columna Migrantes NO DEBE ser superior al total de Procesados. \",\"\")","v":""},null,{"$f":"IF(B233<   C233,1,0)","v":0},{"$f":"IF(B233<> AL233+AM233,1,0)","v":0},{"$f":"IF(B233<  AN233+AO233,1,0)","v":0},{"$f":"IF(B233<  AP233,1,0)","v":0},{"$f":"IF(B233<  AQ233,1,0)","v":0},null,null,null,null,null,null,null,null,null,null,null,null,null,null,null,{"$f":"IF(D233<E233,\"* Los exámenes Reactivos de 0 a 4 años años NO DEBEN ser mayor a los Exámenes Procesados de la misma edad. \",\"\")","v":""},{"$f":"IF(F233<G233,\"* Los exámenes Reactivos de 5 a 9 años años NO DEBEN ser mayor a los Exámenes Procesados de la misma edad. \",\"\")","v":""},{"$f":"IF(H233<I233,\"* Los exámenes Reactivos de 10 a 14 años años NO DEBEN ser mayor a los Exámenes Procesados de la misma edad. \",\"\")","v":""},{"$f":"IF(J233<K233,\"* Los exámenes Reactivos de 15 a 19 años años NO DEBEN ser mayor a los Exámenes Procesados de la misma edad. \",\"\")","v":""},{"$f":"IF(L233<M233,\"* Los exámenes Reactivos de 20 a 24 años años NO DEBEN ser mayor a los Exámenes Procesados de la misma edad. \",\"\")","v":""},{"$f":"IF(N233<O233,\"* Los exámenes Reactivos de 25 a 29 años años NO DEBEN ser mayor a los Exámenes Procesados de la misma edad. \",\"\")","v":""},{"$f":"IF(P233<Q233,\"* Los exámenes Reactivos de 30 a 34 años años NO DEBEN ser mayor a los Exámenes Procesados de la misma edad. \",\"\")","v":""},{"$f":"IF(R233<S233,\"* Los exámenes Reactivos de 35 a 39 años años NO DEBEN ser mayor a los Exámenes Procesados de la misma edad. \",\"\")","v":""},{"$f":"IF(T233<U233,\"* Los exámenes Reactivos de 40 a 44 años años NO DEBEN ser mayor a los Exámenes Procesados de la misma edad. \",\"\")","v":""},{"$f":"IF(V233<W233,\"* Los exámenes Reactivos de 45 a 49 años años NO DEBEN ser mayor a los Exámenes Procesados de la misma edad. \",\"\")","v":""},{"$f":"IF(X233<Y233,\"* Los exámenes Reactivos de 50 a 54 años años NO DEBEN ser mayor a los Exámenes Procesados de la misma edad. \",\"\")","v":""},{"$f":"IF(AF233<AG233,\"* Los exámenes Reactivos de 70 a 74 años años NO DEBEN ser mayor a los Exámenes Procesados de la misma edad. \",\"\")","v":""},{"$f":"IF(AH233<AI233,\"* Los exámenes Reactivos de 75 a 79 años años NO DEBEN ser mayor a los Exámenes Procesados de la misma edad. \",\"\")","v":""},{"$f":"IF(AJ233<AK233,\"* Los exámenes Reactivos de 80 y más años años NO DEBEN ser mayor a los Exámenes Procesados de la misma edad. \",\"\")","v":""},null,null,null,null,null,null,null,null,null,null,null,null,{"$f":"IF(D233<E233,1,0)","v":0},{"$f":"IF(F233<G233,1,0)","v":0},{"$f":"IF(H233<I233,1,0)","v":0},{"$f":"IF(J233<K233,1,0)","v":0},{"$f":"IF(L233<M233,1,0)","v":0},{"$f":"IF(N233<O233,1,0)","v":0},{"$f":"IF(P233<Q233,1,0)","v":0},{"$f":"IF(R233<S233,1,0)","v":0},{"$f":"IF(T233<U233,1,0)","v":0},{"$f":"IF(V233<W233,1,0)","v":0},{"$f":"IF(X233<Y233,1,0)","v":0},{"$f":"IF(AF233<AG233,1,0)","v":0},{"$f":"IF(AH233<AI233,1,0)","v":0},{"$f":"IF(AJ233<AK233,1,0)","v":0},null,null,null,0]
["CONSULTANTE ITS AMBULATORIO (nivel1º y 2º)",0,0,null,null,null,null,null,null,null,null,null,null,null,null,null,null,null,null,null,null,null,null,null,null,null,null,null,null,null,null,null,null,null,null,null,null,null,null,null,null,null,null,null,null,null,null,null,null,null,null,null,null,null,null,null,null,null,null,null,null,null,null,null,null,null,null,null,null,null,null,null,null,null,null,null,null,null,"","","","","",null,0,0,0,0,0,null,null,null,null,null,null,null,null,null,null,null,null,null,null,null,"","","","","","","","","","","","","","",null,null,null,null,null,null,null,null,null,null,null,null,0,0,0,0,0,0,0,0,0,0,0,0,0,0,null,null,null,0]
["CONSULTANTE ITS HOSPITALARIO (nivel 3º y urgencia)",0,0,null,null,null,null,null,null,null,null,null,null,null,null,null,null,null,null,null,null,null,null,null,null,null,null,null,null,null,null,null,null,null,null,null,null,null,null,null,null,null,null,null,null,null,null,null,null,null,null,null,null,null,null,null,null,null,null,null,null,null,null,null,null,null,null,null,null,null,null,null,null,null,null,null,null,null,"","","","","",null,0,0,0,0,0,null,null,null,null,null,null,null,null,null,null,null,null,null,null,null,"","","","","","","","","","","","","","",null,null,null,null,null,null,null,null,null,null,null,null,0,0,0,0,0,0,0,0,0,0,0,0,0,0,null,null,null,0]
["VICTIMA DE VIOLENCIA SEXUAL",0,0,null,null,null,null,null,null,null,null,null,null,null,null,null,null,null,null,null,null,null,null,null,null,null,null,null,null,null,null,null,null,null,null,null,null,null,null,null,null,null,null,null,null,null,null,null,null,null,null,null,null,null,null,null,null,null,null,null,null,null,null,null,null,null,null,null,null,null,null,null,null,null,null,null,null,null,"","","","","",null,0,0,0,0,0,null,null,null,null,null,null,null,null,null,null,null,null,null,null,null,"","","","","","","","","","","","","","",null,null,null,null,null,null,null,null,null,null,null,null,0,0,0,0,0,0,0,0,0,0,0,0,0,0,null,null,null,0]
["OTROS",0,0,null,null,null,null,null,null,null,null,null,null,null,null,null,null,null,null,null,null,null,null,null,null,null,null,null,null,null,null,null,null,null,null,null,null,null,null,null,null,null,null,null,null,null,null,null,null,null,null,null,null,null,null,null,null,null,null,null,null,null,null,null,null,null,null,null,null,null,null,null,null,null,null,null,null,null,"","","","","",null,0,0,0,0,0,null,null,null,null,null,null,null,null,null,null,null,null,null,null,null,"","","","","","","","","","","","","","",null,null,null,null,null,null,null,null,null,null,null,null,0,0,0,0,0,0,0,0,0,0,0,0,0,0,null,null,null,0]
["SECCIÓN G: EXÁMENES  DE  VIH POR TECNICA VISUAL/RAPIDA Y GRUPOS DE USUARIOS (Uso exclusivo de establecimientos NO LABORATORIOS)"]
["GRUPOS DE USUARIOS POR INSTANCIA",null,"TOTAL",null,null,null,null,null,null,null,null,null,null,null,null,null,null,null,null,null,null,null,null,null,null,null,null,null,null,null,null,null,null,null,null,null,"POR SEXO",null,null,null,"TRANS",null,null,null,"Pueblos originarios",null,"Migrantes",null,"14-18 años"]
[null,null,null,null,"Menor de 12 meses",null,"12-24 meses",null,"3 a 4 años",null,"5 a 9 años",null,"10 a 14 años",null,"15 a 19 años",null,"20 a 24 años",null,"25 a 29 años",null,"30 a 34 años",null,"35 a 39 años",null,"40 a 44 años",null,"45 a 49 años",null,"50 a 54 años",null,"55 a 59 años",null,"60 a 64 años",null,"65 y Mas años",null,"Hombres",null,"Mujeres",null,"Femenino",null,"Masculino"]
[null,null,"Procesados","Confirmados positivos por ISP","Procesados","Confirmados positivos por ISP","Procesados","Confirmados positivos por ISP","Procesados","Confirmados positivos por ISP","Procesados","Confirmados positivos por ISP","Procesados","Confirmados positivos por ISP","Procesados","Confirmados positivos por ISP","Procesados","Confirmados positivos por ISP","Procesados","Confirmados positivos por ISP","Procesados","Confirmados positivos por ISP","Procesados","Confirmados positivos por ISP","Procesados","Confirmados positivos por ISP","Procesados","Confirmados positivos por ISP","Procesados","Confirmados positivos por ISP","Procesados","Confirmados positivos por ISP","Procesados","Confirmados positivos por ISP","Procesados","Confirmados positivos por ISP","Procesados","Confirmados positivos por ISP","Procesados","Confirmados positivos por ISP","Procesados","Confirmados positivos por ISP","Procesados","Confirmados positivos por ISP","Procesados","Confirmados positivos por ISP","Procesados","Confirmados positivos por ISP","Procesados","Confirmados positivos por ISP"]
["INTERIOR ESTABLECIMIENTO SALUD (INTRAMURO)","GESTANTES PRIMER EXAMEN",{"$f":"+M242+O242+Q242+S242+U242+W242+Y242+AA242+AC242","v":0},{"$f":"+N242+P242+R242+T242+V242+X242+Z242+AB242+AD242","v":0}]
[null,"GESTANTES SEGUNDO EXAMEN",{"$f":"+M243+O243+Q243+S243+U243+W243+Y243+AA243+AC243","v":0},{"$f":"+N243+P243+R243+T243+V243+X243+Z243+AB243+AD243","v":0}]
[null,"MUJER EN TRABAJO DE PRE PARTO O PARTO",0,{"$f":"+N244+P244+R244+T244+V244+X244+Z244+AB244+AD244","v":0}]
[null,"PERSONAS EN CONTROL POR COMERCIO SEXUAL",{"$f":"+O245+Q245+S245+U245+W245+Y245+AA245+AC245+AE245+AG245+AI245","v":0},{"$f":"+P245+R245+T245+V245+X245+Z245+AB245+AD245+AF245+AH245+AJ245","v":0}]
[null,"POR CONSULTA ITS",{"$f":"+E246+G246+I246+K246+M246+O246+Q246+S246+U246+W246+Y246+AA246+AC246+AE246+AG246+AI246","v":0},{"$f":"+F246+H246+J246+L246+N246+P246+R246+T246+V246+X246+Z246+AB246+AD246+AF246+AH246+AJ246","v":0}]
[null,"PERSONAS EN CONTROL DE REGULACIÓN FECUNDIDAD, GINECOLOGICO, CLIMATERIO",{"$f":"+M247+O247+Q247+S247+U247+W247+Y247+AA247+AC247+AE247+AG247+AI247","v":0},{"$f":"+N247+P247+R247+T247+V247+X247+Z247+AB247+AD247+AF247+AH247+AJ247","v":0}]
[null,"PERSONAS CON EMP",{"$f":"+O248+Q248+S248+U248+W248+Y248+AA248+AC248+AE248+AG248+AI248","v":0},{"$f":"+P248+R248+T248+V248+X248+Z248+AB248+AD248+AF248+AH248+AJ248","v":0}]
[null,"PERSONAS EN CONTROL DE SALUD SEGÚN CICLO VITAL",{"$f":"+E249+G249+I249+K249+M249+O249+Q249+S249+U249+W249+Y249+AA249+AC249+AE249+AG249+AI249","v":0},{"$f":"+F249+H249+J249+L249+N249+P249+R249+T249+V249+X249+Z249+AB249+AD249+AF249+AH249+AJ249","v":0}]
[null,"DONANTES DE ÓRGANOS Y/O TEJIDOS",{"$f":"+M250+O250+Q250+S250+U250+W250+Y250+AA250+AC250+AE250+AG250+AI250","v":0},{"$f":"+N250+P250+R250+T250+V250+X250+Z250+AB250+AD250+AF250+AH250+AJ250","v":0}]
[null,"PERSONA EN CONTROL POR TBC",0,0]
[null,"VÍCTIMA DE VIOLENCIA SEXUAL",{"$f":"+E252+G252+I252+K252+M252+O252+Q252+S252+U252+W252+Y252+AA252+AC252+AE252+AG252+AI252","v":0},{"$f":"+F252+H252+J252+L252+N252+P252+R252+T252+V252+X252+Z252+AB252+AD252+AF252+AH252+AJ252","v":0}]
[null,"PAREJA SERODISCORDANTE",{"$f":"+M253+O253+Q253+S253+U253+W253+Y253+AA253+AC253+AE253+AG253+AI253","v":0},{"$f":"+N253+P253+R253+T253+V253+X253+Z253+AB253+AD253+AF253+AH253+AJ253","v":0}]
[null,"PAREJA DE GESTANTE VIH POSITIVO",0,0]
[null,"PERSONAL DE SALUD EXPUESTO A ACCIDENTE CORTOPUNZANTE",{"$f":"+O255+Q255+S255+U255+W255+Y255+AA255+AC255+AE255+AG255+AI255","v":0},{"$f":"+P255+R255+T255+V255+X255+Z255+AB255+AD255+AF255+AH255+AJ255","v":0}]
[null,"PACIENTES FUENTE DE ACCIDENTE CORTOPUNZANTE",{"$f":"+M256+O256+Q256+S256+U256+W256+Y256+AA256+AC256+AE256+AG256+AI256","v":0},{"$f":"+N256+P256+R256+T256+V256+X256+Z256+AB256+AD256+AF256+AH256+AJ256","v":0}]
[null,"PERSONA EN CONTROL POR HEPATITIS B",0,0]
[null,"PERSONA EN CONTROL POR HEPATITIS C",0,0]
[null,"CONSULTANTES POR MORBILIDAD",0,0]
[null,"POR CONSULTA ESPONTÁNEA",0,0]
["EXTERIOR ESTABLECIMIENTO DE SALUD (EXTRAMURO)","CENTROS PENITENCIARIOS",{"$f":"+E261+G261+I261+K261+M261+O261+Q261+S261+U261+W261+Y261+AA261+AC261+AE261+AG261+AI261","v":0},{"$f":"+F261+H261+J261+L261+N261+P261+R261+T261+V261+X261+Z261+AB261+AD261+AF261+AH261+AJ261","v":0}]
[null,"CENTROS SENAME",0,0]
[null,"CENTROS EDUCACIONALES",0,0]
[null,"OTROS ",0,0]
[]
[]
[]
[]
[]
[]
[]
[]
[]
[]
[]
[]
[]
[]
[]
[]
[]
[]
[{"$f":"SUM(B12:B29, B34:B51, B56:B73, B78:B95, B100:B117, B122:B139,C143:P147,C151:P155,C160:D182,C187:D209,B212:B215, B220:B226, B231:B237)","v":0},{"$f":"SUM(CG12:CK139,CJ143:CR155,CG160:CL240,EA12:EW240)","v":0}]

{"sheet":"A19a","index":11,"n_rows":193,"n_cols":88,"rows_kept":193,"cut":false,"hidden":false,"merged":[[117,35,117,36],[117,37,117,38],[116,5,116,38],[117,23,117,24],[117,25,117,26],[117,27,117,28],[117,29,117,30],[117,31,117,32],[117,13,117,14],[117,15,117,16],[117,17,117,18],[117,19,117,20],[117,21,117,22],[117,9,117,10],[117,11,117,12],[116,0,118,0],[119,0,121,0],[117,5,117,6],[117,7,117,8],[117,33,117,34],[9,45,12,45],[89,43,91,43],[138,0,141,0],[90,21,90,22],[124,2,125,2],[124,3,124,9],[124,10,125,10],[124,11,125,11],[124,0,125,0],[124,1,125,1],[126,0,129,0],[89,0,91,0],[89,1,91,1],[89,2,90,4],[90,19,90,20],[130,0,133,0],[134,0,137,0],[90,13,90,14],[90,15,90,16],[5,0,5,19],[7,0,7,1],[9,0,12,0],[9,1,12,1],[9,2,11,4],[9,5,10,38],[11,17,11,18],[11,19,11,20],[11,21,11,22],[11,23,11,24],[11,31,11,32],[11,37,11,38],[116,2,117,4],[11,33,11,34],[11,15,11,16],[11,27,11,28],[89,41,91,41],[90,23,90,24],[90,33,90,34],[90,35,90,36],[11,25,11,26],[13,0,23,0],[24,0,34,0],[35,0,45,0],[11,5,11,6],[11,7,11,8],[9,44,12,44],[89,39,90,40],[9,42,12,42],[9,43,12,43],[90,27,90,28],[9,39,12,39],[89,42,91,42],[90,31,90,32],[90,29,90,30],[89,5,89,38],[9,40,11,41],[11,35,11,36],[11,9,11,10],[11,11,11,12],[11,13,11,14],[11,29,11,30],[46,0,56,0],[90,37,90,38],[105,0,114,0],[80,0,87,0],[64,0,67,0],[68,0,74,0],[75,0,79,0],[57,0,63,0],[92,0,97,0],[98,0,103,0],[90,17,90,18],[90,25,90,26],[90,7,90,8],[90,9,90,10],[90,11,90,12],[90,5,90,6]]}
["SERVICIO DE SALUD"]
[{"$f":"CONCATENATE(\"COMUNA: \",NOMBRE!B2,\" - \",\"( \",NOMBRE!C2,NOMBRE!D2,NOMBRE!E2,NOMBRE!F2,NOMBRE!G2,\" )\")","v":"COMUNA:  - (  )"}]
[{"$f":"CONCATENATE(\"ESTABLECIMIENTO/ESTRATEGIA: \",NOMBRE!B3,\" - \",\"( \",NOMBRE!C3,NOMBRE!D3,NOMBRE!E3,NOMBRE!F3,NOMBRE!G3,NOMBRE!H3,\" )\")","v":"ESTABLECIMIENTO/ESTRATEGIA:  - (  )"}]
[{"$f":"CONCATENATE(\"MES: \",NOMBRE!B6,\" - \",\"( \",NOMBRE!C6,NOMBRE!D6,\" )\")","v":"MES:  - (  )"}]
[{"$f":"CONCATENATE(\"AÑO: \",NOMBRE!B7)","v":"AÑO: 2019"}]
["REM-19a.   ACTIVIDADES DE PROMOCIÓN Y PREVENCIÓN DE LA SALUD"]
[]
["SECCIÓN A: CONSEJERÍAS"]
["SECCIÓN A.1: CONSEJERÍAS INDIVIDUALES"]
["ACTIVIDADES Y AREAS TEMATICAS","PROFESIONAL","TOTAL              ",null,null,"GRUPOS DE EDAD (en años)",null,null,null,null,null,null,null,null,null,null,null,null,null,null,null,null,null,null,null,null,null,null,null,null,null,null,null,null,null,null,null,null,null,"Espacios Amigables / adolescentes","TRANS",null,"Pueblos Originarios","Migrantes","14-18 años","Niños, Niñas, Adolescentes y Jóvenes Población SENAME"]
[]
[null,null,null,null,null,"0 - 4",null,"5 - 9",null,"10 - 14",null,"15-19 ",null,"20-24 ",null,"25-29 ",null,"30-34 ",null,"35-39",null,"40-44 ",null,"45-49 ",null,"50-54 ",null,"55-59",null,"60-64 ",null,"65-69 ",null,"70-74 ",null,"75- 79",null,"80 y mas"]
[null,null,"AMBOS SEXOS","HOMBRES","MUJERES","HOMBRES","MUJERES","HOMBRES","MUJERES","HOMBRES","MUJERES","HOMBRES","MUJERES","HOMBRES","MUJERES","HOMBRES","MUJERES","HOMBRES","MUJERES","HOMBRES","MUJERES","HOMBRES","MUJERES","HOMBRES","MUJERES","HOMBRES","MUJERES","HOMBRES","MUJERES","HOMBRES","MUJERES","HOMBRES","MUJERES","HOMBRES","MUJERES","HOMBRES","MUJERES","HOMBRES","MUJERES",null,"Masculino","Femenino"]
["ACTIVIDAD FÍSICA","MÉDICO",{"$f":"SUM(D14+E14)","v":0},{"$f":"SUM(F14+H14+J14+L14+N14+P14+R14+T14+V14+X14+Z14+AB14+AD14+AF14+AH14+AJ14+AL14)","v":0},{"$f":"SUM(G14+I14+K14+M14+O14+Q14+S14+U14+W14+Y14+AA14+AC14+AE14+AG14+AI14+AK14+AM14)","v":0},null,null,null,null,null,null,null,null,null,null,null,null,null,null,null,null,null,null,null,null,null,null,null,null,null,null,null,null,null,null,null,null,null,null,null,null,null,null,null,null,null,null,null,null,null,null,null,null,null,null,null,null,null,null,null,null,null,null,null,null,null,null,null,null,null,null,null,null,null,null,null,null,null,null,null,null,{"$f":"IF((J14 + K14 + L14 + M14) <  AS14,\"* La columna 14-18 AÑOS no puede ser mayor al total por grupo edad de 10 a 19 años. \",\"\")","v":""},null,null,0,0,0,{"$f":"IF((J14 + K14 + L14 + M14) <  AS14,1,0)","v":0}]
[null,"ENFERMERA /O",0,0,0,null,null,null,null,null,null,null,null,null,null,null,null,null,null,null,null,null,null,null,null,null,null,null,null,null,null,null,null,null,null,null,null,null,null,null,null,null,null,null,null,null,null,null,null,null,null,null,null,null,null,null,null,null,null,null,null,null,null,null,null,null,null,null,null,null,null,null,null,null,null,null,null,null,null,null,null,"",null,null,0,0,0,0]
[null,"MATRONA /ÓN",0,0,0,null,null,null,null,null,null,null,null,null,null,null,null,null,null,null,null,null,null,null,null,null,null,null,null,null,null,null,null,null,null,null,null,null,null,null,null,null,null,null,null,null,null,null,null,null,null,null,null,null,null,null,null,null,null,null,null,null,null,null,null,null,null,null,null,null,null,null,null,null,null,null,null,null,null,null,null,"",null,null,0,0,0,0]
[null,"NUTRICIONISTA",0,0,0,null,null,null,null,null,null,null,null,null,null,null,null,null,null,null,null,null,null,null,null,null,null,null,null,null,null,null,null,null,null,null,null,null,null,null,null,null,null,null,null,null,null,null,null,null,null,null,null,null,null,null,null,null,null,null,null,null,null,null,null,null,null,null,null,null,null,null,null,null,null,null,null,null,null,null,null,"",null,null,0,0,0,0]
[null,"ASISTENTE SOCIAL",0,0,0,null,null,null,null,null,null,null,null,null,null,null,null,null,null,null,null,null,null,null,null,null,null,null,null,null,null,null,null,null,null,null,null,null,null,null,null,null,null,null,null,null,null,null,null,null,null,null,null,null,null,null,null,null,null,null,null,null,null,null,null,null,null,null,null,null,null,null,null,null,null,null,null,null,null,null,null,"",null,null,0,0,0,0]
[null,"PSICÓLOGO /A",0,0,0,null,null,null,null,null,null,null,null,null,null,null,null,null,null,null,null,null,null,null,null,null,null,null,null,null,null,null,null,null,null,null,null,null,null,null,null,null,null,null,null,null,null,null,null,null,null,null,null,null,null,null,null,null,null,null,null,null,null,null,null,null,null,null,null,null,null,null,null,null,null,null,null,null,null,null,null,"",null,null,0,0,0,0]
[null,"KINESIÓLOGO",0,0,0,null,null,null,null,null,null,null,null,null,null,null,null,null,null,null,null,null,null,null,null,null,null,null,null,null,null,null,null,null,null,null,null,null,null,null,null,null,null,null,null,null,null,null,null,null,null,null,null,null,null,null,null,null,null,null,null,null,null,null,null,null,null,null,null,null,null,null,null,null,null,null,null,null,null,null,null,"",null,null,0,0,0,0]
[null,"TERAPEUTA OCUPACIONAL",0,0,0,null,null,null,null,null,null,null,null,null,null,null,null,null,null,null,null,null,null,null,null,null,null,null,null,null,null,null,null,null,null,null,null,null,null,null,null,null,null,null,null,null,null,null,null,null,null,null,null,null,null,null,null,null,null,null,null,null,null,null,null,null,null,null,null,null,null,null,null,null,null,null,null,null,null,null,null,"",null,null,0,0,0,0]
[null,"OTRO PROFESIONAL",0,0,0,null,null,null,null,null,null,null,null,null,null,null,null,null,null,null,null,null,null,null,null,null,null,null,null,null,null,null,null,null,null,null,null,null,null,null,null,null,null,null,null,null,null,null,null,null,null,null,null,null,null,null,null,null,null,null,null,null,null,null,null,null,null,null,null,null,null,null,null,null,null,null,null,null,null,null,null,"",null,null,0,0,0,0]
[null,"FACILITADOR/A INTERCULTURAL",0,0,0,null,null,null,null,null,null,null,null,null,null,null,null,null,null,null,null,null,null,null,null,null,null,null,null,null,null,null,null,null,null,null,null,null,null,null,null,null,null,null,null,null,null,null,null,null,null,null,null,null,null,null,null,null,null,null,null,null,null,null,null,null,null,null,null,null,null,null,null,null,null,null,null,null,null,null,null,"",null,null,0,0,0,0]
[null,"TÉCNICO PARAMÉDICO",0,0,0,null,null,null,null,null,null,null,null,null,null,null,null,null,null,null,null,null,null,null,null,null,null,null,null,null,null,null,null,null,null,null,null,null,null,null,null,null,null,null,null,null,null,null,null,null,null,null,null,null,null,null,null,null,null,null,null,null,null,null,null,null,null,null,null,null,null,null,null,null,null,null,null,null,null,null,null,"",null,null,0,0,0,0]
["ALIMENTACIÓN SALUDABLE","MÉDICO",0,0,0,null,null,null,null,null,null,null,null,null,null,null,null,null,null,null,null,null,null,null,null,null,null,null,null,null,null,null,null,null,null,null,null,null,null,null,null,null,null,null,null,null,null,null,null,null,null,null,null,null,null,null,null,null,null,null,null,null,null,null,null,null,null,null,null,null,null,null,null,null,null,null,null,null,null,null,null,"",null,null,0,0,0,0]
[null,"ENFERMERA /O",0,0,0,null,null,null,null,null,null,null,null,null,null,null,null,null,null,null,null,null,null,null,null,null,null,null,null,null,null,null,null,null,null,null,null,null,null,null,null,null,null,null,null,null,null,null,null,null,null,null,null,null,null,null,null,null,null,null,null,null,null,null,null,null,null,null,null,null,null,null,null,null,null,null,null,null,null,null,null,"",null,null,0,0,0,0]
[null,"MATRONA /ÓN",0,0,0,null,null,null,null,null,null,null,null,null,null,null,null,null,null,null,null,null,null,null,null,null,null,null,null,null,null,null,null,null,null,null,null,null,null,null,null,null,null,null,null,null,null,null,null,null,null,null,null,null,null,null,null,null,null,null,null,null,null,null,null,null,null,null,null,null,null,null,null,null,null,null,null,null,null,null,null,"",null,null,0,0,0,0]
[null,"NUTRICIONISTA",0,0,0,null,null,null,null,null,null,null,null,null,null,null,null,null,null,null,null,null,null,null,null,null,null,null,null,null,null,null,null,null,null,null,null,null,null,null,null,null,null,null,null,null,null,null,null,null,null,null,null,null,null,null,null,null,null,null,null,null,null,null,null,null,null,null,null,null,null,null,null,null,null,null,null,null,null,null,null,"",null,null,0,0,0,0]
[null,"ASISTENTE SOCIAL",0,0,0,null,null,null,null,null,null,null,null,null,null,null,null,null,null,null,null,null,null,null,null,null,null,null,null,null,null,null,null,null,null,null,null,null,null,null,null,null,null,null,null,null,null,null,null,null,null,null,null,null,null,null,null,null,null,null,null,null,null,null,null,null,null,null,null,null,null,null,null,null,null,null,null,null,null,null,null,"",null,null,0,0,0,0]
[null,"PSICÓLOGO /A",0,0,0,null,null,null,null,null,null,null,null,null,null,null,null,null,null,null,null,null,null,null,null,null,null,null,null,null,null,null,null,null,null,null,null,null,null,null,null,null,null,null,null,null,null,null,null,null,null,null,null,null,null,null,null,null,null,null,null,null,null,null,null,null,null,null,null,null,null,null,null,null,null,null,null,null,null,null,null,"",null,null,0,0,0,0]
[null,"KINESIÓLOGO",0,0,0,null,null,null,null,null,null,null,null,null,null,null,null,null,null,null,null,null,null,null,null,null,null,null,null,null,null,null,null,null,null,null,null,null,null,null,null,null,null,null,null,null,null,null,null,null,null,null,null,null,null,null,null,null,null,null,null,null,null,null,null,null,null,null,null,null,null,null,null,null,null,null,null,null,null,null,null,"",null,null,0,0,0,0]
[null,"TERAPEUTA OCUPACIONAL",0,0,0,null,null,null,null,null,null,null,null,null,null,null,null,null,null,null,null,null,null,null,null,null,null,null,null,null,null,null,null,null,null,null,null,null,null,null,null,null,null,null,null,null,null,null,null,null,null,null,null,null,null,null,null,null,null,null,null,null,null,null,null,null,null,null,null,null,null,null,null,null,null,null,null,null,null,null,null,"",null,null,0,0,0,0]
[null,"OTRO PROFESIONAL",0,0,0,null,null,null,null,null,null,null,null,null,null,null,null,null,null,null,null,null,null,null,null,null,null,null,null,null,null,null,null,null,null,null,null,null,null,null,null,null,null,null,null,null,null,null,null,null,null,null,null,null,null,null,null,null,null,null,null,null,null,null,null,null,null,null,null,null,null,null,null,null,null,null,null,null,null,null,null,"",null,null,0,0,0,0]
[null,"FACILITADOR/A INTERCULTURAL",0,0,0,null,null,null,null,null,null,null,null,null,null,null,null,null,null,null,null,null,null,null,null,null,null,null,null,null,null,null,null,null,null,null,null,null,null,null,null,null,null,null,null,null,null,null,null,null,null,null,null,null,null,null,null,null,null,null,null,null,null,null,null,null,null,null,null,null,null,null,null,null,null,null,null,null,null,null,null,"",null,null,0,0,0,0]
[null,"TÉCNICO PARAMÉDICO",{"$f":"SUM(D35+E35)","v":0},0,{"$f":"SUM(G35+I35+K35+M35+O35+Q35+S35+U35+W35+Y35+AA35+AC35+AE35+AG35+AI35+AK35+AM35)","v":0},null,null,null,null,null,null,null,null,null,null,null,null,null,null,null,null,null,null,null,null,null,null,null,null,null,null,null,null,null,null,null,null,null,null,null,null,null,null,null,null,null,null,null,null,null,null,null,null,null,null,null,null,null,null,null,null,null,null,null,null,null,null,null,null,null,null,null,null,null,null,null,null,null,null,null,null,"",null,null,0,0,0,0]
["TABAQUISMO","MÉDICO",0,0,0,null,null,null,null,null,null,null,null,null,null,null,null,null,null,null,null,null,null,null,null,null,null,null,null,null,null,null,null,null,null,null,null,null,null,null,null,null,null,null,null,null,null,null,null,null,null,null,null,null,null,null,null,null,null,null,null,null,null,null,null,null,null,null,null,null,null,null,null,null,null,null,null,null,null,null,null,"",null,null,0,0,0,0]
[null,"ENFERMERA /O",0,0,0,null,null,null,null,null,null,null,null,null,null,null,null,null,null,null,null,null,null,null,null,null,null,null,null,null,null,null,null,null,null,null,null,null,null,null,null,null,null,null,null,null,null,null,null,null,null,null,null,null,null,null,null,null,null,null,null,null,null,null,null,null,null,null,null,null,null,null,null,null,null,null,null,null,null,null,null,"",null,null,0,0,0,0]
[null,"MATRONA /ÓN",0,0,0,null,null,null,null,null,null,null,null,null,null,null,null,null,null,null,null,null,null,null,null,null,null,null,null,null,null,null,null,null,null,null,null,null,null,null,null,null,null,null,null,null,null,null,null,null,null,null,null,null,null,null,null,null,null,null,null,null,null,null,null,null,null,null,null,null,null,null,null,null,null,null,null,null,null,null,null,"",null,null,0,0,0,0]
[null,"NUTRICIONISTA",0,0,0,null,null,null,null,null,null,null,null,null,null,null,null,null,null,null,null,null,null,null,null,null,null,null,null,null,null,null,null,null,null,null,null,null,null,null,null,null,null,null,null,null,null,null,null,null,null,null,null,null,null,null,null,null,null,null,null,null,null,null,null,null,null,null,null,null,null,null,null,null,null,null,null,null,null,null,null,"",null,null,0,0,0,0]
[null,"ASISTENTE SOCIAL",{"$f":"SUM(D40+E40)","v":0},{"$f":"SUM(F40+H40+J40+L40+N40+P40+R40+T40+V40+X40+Z40+AB40+AD40+AF40+AH40+AJ40+AL40)","v":0},{"$f":"SUM(G40+I40+K40+M40+O40+Q40+S40+U40+W40+Y40+AA40+AC40+AE40+AG40+AI40+AK40+AM40)","v":0},null,null,null,null,null,null,null,null,null,null,null,null,null,null,null,null,null,null,null,null,null,null,null,null,null,null,null,null,null,null,null,null,null,null,null,null,null,null,null,null,null,null,null,null,null,null,null,null,null,null,null,null,null,null,null,null,null,null,null,null,null,null,null,null,null,null,null,null,null,null,null,null,null,null,null,null,"",null,null,0,0,0,0]
[null,"PSICÓLOGO /A",0,0,0,null,null,null,null,null,null,null,null,null,null,null,null,null,null,null,null,null,null,null,null,null,null,null,null,null,null,null,null,null,null,null,null,null,null,null,null,null,null,null,null,null,null,null,null,null,null,null,null,null,null,null,null,null,null,null,null,null,null,null,null,null,null,null,null,null,null,null,null,null,null,null,null,null,null,null,null,"",null,null,0,0,0,0]
[null,"KINESIÓLOGO",0,0,0,null,null,null,null,null,null,null,null,null,null,null,null,null,null,null,null,null,null,null,null,null,null,null,null,null,null,null,null,null,null,null,null,null,null,null,null,null,null,null,null,null,null,null,null,null,null,null,null,null,null,null,null,null,null,null,null,null,null,null,null,null,null,null,null,null,null,null,null,null,null,null,null,null,null,null,null,"",null,null,0,0,0,0]
[null,"TERAPEUTA OCUPACIONAL",0,0,0,null,null,null,null,null,null,null,null,null,null,null,null,null,null,null,null,null,null,null,null,null,null,null,null,null,null,null,null,null,null,null,null,null,null,null,null,null,null,null,null,null,null,null,null,null,null,null,null,null,null,null,null,null,null,null,null,null,null,null,null,null,null,null,null,null,null,null,null,null,null,null,null,null,null,null,null,"",null,null,0,0,0,0]
[null,"OTRO PROFESIONAL",0,0,0,null,null,null,null,null,null,null,null,null,null,null,null,null,null,null,null,null,null,null,null,null,null,null,null,null,null,null,null,null,null,null,null,null,null,null,null,null,null,null,null,null,null,null,null,null,null,null,null,null,null,null,null,null,null,null,null,null,null,null,null,null,null,null,null,null,null,null,null,null,null,null,null,null,null,null,null,"",null,null,0,0,0,0]
[null,"FACILITADOR/A INTERCULTURAL",0,0,0,null,null,null,null,null,null,null,null,null,null,null,null,null,null,null,null,null,null,null,null,null,null,null,null,null,null,null,null,null,null,null,null,null,null,null,null,null,null,null,null,null,null,null,null,null,null,null,null,null,null,null,null,null,null,null,null,null,null,null,null,null,null,null,null,null,null,null,null,null,null,null,null,null,null,null,null,"",null,null,0,0,0,0]
[null,"TÉCNICO PARAMÉDICO",{"$f":"SUM(D46+E46)","v":0},{"$f":"SUM(F46+H46+J46+L46+N46+P46+R46+T46+V46+X46+Z46+AB46+AD46+AF46+AH46+AJ46+AL46)","v":0},{"$f":"SUM(G46+I46+K46+M46+O46+Q46+S46+U46+W46+Y46+AA46+AC46+AE46+AG46+AI46+AK46+AM46)","v":0},null,null,null,null,null,null,null,null,null,null,null,null,null,null,null,null,null,null,null,null,null,null,null,null,null,null,null,null,null,null,null,null,null,null,null,null,null,null,null,null,null,null,null,null,null,null,null,null,null,null,null,null,null,null,null,null,null,null,null,null,null,null,null,null,null,null,null,null,null,null,null,null,null,null,null,null,{"$f":"IF((J46 + K46 + L46 + M46) <  AS46,\"* La columna 14-18 AÑOS no puede ser mayor al total por grupo edad de 10 a 19 años. \",\"\")","v":""},null,null,0,0,0,{"$f":"IF((J46 + K46 + L46 + M46) <  AS46,1,0)","v":0}]
["CONSUMO DE DROGAS","MÉDICO",0,0,0,null,null,null,null,null,null,null,null,null,null,null,null,null,null,null,null,null,null,null,null,null,null,null,null,null,null,null,null,null,null,null,null,null,null,null,null,null,null,null,null,null,null,null,null,null,null,null,null,null,null,null,null,null,null,null,null,null,null,null,null,null,null,null,null,null,null,null,null,null,null,null,null,null,null,null,null,"",null,null,0,0,0,0]
[null,"ENFERMERA /O",0,0,0,null,null,null,null,null,null,null,null,null,null,null,null,null,null,null,null,null,null,null,null,null,null,null,null,null,null,null,null,null,null,null,null,null,null,null,null,null,null,null,null,null,null,null,null,null,null,null,null,null,null,null,null,null,null,null,null,null,null,null,null,null,null,null,null,null,null,null,null,null,null,null,null,null,null,null,null,"",null,null,0,0,0,0]
[null,"MATRONA /ÓN",0,0,0,null,null,null,null,null,null,null,null,null,null,null,null,null,null,null,null,null,null,null,null,null,null,null,null,null,null,null,null,null,null,null,null,null,null,null,null,null,null,null,null,null,null,null,null,null,null,null,null,null,null,null,null,null,null,null,null,null,null,null,null,null,null,null,null,null,null,null,null,null,null,null,null,null,null,null,null,"",null,null,0,0,0,0]
[null,"NUTRICIONISTA",0,0,0,null,null,null,null,null,null,null,null,null,null,null,null,null,null,null,null,null,null,null,null,null,null,null,null,null,null,null,null,null,null,null,null,null,null,null,null,null,null,null,null,null,null,null,null,null,null,null,null,null,null,null,null,null,null,null,null,null,null,null,null,null,null,null,null,null,null,null,null,null,null,null,null,null,null,null,null,"",null,null,0,0,0,0]
[null,"ASISTENTE SOCIAL",0,0,0,null,null,null,null,null,null,null,null,null,null,null,null,null,null,null,null,null,null,null,null,null,null,null,null,null,null,null,null,null,null,null,null,null,null,null,null,null,null,null,null,null,null,null,null,null,null,null,null,null,null,null,null,null,null,null,null,null,null,null,null,null,null,null,null,null,null,null,null,null,null,null,null,null,null,null,null,"",null,null,0,0,0,0]
[null,"PSICÓLOGO /A",0,0,0,null,null,null,null,null,null,null,null,null,null,null,null,null,null,null,null,null,null,null,null,null,null,null,null,null,null,null,null,null,null,null,null,null,null,null,null,null,null,null,null,null,null,null,null,null,null,null,null,null,null,null,null,null,null,null,null,null,null,null,null,null,null,null,null,null,null,null,null,null,null,null,null,null,null,null,null,"",null,null,0,0,0,0]
[null,"KINESIÓLOGO",0,0,0,null,null,null,null,null,null,null,null,null,null,null,null,null,null,null,null,null,null,null,null,null,null,null,null,null,null,null,null,null,null,null,null,null,null,null,null,null,null,null,null,null,null,null,null,null,null,null,null,null,null,null,null,null,null,null,null,null,null,null,null,null,null,null,null,null,null,null,null,null,null,null,null,null,null,null,null,"",null,null,0,0,0,0]
[null,"TERAPEUTA OCUPACIONAL",0,0,0,null,null,null,null,null,null,null,null,null,null,null,null,null,null,null,null,null,null,null,null,null,null,null,null,null,null,null,null,null,null,null,null,null,null,null,null,null,null,null,null,null,null,null,null,null,null,null,null,null,null,null,null,null,null,null,null,null,null,null,null,null,null,null,null,null,null,null,null,null,null,null,null,null,null,null,null,"",null,null,0,0,0,0]
[null,"OTRO PROFESIONAL",0,0,0,null,null,null,null,null,null,null,null,null,null,null,null,null,null,null,null,null,null,null,null,null,null,null,null,null,null,null,null,null,null,null,null,null,null,null,null,null,null,null,null,null,null,null,null,null,null,null,null,null,null,null,null,null,null,null,null,null,null,null,null,null,null,null,null,null,null,null,null,null,null,null,null,null,null,null,null,"",null,null,0,0,0,0]
[null,"FACILITADOR/A INTERCULTURAL",0,0,0,null,null,null,null,null,null,null,null,null,null,null,null,null,null,null,null,null,null,null,null,null,null,null,null,null,null,null,null,null,null,null,null,null,null,null,null,null,null,null,null,null,null,null,null,null,null,null,null,null,null,null,null,null,null,null,null,null,null,null,null,null,null,null,null,null,null,null,null,null,null,null,null,null,null,null,null,"",null,null,0,0,0,0]
[null,"TÉCNICO PARAMÉDICO",0,0,0,null,null,null,null,null,null,null,null,null,null,null,null,null,null,null,null,null,null,null,null,null,null,null,null,null,null,null,null,null,null,null,null,null,null,null,null,null,null,null,null,null,null,null,null,null,null,null,null,null,null,null,null,null,null,null,null,null,null,null,null,null,null,null,null,null,null,null,null,null,null,null,null,null,null,null,null,"",null,null,0,0,0,0]
["SALUD SEXUAL Y REPRODUCTIVA","MÉDICO",0,0,0,null,null,null,null,null,null,null,null,null,null,null,null,null,null,null,null,null,null,null,null,null,null,null,null,null,null,null,null,null,null,null,null,null,null,null,null,null,null,null,null,null,null,null,null,null,null,null,null,null,null,null,null,null,null,null,null,null,null,null,null,null,null,null,null,null,null,null,null,null,null,null,null,null,null,null,null,"",null,null,0,0,0,0]
[null,"ENFERMERA /O",0,0,0,null,null,null,null,null,null,null,null,null,null,null,null,null,null,null,null,null,null,null,null,null,null,null,null,null,null,null,null,null,null,null,null,null,null,null,null,null,null,null,null,null,null,null,null,null,null,null,null,null,null,null,null,null,null,null,null,null,null,null,null,null,null,null,null,null,null,null,null,null,null,null,null,null,null,null,null,"",null,null,0,0,0,0]
[null,"MATRONA /ÓN",0,0,0,null,null,null,null,null,null,null,null,null,null,null,null,null,null,null,null,null,null,null,null,null,null,null,null,null,null,null,null,null,null,null,null,null,null,null,null,null,null,null,null,null,null,null,null,null,null,null,null,null,null,null,null,null,null,null,null,null,null,null,null,null,null,null,null,null,null,null,null,null,null,null,null,null,null,null,null,"",null,null,0,0,0,0]
[null,"ASISTENTE SOCIAL",0,0,0,null,null,null,null,null,null,null,null,null,null,null,null,null,null,null,null,null,null,null,null,null,null,null,null,null,null,null,null,null,null,null,null,null,null,null,null,null,null,null,null,null,null,null,null,null,null,null,null,null,null,null,null,null,null,null,null,null,null,null,null,null,null,null,null,null,null,null,null,null,null,null,null,null,null,null,null,"",null,null,0,0,0,0]
[null,"PSICÓLOGO /A",0,0,0,null,null,null,null,null,null,null,null,null,null,null,null,null,null,null,null,null,null,null,null,null,null,null,null,null,null,null,null,null,null,null,null,null,null,null,null,null,null,null,null,null,null,null,null,null,null,null,null,null,null,null,null,null,null,null,null,null,null,null,null,null,null,null,null,null,null,null,null,null,null,null,null,null,null,null,null,"",null,null,0,0,0,0]
[null,"FACILITADOR/A INTERCULTURAL",0,0,0,null,null,null,null,null,null,null,null,null,null,null,null,null,null,null,null,null,null,null,null,null,null,null,null,null,null,null,null,null,null,null,null,null,null,null,null,null,null,null,null,null,null,null,null,null,null,null,null,null,null,null,null,null,null,null,null,null,null,null,null,null,null,null,null,null,null,null,null,null,null,null,null,null,null,null,null,"",null,null,0,0,0,0]
[null,"OTRO PROFESIONAL",0,0,0,null,null,null,null,null,null,null,null,null,null,null,null,null,null,null,null,null,null,null,null,null,null,null,null,null,null,null,null,null,null,null,null,null,null,null,null,null,null,null,null,null,null,null,null,null,null,null,null,null,null,null,null,null,null,null,null,null,null,null,null,null,null,null,null,null,null,null,null,null,null,null,null,null,null,null,null,"",null,null,0,0,0,0]
["REGULACIÓN DE FERTILIDAD","MÉDICO",{"$f":"SUM(D65+E65)","v":0},{"$f":"SUM(F65+H65+J65+L65+N65+P65+R65+T65+V65+X65+Z65+AB65+AD65+AF65+AH65+AJ65+AL65)","v":0},{"$f":"SUM(G65+I65+K65+M65+O65+Q65+S65+U65+W65+Y65+AA65+AC65+AE65+AG65+AI65+AK65+AM65)","v":0},null,null,null,null,null,null,null,null,null,null,null,null,null,null,null,null,null,null,null,null,null,null,null,null,null,null,null,null,null,null,null,null,null,null,null,null,null,null,null,null,null,null,null,null,null,null,null,null,null,null,null,null,null,null,null,null,null,null,null,null,null,null,null,null,null,null,null,null,null,null,null,null,null,null,null,null,"",null,null,0,0,0,0]
[null,"MATRONA /ÓN",0,0,0,null,null,null,null,null,null,null,null,null,null,null,null,null,null,null,null,null,null,null,null,null,null,null,null,null,null,null,null,null,null,null,null,null,null,null,null,null,null,null,null,null,null,null,null,null,null,null,null,null,null,null,null,null,null,null,null,null,null,null,null,null,null,null,null,null,null,null,null,null,null,null,null,null,null,null,null,"",null,null,0,0,0,0]
[null,"FACILITADOR/A INTERCULTURAL",0,0,0,null,null,null,null,null,null,null,null,null,null,null,null,null,null,null,null,null,null,null,null,null,null,null,null,null,null,null,null,null,null,null,null,null,null,null,null,null,null,null,null,null,null,null,null,null,null,null,null,null,null,null,null,null,null,null,null,null,null,null,null,null,null,null,null,null,null,null,null,null,null,null,null,null,null,null,null,"",null,null,0,0,0,0]
[null,"OTRO PROFESIONAL",0,0,0,null,null,null,null,null,null,null,null,null,null,null,null,null,null,null,null,null,null,null,null,null,null,null,null,null,null,null,null,null,null,null,null,null,null,null,null,null,null,null,null,null,null,null,null,null,null,null,null,null,null,null,null,null,null,null,null,null,null,null,null,null,null,null,null,null,null,null,null,null,null,null,null,null,null,null,null,"",null,null,0,0,0,0]
["PREVENCIÓN VIH E INFECCIÓN DE TRANSMISIÓN SEXUAL (ITS)","MÉDICO",0,0,0,null,null,null,null,null,null,null,null,null,null,null,null,null,null,null,null,null,null,null,null,null,null,null,null,null,null,null,null,null,null,null,null,null,null,null,null,null,null,null,null,null,null,null,null,null,null,null,null,null,null,null,null,null,null,null,null,null,null,null,null,null,null,null,null,null,null,null,null,null,null,null,null,null,null,null,null,"",null,null,0,0,0,0]
[null,"ENFERMERA /O",0,0,0,null,null,null,null,null,null,null,null,null,null,null,null,null,null,null,null,null,null,null,null,null,null,null,null,null,null,null,null,null,null,null,null,null,null,null,null,null,null,null,null,null,null,null,null,null,null,null,null,null,null,null,null,null,null,null,null,null,null,null,null,null,null,null,null,null,null,null,null,null,null,null,null,null,null,null,null,"",null,null,0,0,0,0]
[null,"MATRONA /ÓN",0,0,0,null,null,null,null,null,null,null,null,null,null,null,null,null,null,null,null,null,null,null,null,null,null,null,null,null,null,null,null,null,null,null,null,null,null,null,null,null,null,null,null,null,null,null,null,null,null,null,null,null,null,null,null,null,null,null,null,null,null,null,null,null,null,null,null,null,null,null,null,null,null,null,null,null,null,null,null,"",null,null,0,0,0,0]
[null,"ASISTENTE SOCIAL",0,0,0,null,null,null,null,null,null,null,null,null,null,null,null,null,null,null,null,null,null,null,null,null,null,null,null,null,null,null,null,null,null,null,null,null,null,null,null,null,null,null,null,null,null,null,null,null,null,null,null,null,null,null,null,null,null,null,null,null,null,null,null,null,null,null,null,null,null,null,null,null,null,null,null,null,null,null,null,"",null,null,0,0,0,0]
[null,"PSICÓLOGO /A",0,0,0,null,null,null,null,null,null,null,null,null,null,null,null,null,null,null,null,null,null,null,null,null,null,null,null,null,null,null,null,null,null,null,null,null,null,null,null,null,null,null,null,null,null,null,null,null,null,null,null,null,null,null,null,null,null,null,null,null,null,null,null,null,null,null,null,null,null,null,null,null,null,null,null,null,null,null,null,"",null,null,0,0,0,0]
[null,"FACILITADOR/A INTERCULTURAL",0,0,0,null,null,null,null,null,null,null,null,null,null,null,null,null,null,null,null,null,null,null,null,null,null,null,null,null,null,null,null,null,null,null,null,null,null,null,null,null,null,null,null,null,null,null,null,null,null,null,null,null,null,null,null,null,null,null,null,null,null,null,null,null,null,null,null,null,null,null,null,null,null,null,null,null,null,null,null,"",null,null,0,0,0,0]
[null,"OTRO PROFESIONAL",0,0,0,null,null,null,null,null,null,null,null,null,null,null,null,null,null,null,null,null,null,null,null,null,null,null,null,null,null,null,null,null,null,null,null,null,null,null,null,null,null,null,null,null,null,null,null,null,null,null,null,null,null,null,null,null,null,null,null,null,null,null,null,null,null,null,null,null,null,null,null,null,null,null,null,null,null,null,null,"",null,null,0,0,0,0]
["PREVENCIÓN DE LA TRANSMISIÓN VERTICAL DEL VIH (EMBARAZADAS)","MÉDICO PRE TEST",0,0,0,null,null,null,null,null,null,null,null,null,null,null,null,null,null,null,null,null,null,null,null,null,null,null,null,null,null,null,null,null,null,null,null,null,null,null,null,null,null,null,null,null,null,null,null,null,null,null,null,null,null,null,null,null,null,null,null,null,null,null,null,null,null,null,null,null,null,null,null,null,null,null,null,null,null,null,null,"",null,null,0,0,0,0]
[null,"MATRONA /ÓN PRE TEST",0,0,0,null,null,null,null,null,null,null,null,null,null,null,null,null,null,null,null,null,null,null,null,null,null,null,null,null,null,null,null,null,null,null,null,null,null,null,null,null,null,null,null,null,null,null,null,null,null,null,null,null,null,null,null,null,null,null,null,null,null,null,null,null,null,null,null,null,null,null,null,null,null,null,null,null,null,null,null,"",null,null,0,0,0,0]
[null,"MÉDICO POST TEST",0,0,0,null,null,null,null,null,null,null,null,null,null,null,null,null,null,null,null,null,null,null,null,null,null,null,null,null,null,null,null,null,null,null,null,null,null,null,null,null,null,null,null,null,null,null,null,null,null,null,null,null,null,null,null,null,null,null,null,null,null,null,null,null,null,null,null,null,null,null,null,null,null,null,null,null,null,null,null,{"$f":"IF((J78 + K78 + L78 + M78) <  AS78,\"* La columna 14-18 AÑOS no puede ser mayor al total por grupo edad de 10 a 19 años. \",\"\")","v":""},null,null,0,0,0,{"$f":"IF((J78 + K78 + L78 + M78) <  AS78,1,0)","v":0}]
[null,"MATRONA /ÓN POST TEST",0,0,0,null,null,null,null,null,null,null,null,null,null,null,null,null,null,null,null,null,null,null,null,null,null,null,null,null,null,null,null,null,null,null,null,null,null,null,null,null,null,null,null,null,null,null,null,null,null,null,null,null,null,null,null,null,null,null,null,null,null,null,null,null,null,null,null,null,null,null,null,null,null,null,null,null,null,null,null,"",null,null,0,0,0,0]
[null,"FACILITADOR/A INTERCULTURAL",0,0,0,null,null,null,null,null,null,null,null,null,null,null,null,null,null,null,null,null,null,null,null,null,null,null,null,null,null,null,null,null,null,null,null,null,null,null,null,null,null,null,null,null,null,null,null,null,null,null,null,null,null,null,null,null,null,null,null,null,null,null,null,null,null,null,null,null,null,null,null,null,null,null,null,null,null,null,null,{"$f":"IF((J80 + K80 + L80 + M80) <  AS80,\"* La columna 14-18 AÑOS no puede ser mayor al total por grupo edad de 10 a 19 años. \",\"\")","v":""},null,null,0,0,0,{"$f":"IF((J80 + K80 + L80 + M80) <  AS80,1,0)","v":0}]
["OTRAS ÁREAS","MÉDICO",0,0,0,null,null,null,null,null,null,null,null,null,null,null,null,null,null,null,null,null,null,null,null,null,null,null,null,null,null,null,null,null,null,null,null,null,null,null,null,null,null,null,null,null,null,null,null,null,null,null,null,null,null,null,null,null,null,null,null,null,null,null,null,null,null,null,null,null,null,null,null,null,null,null,null,null,null,null,null,"",null,null,0,0,0,0]
[null,"ENFERMERA /O",0,0,0,null,null,null,null,null,null,null,null,null,null,null,null,null,null,null,null,null,null,null,null,null,null,null,null,null,null,null,null,null,null,null,null,null,null,null,null,null,null,null,null,null,null,null,null,null,null,null,null,null,null,null,null,null,null,null,null,null,null,null,null,null,null,null,null,null,null,null,null,null,null,null,null,null,null,null,null,"",null,null,0,0,0,0]
[null,"MATRONA /ÓN",0,0,0,null,null,null,null,null,null,null,null,null,null,null,null,null,null,null,null,null,null,null,null,null,null,null,null,null,null,null,null,null,null,null,null,null,null,null,null,null,null,null,null,null,null,null,null,null,null,null,null,null,null,null,null,null,null,null,null,null,null,null,null,null,null,null,null,null,null,null,null,null,null,null,null,null,null,null,null,"",null,null,0,0,0,0]
[null,"ASISTENTE SOCIAL",0,0,0,null,null,null,null,null,null,null,null,null,null,null,null,null,null,null,null,null,null,null,null,null,null,null,null,null,null,null,null,null,null,null,null,null,null,null,null,null,null,null,null,null,null,null,null,null,null,null,null,null,null,null,null,null,null,null,null,null,null,null,null,null,null,null,null,null,null,null,null,null,null,null,null,null,null,null,null,"",null,null,0,0,0,0]
[null,"PSICÓLOGO /A",0,0,0,null,null,null,null,null,null,null,null,null,null,null,null,null,null,null,null,null,null,null,null,null,null,null,null,null,null,null,null,null,null,null,null,null,null,null,null,null,null,null,null,null,null,null,null,null,null,null,null,null,null,null,null,null,null,null,null,null,null,null,null,null,null,null,null,null,null,null,null,null,null,null,null,null,null,null,null,"",null,null,0,0,0,0]
[null,"TERAPEUTA OCUPACIONAL",0,0,0,null,null,null,null,null,null,null,null,null,null,null,null,null,null,null,null,null,null,null,null,null,null,null,null,null,null,null,null,null,null,null,null,null,null,null,null,null,null,null,null,null,null,null,null,null,null,null,null,null,null,null,null,null,null,null,null,null,null,null,null,null,null,null,null,null,null,null,null,null,null,null,null,null,null,null,null,"",null,null,0,0,0,0]
[null,"FACILITADOR/A INTERCULTURAL",0,0,0,null,null,null,null,null,null,null,null,null,null,null,null,null,null,null,null,null,null,null,null,null,null,null,null,null,null,null,null,null,null,null,null,null,null,null,null,null,null,null,null,null,null,null,null,null,null,null,null,null,null,null,null,null,null,null,null,null,null,null,null,null,null,null,null,null,null,null,null,null,null,null,null,null,null,null,null,"",null,null,0,0,0,0]
[null,"OTRO PROFESIONAL",0,0,0,null,null,null,null,null,null,null,null,null,null,null,null,null,null,null,null,null,null,null,null,null,null,null,null,null,null,null,null,null,null,null,null,null,null,null,null,null,null,null,null,null,null,null,null,null,null,null,null,null,null,null,null,null,null,null,null,null,null,null,null,null,null,null,null,null,null,null,null,null,null,null,null,null,null,null,null,"",null,null,0,0,0,0]
["SECCIÓN A.2: CONSEJERÍAS INDIVIDUALES POR VIH (NO INCLUIDAS EN LA SECCION A.1)"]
["CONSEJERIAS","ÁREA O NIVEL","TOTAL              ",null,null,"GRUPOS DE EDAD (en años)",null,null,null,null,null,null,null,null,null,null,null,null,null,null,null,null,null,null,null,null,null,null,null,null,null,null,null,null,null,null,null,null,null,"TRANS",null,"Pueblos Originarios","Migrantes","Niños, Niñas, Adolescentes y Jóvenes Población SENAME"]
[null,null,null,null,null,"0 - 4",null,"5 - 9",null,"10 a 14",null,"15 a 19",null,"20 a 24",null,"25 - 29",null,"30 - 34",null,"35 - 39",null,"40 - 44",null,"45 - 49",null,"50 - 54",null,"55 - 59",null,"60 - 64",null,"65 - 69",null,"70 - 74",null,"75 - 79",null,"80 y mas"]
[null,null,"AMBOS SEXOS","HOMBRES","MUJERES","HOMBRES","MUJERES","HOMBRES","MUJERES","HOMBRES","MUJERES","HOMBRES","MUJERES","HOMBRES","MUJERES","HOMBRES","MUJERES","HOMBRES","MUJERES","HOMBRES","MUJERES","HOMBRES","MUJERES","HOMBRES","MUJERES","HOMBRES","MUJERES","HOMBRES","MUJERES","HOMBRES","MUJERES","HOMBRES","MUJERES","HOMBRES","MUJERES","HOMBRES","MUJERES","HOMBRES","MUJERES","Masculino","Femenino"]
["ORIENTACIÓN E INFORMACIÓN PREVIA AL EXAMEN VIH","EN BANCO DE SANGRE  (DONANTES)",{"$f":"SUM(D93+E93)","v":0},{"$f":"+L93+N93+P93+R93+T93+V93+X93+Z93+AB93+AD93","v":0},{"$f":"+M93+O93+Q93+S93+U93+W93+Y93+AA93+AC93+AE93","v":0},null,null,null,null,null,null,null,null,null,null,null,null,null,null,null,null,null,null,null,null,null,null,null,null,null,null,null,null,null,null,null,null,null,null,null,null,null,null,null,null,null,null,null,null,null,null,null,null,null,null,null,null,null,null,null,null,null,null,null,null,null,null,null,null,null,null,null,null,null,null,null,null,null,null,null,null,null,null,null,0,0]
[null,"HOSPITALIZACIÓN",{"$f":"SUM(D94+E94)","v":0},{"$f":"SUM(F94+H94+J94+L94+N94+P94+R94+T94+V94+X94+Z94+AB94+AD94+AF94+AH94+AJ94+AL94)","v":0},{"$f":"SUM(G94+I94+K94+M94+O94+Q94+S94+U94+W94+Y94+AA94+AC94+AE94+AG94+AI94+AK94+AM94)","v":0},null,null,null,null,null,null,null,null,null,null,null,null,null,null,null,null,null,null,null,null,null,null,null,null,null,null,null,null,null,null,null,null,null,null,null,null,null,null,null,null,null,null,null,null,null,null,null,null,null,null,null,null,null,null,null,null,null,null,null,null,null,null,null,null,null,null,null,null,null,null,null,null,null,null,null,null,null,null,null,0,0]
[null,"EN CDT - CRS",{"$f":"SUM(D95+E95)","v":0},{"$f":"SUM(F95+H95+J95+L95+N95+P95+R95+T95+V95+X95+Z95+AB95+AD95+AF95+AH95+AJ95+AL95)","v":0},0,null,null,null,null,null,null,null,null,null,null,null,null,null,null,null,null,null,null,null,null,null,null,null,null,null,null,null,null,null,null,null,null,null,null,null,null,null,null,null,null,null,null,null,null,null,null,null,null,null,null,null,null,null,null,null,null,null,null,null,null,null,null,null,null,null,null,null,null,null,null,null,null,null,null,null,null,null,null,null,0,0]
[null,"EN APS",0,0,0,null,null,null,null,null,null,null,null,null,null,null,null,null,null,null,null,null,null,null,null,null,null,null,null,null,null,null,null,null,null,null,null,null,null,null,null,null,null,null,null,null,null,null,null,null,null,null,null,null,null,null,null,null,null,null,null,null,null,null,null,null,null,null,null,null,null,null,null,null,null,null,null,null,null,null,null,null,null,null,0,0]
[null,"EN APS - ESPACIOS AMIGABLES",0,{"$f":"+J97+L97+N97","v":0},{"$f":"+K97+M97+O97","v":0},null,null,null,null,null,null,null,null,null,null,null,null,null,null,null,null,null,null,null,null,null,null,null,null,null,null,null,null,null,null,null,null,null,null,null,null,null,null,null,null,null,null,null,null,null,null,null,null,null,null,null,null,null,null,null,null,null,null,null,null,null,null,null,null,null,null,null,null,null,null,null,null,null,null,null,null,null,null,null,0,0]
[null,"EN OTRAS INSTANCIAS",0,0,0,null,null,null,null,null,null,null,null,null,null,null,null,null,null,null,null,null,null,null,null,null,null,null,null,null,null,null,null,null,null,null,null,null,null,null,null,null,null,null,null,null,null,null,null,null,null,null,null,null,null,null,null,null,null,null,null,null,null,null,null,null,null,null,null,null,null,null,null,null,null,null,null,null,null,null,null,null,null,null,0,0]
["CONSEJERÍAS POST TEST VIH","EN BANCO DE SANGRE  (DONANTES)",0,{"$f":"+L99+N99+P99+R99+T99+V99+X99+Z99+AB99+AD99","v":0},{"$f":"+M99+O99+Q99+S99+U99+W99+Y99+AA99+AC99+AE99","v":0},null,null,null,null,null,null,null,null,null,null,null,null,null,null,null,null,null,null,null,null,null,null,null,null,null,null,null,null,null,null,null,null,null,null,null,null,null,null,null,null,null,null,null,null,null,null,null,null,null,null,null,null,null,null,null,null,null,null,null,null,null,null,null,null,null,null,null,null,null,null,null,null,null,null,null,null,null,null,null,0,0]
[null,"HOSPITALIZACIÓN",0,0,0,null,null,null,null,null,null,null,null,null,null,null,null,null,null,null,null,null,null,null,null,null,null,null,null,null,null,null,null,null,null,null,null,null,null,null,null,null,null,null,null,null,null,null,null,null,null,null,null,null,null,null,null,null,null,null,null,null,null,null,null,null,null,null,null,null,null,null,null,null,null,null,null,null,null,null,null,null,null,null,0,0]
[null,"EN CDT - CRS",0,0,0,null,null,null,null,null,null,null,null,null,null,null,null,null,null,null,null,null,null,null,null,null,null,null,null,null,null,null,null,null,null,null,null,null,null,null,null,null,null,null,null,null,null,null,null,null,null,null,null,null,null,null,null,null,null,null,null,null,null,null,null,null,null,null,null,null,null,null,null,null,null,null,null,null,null,null,null,null,null,null,0,0]
[null,"EN APS",0,0,{"$f":"SUM(G102+I102+K102+M102+O102+Q102+S102+U102+W102+Y102+AA102+AC102+AE102+AG102+AI102+AK102+AM102)","v":0},null,null,null,null,null,null,null,null,null,null,null,null,null,null,null,null,null,null,null,null,null,null,null,null,null,null,null,null,null,null,null,null,null,null,null,null,null,null,null,null,null,null,null,null,null,null,null,null,null,null,null,null,null,null,null,null,null,null,null,null,null,null,null,null,null,null,null,null,null,null,null,null,null,null,null,null,null,null,null,0,0]
[null,"EN APS - ESPACIOS AMIGABLES",0,{"$f":"+J103+L103+N103","v":0},{"$f":"+K103+M103+O103","v":0},null,null,null,null,null,null,null,null,null,null,null,null,null,null,null,null,null,null,null,null,null,null,null,null,null,null,null,null,null,null,null,null,null,null,null,null,null,null,null,null,null,null,null,null,null,null,null,null,null,null,null,null,null,null,null,null,null,null,null,null,null,null,null,null,null,null,null,null,null,null,null,null,null,null,null,null,null,null,null,0,0]
[null,"EN OTRAS INSTANCIAS",0,{"$f":"SUM(F104+H104+J104+L104+N104+P104+R104+T104+V104+X104+Z104+AB104+AD104+AF104+AH104+AJ104+AL104)","v":0},0,null,null,null,null,null,null,null,null,null,null,null,null,null,null,null,null,null,null,null,null,null,null,null,null,null,null,null,null,null,null,null,null,null,null,null,null,null,null,null,null,null,null,null,null,null,null,null,null,null,null,null,null,null,null,null,null,null,null,null,null,null,null,null,null,null,null,null,null,null,null,null,null,null,null,null,null,null,null,null,0,0]
["SECCIÓN A.3: CONSEJERÍAS FAMILIARES"]
["TEMAS PRIORIDAD","FAMILIA","TOTAL ACTIVIDADES","ESPACIOS AMIGABLES"]
[null,"CON RIESGO PSICOSOCIAL",null,null,null,null,null,null,null,null,null,null,null,null,null,null,null,null,null,null,null,null,null,null,null,null,null,null,null,null,null,null,null,null,null,null,null,null,null,null,null,null,null,null,null,null,null,null,null,null,null,null,null,null,null,null,null,null,null,null,null,null,null,null,null,null,null,null,null,null,null,null,null,null,null,null,null,null,{"$f":"IF(D107<=C107,\"\",\"* Las consejerías realizadas en Espacios Amigables NO DEBEN ser mayor al Total de Actividades. \")","v":""},null,null,null,null,null,{"$f":"IF(D107<=C107,0,1)","v":0}]
[null,"CON INTEGRANTE DE PATOLOGÍA CRÓNICA",null,null,null,null,null,null,null,null,null,null,null,null,null,null,null,null,null,null,null,null,null,null,null,null,null,null,null,null,null,null,null,null,null,null,null,null,null,null,null,null,null,null,null,null,null,null,null,null,null,null,null,null,null,null,null,null,null,null,null,null,null,null,null,null,null,null,null,null,null,null,null,null,null,null,null,null,{"$f":"IF(D108<=C108,\"\",\"* Las consejerías realizadas en Espacios Amigables NO DEBEN ser mayor al Total de Actividades. \")","v":""},null,null,null,null,null,{"$f":"IF(D108<=C108,0,1)","v":0}]
[null,"CON INTEGRANTE CON PROBLEMA DE SALUD MENTAL",null,null,null,null,null,null,null,null,null,null,null,null,null,null,null,null,null,null,null,null,null,null,null,null,null,null,null,null,null,null,null,null,null,null,null,null,null,null,null,null,null,null,null,null,null,null,null,null,null,null,null,null,null,null,null,null,null,null,null,null,null,null,null,null,null,null,null,null,null,null,null,null,null,null,null,null,{"$f":"IF(D109<=C109,\"\",\"* Las consejerías realizadas en Espacios Amigables NO DEBEN ser mayor al Total de Actividades. \")","v":""},null,null,null,null,null,{"$f":"IF(D109<=C109,0,1)","v":0}]
[null,"CON ADULTO MAYOR DEPENDIENTE"]
[null,"CON ADULTO MAYOR CON DEMENCIA"]
[null,"CON INTEGRANTE CON ENFERMEDAD TERMINAL",null,null,null,null,null,null,null,null,null,null,null,null,null,null,null,null,null,null,null,null,null,null,null,null,null,null,null,null,null,null,null,null,null,null,null,null,null,null,null,null,null,null,null,null,null,null,null,null,null,null,null,null,null,null,null,null,null,null,null,null,null,null,null,null,null,null,null,null,null,null,null,null,null,null,null,null,{"$f":"IF(D112<=C112,\"\",\"* Las consejerías realizadas en Espacios Amigables NO DEBEN ser mayor al Total de Actividades. \")","v":""},null,null,null,null,null,{"$f":"IF(D112<=C112,0,1)","v":0}]
[null,"CON INTEGRANTE DEPENDIENTE SEVERO",null,null,null,null,null,null,null,null,null,null,null,null,null,null,null,null,null,null,null,null,null,null,null,null,null,null,null,null,null,null,null,null,null,null,null,null,null,null,null,null,null,null,null,null,null,null,null,null,null,null,null,null,null,null,null,null,null,null,null,null,null,null,null,null,null,null,null,null,null,null,null,null,null,null,null,null,{"$f":"IF(D113<=C113,\"\",\"* Las consejerías realizadas en Espacios Amigables NO DEBEN ser mayor al Total de Actividades. \")","v":""},null,null,null,null,null,{"$f":"IF(D113<=C113,0,1)","v":0}]
[null,"OTRAS ÁREAS DE INTERVENCIÓN",null,null,null,null,null,null,null,null,null,null,null,null,null,null,null,null,null,null,null,null,null,null,null,null,null,null,null,null,null,null,null,null,null,null,null,null,null,null,null,null,null,null,null,null,null,null,null,null,null,null,null,null,null,null,null,null,null,null,null,null,null,null,null,null,null,null,null,null,null,null,null,null,null,null,null,null,{"$f":"IF(D114<=C114,\"\",\"* Las consejerías realizadas en Espacios Amigables NO DEBEN ser mayor al Total de Actividades. \")","v":""},null,null,null,null,null,{"$f":"IF(D114<=C114,0,1)","v":0}]
[null,"CON ADOLESCENTE VIH (+)",null,null,null,null,null,null,null,null,null,null,null,null,null,null,null,null,null,null,null,null,null,null,null,null,null,null,null,null,null,null,null,null,null,null,null,null,null,null,null,null,null,null,null,null,null,null,null,null,null,null,null,null,null,null,null,null,null,null,null,null,null,null,null,null,null,null,null,null,null,null,null,null,null,null,null,null,{"$f":"IF(D115<=C115,\"\",\"* Las consejerías realizadas en Espacios Amigables NO DEBEN ser mayor al Total de Actividades. \")","v":""},null,null,null,null,null,{"$f":"IF(D115<=C115,0,1)","v":0}]
["SECCIÓN A.4: CONSEJERÍAS INDIVIDUALES EN ADOLESCENTES CON ENTREGA DE PRESERVATIVOS",null,null,null,null,null,null,null,null,null,null,null,null,null,null,null,null,null,null,null,null,null,null,null,null,null,null,null,null,null,null,null,null,null,null,null,null,null,null,null,null,null,null,null,null,null,null,null,null,null,null,null,null,null,null,null,null,null,null,null,null,null,null,null,null,null,null,null,null,null,null,null,null,null,null,null,null,null,{"$f":"IF(D116<=C116,\"\",\"* Las consejerías realizadas en Espacios Amigables NO DEBEN ser mayor al Total de Actividades. \")","v":""},null,null,null,null,null,{"$f":"IF(D116<=C116,0,1)","v":0}]
["ACTIVIDAD",null,"TOTAL",null,null,"GRUPOS DE EDAD (en años)"]
[null,null,null,null,null,"0 - 4",null,"5 - 9",null,"10 - 14",null,"15-19 ",null,"20-24 ",null,"25-29 ",null,"30-34 ",null,"35-39",null,"40-44 ",null,"45-49 ",null,"50-54 ",null,"55-59",null,"60-64 ",null,"65-69 ",null,"70-74 ",null,"75- 79",null,"80 y mas"]
[null,null,"AMBOS SEXOS","HOMBRES","* Las consejerías realizadas en Espacios Amigables NO DEBEN ser mayor al Total de Actividades. ","HOMBRES","MUJERES","HOMBRES","MUJERES","HOMBRES","MUJERES","HOMBRES","MUJERES","HOMBRES","MUJERES","HOMBRES","MUJERES","HOMBRES","MUJERES","HOMBRES","MUJERES","HOMBRES","MUJERES","HOMBRES","MUJERES","HOMBRES","MUJERES","HOMBRES","MUJERES","HOMBRES","MUJERES","HOMBRES","MUJERES","HOMBRES","MUJERES","HOMBRES","MUJERES","HOMBRES","MUJERES",null,null,null,null,null,null,null,null,null,null,null,null,null,null,null,null,null,null,null,null,null,null,null,null,null,null,null,null,null,null,null,null,null,null,null,null,null,null,null,{"$f":"IF(D119<=C119,\"\",\"* Las consejerías realizadas en Espacios Amigables NO DEBEN ser mayor al Total de Actividades. \")","v":"* Las consejerías realizadas en Espacios Amigables NO DEBEN ser mayor al Total de Actividades. "},null,null,null,null,null,{"$f":"IF(D119<=C119,0,1)","v":1}]
["CONSEJERIA CON ENTREGA DE PRESERVATIVOS ","CONDONES MASCULINOS",{"$f":"SUM(D120:E120)","v":0},{"$f":"+J120+L120+N120+P120+R120+T120+V120+X120+Z120+AB120+AD120+AF120+AH120+AJ120+AL120","v":0},null,null,null,null,null,null,null,null,null,null,null,null,null,null,null,null,null,null,null,null,null,null,null,null,null,null,null,null,null,null,null,null,null,null,null,null,null,null,null,null,null,null,null,null,null,null,null,null,null,null,null,null,null,null,null,null,null,null,null,null,null,null,null,null,null,null,null,null,null,null,null,null,null,null,{"$f":"IF(D120<=C120,\"\",\"* Las consejerías realizadas en Espacios Amigables NO DEBEN ser mayor al Total de Actividades. \")","v":""},null,null,null,null,null,{"$f":"IF(D120<=C120,0,1)","v":0}]
[null,"CONDONES FEMENINOS",{"$f":"SUM(D121:E121)","v":0},{"$f":"+J121+L121+N121+P121+R121+T121+V121+X121+Z121+AB121+AD121+AF121+AH121+AJ121+AL121","v":0},null,null,null,null,null,null,null,null,null,null,null,null,null,null,null,null,null,null,null,null,null,null,null,null,null,null,null,null,null,null,null,null,null,null,null,null,null,null,null,null,null,null,null,null,null,null,null,null,null,null,null,null,null,null,null,null,null,null,null,null,null,null,null,null,null,null,null,null,null,null,null,null,null,null,{"$f":"IF(D121<=C121,\"\",\"* Las consejerías realizadas en Espacios Amigables NO DEBEN ser mayor al Total de Actividades. \")","v":""},null,null,null,null,null,{"$f":"IF(D121<=C121,0,1)","v":0}]
[null,"AMBOS TIPOS DE CONDONES",0,{"$f":"+J122+L122+N122+P122+R122+T122+V122+X122+Z122+AB122+AD122+AF122+AH122+AJ122+AL122","v":0},{"$f":"+K122+M122+O122+Q122+S122+U122+W122+Y122+AA122+AC122+AE122+AG122+AI122+AK122+AM122","v":0}]
["SECCIÓN B: ACTIVIDADES DE PROMOCIÓN"]
["SECCIÓN B.1: ACTIVIDADES DE PROMOCIÓN SEGÚN ESTRATEGIAS Y CONDICIONANTES ABORDADAS Y NÚMERO DE PARTICIPANTES"]
["ACTIVIDADES","ESTRATEGIA, ESPACIOS  O LÍNEAS DE ACCIÓN ","TOTAL ACTIVIDADES","CONDICIONANTES ABORDADAS",null,null,null,null,null,null,"DETERMINANTES SOCIALES DE LA SALUD ABORDADAS - CHILE CRECE CONTIGO","TOTAL PARTICI-PANTES "]
[null,null,null,"Actividad física","Alimentación ","Ambiente libre de humo de tabaco","Factores protectores psicosociales","Factores protectores ambientales","Derechos humanos","Salud sexual y prevención de VIH/SIDA e ITS"]
["EVENTOS  MASIVOS ","COMUNAS, COMUNIDADES.",{"$f":"SUM(D127:J127)","v":0}]
[null,"ESPACIOS AMIGABLES EN APS",{"$f":"SUM(D128:J128)","v":0}]
[null,"LUGARES DE TRABAJO",0]
[null,"ESTABLECIMIENTOS EDUCACIÓN",0]
["REUNIONES DE PLANIFICACIÓN PARTICIPATIVA","COMUNAS, COMUNIDADES.",0]
[null,"ESPACIOS AMIGABLES EN APS",{"$f":"SUM(D132:J132)","v":0}]
[null,"LUGARES DE TRABAJO",0]
[null,"ESTABLECIMIENTOS EDUCACIÓN",0]
["\nJORNADAS Y  \nSEMINARIOS","COMUNAS, COMUNIDADES.",0]
[null,"ESPACIOS AMIGABLES EN APS",0]
[null,"LUGARES DE TRABAJO",0]
[null,"ESTABLECIMIENTOS EDUCACIÓN",0]
["EDUCACIÓN GRUPAL ","COMUNAS, COMUNIDADES.",0]
[null,"ESPACIOS AMIGABLES EN APS",0]
[null,"LUGARES DE TRABAJO",0]
[null,"ESTABLECIMIENTOS EDUCACIÓN",{"$f":"SUM(D142:J142)","v":0}]
["SECCIÓN B.2: TALLERES GRUPALES DE VIDA SANA SEGÚN TIPO, POR ESPACIOS DE ACCIÓN"]
["ESPACIOS DE ACCIÓN","TOTAL \nTALLERES","\"AUTOESTIMA Y AUTOCUIDADO\" ","\"MENTE SANA Y CUERPO SANO\"","\"COMUNICA-CIÓN\"","\"YO ME CUIDO\"","CONTROL \nDEL TABACO","OTROS\nTIPO DE\nTALLERES"]
["COMUNAS, COMUNIDADES",{"$f":"SUM(C145:H145)","v":0}]
["ESPACIOS AMIGABLES EN APS",{"$f":"SUM(C146:H146)","v":0}]
["LUGARES DE TRABAJO",{"$f":"SUM(C147:H147)","v":0}]
["ESTABLECIMIENTOS EDUCACIONALES",{"$f":"SUM(C148:H148)","v":0}]
["SECCIÓN B.3: ACTIVIDADES DE GESTIÓN SEGÚN TIPO, POR ESPACIOS DE ACCIÓN"]
["ESPACIOS DE ACCIÓN","TOTAL ACTIVIDADES","REUNIONES \nDE GESTIÓN ","REUNIONES \nMASIVAS \nDE GESTIÓN","ACCIONES DE COMUNICA-CIÓN \nY DIFUSIÓN","PREPARACIÓN \nACTIVIDADES \nEDUCATIVAS","ENTREVISTAS","INVESTIGACIÓN Y CAPACITACIÓN DE RRHH"]
["COMUNAS, COMUNIDADES",{"$f":"SUM(C151:H151)","v":0}]
["ESPACIOS AMIGABLES EN APS",{"$f":"SUM(C152:H152)","v":0}]
["LUGARES DE TRABAJO",0]
["ESTABLECIMIENTOS \nEDUCACIONALES",{"$f":"SUM(C154:H154)","v":0}]
["OFICINA INTERCULTURAL",0]
["OTROS",{"$f":"SUM(C156:H156)","v":0}]
["SECCIÓN B.4: TALLERES GRUPALES SEGÚN TEMATICA Y NUMERO DE PARTICIPANTES EN PROGRAMA ESPACIOS AMIGABLES "]
["ESPACIOS DE ACCIÓN","TOTAL TALLERES","TOTAL PARTICIPANTES","ACTIVIDAD FISICA","ALIMENTACIÓN","AMBIENTE LIBRE DE HUMO DEL TABACO","FACTORES PROTECTORES PSICOSOCIALES","PREVENCIÓN CONSUMO DE ALCOHOL Y OTRAS DROGAS","SALUD SEXUAL Y PREVENCIÓN DE VIH/SIDA e ITS","OTROS TIPOS DE TALLERES"]
["ESPACIOS COMUNITARIOS"]
["ESTBLECIMIENTOS EDUCACIONALES"]
["CENTROS DE SALUD"]
[]
[]
[]
[]
[]
[]
[]
[]
[]
[]
[]
[]
[]
[]
[]
[]
[]
[]
[]
[]
[]
[]
[]
[]
[]
[]
[]
[]
[]
[]
[]
[{"$f":"SUM(C14:C88,C93:C104,C127:C142,B145:B148,B151:B156,C107:C114)","v":0},{"$f":"SUM(CG11:CO150)","v":1}]

{"sheet":"A19b","index":12,"n_rows":195,"n_cols":79,"rows_kept":195,"cut":false,"hidden":false,"merged":[[39,0,39,1],[30,0,31,1],[34,0,34,1],[35,0,35,1],[36,0,36,1],[37,0,37,1],[38,0,38,1],[32,0,32,1],[33,0,33,1],[47,0,47,1],[48,0,48,1],[40,0,40,1],[41,0,41,1],[42,0,42,1],[43,0,43,1],[44,0,44,1],[46,0,46,1],[30,6,30,9],[5,0,5,15],[8,0,9,0],[8,1,8,3],[8,4,8,5],[8,6,9,6],[8,7,8,8],[30,10,30,12],[30,2,30,5]]}
["SERVICIO DE SALUD"]
[{"$f":"CONCATENATE(\"COMUNA: \",NOMBRE!B2,\" - \",\"( \",NOMBRE!C2,NOMBRE!D2,NOMBRE!E2,NOMBRE!F2,NOMBRE!G2,\" )\")","v":"COMUNA:  - (  )"}]
[{"$f":"CONCATENATE(\"ESTABLECIMIENTO/ESTRATEGIA: \",NOMBRE!B3,\" - \",\"( \",NOMBRE!C3,NOMBRE!D3,NOMBRE!E3,NOMBRE!F3,NOMBRE!G3,NOMBRE!H3,\" )\")","v":"ESTABLECIMIENTO/ESTRATEGIA:  - (  )"}]
[{"$f":"CONCATENATE(\"MES: \",NOMBRE!B6,\" - \",\"( \",NOMBRE!C6,NOMBRE!D6,\" )\")","v":"MES:  - (  )"}]
[{"$f":"CONCATENATE(\"AÑO: \",NOMBRE!B7)","v":"AÑO: 2019"}]
["REM-19b.   ACTIVIDADES DE PARTICIPACIÓN SOCIAL"]
[]
["SECCIÓN A: ATENCIÓN OFICINAS DE INFORMACIONES (SISTEMA INTEGRAL DE ATENCIÓN A USUARIOS)"]
["TIPO DE ATENCION","Nº DE ATENCIONES EN EL MES",null,null,"RESPUESTAS DEL MES DENTRO DE PLAZOS LEGALES ( 15 DIAS HÁBILES)",null,"RECLAMOS RESPONDIDOS FUERA DE PLAZOS LEGALES","RECLAMOS PENDIENTES"]
[null,"Total","Hombres","Mujeres","Reclamos generados en el mes","Reclamos generados en el mes anterior",null,"Respuestas pendientes dentro del plazo legal","Respuestas pendientes fuera del plazo legal"]
["TOTAL DE RECLAMOS ",{"$f":"SUM(C11+D11)","v":0},{"$f":"SUM(C12:C24)","v":0},0,0,0,0,0,0]
["TRATO",{"$f":"SUM(C12+D12)","v":0}]
["COMPETENCIA TÉCNICA",{"$f":"SUM(C13+D13)","v":0}]
["INFRAESTRUCTURA",0]
["TIEMPO DE ESPERA (EN SALA DE ESPERA)",0]
["TIEMPO DE ESPERA, POR CONSULTA ESPECIALIDAD (POR LISTA DE ESPERA)",0]
["TIEMPO DE ESPERA, POR PROCEDIMIENTO (LISTA DE ESPERA)",0]
["TIEMPO DE ESPERA , POR CIRUGÍA (LISTA DE ESPERA)",0]
["INFORMACIÓN",0]
["PROCEDIMIENTOS ADMINISTRATIVOS",0]
["PROBIDAD ADMINISTRATIVA",0]
["INCUMPLIMIENTO GARANTÍAS EXPLÍCITAS EN SALUD (GES)",0]
["INCUMPLIMIENTO DE GARANTÍAS LEY RICARTE SOTO",0]
["INCUMPLIMIENTO DE GARANTÍAS FOFAR",0]
["CONSULTAS",0]
["SUGERENCIAS",0]
["FELICITACIONES",0]
["SOLICITUDES",0]
["SOLICITUDES LEY 20.285 (Ley de Transparencia)",0]
["SECCIÓN B: ACTIVIDADES POR ESTRATEGIA/LÍNEA DE ACCIÓN O ESPACIO / INSTANCIA DE PARTICIPACIÓN SOCIAL"]
["TIPO DE ACTIVIDADES",null,"ESPACIOS/INSTANCIAS ",null,null,null,"ESTRATEGIAS/LÍNEAS DE ACCIÓN",null,null,null,"PARTICIPANTES"]
[null,null,"Consultas Ciudadanas","Consejo de la Sociedad Civil, Consejos consultivos, de desarrollo y comités locales"," Consejos consultivos de Adolescentes y Jóvenes","Mesas: Territoriales, diálogos ciudadanos, mesa salud intercultural","Cuentas públicas participativas","Presupuestos participativos","Estrategias de satisfacción usuaria","Planificación local participativa (Diagnósticos, programación y evaluación)","Total participantes","Total hombres","Total mujeres"]
["ADMINISTRACIÓN Y GESTIÓN",null,null,null,null,null,null,null,null,null,{"$f":"SUM(L33+M33)","v":0}]
["ENTREVISTAS",null,null,null,null,null,null,null,null,null,{"$f":"SUM(L34+M34)","v":0}]
["REUNIONES INTRASECTOR",null,null,null,null,null,null,null,null,null,{"$f":"SUM(L35+M35)","v":0}]
["REUNIONES INTERSECTOR",null,null,null,null,null,null,null,null,null,{"$f":"SUM(L36+M36)","v":0}]
["ACTIVIDADES DE MONITOREO"]
["ASESORÍA TÉCNICA"]
["JORNADAS DE INTERCAMBIO DE EXPERIENCIAS"]
["ACTIVIDADES DE DIFUSIÓN Y COMUNICACIÓN"]
["EDUCACIÓN Y CAPACITACIÓN COMUNITARIA",null,null,null,null,null,null,null,null,null,{"$f":"SUM(L41+M41)","v":0}]
["EVENTOS MASIVOS (ASAMBLEAS, CABILDOS, OTROS)"]
["ACTIVIDADES A PUEBLOS INDÍGENAS",null,null,null,null,null,null,null,null,null,{"$f":"SUM(L43+M43)","v":0}]
["TOTAL DE ACTIVIDADES",null,{"$f":"SUM(C33:C43)","v":0},{"$f":"SUM(D33:D43)","v":0},{"$f":"SUM(E33:E43)","v":0},0,{"$f":"SUM(G33:G42)","v":0},0,0,0,{"$f":"SUM(K33+K34+K35+K36+K39+K40+K41+K43)","v":0},{"$f":"SUM(L33+L34+L35+L36+L41+L43)","v":0},{"$f":"SUM(M33+M34+M35+M36+M41+M43)","v":0}]
["ACTIVIDADES DE PARTICIPACIÓN SOCIAL POR TEC. PARAMÉDICO",null,null,null,null,null,null,null,null,null,{"$f":"SUM(L45+M45)","v":0}]
["SECCIÓN C: REUNIONES DE ADULTO MAYOR"]
["TIPO DE REUNIÓN",null,"TOTAL","CASOS/INSTI-\nTUCIONES"]
["CLÍNICAS ",null,null,null,null,null,null,null,null,null,null,null,null,null,null,null,null,null,null,null,null,null,null,null,null,null,null,null,null,null,null,null,null,null,null,null,null,null,null,null,null,null,null,null,null,null,null,null,null,null,null,null,null,null,null,null,null,null,null,null,null,null,null,null,null,null,null,null,null,null,null,null,null,null,null,null,null,null,{"$f":"IF(D48>C48,\"Casos/Instituciones deben ser menor o iguales al total Reuniones A. Mayor\",\"\")","v":""}]
["CON INSTITUCIONES DE LARGA ESTADÍA"]
[]
[]
[]
[]
[]
[]
[]
[]
[]
[]
[]
[]
[]
[]
[]
[]
[]
[]
[]
[]
[]
[]
[]
[]
[]
[]
[]
[]
[]
[]
[]
[]
[]
[]
[]
[]
[]
[]
[]
[]
[]
[]
[]
[]
[]
[]
[]
[]
[]
[]
[]
[]
[]
[]
[]
[]
[]
[]
[]
[]
[]
[]
[]
[]
[]
[]
[]
[]
[]
[]
[]
[]
[]
[]
[]
[]
[]
[]
[]
[]
[]
[]
[]
[]
[]
[]
[]
[]
[]
[]
[]
[]
[]
[]
[]
[]
[]
[]
[]
[]
[]
[]
[]
[]
[]
[]
[]
[]
[]
[]
[]
[]
[]
[]
[]
[]
[]
[]
[]
[]
[]
[]
[]
[]
[]
[]
[]
[]
[]
[]
[]
[]
[]
[]
[]
[]
[]
[]
[]
[]
[]
[]
[]
[]
[]
[{"$f":"SUM(B11,B25:B29,C44:M44,C48:C49)","v":0},{"$f":"SUM(CG6:CM50)","v":0}]

{"sheet":"A21","index":13,"n_rows":195,"n_cols":90,"rows_kept":195,"cut":false,"hidden":false,"merged":[[8,15,9,19],[8,20,9,24],[54,0,54,6],[55,0,57,0],[55,1,56,2],[55,3,56,4],[8,6,9,9],[8,10,9,14],[49,0,49,1],[50,0,51,0],[52,0,53,0],[8,0,10,0],[8,1,10,1],[8,2,10,2],[47,0,47,4],[8,5,10,5],[8,3,10,3],[8,4,10,4],[72,1,72,6],[55,5,55,8],[56,5,56,6],[56,7,56,8],[71,0,71,6],[72,0,73,0]]}
["SERVICIO DE SALUD"]
[{"$f":"CONCATENATE(\"COMUNA: \",NOMBRE!B2,\" - \",\"( \",NOMBRE!C2,NOMBRE!D2,NOMBRE!E2,NOMBRE!F2,NOMBRE!G2,\" )\")","v":"COMUNA:  - (  )"}]
[{"$f":"CONCATENATE(\"ESTABLECIMIENTO/ESTRATEGIA: \",NOMBRE!B3,\" - \",\"( \",NOMBRE!C3,NOMBRE!D3,NOMBRE!E3,NOMBRE!F3,NOMBRE!G3,NOMBRE!H3,\" )\")","v":"ESTABLECIMIENTO/ESTRATEGIA:  - (  )"}]
[{"$f":"CONCATENATE(\"MES: \",NOMBRE!B6,\" - \",\"( \",NOMBRE!C6,NOMBRE!D6,\" )\")","v":"MES:  - (  )"}]
[{"$f":"CONCATENATE(\"AÑO: \",NOMBRE!B7)","v":"AÑO: 2019"}]
[null,null,null,null,null,"REM-21.   QUIROFANOS Y OTROS RECURSOS HOSPITALARIOS"]
[]
["SECCIÓN A:  CAPACIDAD INSTALADA Y UTILIZACIÓN DE LOS QUIRÓFANOS"]
["TIPO DE QUIRÓFANOS","NÙMERO DE QUIRÓFANOS EN DOTACIÓN","PROMEDIO MENSUAL DE QUIRÓFANOS HABILITADOS","PROMEDIO MENSUAL  DE QUIRÓFANOS EN TRABAJO","TOTAL  DE HORAS MENSUALES DE QUIRÓFANOS HABILITADOS","TOTAL DE HORAS MENSUALES DE QUIRÓFANOS EN TRABAJO","HORAS MENSUALES PROGRAMADAS DE TABLA QUIRURGICA DE QUIRÓFANOS EN TRABAJO",null,null,null,"HORAS MENSUALES OCUPADAS DE QUIRÓFANOS EN TRABAJO HORARIO HABIL",null,null,null,null,"HORAS MENSUALES OCUPADAS DE QUIRÓFANOS EN TRABAJO HORARIO INHABIL DE LUNES A VIERNES",null,null,null,null,"HORAS MENSUALES OCUPADAS DE QUIRÓFANOS EN TRABAJO HORARIO SABADO, DOMINGO Y FESTIVO"]
[]
[null,null,null,null,null,null,"Totales","Beneficiarios MAI","Beneficiarios MLE","Otros","Totales","Beneficiarios MAI","Beneficiarios MLE","Otros","De preparación","Totales","Beneficiarios MAI","Beneficiarios MLE","Otros","De preparación","Totales","Beneficiarios MAI","Beneficiarios MLE","Otros","De preparación"]
["TOTAL QUIRÓFANOS",{"$f":"SUM(B13:B16)","v":0},{"$f":"SUM(C13:C16)","v":0},0,0,0,0,0,0,0,0,0,0,0,0,{"$f":"SUM(P13:P16)","v":0},0,0,0,0,{"$f":"SUM(U13:U16)","v":0},{"$f":"SUM(V13:V16)","v":0},0,0,0]
["DE CIRUGÍA ELECTIVA",null,null,null,null,null,{"$f":"SUM(H13:J13)","v":0},null,null,null,{"$f":"SUM(L13:O13)","v":0},null,null,null,null,{"$f":"SUM(Q13:T13)","v":0},null,null,null,null,{"$f":"SUM(V13:Y13)","v":0}]
["DE URGENCIA",null,null,null,null,null,{"$f":"SUM(H14:J14)","v":0},null,null,null,{"$f":"SUM(L14:O14)","v":0},null,null,null,null,{"$f":"SUM(Q14:T14)","v":0},null,null,null,null,{"$f":"SUM(V14:Y14)","v":0}]
["OBSTÉTRICO",null,null,null,null,null,{"$f":"SUM(H15:J15)","v":0},null,null,null,{"$f":"SUM(L15:O15)","v":0},null,null,null,null,{"$f":"SUM(Q15:T15)","v":0},null,null,null,null,{"$f":"SUM(V15:Y15)","v":0}]
["INDIFERENCIADO",null,null,null,null,null,{"$f":"SUM(H16:J16)","v":0},null,null,null,{"$f":"SUM(L16:O16)","v":0},null,null,null,null,{"$f":"SUM(Q16:T16)","v":0},null,null,null,null,{"$f":"SUM(V16:Y16)","v":0}]
["SECCIÓN B:  PROCEDIMIENTOS COMPLEJOS AMBULATORIOS"]
["COMPONENTES","TOTAL","QUIMIOTERAPIA","HEMODIÁLISIS","CIRUGÍA \nMAYOR\nAMBULATORIA","CORONARIO-\nGRAFÍA","OTRAS"]
["RECURSO DISPONIBLE",{"$f":"SUM(C19:G19)","v":0}]
["INGRESOS",{"$f":"SUM(C20:G20)","v":0}]
["PERSONAS ATENDIDAS",{"$f":"SUM(C21:G21)","v":0}]
["DÍAS PERSONAS ATENDIDAS",{"$f":"SUM(C22:G22)","v":0}]
["ALTAS",{"$f":"SUM(C23:G23)","v":0}]
["SECCIÓN C:  HOSPITALIZACIÓN DOMICILIARIA"]
["SECCIÓN C.1:  PERSONAS ATENDIDAS EN EL PROGRAMA"]
["COMPONENTES","TOTAL"]
["INGRESOS"]
["PERSONAS ATENDIDAS"]
["DIAS PERSONAS ATENDIDAS"]
["ALTAS"]
["FALLECIDOS"]
["REINGRESOS A HOSPITALIZACIÓN TRADICIONAL"]
["SECCIÓN C.2:  VISITAS REALIZADAS "]
["COMPONENTE","TOTAL","UN PROFE-\nSIONAL","DOS O MÁS \nPROFESIO-\nNALES","UN PROFE-\nSIONAL Y \nUN TÉCNICO \nPARAMÉDICO","SÓLO TÉCNICO \nPARAMÉDICO"]
["VISITAS REALIZADAS A PERSONAS EN HOSPITALIZACIÓN DOMICILIARIA",{"$f":"SUM(C35:F35)","v":0}]
["SECCIÓN D:  HOSPITAL AMIGO"]
["SECCIÓN D.1: ACOMPAÑAMIENTO A HOSPITALIZADOS"]
["COMPONENTES","Menores de  15 años","60 y más años"]
["TOTAL DÍAS CAMAS OCUPADAS"]
["DÍAS CAMAS OCUPADAS CON ACOMPAÑAMIENTO DIURNO (*)",null,null,null,null,null,null,null,null,null,null,null,null,null,null,null,null,null,null,null,null,null,null,null,null,null,null,null,null,null,null,null,null,null,null,null,null,null,null,null,null,null,null,null,null,null,null,null,null,null,null,null,null,null,null,null,null,null,null,null,null,null,null,null,null,null,null,null,null,null,null,null,null,null,null,null,null,null,{"$f":"IF(B40>B39,\"* El total de días camas con acompañamiento diurno NO debe ser MAYOR que el total de días camas ocupadas. \",\"\")","v":""},{"$f":"IF(C40>C39,\"* El total de días camas con acompañamiento diurno NO debe ser MAYOR que el total de días camas ocupadas. \",\"\")","v":""},null,null,null,null,{"$f":"IF(B40>B39,1,0)","v":0},{"$f":"IF(C40>C39,1,0)","v":0}]
["DÍAS CAMAS OCUPADAS CON ACOMPAÑAMIENTO DIURNO MÍNIMO DE 6 HORAS (*)",null,null,null,null,null,null,null,null,null,null,null,null,null,null,null,null,null,null,null,null,null,null,null,null,null,null,null,null,null,null,null,null,null,null,null,null,null,null,null,null,null,null,null,null,null,null,null,null,null,null,null,null,null,null,null,null,null,null,null,null,null,null,null,null,null,null,null,null,null,null,null,null,null,null,null,null,null,{"$f":"IF(OR(B41>B39,B41>B40),\"* El nº de días camas con acompañamiento diurno de 6 horas NO debe ser MAYOR que el total de días camas ocupadas, ni el nº de días con acompañamiento diurno de 6 horas mayor que el nº de acompañamiento diurno. \",\"\")","v":""},{"$f":"IF(OR(C41>C39,C41>C40),\"* El nº de días camas con acompañamiento diurno de 6 horas NO debe ser MAYOR que el total de días camas ocupadas, ni el nº de días con acompañamiento diurno de 6 horas mayor que el nº de acompañamiento diurno. \",\"\")","v":""},null,null,null,null,{"$f":"IF(OR(B41>B39,B41>B40),1,0)","v":0},{"$f":"IF(OR(C41>C39,C41>C40),1,0)","v":0}]
["DÍAS CAMAS OCUPADAS CON ACOMPAÑAMIENTO NOCTURNO",null,null,null,null,null,null,null,null,null,null,null,null,null,null,null,null,null,null,null,null,null,null,null,null,null,null,null,null,null,null,null,null,null,null,null,null,null,null,null,null,null,null,null,null,null,null,null,null,null,null,null,null,null,null,null,null,null,null,null,null,null,null,null,null,null,null,null,null,null,null,null,null,null,null,null,null,null,{"$f":"IF(B42>B39,\"* El total de días camas con acompañamiento nocturno NO debe ser MAYOR que el total de días camas ocupadas. \",\"\")","v":""},{"$f":"IF(C42>C39,\"* El total de días camas con acompañamiento nocturno NO debe ser MAYOR que el total de días camas ocupadas. \",\"\")","v":""},null,null,null,null,{"$f":"IF(B42>B39,1,0)","v":0},{"$f":"IF(C42>C39,1,0)","v":0}]
["(*) Excluye acompañamiento en horario de visita diaria"]
["SECCIÓN D.2: INFORMACIÓN A FAMILIARES DE PACIENTES EGRESADOS "]
["CONCEPTO","Menores de  15 años","60 y más años"]
["TOTAL DE EGRESOS (en el periodo)"]
["EGRESADOS CON INFORMACIÓN U ORIENTACIÓN A FAMILIARES AL MOMENTO DEL ALTA",null,null,null,null,null,null,null,null,null,null,null,null,null,null,null,null,null,null,null,null,null,null,null,null,null,null,null,null,null,null,null,null,null,null,null,null,null,null,null,null,null,null,null,null,null,null,null,null,null,null,null,null,null,null,null,null,null,null,null,null,null,null,null,null,null,null,null,null,null,null,null,null,null,null,null,null,null,{"$f":"IF(B47>B46,\"* El nº de egresados con orientación a familiares al alta NO debe ser MAYOR al total de egresos. \",\"\")","v":""},{"$f":"IF(C47>C46,\"* El nº de egresados con orientación a familiares al alta NO debe ser MAYOR al total de egresos. \",\"\")","v":""},null,null,null,null,{"$f":"IF(B47>B46,1,0)","v":0},{"$f":"IF(C47>C46,1,0)","v":0}]
["SECCIÓN E: APOYO PSICOSOCIAL EN NIÑOS (AS) HOSPITALIZADOS"]
["CONCEPTO","INTERVENCIÓN","TOTAL","Hasta 28 días","29 dias hasta menor de 1 año ","1 a 4 años","5 a 9 años","10 a 14 años","15 a 19 años"]
["TOTAL DE EGRESOS (en el período)",null,{"$f":"SUM(D50:I50)","v":0}]
["EGRESADOS CON APOYO PSICOSOCIAL (en el período)","INTERVENCIÓN PSICOSOCIAL",{"$f":"SUM(D51:I51)","v":0},null,null,null,null,null,null,null,null,null,null,null,null,null,null,null,null,null,null,null,null,null,null,null,null,null,null,null,null,null,null,null,null,null,null,null,null,null,null,null,null,null,null,null,null,null,null,null,null,null,null,null,null,null,null,null,null,null,null,null,null,null,null,null,null,null,null,null,null,null,null,null,null,null,null,null,{"$f":"IF(D51+D52>D50,\"* La suma del Total egresados con apoyo psicosocial Hasta 28 días deben ser menor o igual al Total de Egresos de Hasta 28 días. \",\"\")","v":""},{"$f":"IF(E51+E52>E50,\"* La suma del Total egresados con apoyo psicosocial de 29 dias hasta menor de 1 año deben ser menor al Total de Egresos de de 29 dias hasta menor de 1 año. \",\"\")","v":""},{"$f":"IF(F51+F52>F50,\"* La suma del Total egresados con apoyo psicosocial de 1 a 4 años deben ser menor al Total de Egresos de 1 a 4 años. \",\"\")","v":""},{"$f":"IF(G51+G52>G50,\"* La suma del Total egresados con apoyo psicosocial de 9 años deben ser menor o igual al Total de Egresos de de 5 a 9 años. \",\"\")","v":""},{"$f":"IF(H51+H52>H50,\"* La suma del Total egresados con apoyo psicosocial de 10 a 14 años deben ser menor al Total de Egresos de 10 a 14 años. \",\"\")","v":""},{"$f":"IF(I51+I52>I50,\"* La suma del Total egresados con apoyo psicosocial de 15 a 19 años deben ser menor al Total de Egresos de 15 a 19 años. \",\"\")","v":""},{"$f":"IF(D51+D52>D50,1,0)","v":0},0,0,0,0,0]
[null,"ESTIMULACIÓN DEL DESARROLLO",{"$f":"SUM(D52:I52)","v":0}]
["Nº DE ATENCIONES (en el mes)","INTERVENCIÓN PSICOSOCIAL",{"$f":"SUM(D53:I53)","v":0}]
[null,"ESTIMULACIÓN DEL DESARROLLO",{"$f":"SUM(D54:I54)","v":0}]
["SECCIÓN F: GESTIÓN DE PROCESOS DE PACIENTES QUIRÚRGICOS CON CIRUGÍA ELECTIVA"]
["ESPECIALIDAD","DIAS DE ESTADA PREQUIRÚRGICOS",null,"PACIENTES INTERVENIDOS",null,"PROGRAMACIÓN DE TABLA QUIRÚRGICA (N° DE PACIENTES)"]
[null,null,null,null,null,"PACIENTES PROGRAMADOS",null,"PACIENTES SUSPENDIDOS"]
[null,"Menores de 15 años","15 años y más","Menores de 15 años","15 años y más","Menores de 15 años","15 años y más","Menores de 15 años","15 años y más"]
["CIRUGÍA GENERAL"]
["CIRUGÍA CARDIOVASCULAR"]
["CIRUGÍA MÁXILOFACIAL"]
["CIRUGÍA TÓRAX"]
["TRAUMATOLOGÍA"]
["NEUROCIRUGÍA"]
["OTORRINOLARINGOLOGÍA"]
["OFTALMOLOGÍA"]
["OBSTETRICIA Y GINECOLOGÍA"]
["GINECOLOGÍA"]
["UROLOGÍA"]
["RESTO ESPECIALIDADES"]
["TOTAL",{"$f":"SUM(B59:B70)","v":0},0,0,0,0,0,0,0]
["SECCIÓN G: CAUSAS DE SUSPENSIÓN DE CIRUGIAS ELECTIVAS"]
["CAUSAS DE SUSPENSIÓN ATRIBUÍBLES A:\n","Nº DE PERSONAS"]
[null,"TOTALES","Menores de 15 años","15 años y más","Beneficiarios MAI","Beneficiarios MLE","Otros"]
["PACIENTE",{"$f":"SUM(C75+D75)","v":0}]
["ADMINISTRATIVAS",0]
["UNIDAD DE APOYO CLÍNICO",0]
["EQUIPO QUIRÚRGICO",0]
["INFRAESTRUCTURA",0]
["EMERGENCIAS",0]
[]
["GREMIALES",0]
["TOTAL",{"$f":"SUM(B75:B82)","v":0},{"$f":"+C75+C76+C77+C78+C79+C80+C82","v":0},{"$f":"+D75+D76+D77+D78+D79+D80+D82","v":0},{"$f":"+E75+E76+E77+E78+E79+E80+E82","v":0},{"$f":"+F75+F76+F77+F78+F79+F80+F82","v":0},{"$f":"+G75+G76+G77+G78+G79+G80+G82","v":0},null,null,null,null,null,null,null,null,null,null,null,null,null,null,null,null,null,null,null,null,null,null,null,null,null,null,null,null,null,null,null,null,null,null,null,null,null,null,null,null,null,null,null,null,null,null,null,null,null,null,null,null,null,null,null,null,null,null,null,null,null,null,null,null,null,null,null,null,null,null,null,null,null,null,null,1,null,0,0]
[]
[]
[]
[]
[]
[]
[]
[]
[]
[]
[]
[]
[]
[]
[]
[]
[]
[]
[]
[]
[]
[]
[]
[]
[]
[]
[]
[]
[]
[]
[]
[]
[]
[]
[]
[]
[]
[]
[]
[]
[]
[]
[]
[]
[]
[]
[]
[]
[]
[]
[]
[]
[]
[]
[]
[]
[]
[]
[]
[]
[]
[]
[]
[]
[]
[]
[]
[]
[]
[]
[]
[]
[]
[]
[]
[]
[]
[]
[]
[]
[]
[]
[]
[]
[]
[]
[]
[]
[]
[]
[]
[]
[]
[]
[]
[]
[]
[]
[]
[]
[]
[]
[]
[]
[]
[]
[]
[]
[]
[]
[]
[{"$f":"SUM(B12:O12,B19:B23,B35,C50,B71:I71,B83:G83,B27:B32,B39:C42,B46:C47,C51:C54)","v":0},{"$f":"SUM(CG3:CN99)","v":0}]

{"sheet":"A23","index":14,"n_rows":197,"n_cols":86,"rows_kept":197,"cut":false,"hidden":false,"merged":[[71,38,73,38],[161,0,162,2],[167,0,167,1],[121,35,121,36],[121,33,121,34],[121,25,121,26],[121,27,121,28],[151,0,151,2],[156,0,156,1],[157,0,157,1],[158,0,158,1],[128,0,128,1],[129,0,129,1],[132,0,132,2],[133,0,133,2],[134,0,134,2],[135,0,135,2],[121,29,121,30],[121,31,121,32],[154,5,154,6],[154,7,154,8],[154,9,154,10],[154,11,154,12],[154,13,154,14],[154,33,154,34],[168,0,168,1],[161,3,162,3],[161,4,161,5],[163,0,163,2],[165,0,166,1],[165,2,166,2],[165,3,165,4],[136,0,136,2],[137,0,137,2],[138,0,138,2],[139,0,139,2],[141,0,141,2],[142,0,145,0],[142,1,142,2],[143,1,143,2],[144,1,144,2],[145,1,145,2],[159,0,159,1],[146,1,146,2],[147,0,150,0],[147,1,147,2],[148,1,148,2],[149,1,149,2],[150,1,150,2],[118,0,118,1],[123,0,123,1],[124,0,124,1],[125,0,125,1],[126,0,126,1],[127,0,127,1],[115,0,115,1],[116,0,116,1],[117,0,117,1],[106,0,106,1],[108,0,108,1],[109,0,109,1],[110,0,110,1],[89,4,90,4],[91,0,91,1],[92,0,92,1],[101,0,101,1],[102,0,102,1],[103,0,103,1],[89,2,90,2],[89,3,90,3],[96,37,98,37],[113,0,113,1],[96,0,98,1],[96,2,97,4],[97,5,97,6],[114,0,114,1],[82,0,82,1],[121,23,121,24],[121,15,121,16],[121,17,121,18],[121,19,121,20],[121,21,121,22],[89,8,90,8],[94,0,94,1],[89,5,90,5],[89,6,90,6],[85,0,85,1],[121,11,121,12],[121,13,121,14],[89,11,90,11],[89,12,90,12],[93,0,93,1],[99,0,99,1],[100,0,100,1],[61,0,61,1],[120,0,122,1],[120,2,121,4],[121,5,121,6],[121,7,121,8],[121,9,121,10],[89,10,90,10],[86,0,86,1],[87,0,87,1],[89,0,90,1],[66,0,66,1],[67,0,67,1],[68,0,68,1],[69,0,69,1],[83,0,83,1],[84,0,84,1],[74,0,74,1],[75,0,75,1],[76,0,76,1],[81,0,81,1],[111,0,111,1],[120,5,120,36],[104,0,104,1],[105,0,105,1],[97,15,97,16],[97,17,97,18],[97,19,97,20],[97,23,97,24],[97,25,97,26],[97,21,97,22],[97,35,97,36],[96,5,96,36],[97,7,97,8],[97,9,97,10],[97,11,97,12],[97,13,97,14],[97,27,97,28],[97,29,97,30],[97,31,97,32],[97,33,97,34],[89,13,89,14],[63,5,63,36],[64,35,64,36],[79,17,79,18],[79,21,79,22],[79,23,79,24],[64,23,64,24],[79,25,79,26],[79,35,79,36],[79,11,79,12],[78,5,78,36],[79,13,79,14],[79,15,79,16],[79,19,79,20],[79,31,79,32],[79,33,79,34],[79,27,79,28],[79,29,79,30],[89,7,90,7],[78,0,80,1],[78,2,79,4],[79,5,79,6],[79,7,79,8],[79,9,79,10],[71,5,71,36],[64,11,64,12],[64,13,64,14],[64,15,64,16],[64,21,64,22],[72,29,72,30],[72,31,72,32],[72,27,72,28],[72,19,72,20],[72,21,72,22],[64,33,64,34],[72,23,72,24],[72,25,72,26],[63,0,65,1],[63,2,64,4],[64,27,64,28],[72,35,72,36],[64,29,64,30],[64,31,64,32],[51,0,51,1],[13,0,13,1],[14,0,14,1],[15,0,15,1],[16,0,16,1],[17,0,17,1],[18,0,18,1],[23,0,23,1],[29,0,31,0],[32,0,34,0],[35,0,36,0],[37,0,37,1],[22,0,22,1],[44,0,47,1],[38,0,38,1],[39,0,39,1],[40,0,40,1],[41,0,41,1],[42,0,42,1],[5,0,5,21],[26,17,27,18],[26,19,27,20],[26,21,27,22],[8,0,11,1],[8,2,10,4],[48,0,48,1],[49,0,49,1],[50,0,50,1],[44,2,46,4],[45,5,46,6],[45,7,46,8],[45,19,46,20],[45,9,46,10],[45,11,46,12],[45,13,46,14],[45,15,46,16],[45,17,46,18],[45,21,46,22],[8,5,8,36],[26,23,27,24],[26,25,27,26],[25,0,28,1],[25,2,27,4],[12,0,12,1],[26,27,27,28],[19,0,19,1],[20,0,20,1],[21,0,21,1],[9,15,10,16],[9,17,10,18],[9,19,10,20],[9,21,10,22],[26,5,27,6],[26,7,27,8],[26,9,27,10],[26,11,27,12],[26,13,27,14],[26,15,27,16],[9,33,10,34],[8,37,11,37],[9,5,10,6],[9,7,10,8],[9,9,10,10],[9,11,10,12],[9,13,10,14],[9,35,10,36],[25,5,25,36],[9,23,10,24],[9,25,10,26],[25,37,28,37],[26,29,27,30],[26,31,27,32],[26,33,27,34],[26,35,27,36],[9,27,10,28],[9,29,10,30],[9,31,10,32],[46,38,47,38],[44,5,44,36],[57,0,60,1],[57,2,59,4],[58,5,59,6],[58,7,59,8],[45,23,46,24],[58,29,59,30],[58,31,59,32],[45,35,46,36],[45,25,46,26],[45,27,46,28],[45,29,46,30],[45,31,46,32],[58,35,59,36],[45,33,46,34],[58,33,59,34],[57,37,60,37],[58,9,59,10],[58,11,59,12],[52,0,52,1],[53,0,53,1],[54,0,54,1],[55,0,55,1],[71,2,72,4],[72,5,72,6],[72,7,72,8],[72,9,72,10],[72,11,72,12],[72,13,72,14],[72,15,72,16],[72,17,72,18],[46,37,47,37],[57,5,57,36],[58,15,59,16],[58,17,59,18],[58,19,59,20],[72,33,72,34],[58,23,59,24],[64,25,64,26],[64,17,64,18],[64,19,64,20],[58,13,59,14],[71,37,73,37],[8,38,11,38],[120,37,122,37],[154,35,154,36],[153,5,153,36],[153,0,154,1],[153,2,154,4],[154,15,154,16],[154,17,154,18],[154,19,154,20],[154,21,154,22],[154,23,154,24],[154,25,154,26],[154,27,154,28],[154,29,154,30],[154,31,154,32],[63,37,65,37],[64,5,64,6],[64,7,64,8],[64,9,64,10],[58,21,59,22],[58,25,59,26],[58,27,59,28],[44,37,45,38],[71,0,73,1]]}
["SERVICIO DE SALUD"]
[{"$f":"CONCATENATE(\"COMUNA: \",NOMBRE!B2,\" - \",\"( \",NOMBRE!C2,NOMBRE!D2,NOMBRE!E2,NOMBRE!F2,NOMBRE!G2,\" )\")","v":"COMUNA:  - (  )"}]
[{"$f":"CONCATENATE(\"ESTABLECIMIENTO/ESTRATEGIA: \",NOMBRE!B3,\" - \",\"( \",NOMBRE!C3,NOMBRE!D3,NOMBRE!E3,NOMBRE!F3,NOMBRE!G3,NOMBRE!H3,\" )\")","v":"ESTABLECIMIENTO/ESTRATEGIA:  - (  )"}]
[{"$f":"CONCATENATE(\"MES: \",NOMBRE!B6,\" - \",\"( \",NOMBRE!C6,NOMBRE!D6,\" )\")","v":"MES:  - (  )"}]
[{"$f":"CONCATENATE(\"AÑO: \",NOMBRE!B7)","v":"AÑO: 2019"}]
["REM-23.   SALAS: IRA, ERA Y MIXTAS EN APS"]
[]
["SECCIÓN A: INGRESOS AGUDOS SEGÚN DIAGNOSTICO"]
["DIAGNÓSTICOS",null,"TOTAL",null,null,"POR EDAD",null,null,null,null,null,null,null,null,null,null,null,null,null,null,null,null,null,null,null,null,null,null,null,null,null,null,null,null,null,null,null," REINGRESOS","Por Campaña de Invierno"]
[null,null,null,null,null,"Menos \n1 año",null,"1 - 4 \naños",null,"5 - 9 \naños",null,"10 - 14\naños",null,"15 - 19\naños",null,"20 a 24 años\n",null,"25 a 39 años",null,"40 - 44 años",null,"45 - 49 años",null,"50 - 54 años",null,"55 - 59 años",null,"60 - 64 años",null,"65 - 69 años",null,"70 - 74 años",null,"75 - 79 años",null,"80 y mas años"]
[]
[null,null,"Ambos Sexos","Hombres","Mujeres","Hombres","Mujeres","Hombres","Mujeres","Hombres","Mujeres","Hombres","Mujeres","Hombres","Mujeres","Hombres","Mujeres","Hombres","Mujeres","Hombres","Mujeres","Hombres","Mujeres","Hombres","Mujeres","Hombres","Mujeres","Hombres","Mujeres","Hombres","Mujeres","Hombres","Mujeres","Hombres","Mujeres","Hombres","Mujeres"]
["I.R.A. ALTA",null,{"$f":"SUM(D13+E13)","v":0},{"$f":"SUM(F13+H13+J13+L13+N13+P13+R13+T13+V13+X13+Z13+AB13+AD13+AF13+AH13+AJ13)","v":0},{"$f":"SUM(G13+I13+K13+M13+O13+Q13+S13+U13+W13+Y13+AA13+AC13+AE13+AG13+AI13+AK13)","v":0}]
["INFLUENZA",null,{"$f":"SUM(D14+E14)","v":0},{"$f":"SUM(F14+H14+J14+L14+N14+P14+R14+T14+V14+X14+Z14+AB14+AD14+AF14+AH14+AJ14)","v":0},{"$f":"SUM(G14+I14+K14+M14+O14+Q14+S14+U14+W14+Y14+AA14+AC14+AE14+AG14+AI14+AK14)","v":0}]
["NEUMONÍA ",null,0,0,0]
["COQUELUCHE",null,0,0,0]
["BRONQUITIS OBSTRUCTIVA AGUDA",null,0,0,0]
["OTRAS IRAS  BAJAS",null,0,0,0]
["EXACERBACIÓN SÍNDROME BRONQUIAL OBSTRUCTIVO RECURRENTE (SBOR)",null,0,0,0]
["EXACERBACIÓN ASMA",null,0,0,0]
["EXACERBACIÓN DE ENFERMEDAD PULMONAR OBSTRUCTIVA CRÓNICA (EPOC)",null,0,0,0]
["EXACERBACIÓN FIBROSIS QUÍSTICA",null,0,0,0]
["EXACERBACIÓN OTRAS RESPIRATORIAS CRÓNICAS",null,0,0,0]
["TOTAL",null,{"$f":"SUM(C13:C23)","v":0},0,0,0,0,0,0,0,0,0,0,0,0,0,0,0,0,0,0,0,0,0,0,0,0,0,0,0,0,0,0,0,0,0,0,0,{"$f":"SUM(AM13:AM23)","v":0}]
["SECCIÓN B: INGRESO CRÓNICO SEGÚN DIAGNÓSTICO (SOLO MÉDICO)"]
["DIAGNÓSTICOS",null,"TOTAL",null,null,"POR EDAD",null,null,null,null,null,null,null,null,null,null,null,null,null,null,null,null,null,null,null,null,null,null,null,null,null,null,null,null,null,null,null," REINGRESOS"]
[null,null,null,null,null,"Menos \n1 año",null,"1 - 4 \naños",null,"5 - 9 \naños",null,"10 - 14\naños",null,"15 - 19\naños",null,"20 a 24 años\n",null,"25 a 39 años",null,"40 - 44 años",null,"45 - 49 años",null,"50 - 54 años",null,"55 - 59 años",null,"60 - 64 años",null,"65 - 69 años",null,"70 - 74 años",null,"75 - 79 años",null,"80 y mas años"]
[]
[null,null,"Ambos Sexos","Hombres","Mujeres","Hombres","Mujeres","Hombres","Mujeres","Hombres","Mujeres","Hombres","Mujeres","Hombres","Mujeres","Hombres","Mujeres","Hombres","Mujeres","Hombres","Mujeres","Hombres","Mujeres","Hombres","Mujeres","Hombres","Mujeres","Hombres","Mujeres","Hombres","Mujeres","Hombres","Mujeres","Hombres","Mujeres","Hombres","Mujeres"]
["SÍNDROME BRONQUIAL OBSTRUCTIVO RECURRENTE (SBOR)","Leve",{"$f":"SUM(D30+E30)","v":0},{"$f":"SUM(F30+H30)","v":0},0]
[null,"Moderado",0,0,0]
[null,"Severo",0,0,0]
["ASMA BRONQUIAL","Leve",0,{"$f":"SUM(H33+J33+L33+N33+P33+R33+T33+V33+X33+Z33+AB33+AD33+AF33+AH33+AJ33)","v":0},0]
[null,"Moderado",0,0,0]
[null,"Severo",0,0,0]
["ENFERMEDAD PULMONAR OBSTRUCTIVA CRÓNICA (EPOC)","Tipo A",0,{"$f":"SUM(T36+V36+X36+Z36+AB36+AD36+AF36+AH36+AJ36)","v":0},{"$f":"SUM(U36+W36+Y36+AA36+AC36+AE36+AG36+AI36+AK36)","v":0}]
[null,"Tipo B",0,{"$f":"SUM(F37+H37+J37+L37+N37+P37+R37+T37+V37+X37+Z37+AB37+AD37+AF37+AH37+AJ37)","v":0},0]
["DISPLASIA BRONCOPULMONAR",null,0,0,0]
["FIBROSIS QUÍSTICA",null,0,0,0]
["OXIGENO DEPENDIENTE",null,0,0,0]
["ASISTENCIA VENTILATORIA NO INVASIVA O INVASIVA ",null,0,0,0]
["OTRAS RESPIRATORIAS CRÓNICAS",null,0,0,0]
["TOTAL",null,{"$f":"SUM(C30:C42)","v":0},0,0,0,0,0,0,0,0,0,0,0,0,0,0,0,0,0,0,0,0,0,0,0,0,0,0,0,0,0,0,0,0,0,0,0]
["SECCION C: EGRESOS"]
["PROGRAMAS",null,"TOTAL",null,null,"POR EDAD",null,null,null,null,null,null,null,null,null,null,null,null,null,null,null,null,null,null,null,null,null,null,null,null,null,null,null,null,null,null,null,"CAUSAL"]
[null,null,null,null,null,"Menos \n1 año",null,"1 - 4 \naños",null,"5 - 9 \naños",null,"10 - 14\naños",null,"15 - 19\naños",null,"20 a 24 años\n",null,"25 a 39 años",null,"40 - 44 años",null,"45 - 49 años",null,"50 - 54 años",null,"55 - 59 años",null,"60 - 64 años",null,"65 - 69 años",null,"70 - 74 años",null,"75 - 79 años",null,"80 y mas años"]
[null,null,null,null,null,null,null,null,null,null,null,null,null,null,null,null,null,null,null,null,null,null,null,null,null,null,null,null,null,null,null,null,null,null,null,null,null,"Abandono","Fallecimiento"]
[null,null,"Ambos Sexos","Hombres","Mujeres","Hombres","Mujeres","Hombres","Mujeres","Hombres","Mujeres","Hombres","Mujeres","Hombres","Mujeres","Hombres","Mujeres","Hombres","Mujeres","Hombres","Mujeres","Hombres","Mujeres","Hombres","Mujeres","Hombres","Mujeres","Hombres","Mujeres","Hombres","Mujeres","Hombres","Mujeres","Hombres","Mujeres","Hombres","Mujeres"]
["SÍNDROME BRONQUIAL OBSTRUCTIVA RECURRENTE (SBOR)",null,{"$f":"SUM(D49+E49)","v":0},{"$f":"SUM(F49+H49)","v":0},{"$f":"SUM(G49+I49)","v":0},null,null,null,null,null,null,null,null,null,null,null,null,null,null,null,null,null,null,null,null,null,null,null,null,null,null,null,null,null,null,null,null,null,null,null,null,null,null,null,null,null,null,null,null,null,null,null,null,null,null,null,null,null,null,null,null,null,null,null,null,null,null,null,null,null,null,null,null,null,null,null,null,null,null,null,null,null,null,null,0]
["ASMA BRONQUIAL",null,0,{"$f":"SUM(H50+J50+L50+N50+P50+R50+T50+V50+X50+Z50+AB50+AD50+AF50+AH50+AJ50)","v":0},{"$f":"SUM(I50+K50+M50+O50+Q50+S50+U50+W50+Y50+AA50+AC50+AE50+AG50+AI50+AK50)","v":0},null,null,null,null,null,null,null,null,null,null,null,null,null,null,null,null,null,null,null,null,null,null,null,null,null,null,null,null,null,null,null,null,null,null,null,null,null,null,null,null,null,null,null,null,null,null,null,null,null,null,null,null,null,null,null,null,null,null,null,null,null,null,null,null,null,null,null,null,null,null,null,null,null,null,null,null,null,null,null,0]
["ENFERMEDAD PULMONAR OBSTRUCTIVA CRÓNICA (EPOC)",null,0,{"$f":"SUM(T51+V51+X51+Z51+AB51+AD51+AF51+AH51+AJ51)","v":0},{"$f":"SUM(U51+W51+Y51+AA51+AC51+AE51+AG51+AI51+AK51)","v":0},null,null,null,null,null,null,null,null,null,null,null,null,null,null,null,null,null,null,null,null,null,null,null,null,null,null,null,null,null,null,null,null,null,null,null,null,null,null,null,null,null,null,null,null,null,null,null,null,null,null,null,null,null,null,null,null,null,null,null,null,null,null,null,null,null,null,null,null,null,null,null,null,null,null,null,null,null,null,null,0]
["DISPLASIA BRONCOPULMONAR",null,0,{"$f":"SUM(F52+H52+J52+L52+N52+P52+R52+T52+V52+X52+Z52+AB52+AD52+AF52+AH52+AJ52)","v":0},0,null,null,null,null,null,null,null,null,null,null,null,null,null,null,null,null,null,null,null,null,null,null,null,null,null,null,null,null,null,null,null,null,null,null,null,null,null,null,null,null,null,null,null,null,null,null,null,null,null,null,null,null,null,null,null,null,null,null,null,null,null,null,null,null,null,null,null,null,null,null,null,null,null,null,null,null,null,null,null,0]
["FIBROSIS QUÍSTICA",null,0,0,0,null,null,null,null,null,null,null,null,null,null,null,null,null,null,null,null,null,null,null,null,null,null,null,null,null,null,null,null,null,null,null,null,null,null,null,null,null,null,null,null,null,null,null,null,null,null,null,null,null,null,null,null,null,null,null,null,null,null,null,null,null,null,null,null,null,null,null,null,null,null,null,null,null,null,null,null,null,null,null,0]
["OXÍGENO DEPENDIENTE",null,0,0,0,null,null,null,null,null,null,null,null,null,null,null,null,null,null,null,null,null,null,null,null,null,null,null,null,null,null,null,null,null,null,null,null,null,null,null,null,null,null,null,null,null,null,null,null,null,null,null,null,null,null,null,null,null,null,null,null,null,null,null,null,null,null,null,null,null,null,null,null,null,null,null,null,null,null,null,null,null,null,null,0]
["ASISTENCIA VENTILATORIA NO INVASIVA O INVASIVA ",null,0,0,0,null,null,null,null,null,null,null,null,null,null,null,null,null,null,null,null,null,null,null,null,null,null,null,null,null,null,null,null,null,null,null,null,null,null,null,null,null,null,null,null,null,null,null,null,null,null,null,null,null,null,null,null,null,null,null,null,null,null,null,null,null,null,null,null,null,null,null,null,null,null,null,null,null,null,null,null,null,null,null,0]
["OTRAS RESPIRATORIAS CRÓNICAS",null,0,0,0,null,null,null,null,null,null,null,null,null,null,null,null,null,null,null,null,null,null,null,null,null,null,null,null,null,null,null,null,null,null,null,null,null,null,null,null,null,null,null,null,null,null,null,null,null,null,null,null,null,null,null,null,null,null,null,null,null,null,null,null,null,null,null,null,null,null,null,null,null,null,null,null,null,null,null,null,null,null,null,0]
["SECCIÓN D: CONSULTAS DE MORBILIDAD POR ENFERMEDADES RESPIRATORIAS EN SALAS IRA, ERA Y MIXTA"]
["PROFESIONAL",null,"TOTAL",null,null,"POR EDAD",null,null,null,null,null,null,null,null,null,null,null,null,null,null,null,null,null,null,null,null,null,null,null,null,null,null,null,null,null,null,null,"A BENEFI- CIARIOS"]
[null,null,null,null,null,"Menos \n1 año",null,"1 - 4 \naños",null,"5 - 9 \naños",null,"10 - 14\naños",null,"15 - 19\naños",null,"20 a 24 años\n",null,"25 a 39 años",null,"40 - 44 años",null,"45 - 49 años",null,"50 - 54 años",null,"55 - 59 años",null,"60 - 64 años",null,"65 - 69 años",null,"70 - 74 años",null,"75 - 79 años",null,"80 y mas años"]
[]
[null,null,"Ambos Sexos","Hombres","Mujeres","Hombres","Mujeres","Hombres","Mujeres","Hombres","Mujeres","Hombres","Mujeres","Hombres","Mujeres","Hombres","Mujeres","Hombres","Mujeres","Hombres","Mujeres","Hombres","Mujeres","Hombres","Mujeres","Hombres","Mujeres","Hombres","Mujeres","Hombres","Mujeres","Hombres","Mujeres","Hombres","Mujeres","Hombres","Mujeres"]
["MÉDICO",null,{"$f":"SUM(D62+E62)","v":0},{"$f":"SUM(F62+H62+J62+L62+N62+P62+R62+T62+V62+X62+Z62+AB62+AD62+AF62+AH62+AJ62)","v":0},{"$f":"SUM(G62+I62+K62+M62+O62+Q62+S62+U62+W62+Y62+AA62+AC62+AE62+AG62+AI62+AK62)","v":0},null,null,null,null,null,null,null,null,null,null,null,null,null,null,null,null,null,null,null,null,null,null,null,null,null,null,null,null,null,null,null,null,null,null,null,null,null,null,null,null,null,null,null,null,null,null,null,null,null,null,null,null,null,null,null,null,null,null,null,null,null,null,null,null,null,null,null,null,null,null,null,null,null,null,null,null,null,null,null,0,0]
["SECCIÓN E: CONTROLES REALIZADOS (CRONICOS)"]
["PROFESIONAL",null,"TOTAL",null,null,"POR EDAD",null,null,null,null,null,null,null,null,null,null,null,null,null,null,null,null,null,null,null,null,null,null,null,null,null,null,null,null,null,null,null,"A BENEFI- CIARIOS"]
[null,null,null,null,null,"Menos \n1 año",null,"1 - 4 \naños",null,"5 - 9 \naños",null,"10 - 14\naños",null,"15 - 19\naños",null,"20 a 24 años\n",null,"25 a 39 años",null,"40 - 44 años",null,"45 - 49 años",null,"50 - 54 años",null,"55 - 59 años",null,"60 - 64 años",null,"65 - 69 años",null,"70 - 74 años",null,"75 - 79 años",null,"80 y mas años"]
[null,null,"Ambos Sexos","Hombres","Mujeres","Hombres","Mujeres","Hombres","Mujeres","Hombres","Mujeres","Hombres","Mujeres","Hombres","Mujeres","Hombres","Mujeres","Hombres","Mujeres","Hombres","Mujeres","Hombres","Mujeres","Hombres","Mujeres","Hombres","Mujeres","Hombres","Mujeres","Hombres","Mujeres","Hombres","Mujeres","Hombres","Mujeres","Hombres","Mujeres"]
["MÉDICO",null,{"$f":"SUM(D67+E67)","v":0},{"$f":"SUM(F67+H67+J67+L67+N67+P67+R67+T67+V67+X67+Z67+AB67+AD67+AF67+AH67+AJ67)","v":0},0,null,null,null,null,null,null,null,null,null,null,null,null,null,null,null,null,null,null,null,null,null,null,null,null,null,null,null,null,null,null,null,null,null,null,null,null,null,null,null,null,null,null,null,null,null,null,null,null,null,null,null,null,null,null,null,null,null,null,null,null,null,null,null,null,null,null,null,null,null,null,null,null,null,null,null,null,null,null,null,0,0]
["ENFERMERA",null,{"$f":"SUM(D68+E68)","v":0},0,0,null,null,null,null,null,null,null,null,null,null,null,null,null,null,null,null,null,null,null,null,null,null,null,null,null,null,null,null,null,null,null,null,null,null,null,null,null,null,null,null,null,null,null,null,null,null,null,null,null,null,null,null,null,null,null,null,null,null,null,null,null,null,null,null,null,null,null,null,null,null,null,null,null,null,null,null,null,null,null,0,0]
["KINESIÓLOGO",null,{"$f":"SUM(D69+E69)","v":0},0,0,null,null,null,null,null,null,null,null,null,null,null,null,null,null,null,null,null,null,null,null,null,null,null,null,null,null,null,null,null,null,null,null,null,null,null,null,null,null,null,null,null,null,null,null,null,null,null,null,null,null,null,null,null,null,null,null,null,null,null,null,null,null,null,null,null,null,null,null,null,null,null,null,null,null,null,null,null,null,null,0,0]
["TOTAL",null,{"$f":"SUM(C67:C69)","v":0},0,0,0,0,0,0,0,0,0,0,0,0,0,0,0,0,0,0,0,0,0,0,0,0,0,0,0,0,0,0,0,0,0,0,0]
["SECCIÓN F: SEGUIMIENTO DE ATENCIONES REALIZADAS EN AGUDOS"]
["PROFESIONAL",null,"TOTAL",null,null,"POR EDAD",null,null,null,null,null,null,null,null,null,null,null,null,null,null,null,null,null,null,null,null,null,null,null,null,null,null,null,null,null,null,null,"A BENEFI- CIARIOS","Por Campaña de Invierno"]
[null,null,null,null,null,"Menos \n1 año",null,"1 - 4 \naños",null,"5 - 9 \naños",null,"10 - 14\naños",null,"15 - 19\naños",null,"20 a 24 años\n",null,"25 a 39 años",null,"40 - 44 años",null,"45 - 49 años",null,"50 - 54 años",null,"55 - 59 años",null,"60 - 64 años",null,"65 - 69 años",null,"70 - 74 años",null,"75 - 79 años",null,"80 y mas años"]
[null,null,"Ambos Sexos","Hombres","Mujeres","Hombres","Mujeres","Hombres","Mujeres","Hombres","Mujeres","Hombres","Mujeres","Hombres","Mujeres","Hombres","Mujeres","Hombres","Mujeres","Hombres","Mujeres","Hombres","Mujeres","Hombres","Mujeres","Hombres","Mujeres","Hombres","Mujeres","Hombres","Mujeres","Hombres","Mujeres","Hombres","Mujeres","Hombres","Mujeres"]
["ENFERMERA",null,{"$f":"SUM(D75+E75)","v":0},{"$f":"SUM(F75+H75+J75+L75+N75+P75+R75+T75+V75+X75+Z75+AB75+AD75+AF75+AH75+AJ75)","v":0},{"$f":"SUM(G75+I75+K75+M75+O75+Q75+S75+U75+W75+Y75+AA75+AC75+AE75+AG75+AI75+AK75)","v":0},null,null,null,null,null,null,null,null,null,null,null,null,null,null,null,null,null,null,null,null,null,null,null,null,null,null,null,null,null,null,null,null,null,null,null,null,null,null,null,null,null,null,null,null,null,null,null,null,null,null,null,null,null,null,null,null,null,null,null,null,null,null,null,null,null,null,null,null,null,null,null,null,null,null,null,null,null,null,null,0,0]
["KINESIÓLOGO",null,{"$f":"SUM(D76+E76)","v":0},{"$f":"SUM(F76+H76+J76+L76+N76+P76+R76+T76+V76+X76+Z76+AB76+AD76+AF76+AH76+AJ76)","v":0},{"$f":"SUM(G76+I76+K76+M76+O76+Q76+S76+U76+W76+Y76+AA76+AC76+AE76+AG76+AI76+AK76)","v":0},null,null,null,null,null,null,null,null,null,null,null,null,null,null,null,null,null,null,null,null,null,null,null,null,null,null,null,null,null,null,null,null,null,null,null,null,null,null,null,null,null,null,null,null,null,null,null,null,null,null,null,null,null,null,null,null,null,null,null,null,null,null,null,null,null,null,null,null,null,null,null,null,null,null,null,null,null,null,null,0,0]
["TOTAL",null,{"$f":"SUM(C75:C76)","v":0},{"$f":"SUM(D75:D76)","v":0},0,{"$f":"SUM(F75:F76)","v":0},0,0,0,0,0,0,0,0,0,0,0,0,0,0,0,0,0,0,0,0,0,0,0,0,0,0,0,0,0,0,0,0,{"$f":"+AM76","v":0}]
["SECCIÓN G: INASISTENTES A CONTROL DE CRÓNICOS"]
["DIAGNÓSTICOS",null,"TOTAL",null,null,"POR EDAD"]
[null,null,null,null,null,"Menos \n1 año",null,"1 - 4 \naños",null,"5 - 9 \naños",null,"10 - 14\naños",null,"15 - 19\naños",null,"20 a 24 años\n",null,"25 a 39 años",null,"40 - 44 años",null,"45 - 49 años",null,"50 - 54 años",null,"55 - 59 años",null,"60 - 64 años",null,"65 - 69 años",null,"70 - 74 años",null,"75 - 79 años",null,"80 y mas años"]
[null,null,"Ambos Sexos","Hombres","Mujeres","Hombres","Mujeres","Hombres","Mujeres","Hombres","Mujeres","Hombres","Mujeres","Hombres","Mujeres","Hombres","Mujeres","Hombres","Mujeres","Hombres","Mujeres","Hombres","Mujeres","Hombres","Mujeres","Hombres","Mujeres","Hombres","Mujeres","Hombres","Mujeres","Hombres","Mujeres","Hombres","Mujeres","Hombres","Mujeres"]
["S.B.O. RECURRENTE",null,{"$f":"SUM(D82+E82)","v":0},{"$f":"SUM(F82+H82)","v":0},{"$f":"SUM(G82+I82)","v":0}]
["DISPLASIA BRONCOPULMONAR",null,0,{"$f":"SUM(F83+H83+J83+L83+N83+P83+R83+T83+V83+X83+Z83+AB83+AD83+AF83+AH83+AJ83)","v":0},{"$f":"SUM(G83+I83+K83+M83+O83+Q83+S83+U83+W83+Y83+AA83+AC83+AE83+AG83+AI83+AK83)","v":0}]
["FIBROSIS QUÍSTICA",null,0,{"$f":"SUM(F84+H84+J84+L84+N84+P84+R84+T84+V84+X84+Z84+AB84+AD84+AF84+AH84+AJ84)","v":0},{"$f":"SUM(G84+I84+K84+M84+O84+Q84+S84+U84+W84+Y84+AA84+AC84+AE84+AG84+AI84+AK84)","v":0}]
["ASMA",null,0,{"$f":"SUM(H85+J85+L85+N85+P85+R85+T85+V85+X85+Z85+AB85+AD85+AF85+AH85+AJ85)","v":0},{"$f":"SUM(I85+K85+M85+O85+Q85+S85+U85+W85+Y85+AA85+AC85+AE85+AG85+AI85+AK85)","v":0}]
["ENFERMEDAD PULMONAR OBSTRUCTIVA CRÓNICA",0,0,{"$f":"SUM(T86+V86+X86+Z86+AB86+AD86+AF86+AH86+AJ86)","v":0},{"$f":"SUM(U86+W86+Y86+AA86+AC86+AE86+AG86+AI86+AK86)","v":0}]
["OTRAS RESPIRATORIAS CRÓNICAS",null,0,{"$f":"SUM(F87+H87+J87+L87+N87+P87+R87+T87+V87+X87+Z87+AB87+AD87+AF87+AH87+AJ87)","v":0},{"$f":"SUM(G87+I87+K87+M87+O87+Q87+S87+U87+W87+Y87+AA87+AC87+AE87+AG87+AI87+AK87)","v":0}]
["TOTAL",null,{"$f":"SUM(C82:C87)","v":0},0,0,0,0,0,0,0,0,0,0,0,0,0,0,0,0,0,0,0,0,0,0,0,0,0,0,0,0,0,0,0,0,0,0]
["SECCIÓN H: INASISTENTES A CITACIÓN AGENDADA"]
["PROFESIONAL",null,"TOTAL","Menor de 20 años","De 20 años y más"]
[]
["MÉDICO",null,{"$f":"SUM(D92+E92)","v":0}]
["KINESIÓLOGO",null,{"$f":"SUM(D93+E93)","v":0}]
["ENFERMERA",null,{"$f":"SUM(D94+E94)","v":0}]
["TOTAL",null,{"$f":"SUM(C92:C94)","v":0},{"$f":"SUM(D92:D94)","v":0},{"$f":"SUM(E92:E94)","v":0}]
["SECCIÓN I: PROCEDIMIENTOS REALIZADOS"]
["PROCEDIMIENTO",null,"TOTAL",null,null,"POR EDAD",null,null,null,null,null,null,null,null,null,null,null,null,null,null,null,null,null,null,null,null,null,null,null,null,null,null,null,null,null,null,null,"MÉDICO"]
[null,null,null,null,null,"Menos \n1 año",null,"1 - 4 \naños",null,"5 - 9 \naños",null,"10 - 14\naños",null,"15 - 19\naños",null,"20 a 24 años\n",null,"25 a 39 años",null,"40 - 44 años",null,"45 - 49 años",null,"50 - 54 años",null,"55 - 59 años",null,"60 - 64 años",null,"65 - 69 años",null,"70 - 74 años",null,"75 - 79 años",null,"80 y mas años"]
[null,null,"Ambos Sexos","Hombres","Mujeres","Hombres","Mujeres","Hombres","Mujeres","Hombres","Mujeres","Hombres","Mujeres","Hombres","Mujeres","Hombres","Mujeres","Hombres","Mujeres","Hombres","Mujeres","Hombres","Mujeres","Hombres","Mujeres","Hombres","Mujeres","Hombres","Mujeres","Hombres","Mujeres","Hombres","Mujeres","Hombres","Mujeres","Hombres","Mujeres"]
["ESPIROMETRÍA BASAL ",null,{"$f":"SUM(D100+E100)","v":0},{"$f":"SUM(J100+L100+N100+P100+R100+T100+V100+X100+Z100+AB100+AD100+AF100+AH100+AJ100)","v":0},0,null,null,null,null,null,null,null,null,null,null,null,null,null,null,null,null,null,null,null,null,null,null,null,null,null,null,null,null,null,null,null,null,null,null,null,null,null,null,null,null,null,null,null,null,null,null,null,null,null,null,null,null,null,null,null,null,null,null,null,null,null,null,null,null,null,null,null,null,null,null,null,null,null,null,null,null,null,null,null,0]
["ESPIROMETRÍA POST BD",null,0,0,0,null,null,null,null,null,null,null,null,null,null,null,null,null,null,null,null,null,null,null,null,null,null,null,null,null,null,null,null,null,null,null,null,null,null,null,null,null,null,null,null,null,null,null,null,null,null,null,null,null,null,null,null,null,null,null,null,null,null,null,null,null,null,null,null,null,null,null,null,null,null,null,null,null,null,null,null,null,null,null,0]
["FLUJOMETRÍA BASAL ",null,0,0,{"$f":"SUM(K102+M102+O102+Q102+S102+U102+W102+Y102+AA102+AC102+AE102+AG102+AI102+AK102)","v":0},null,null,null,null,null,null,null,null,null,null,null,null,null,null,null,null,null,null,null,null,null,null,null,null,null,null,null,null,null,null,null,null,null,null,null,null,null,null,null,null,null,null,null,null,null,null,null,null,null,null,null,null,null,null,null,null,null,null,null,null,null,null,null,null,null,null,null,null,null,null,null,null,null,null,null,null,null,null,null,0]
["FLUJOMETRÍA POST BD",null,0,0,0,null,null,null,null,null,null,null,null,null,null,null,null,null,null,null,null,null,null,null,null,null,null,null,null,null,null,null,null,null,null,null,null,null,null,null,null,null,null,null,null,null,null,null,null,null,null,null,null,null,null,null,null,null,null,null,null,null,null,null,null,null,null,null,null,null,null,null,null,null,null,null,null,null,null,null,null,null,null,null,0]
["PIMOMETRÍA",null,0,0,0,null,null,null,null,null,null,null,null,null,null,null,null,null,null,null,null,null,null,null,null,null,null,null,null,null,null,null,null,null,null,null,null,null,null,null,null,null,null,null,null,null,null,null,null,null,null,null,null,null,null,null,null,null,null,null,null,null,null,null,null,null,null,null,null,null,null,null,null,null,null,null,null,null,null,null,null,null,null,null,0]
["TEST DE PROVOCACIÓN CON EJERCICIO",null,0,0,0,null,null,null,null,null,null,null,null,null,null,null,null,null,null,null,null,null,null,null,null,null,null,null,null,null,null,null,null,null,null,null,null,null,null,null,null,null,null,null,null,null,null,null,null,null,null,null,null,null,null,null,null,null,null,null,null,null,null,null,null,null,null,null,null,null,null,null,null,null,null,null,null,null,null,null,null,null,null,null,0]
["TEST DE MARCHA 6 MINUTOS",null,0,0,0,null,null,null,null,null,null,null,null,null,null,null,null,null,null,null,null,null,null,null,null,null,null,null,null,null,null,null,null,null,null,null,null,null,null,null,null,null,null,null,null,null,null,null,null,null,null,null,null,null,null,null,null,null,null,null,null,null,null,null,null,null,null,null,null,null,null,null,null,null,null,null,null,null,null,null,null,null,null,null,0]
["SESIONES DE KINESIOTERAPIA RESPIRATORIA",null,0,{"$f":"SUM(F107+H107+J107+L107+N107+P107+R107+T107+V107+X107+Z107+AB107+AD107+AF107+AH107+AJ107)","v":0},{"$f":"SUM(G107+I107+K107+M107+O107+Q107+S107+U107+W107+Y107+AA107+AC107+AE107+AG107+AI107+AK107)","v":0},null,null,null,null,null,null,null,null,null,null,null,null,null,null,null,null,null,null,null,null,null,null,null,null,null,null,null,null,null,null,null,null,null,null,null,null,null,null,null,null,null,null,null,null,null,null,null,null,null,null,null,null,null,null,null,null,null,null,null,null,null,null,null,null,null,null,null,null,null,null,null,null,null,null,null,null,null,null,null,0]
["SECCIÓN J: DERIVACIÓN DE PACIENTES SEGÚN DESTINO"]
["DESTINO",null,"TOTAL","Menor de 20 años","De 20 años y más"]
["UNIDAD EMERGENCIA HOSPITALARIA",null,{"$f":"SUM(D110+E110)","v":0}]
["SAPU, SUR O SAR",null,{"$f":"SUM(D111+E111)","v":0}]
["CAE / CDT / CRS",null,{"$f":"SUM(D112+E112)","v":0}]
["SECCIÓN K: RECEPCIÓN DE PACIENTES SEGÚN ORIGEN"]
["ORIGEN",null,"TOTAL","Menor de 20 años","De 20 años y más"]
["UNIDAD EMERGENCIA HOSPITALARIA",null,{"$f":"SUM(D115+E115)","v":0}]
["SAPU , SUR O SAR",null,{"$f":"SUM(D116+E116)","v":0}]
["CONSULTA DE MORBILIDAD",null,{"$f":"SUM(D117+E117)","v":0}]
["CAE / CDT / CRS",null,{"$f":"SUM(D118+E118)","v":0}]
["EXTRASISTEMA",null,{"$f":"SUM(D119+E119)","v":0}]
["SECCIÓN L: HOSPITALIZACION ABREVIADA / INTERVENCION EN CRISIS RESPIRATORIA"]
["DIAGNÓSTICOS",null,"TOTAL",null,null,"POR EDAD",null,null,null,null,null,null,null,null,null,null,null,null,null,null,null,null,null,null,null,null,null,null,null,null,null,null,null,null,null,null,null,"Por Campaña de Invierno"]
[null,null,null,null,null,"Menos \n1 año",null,"1 - 4 \naños",null,"5 - 9 \naños",null,"10 - 14\naños",null,"15 - 19\naños",null,"20 a 24 años\n",null,"25 a 39 años",null,"40 - 44 años",null,"45 - 49 años",null,"50 - 54 años",null,"55 - 59 años",null,"60 - 64 años",null,"65 - 69 años",null,"70 - 74 años",null,"75 - 79 años",null,"80 y mas años"]
[null,null,"Ambos Sexos","Hombres","Mujeres","Hombres","Mujeres","Hombres","Mujeres","Hombres","Mujeres","Hombres","Mujeres","Hombres","Mujeres","Hombres","Mujeres","Hombres","Mujeres","Hombres","Mujeres","Hombres","Mujeres","Hombres","Mujeres","Hombres","Mujeres","Hombres","Mujeres","Hombres","Mujeres","Hombres","Mujeres","Hombres","Mujeres","Hombres","Mujeres"]
["BRONQUITIS OBSTRUCTIVA",null,{"$f":"SUM(D124+E124)","v":0},{"$f":"SUM(F124+H124+J124+L124+N124+P124+R124+T124+V124+X124+Z124+AB124+AD124+AF124+AH124+AJ124)","v":0},{"$f":"SUM(G124+I124+K124+M124+O124+Q124+S124+U124+W124+Y124+AA124+AC124+AE124+AG124+AI124+AK124)","v":0}]
["REAGUDIZACIÓN DE SBOR",null,0,{"$f":"SUM(F125+H125)","v":0},{"$f":"SUM(G125+I125)","v":0}]
["REAGUDIZACIÓN DE ASMA",null,0,{"$f":"SUM(H126+J126+L126+N126+P126+R126+T126+V126+X126+Z126+AB126+AD126+AF126+AH126+AJ126)","v":0},{"$f":"SUM(I126+K126+M126+O126+Q126+S126+U126+W126+Y126+AA126+AC126+AE126+AG126+AI126+AK126)","v":0}]
["NEUMONÍA",null,0,{"$f":"SUM(F127+H127+J127+L127+N127+P127+R127+T127+V127+X127+Z127+AB127+AD127+AF127+AH127+AJ127)","v":0},{"$f":"SUM(G127+I127+K127+M127+O127+Q127+S127+U127+W127+Y127+AA127+AC127+AE127+AG127+AI127+AK127)","v":0}]
["REAGUDIZACIÓN DE EPOC",null,0,{"$f":"SUM(T128+V128+X128+Z128+AB128+AD128+AF128+AH128+AJ128)","v":0},{"$f":"SUM(U128+W128+Y128+AA128+AC128+AE128+AG128+AI128+AK128)","v":0}]
["OTRAS RESPIRATORIAS",null,0,{"$f":"SUM(F129+H129+J129+L129+N129+P129+R129+T129+V129+X129+Z129+AB129+AD129+AF129+AH129+AJ129)","v":0},{"$f":"SUM(G129+I129+K129+M129+O129+Q129+S129+U129+W129+Y129+AA129+AC129+AE129+AG129+AI129+AK129)","v":0}]
["TOTAL",null,{"$f":"SUM(C124:C129)","v":0},0,0,0,0,0,0,0,0,0,0,0,0,0,0,0,0,0,0,0,0,0,0,0,0,0,0,0,0,0,0,0,0,0,0,{"$f":"SUM(AL124:AL129)","v":0}]
["SECCIÓN M: EDUCACIÓN EN SALAS"]
["SECCIÓN M.1: EDUCACIÓN INDIVIDUAL EN SALA IRA ERA"]
["TEMAS",null,null,"TOTAL","Menor de 20 años","De 20 años y más"]
["ANTITABACO",null,null,{"$f":"SUM(E134+F134)","v":0}]
["AUTOCUIDADO SEGÚN PATOLOGÍA",null,null,0]
["USO DE TERAPIA INHALATORIA",null,null,0]
["EDUCACION INTEGRAL EN SALUD RESPIRATORIA ",null,null,0]
["ESTILO DE VIDA SALUDABLES",null,null,0]
["OTRAS",null,null,0]
["TOTAL",null,null,{"$f":"SUM(D134:D139)","v":0},{"$f":"SUM(E134:E139)","v":0},{"$f":"SUM(F134:F139)","v":0}]
["SECCIÓN M.2: EDUCACIÓN GRUPAL EN SALA (AGENDADA Y PROGRAMADA)"]
["TEMAS",null,null,"Nº SESIONES","Nº PARTICIPANTES","UN PROFESIONAL","DOS O MÁS PROFESIONA-LES"]
["EDUCACION INTEGRAL EN SALUD RESPIRATORIA ","PACIENTES, PADRES O CUIDADORES",null,null,null,null,null,null,null,null,null,null,null,null,null,null,null,null,null,null,null,null,null,null,null,null,null,null,null,null,null,null,null,null,null,null,null,null,null,null,null,null,null,null,null,null,null,null,null,null,null,null,null,null,null,null,null,null,null,null,null,null,null,null,null,null,null,null,null,null,null,null,null,null,null,null,null,null,null,null,null,null,null,null,0]
[null,"SALAS CUNAS Y JARDINES INFANTILES",null,null,null,null,null,null,null,null,null,null,null,null,null,null,null,null,null,null,null,null,null,null,null,null,null,null,null,null,null,null,null,null,null,null,null,null,null,null,null,null,null,null,null,null,null,null,null,null,null,null,null,null,null,null,null,null,null,null,null,null,null,null,null,null,null,null,null,null,null,null,null,null,null,null,null,null,null,null,null,null,null,null,0]
[null,"ESTABLECIMIENTOS EDUCACIONALES",null,null,null,null,null,null,null,null,null,null,null,null,null,null,null,null,null,null,null,null,null,null,null,null,null,null,null,null,null,null,null,null,null,null,null,null,null,null,null,null,null,null,null,null,null,null,null,null,null,null,null,null,null,null,null,null,null,null,null,null,null,null,null,null,null,null,null,null,null,null,null,null,null,null,null,null,null,null,null,null,null,null,0]
[null,"INTERSECTOR",null,null,null,null,null,null,null,null,null,null,null,null,null,null,null,null,null,null,null,null,null,null,null,null,null,null,null,null,null,null,null,null,null,null,null,null,null,null,null,null,null,null,null,null,null,null,null,null,null,null,null,null,null,null,null,null,null,null,null,null,null,null,null,null,null,null,null,null,null,null,null,null,null,null,null,null,null,null,null,null,null,null,0]
["REHABILITACION PULMONAR","PACIENTES Y/O CUIDADORES",null,null,null,null,null,null,null,null,null,null,null,null,null,null,null,null,null,null,null,null,null,null,null,null,null,null,null,null,null,null,null,null,null,null,null,null,null,null,null,null,null,null,null,null,null,null,null,null,null,null,null,null,null,null,null,null,null,null,null,null,null,null,null,null,null,null,null,null,null,null,null,null,null,null,null,null,null,null,null,null,null,null,0]
["ANTITABACO","PACIENTES, PADRES O CUIDADORES",null,null,null,null,null,null,null,null,null,null,null,null,null,null,null,null,null,null,null,null,null,null,null,null,null,null,null,null,null,null,null,null,null,null,null,null,null,null,null,null,null,null,null,null,null,null,null,null,null,null,null,null,null,null,null,null,null,null,null,null,null,null,null,null,null,null,null,null,null,null,null,null,null,null,null,null,null,null,null,null,null,null,0]
[null,"SALAS CUNAS Y JARDINES INFANTILES",null,null,null,null,null,null,null,null,null,null,null,null,null,null,null,null,null,null,null,null,null,null,null,null,null,null,null,null,null,null,null,null,null,null,null,null,null,null,null,null,null,null,null,null,null,null,null,null,null,null,null,null,null,null,null,null,null,null,null,null,null,null,null,null,null,null,null,null,null,null,null,null,null,null,null,null,null,null,null,null,null,null,0]
[null,"ESTABLECIMIENTOS EDUCACIONALES",null,null,null,null,null,null,null,null,null,null,null,null,null,null,null,null,null,null,null,null,null,null,null,null,null,null,null,null,null,null,null,null,null,null,null,null,null,null,null,null,null,null,null,null,null,null,null,null,null,null,null,null,null,null,null,null,null,null,null,null,null,null,null,null,null,null,null,null,null,null,null,null,null,null,null,null,null,null,null,null,null,null,0]
[null,"INTERSECTOR",null,null,null,null,null,null,null,null,null,null,null,null,null,null,null,null,null,null,null,null,null,null,null,null,null,null,null,null,null,null,null,null,null,null,null,null,null,null,null,null,null,null,null,null,null,null,null,null,null,null,null,null,null,null,null,null,null,null,null,null,null,null,null,null,null,null,null,null,null,null,null,null,null,null,null,null,null,null,null,null,null,null,0]
["TOTAL",null,null,{"$f":"SUM(D143:D151)","v":0},{"$f":"SUM(E143:E151)","v":0},{"$f":"SUM(F143:F151)","v":0},{"$f":"SUM(G143:G151)","v":0}]
["SECCIÓN N: VISITAS DOMICILIARIAS REALIZADAS POR EQUIPO IRA-ERA "]
["CONCEPTOS",null,"TOTAL",null,null,"POR EDAD"]
[null,null,null,null,null,"Menos \n1 año",null,"1 - 4 \naños",null,"5 - 9 \naños",null,"10 - 14\naños",null,"15 - 19\naños",null,"20 a 24 años\n",null,"25 a 39 años",null,"40 - 44 años",null,"45 - 49 años",null,"50 - 54 años",null,"55 - 59 años",null,"60 - 64 años",null,"65 - 69 años",null,"70 - 74 años",null,"75 - 79 años",null,"80 y mas años"]
[null,null,"Ambos Sexos","Hombres","Mujeres","Hombres","Mujeres","Hombres","Mujeres","Hombres","Mujeres","Hombres","Mujeres","Hombres","Mujeres","Hombres","Mujeres","Hombres","Mujeres","Hombres","Mujeres","Hombres","Mujeres","Hombres","Mujeres","Hombres","Mujeres","Hombres","Mujeres","Hombres","Mujeres","Hombres","Mujeres","Hombres","Mujeres","Hombres","Mujeres"]
["HOGAR LIBRE DEL HUMO DEL TABACO",null,{"$f":"SUM(D157:E157)","v":0},{"$f":"+F157+H157+J157+L157+N157+P157+R157+T157+V157+X157+Z157+AB157+AD157+AF157+AH157+AJ157","v":0},{"$f":"+G157+I157+K157+M157+O157+Q157+S157+U157+W157+Y157+AA157+AC157+AE157+AG157+AI157+AK157","v":0}]
["POR MUERTE DE NEUMONÍA EN DOMICILIO",null,{"$f":"SUM(D158:E158)","v":0},{"$f":"+F158+H158+J158+L158+N158+P158+R158+T158+V158+X158+Z158+AB158+AD158+AF158+AH158+AJ158","v":0},{"$f":"+G158+I158+K158+M158+O158+Q158+S158+U158+W158+Y158+AA158+AC158+AE158+AG158+AI158+AK158","v":0}]
["PROGRAMA OXIGENOTERAPIA AMBULATORIA, AVNI, AVI, AVNIA, AVIA",null,0,{"$f":"+F159+H159+J159+L159+N159+P159+R159+T159+V159+X159+Z159+AB159+AD159+AF159+AH159+AJ159","v":0},0]
["OTRAS VISITAS",null,0,0,0]
["SECCIÓN O: PROGRAMA DE REHABILITACION PULMONAR "]
["ACTIVIDADES",null,null,"INGRESOS","EGRESOS"]
[null,null,null,null,"Por término de tratamiento ","Por abandono"]
["REHABILITACIÓN PULMONAR "]
["SECCIÓN P: APLICACIÓN Y RESULTADO DE ENCUESTA CALIDAD DE VIDA"]
["TIPO DE ENCUESTA",null,"TOTAL","RESULTADOS "]
[null,null,null,"Mejorado ","No mejorado"]
["CALIDAD DE VIDA AL INGRESO"]
["CALIDAD DE VIDA DE CONTROL (A LOS 12 MESES)",null,{"$f":"SUM(D169+E169)","v":0}]
[]
[]
[]
[]
[]
[]
[]
[]
[]
[]
[]
[]
[]
[]
[]
[]
[]
[]
[]
[]
[]
[]
[]
[]
[]
[]
[]
[{"$f":"SUM(C24,C43,C49:C56,C62,C70,C75:C77,C88,C95,C100:C107,C110:C112,C115:C119,C130,D140,D152:G152,C157:C160,C169,D164:F164)","v":0},{"$f":"SUM(CG28:CM159)","v":0}]

{"sheet":"A24","index":15,"n_rows":203,"n_cols":91,"rows_kept":203,"cut":false,"hidden":false,"merged":[[66,0,66,3],[69,0,69,3],[22,12,22,14],[22,15,22,16],[47,0,48,0],[47,2,47,4],[47,1,48,1],[39,1,40,1],[34,1,35,1],[46,5,47,5],[34,0,35,0],[39,0,40,0],[34,2,34,9],[60,0,60,1],[61,0,61,1],[62,0,62,1],[22,0,24,0],[22,1,23,1],[8,18,9,18],[5,0,5,11],[8,0,9,0],[8,1,8,2],[8,7,8,11],[8,12,8,14],[8,15,8,16],[8,17,9,17],[8,3,8,6],[63,0,63,1],[57,0,59,1],[22,19,23,19],[57,2,58,4],[57,5,57,14],[58,5,58,6],[58,7,58,8],[58,9,58,10],[58,11,58,12],[58,13,58,14],[22,2,22,11],[22,17,23,17],[22,18,23,18],[34,10,34,11],[32,0,32,5],[33,0,33,5]]}
["SERVICIO DE SALUD"]
[{"$f":"CONCATENATE(\"COMUNA: \",NOMBRE!B2,\" - \",\"( \",NOMBRE!C2,NOMBRE!D2,NOMBRE!E2,NOMBRE!F2,NOMBRE!G2,\" )\")","v":"COMUNA:  - (  )"}]
[{"$f":"CONCATENATE(\"ESTABLECIMIENTO/ESTRATEGIA: \",NOMBRE!B3,\" - \",\"( \",NOMBRE!C3,NOMBRE!D3,NOMBRE!E3,NOMBRE!F3,NOMBRE!G3,NOMBRE!H3,\" )\")","v":"ESTABLECIMIENTO/ESTRATEGIA:  - (  )"}]
[{"$f":"CONCATENATE(\"MES: \",NOMBRE!B6,\" - \",\"( \",NOMBRE!C6,NOMBRE!D6,\" )\")","v":"MES:  - (  )"}]
[{"$f":"CONCATENATE(\"AÑO: \",NOMBRE!B7)","v":"AÑO: 2019"}]
["REM-A24.   ATENCIÓN EN MATERNIDAD"]
[]
["SECCIÓN A: INFORMACIÓN DE PARTOS Y ABORTOS ATENDIDOS "]
["TÉRMINO \nDEL \nEMBARAZO","PARTOS Y ABORTOS",null,"PARTOS PREMATUROS",null,null,null,"ANESTESIA",null,null,null,null,"ANALGESIA",null,null,"APEGO\nPRECOZ",null,"PUEBLOS ORIGINARIOS","MIGRANTES"]
[null,"Total **","Beneficiarias\n","Partos prematuros menos de 24 semanas","Partos prematuros de 24 a 28 semanas","Partos prematuros de 29 a 32 semanas","Partos prematuros de 32 a 36 semanas","Total anestesia","Epidural","Raquídea","General","Local","Total analgesia","Analgesia inhalatoria","Medidas analgésicas no farmacológicas ","Contacto mayor a 30 minutos (RN con peso menor o igual a 2.499 grs.)","Contacto mayor a 30 minutos  (RN con peso de 2.500 grs. o más)"]
["TOTAL PARTOS",{"$f":"SUM(B12:B15)","v":0},0,0,0,0,0,{"$f":"SUM(H12:H15)","v":0},0,0,0,0,0,0,0,0,0,0,0]
["NORMAL/VAGINAL",null,null,null,null,null,null,{"$f":"SUM(I12:L12)","v":0},null,null,null,null,{"$f":"SUM(N12:O12)","v":0},null,null,null,null,null,null,null,null,null,null,null,null,null,null,null,null,null,null,null,null,null,null,null,null,null,null,null,null,null,null,null,null,null,null,null,null,null,null,null,null,null,null,null,null,null,null,null,null,null,null,null,null,null,null,null,null,null,null,null,null,null,null,null,null,null,{"$f":"IF($B12<$D12,\"* El número de partos prematuros <32 semanas NO DEBE ser mayor que el Total. \",\"\")","v":""},{"$f":"IF(B12<E12,\"* El número de partos prematuros de 32 a 36 semanas NO DEBE ser mayor que el Total. \",\"\")","v":""},{"$f":"IF(B12=0,\"\",IF(C12=\"\",IF(B12=\"\",\"\",\"* No olvide digitar la columna Beneficiarios. \"),\"\"))","v":""},{"$f":"IF(B12<C12,\"* El número de Beneficiarias NO DEBE ser mayor que el Total. \",\"\")","v":""},null,null,{"$f":"IF(B12<D12,1,0)","v":0},{"$f":"IF(B12<E12,1,0)","v":0},{"$f":"IF(B12<C12,1,0)","v":0},{"$f":"IF(B12=0,\"\",IF(C12=\"\",IF(B11=\"\",\"\",1),0))","v":""},0,0,0]
["DISTÓCICO VAGINAL",null,null,null,null,null,null,{"$f":"SUM(I13:L13)","v":0},null,null,null,null,{"$f":"SUM(N13:O13)","v":0},null,null,null,null,null,null,null,null,null,null,null,null,null,null,null,null,null,null,null,null,null,null,null,null,null,null,null,null,null,null,null,null,null,null,null,null,null,null,null,null,null,null,null,null,null,null,null,null,null,null,null,null,null,null,null,null,null,null,null,null,null,null,null,null,null,{"$f":"IF($B13<$D13,\"* El número de partos prematuros <32 semanas NO DEBE ser mayor que el Total. \",\"\")","v":""},{"$f":"IF(B13<E13,\"* El número de partos prematuros de 32 a 36 semanas NO DEBE ser mayor que el Total. \",\"\")","v":""},{"$f":"IF(B13=0,\"\",IF(C13=\"\",IF(B13=\"\",\"\",\"* No olvide digitar la columna Beneficiarios. \"),\"\"))","v":""},{"$f":"IF(B13<C13,\"* El número de Beneficiarias NO DEBE ser mayor que el Total. \",\"\")","v":""},null,null,{"$f":"IF(B13<D13,1,0)","v":0},{"$f":"IF(B13<E13,1,0)","v":0},{"$f":"IF(B13<C13,1,0)","v":0},{"$f":"IF(B13=0,\"\",IF(C13=\"\",IF(B11=\"\",\"\",1),0))","v":""},0,0,0]
["CESÁREA ELECTIVA",null,null,null,null,null,null,{"$f":"SUM(I14:L14)","v":0},null,null,null,null,{"$f":"SUM(N14:O14)","v":0},null,null,null,null,null,null,null,null,null,null,null,null,null,null,null,null,null,null,null,null,null,null,null,null,null,null,null,null,null,null,null,null,null,null,null,null,null,null,null,null,null,null,null,null,null,null,null,null,null,null,null,null,null,null,null,null,null,null,null,null,null,null,null,null,null,{"$f":"IF($B14<$D14,\"* El número de partos prematuros <32 semanas NO DEBE ser mayor que el Total. \",\"\")","v":""},{"$f":"IF(B14<E14,\"* El número de partos prematuros de 32 a 36 semanas NO DEBE ser mayor que el Total. \",\"\")","v":""},{"$f":"IF(B14=0,\"\",IF(C14=\"\",IF(B14=\"\",\"\",\"* No olvide digitar la columna Beneficiarios. \"),\"\"))","v":""},{"$f":"IF(B14<C14,\"* El número de Beneficiarias NO DEBE ser mayor que el Total. \",\"\")","v":""},null,null,{"$f":"IF(B14<D14,1,0)","v":0},{"$f":"IF(B14<E14,1,0)","v":0},{"$f":"IF(B14<C14,1,0)","v":0},{"$f":"IF(B14=0,\"\",IF(C14=\"\",IF(B11=\"\",\"\",1),0))","v":""},0,0,0]
["CESÁREA URGENCIA",null,null,null,null,null,null,{"$f":"SUM(I15:L15)","v":0},null,null,null,null,{"$f":"SUM(N15:O15)","v":0},null,null,null,null,null,null,null,null,null,null,null,null,null,null,null,null,null,null,null,null,null,null,null,null,null,null,null,null,null,null,null,null,null,null,null,null,null,null,null,null,null,null,null,null,null,null,null,null,null,null,null,null,null,null,null,null,null,null,null,null,null,null,null,null,null,{"$f":"IF($B15<$D15,\"* El número de partos prematuros <32 semanas NO DEBE ser mayor que el Total. \",\"\")","v":""},{"$f":"IF(B15<E15,\"* El número de partos prematuros de 32 a 36 semanas NO DEBE ser mayor que el Total. \",\"\")","v":""},{"$f":"IF(B15=0,\"\",IF(C15=\"\",IF(B15=\"\",\"\",\"* No olvide digitar la columna Beneficiarios. \"),\"\"))","v":""},{"$f":"IF(B15<C15,\"* El número de Beneficiarias NO DEBE ser mayor que el Total. \",\"\")","v":""},null,null,{"$f":"IF(B15<D15,1,0)","v":0},{"$f":"IF(B15<E15,1,0)","v":0},{"$f":"IF(B15<C15,1,0)","v":0},{"$f":"IF(B15=0,\"\",IF(C15=\"\",IF(B11=\"\",\"\",1),0))","v":""},0,0,0]
["ABORTOS",null,null,null,null,null,null,{"$f":"SUM(I16:L16)","v":0},null,null,null,null,{"$f":"SUM(N16:O16)","v":0},null,null,null,null,null,null,null,null,null,null,null,null,null,null,null,null,null,null,null,null,null,null,null,null,null,null,null,null,null,null,null,null,null,null,null,null,null,null,null,null,null,null,null,null,null,null,null,null,null,null,null,null,null,null,null,null,null,null,null,null,null,null,null,null,null,null,null,{"$f":"IF(B16=0,\"\",IF(C16=\"\",IF(B16=\"\",\"\",\"* No olvide digitar la columna Beneficiarios. \"),\"\"))","v":""},{"$f":"IF(B16<C16,\"* El número de Beneficiarias NO DEBE ser mayor que el Total. \",\"\")","v":""},{"$f":"IF(B16<C16,\"* El número de Beneficiarias NO DEBE ser mayor que el Total. \",\"\")","v":""},{"$f":"IF(B16<C16,\"* El número de Beneficiarias NO DEBE ser mayor que el Total. \",\"\")","v":""},{"$f":"IF(B16<D16,1,0)","v":0},{"$f":"IF(B16<D16,1,0)","v":0},{"$f":"IF(B16<F16,1,0)","v":0},{"$f":"IF(B16=0,\"\",IF(C16=\"\",IF(B11=\"\",\"\",1),0))","v":""},{"$f":"IF(B16=0,\"\",IF(C16=\"\",IF(B11=\"\",\"\",1),0))","v":""},{"$f":"IF(B16=0,\"\",IF(C16=\"\",IF(B11=\"\",\"\",1),0))","v":""}]
["PARTO NORMAL VERTICAL (*)",null,null,null,null,null,null,null,null,null,null,null,null,null,null,null,null,null,null,null,null,null,null,null,null,null,null,null,null,null,null,null,null,null,null,null,null,null,null,null,null,null,null,null,null,null,null,null,null,null,null,null,null,null,null,null,null,null,null,null,null,null,null,null,null,null,null,null,null,null,null,null,null,null,null,null,null,null,{"$f":"IF(B17<=B12,\"\",\"* El parto Normal Vertical DEBE estar incluido en el parto Normal. \")","v":""},{"$f":"IF(B17<=B12,\"\",\"* El parto Normal Vertical DEBE estar incluido en el parto Normal. \")","v":""},{"$f":"IF(B17<=B12,\"\",\"* El parto Normal Vertical DEBE estar incluido en el parto Normal. \")","v":""}]
["ENTREGA DE PLACENTA A SOLICITUD DE LA MUJER",null,null,null,null,null,null,null,null,null,null,null,null,null,null,null,null,null,null,null,null,null,null,null,null,null,null,null,null,null,null,null,null,null,null,null,null,null,null,null,null,null,null,null,null,null,null,null,null,null,null,null,null,null,null,null,null,null,null,null,null,null,null,null,null,null,null,null,null,null,null,null,null,null,null,null,null,null,null,null,null,null,null,null,null,null,null,null,0,0,0]
["PARTO FUERA ESTABLECIMIENTO DE SALUD"]
["EMBARAZO NO CONTROLADO"]
["(*) Incluido en Parto Normal","(**) Partos de Término y Pre-Término"]
["SECCIÓN A.1: INTERRUPCION VOLUNTARIA DEL EMBARAZO"]
["CAUSALES","TOTAL      ","Grupos de edad en años",null,null,null,null,null,null,null,null,null,"Abortos",null,null,"Partos ",null,"Beneficiarias","Pueblos Originarios","Migrantes"]
[null,null,"Menor de 14 años","14 a 19 años","20 a 24 años","25 a 29 años","30 a 34 años","35 a 39 años","40 a 44 años","45 a 49 años","50 a 54 años","55 y más años","Hasta 12 semanas y cero días","12 semanas y un día hasta 14 semanas y cero días","de 14 hasta 21 semanas y 6 días","Partos vaginales inducidos","Cesáreas"]
[null,{"$f":"SUM(B26:B28)","v":0},{"$f":"SUM(C26:C28)","v":0},{"$f":"SUM(D26:D28)","v":0},{"$f":"SUM(E26:E28)","v":0},{"$f":"SUM(F26:F28)","v":0},0,0,0,0,0,0,0,0,0,{"$f":"SUM(P26:P27)","v":0},{"$f":"SUM(Q26:Q27)","v":0},{"$f":"SUM(R26:R28)","v":0},{"$f":"SUM(S26:S28)","v":0},{"$f":"SUM(T26:T28)","v":0}]
["CAUSAL N° 1: MUJER EMBARAZADA CON RIESGO VITAL ",{"$f":"SUM(C26:L26)","v":0},null,null,null,null,null,null,null,null,null,null,null,null,null,null,null,null,null,null,null,null,null,null,null,null,null,null,null,null,null,null,null,null,null,null,null,null,null,null,null,null,null,null,null,null,null,null,null,null,null,null,null,null,null,null,null,null,null,null,null,null,null,null,null,null,null,null,null,null,null,null,null,null,null,null,null,null,null,null,null,null,null,null,null,null,null,0,0]
["CAUSAL N° 2: INVIABILIDAD FETAL DE CARÁCTER LETAL",{"$f":"SUM(C27:L27)","v":0},null,null,null,null,null,null,null,null,null,null,null,null,null,null,null,null,null,null,null,null,null,null,null,null,null,null,null,null,null,null,null,null,null,null,null,null,null,null,null,null,null,null,null,null,null,null,null,null,null,null,null,null,null,null,null,null,null,null,null,null,null,null,null,null,null,null,null,null,null,null,null,null,null,null,null,null,null,null,null,null,null,null,null,null,null,0,0]
["CAUSAL N° 3: POR VIOLACION",{"$f":"SUM(C28:L28)","v":0},null,null,null,null,null,null,null,null,null,null,null,null,null,null,null,null,null,null,null,null,null,null,null,null,null,null,null,null,null,null,null,null,null,null,null,null,null,null,null,null,null,null,null,null,null,null,null,null,null,null,null,null,null,null,null,null,null,null,null,null,null,null,null,null,null,null,null,null,null,null,null,null,null,null,null,null,null,null,null,null,null,null,null,null,null,0,0]
["SECCIÓN B: ACOMPAÑAMIENTO EN EL PROCESO REPRODUCTIVO"]
["EVENTO","TOTAL","BENEFICIARIAS "," "]
["SOLO EN EL PARTO",null,null,null,null,null,null,null,null,null,null,null,null,null,null,null,null,null,null,null,null,null,null,null,null,null,null,null,null,null,null,null,null,null,null,null,null,null,null,null,null,null,null,null,null,null,null,null,null,null,null,null,null,null,null,null,null,null,null,null,null,null,null,null,null,null,null,null,null,null,null,null,null,null,null,null,null,null,{"$f":"IF(B31=0,\"\",IF(C31=\"\",IF(B31=\"\",\"\",\"* No olvide digitar la columna Benefiiarios. \"),\"\"))","v":""},{"$f":"IF(B31<C31,\"* El número de Beneficiarios NO DEBE ser mayor que el Total. \",\"\")","v":""},null,null,null,null,{"$f":"IF(B31=0,\"\",IF(C31=\"\",IF(B23=\"\",\"\",1),0))","v":""},{"$f":"IF(B31<C31,1,0)","v":0}]
["PRE PARTO Y PARTO",null,null,null,null,null,null,null,null,null,null,null,null,null,null,null,null,null,null,null,null,null,null,null,null,null,null,null,null,null,null,null,null,null,null,null,null,null,null,null,null,null,null,null,null,null,null,null,null,null,null,null,null,null,null,null,null,null,null,null,null,null,null,null,null,null,null,null,null,null,null,null,null,null,null,null,null,null,{"$f":"IF(B32=0,\"\",IF(C32=\"\",IF(B32=\"\",\"\",\"* No olvide digitar la columna Benefiiarios. \"),\"\"))","v":""},{"$f":"IF(B32<C32,\"* El número de Beneficiarios NO DEBE ser mayor que el Total. \",\"\")","v":""}]
["SECCIÓN C: INFORMACIÓN RECIÉN NACIDOS"]
["SECCIÓN C.1: NACIDOS  SEGÚN PESO AL NACER  "]
["TIPO","TOTAL","PESO AL NACER (EN GRAMOS)",null,null,null,null,null,null,null,"PROGRAMA FENILQUETONURIA (PKU) E HIPOTIROIDISMO CONGENITO (HC)"]
[null,null,"Menos de 500","500 a 999","1.000 a \n1.499","1.500 a \n1.999","2.000 a \n2.499","2.500 a \n2.999","3.000 a \n3.999","4.000 y \nmás","Primeras Muestras","Muestras Repetidas"]
["NACIDOS VIVOS",{"$f":"SUM(C37:J37)","v":0},null,null,null,null,null,null,null,null,null,null,null,null,null,null,null,null,null,null,null,null,null,null,null,null,null,null,null,null,null,null,null,null,null,null,null,null,null,null,null,null,null,null,null,null,null,null,null,null,null,null,null,null,null,null,null,null,null,null,null,null,null,null,null,null,null,null,null,null,null,null,null,null,null,null,null,{"$f":"IF(SUM(F37:H37)>=Q11,\"\",\"* Los RN de 2.500 y más gramos NO DEBE ser menor al Total de partos con Apego Precoz de RN del mismo peso Seccion A. \")","v":""},{"$f":"IF(SUM(G37:I37)>=O11,\"\",\"* Los RN de 2.500 y más gramos NO DEBE ser menor al Total de partos con Apego Precoz de RN del mismo peso Seccion A. \")","v":""},{"$f":"IF(SUM(C37:F37)>=N11,\"\",\"* Los RN de menor o igual a 2.499 gramos NO DEBE ser menor al Total de partos con Apego Precoz de RN del mismo peso. \")","v":""},{"$f":"IF(SUM(D37:G37)>=P11,\"\",\"* Los RN de menor o igual a 2.499 gramos NO DEBE ser menor al Total de partos con Apego Precoz de RN del mismo peso. \")","v":""},null,null,{"$f":"IF(SUM(F37:H37)>=Q11,0,1)","v":0},{"$f":"IF(SUM(G37:I37)>=O11,0,1)","v":0},{"$f":"IF(SUM(C37:F37)>=N11,0,1)","v":0},{"$f":"IF(SUM(D37:G37)>=P11,0,1)","v":0}]
["NACIDOS FALLECIDOS",{"$f":"SUM(C38:J38)","v":0}]
["SECCIÓN C.2: RECIÉN NACIDOS CON MALFORMACIÓN CONGÉNITA"]
["TIPO","TOTAL"]
[null,null," "]
["NACIDOS VIVOS",null,null,null,null,null,null,null,null,null,null,null,null,null,null,null,null,null,null,null,null,null,null,null,null,null,null,null,null,null,null,null,null,null,null,null,null,null,null,null,null,null,null,null,null,null,null,null,null,null,null,null,null,null,null,null,null,null,null,null,null,null,null,null,null,null,null,null,null,null,null,null,null,null,null,null,null,null,{"$f":"IF(B42<=B37,\"\",\"* Total Nacidos Vivos con malformación congénita no debe ser MAYOR a Nacidos Vivos Según Peso Al Nacer. \")","v":""},{"$f":"IF(B43<=B38,\"\",\"* Total Nacidos fallecidos con malformación congénita no debe ser MAYOR a Nacidos fallecidos Según Peso Al Nacer. \")","v":""}]
["NACIDOS FALLECIDOS"]
["SECCIÓN C.3: APGAR MENOR O IGUAL A 3 AL MINUTO Y APGAR MENOR O IGUAL A 6 A LOS 5 MINUTOS"]
["TIPO","APGAR MENOR O IGUAL A  3 AL MINUTO","APGAR MENOR O IGUAL A 6 A LOS 5  MINUTOS"]
["NACIDOS VIVOS",null,null,null,null,null,null,null,null,null,null,null,""]
["SECCIÓN D: ESTERILIZACIONES SEGÚN SEXO"]
["SEXO","TOTAL      ","EDAD (en años)"]
[null,null,"Menor \nde 20","20 - 34","35 y más "]
["MUJER",{"$f":"SUM(C50:E50)","v":0}]
["HOMBRE",{"$f":"SUM(C51:E51)","v":0}]
["SECCIÓN E: EGRESOS DE MATERNIDAD Y NEONATOLOGÍA, SEGÚN LACTANCIA MATERNA EXCLUSIVA"]
["TIPO DE ALIMENTACIÓN","MATERNIDAD (PUÉRPERAS CON RN VIVO)","NEONATOLOGÍA"]
["TOTAL DE EGRESOS",null,null,null,null,null,null,null,null,null,null,null,null,null,null,null,null,null,null,null,null,null,null,null,null,null,null,null,null,null,null,null,null,null,null,null,null,null,null,null,null,null,null,null,null,null,null,null,null,null,null,null,null,null,null,null,null,null,null,null,null,null,null,null,null,null,null,null,null,null,null,null,null,null,null,null,null,null,{"$f":"IF(B55>B54,\"* Egresos con LME NO DEBE ser mayor que Total de Egresos Maternidad. \",\"\")","v":""}]
["EGRESADOS CON LACTANCIA MATERNA EXCLUSIVA ",null,null,null,null,null,null,null,null,null,null,null,null,null,null,null,null,null,null,null,null,null,null,null,null,null,null,null,null,null,null,null,null,null,null,null,null,null,null,null,null,null,null,null,null,null,null,null,null,null,null,null,null,null,null,null,null,null,null,null,null,null,null,null,null,null,null,null,null,null,null,null,null,null,null,null,null,null,null,{"$f":"IF(C55>C54,\"* Egresos con LME NO DEBE ser mayor que Total de Egresos Neonatología. \",\"\")","v":""},null,null,null,null,{"$f":"IF(B55>B54,1,0)","v":0},{"$f":"IF(C55>C54,1,0)","v":0}]
[]
["SECCIÓN F:  TIPOS DE LACTANCIA EN NIÑOS Y NIÑAS AL EGRESO DE LA HOSPITALIZACIÓN"]
["TIPO DE ALIMENTACIÓN",null,"TOTAL",null,null,"POR RANGO ETARIO"]
[null,null,null,null,null," De 0 a 29 días",null,"De 1 mes a 2 meses 29 días",null,"De 3 meses a 5 meses 29 días",null,"De 6 meses a 11 meses 29 días",null,"De 1 año a 2 años"]
[null,null,"Ambos Sexos","Hombres","Mujeres","Hombres","Mujeres","Hombres","Mujeres","Hombres","Mujeres","Hombres","Mujeres","Hombres","Mujeres"]
["LACTANCIA MATERNA EXCLUSIVA",null,{"$f":"SUM(D61+E61)","v":0},{"$f":"SUM(F61+H61+J61+L61+N61)","v":0},0]
["LACTANCIA MATERNA MAS LACTANCIA ARTIFICIAL",null,{"$f":"SUM(D62+E62)","v":0},0,0]
["LACTANCIA ARTIFICIAL",null,{"$f":"SUM(D63+E63)","v":0},0,0]
["LACTANCIA MATERNA EXCLUSIVA CON SÓLIDOS",null,{"$f":"SUM(D64+E64)","v":0},{"$f":"SUM(J64+L64+N64)","v":0},{"$f":"SUM(K64+M64+O64)","v":0}]
["SECCIÓN G:  TAMIZAJE AUDITIVO"]
["TIPO","MENORES DE 1 MES","PUEBLOS ORIGINARIOS","MIGRANTES"]
["PORCENTAJE DE RECIEN NACIDOS TAMIZADOS"]
["TOTAL RECIEN NACIDOS "]
["RECIEN NACIDOS CON TAMIZAJE AUDITIVO"]
["PORCENTAJE DE RECIEN NACIDOS TAMIZADOS"]
["Recien nacidos con tamizaje auditivo alterado ( referido )"]
["RECIEN NACIDOS CON TAMIZAJE AUDITIVO"]
[]
[]
[]
[]
[]
[]
[]
[]
[]
[]
[]
[]
[]
[]
[]
[]
[]
[]
[]
[]
[]
[]
[]
[]
[]
[]
[]
[]
[]
[]
[]
[]
[]
[]
[]
[]
[]
[]
[]
[]
[]
[]
[]
[]
[]
[]
[]
[]
[]
[]
[]
[]
[]
[]
[]
[]
[]
[]
[]
[]
[]
[]
[]
[]
[]
[]
[]
[]
[]
[]
[]
[]
[]
[]
[]
[]
[]
[]
[]
[]
[]
[]
[]
[]
[]
[]
[]
[]
[]
[]
[]
[]
[]
[]
[]
[]
[]
[]
[]
[]
[]
[]
[]
[]
[]
[]
[]
[]
[]
[]
[]
[]
[]
[]
[]
[]
[]
[]
[]
[]
[]
[]
[]
[]
[]
[]
[]
[]
[]
[]
[{"$f":"SUM(B11:S11,B37:B38,C61:C64,B26:B28,B54:B55,B50:B51,B31:B32,B42:B43,B46:C46,B16:B20)","v":0},{"$f":"SUM(CG10:CL66)","v":0}]

{"sheet":"A25","index":16,"n_rows":195,"n_cols":79,"rows_kept":195,"cut":false,"hidden":false,"merged":[[138,3,139,3],[138,4,139,4],[132,0,132,1],[134,0,134,1],[135,0,136,0],[138,0,139,0],[138,1,139,1],[138,2,139,2],[124,3,124,4],[124,5,124,6],[126,0,126,1],[127,0,129,0],[130,0,130,1],[131,0,131,1],[115,0,115,1],[116,0,118,0],[119,0,119,1],[120,0,120,1],[124,0,125,1],[124,2,125,2],[97,0,97,1],[99,0,99,4],[106,0,106,3],[111,3,112,3],[111,4,112,4],[114,0,114,1],[89,0,89,8],[90,0,91,1],[90,2,91,2],[92,0,92,1],[93,0,95,0],[96,0,96,1],[80,0,80,7],[81,0,81,1],[82,0,82,1],[83,0,85,0],[86,0,86,1],[87,0,87,1],[73,0,73,1],[74,0,74,1],[75,0,75,1],[76,0,76,1],[77,0,77,1],[78,0,78,1],[65,0,65,1],[66,0,66,1],[67,0,67,1],[68,0,68,1],[70,0,70,11],[71,0,72,1],[71,2,72,2],[71,3,72,3],[71,4,71,6],[71,7,72,7],[52,0,54,0],[55,0,58,0],[59,0,60,0],[61,0,61,1],[62,0,62,8],[63,0,64,1],[63,2,64,2],[63,3,64,3],[63,4,63,6],[63,7,64,7],[43,0,43,7],[44,0,45,0],[44,1,45,1],[50,0,51,0],[50,1,51,1],[50,2,51,2],[36,1,36,2],[37,1,37,2],[38,1,38,2],[39,0,42,0],[39,1,40,1],[41,1,42,1],[27,0,27,2],[28,0,28,9],[29,0,29,2],[30,0,38,0],[30,1,30,2],[31,1,31,2],[32,1,32,2],[33,1,33,2],[34,1,34,2],[35,1,35,2],[21,0,24,0],[21,1,22,1],[23,1,24,1],[25,0,26,1],[15,0,15,2],[16,0,16,2],[18,0,20,0],[18,1,20,2],[18,3,19,5],[11,0,12,0],[13,0,13,1],[14,0,14,2],[9,14,9,15],[9,16,9,17],[9,18,9,19],[9,22,9,23],[8,0,10,0],[8,1,10,2],[8,3,9,5],[9,6,9,7],[9,8,9,9],[9,10,9,11],[8,6,8,25],[9,20,9,21],[9,24,9,25],[19,12,19,13],[19,14,19,15],[19,16,19,17],[19,18,19,19],[19,20,19,21],[19,22,19,23],[19,24,19,25],[18,6,18,25],[9,12,9,13],[19,8,19,9],[19,10,19,11],[19,6,19,7]]}
["SERVICIO DE SALUD",null,null,null,null,null,null,null,null,null,null,null,null,null,null,null,null,null,null,null,null,null,null,null,null,null,null,null,null,null,null,null,null,null,null,null,null,null,null,null,null,null,null,null,null,null,null,null,null,null,null,null,null,null,null,null,null,null,null,null,null,null,null,null,null,null,null,null,null,null,null,null,null,null,null,null,null,null,"CG5:CN157"]
[{"$f":"CONCATENATE(\"COMUNA: \",NOMBRE!B2,\" - \",\"( \",NOMBRE!C2,NOMBRE!D2,NOMBRE!E2,NOMBRE!F2,NOMBRE!G2,\" )\")","v":"COMUNA:  - (  )"}]
[{"$f":"CONCATENATE(\"ESTABLECIMIENTO/ESTRATEGIA: \",NOMBRE!B3,\" - \",\"( \",NOMBRE!C3,NOMBRE!D3,NOMBRE!E3,NOMBRE!F3,NOMBRE!G3,NOMBRE!H3,\" )\")","v":"ESTABLECIMIENTO/ESTRATEGIA:  - (  )"}]
[{"$f":"CONCATENATE(\"MES: \",NOMBRE!B6,\" - \",\"( \",NOMBRE!C6,NOMBRE!D6,\" )\")","v":"MES:  - (  )"}]
[{"$f":"CONCATENATE(\"AÑO: \",NOMBRE!B7)","v":"AÑO: 2019"}]
[null,null,null,null,null,"REM-25.  SERVICIOS DE SANGRE"]
[]
["SECCIÓN A.1: POBLACIÓN DONANTE (CS-UMT-BS)"]
["DONANTES","DESCRIPCIÓN",null,"TOTAL",null,null,"POR EDAD"]
[null,null,null,null,null,null,"18-19",null,"20-24",null,"25-29",null,"30-34",null,"35-39",null,"40-44",null,"45-49",null,"50-54",null,"55-59",null,"60-64"]
[null,null,null,"Ambos Sexos","Hombres","Mujeres","Hombres","Mujeres","Hombres","Mujeres","Hombres","Mujeres","Hombres","Mujeres","Hombres","Mujeres","Hombres","Mujeres","Hombres","Mujeres","Hombres","Mujeres","Hombres","Mujeres","Hombres","Mujeres"]
["ALTRUISTAS","NUEVOS","Aceptados",{"$f":"SUM(E12+F12)","v":0},{"$f":"SUM(G12+I12+K12+M12+O12+Q12+S12+U12+W12+Y12)","v":0},0]
[null,"REPETIDOS","Aceptados",{"$f":"SUM(E13+F13)","v":0},0,0]
["FAMILIARES O REPOSICIÓN",null,"Aceptados",{"$f":"SUM(E14+F14)","v":0},0,0]
["TOTAL",null,null,{"$f":"SUM(E15+F15)","v":0},0,0,{"$f":"SUM(G12:G14)","v":0},0,0,0,0,0,0,0,0,0,0,0,0,0,0,0,0,0,0,0]
["TOTAL DÍAS ATENCIÓN OTORGADOS"]
["TOTAL COLECTAS MÓVILES REALIZADAS"]
["SECCIÓN A.2:  TIPO DE DONANTES RECHAZADOS"]
["DONANTES","DESCRIPCIÓN",null,"TOTAL",null,null,"POR EDAD"]
[null,null,null,null,null,null,"18-19",null,"20-24",null,"25-29",null,"30-34",null,"35-39",null,"40-44",null,"45-49",null,"50-54",null,"55-59",null,"60-64"]
[null,null,null,"Ambos Sexos","Hombres","Mujeres","Hombres","Mujeres","Hombres","Mujeres","Hombres","Mujeres","Hombres","Mujeres","Hombres","Mujeres","Hombres","Mujeres","Hombres","Mujeres","Hombres","Mujeres","Hombres","Mujeres","Hombres","Mujeres"]
["ALTRUISTAS","NUEVOS","Rechazados Transitorios",{"$f":"SUM(E22+F22)","v":0},{"$f":"SUM(G22+I22+K22+M22+O22+Q22+S22+U22+W22+Y22)","v":0},0]
[null,null,"Rechazados Permanentes",0,0,0]
[null,"REPETIDOS","Rechazados Transitorios",0,0,0]
[null,null,"Rechazados Permanentes",0,0,0]
["FAMILIARES O REPOSICIÓN",null,"Rechazados Transitorios",0,0,0]
[null,null,"Rechazados Permanentes",0,0,0]
["TOTAL",null,null,{"$f":"SUM(D22:D27)","v":0},0,0,0,0,0,0,0,0,0,0,0,0,0,0,0,0,0,0,0,0,0,0]
["SECCIÓN A.3: REACCIONES ADVERSAS A LA DONACIÓN (CS - UMT - BS)"]
["TIPO",null,null,"TOTAL"," ALTRUISTAS","REPOSICIÓN"]
["CON SÍNTOMAS LOCALES","HEMATOMA",null,{"$f":"SUM(E31+F31)","v":0}]
[null,"PUNCIÓN ARTERIAL",null,0]
[null,"SANGRAMIENTO POSTERIOR",null,0]
[null,"IRRITACION DE UN NERVIO",null,0]
[null,"LESIÓN NERVIOSA",null,0]
[null,"LESIÓN DE TENDÓN",null,0]
[null,"BRAZO DOLOROSO",null,0]
[null,"TROMBOFLEBITIS",null,0]
[null,"ALERGIA LOCAL",null,0]
["CON SÍNTOMAS GENERALES","RVV INMEDIATA","Sin Lesión",0]
[null,null,"Con Lesión",0]
[null,"RVV TARDÍA","Sin Lesión",0]
[null,null,"Con Lesión",0]
["SECCIÓN B: INGRESO UNIDADES DE SANGRE A PRODUCIÓN  (CS-BS)"]
["UNIDADES DE SANGRE","TOTAL"]
[]
["APTAS"]
["NO APTAS"]
["TOTAL",{"$f":"SUM(B47+B48)","v":0}]
["SECCIÓN C: PRODUCCIÓN DE COMPONENTES SANGUÍNEOS (CS-BS)"]
["PRODUCCIÓN","DESCRIPCIÓN","TOTAL"]
[]
["GLÓBULOS ROJOS","DESPLAMATIZADOS"]
[null,"LEUCOREDUCIDOS"]
[null,"FILTRADOS"]
["PLAQUETAS","ESTÁNDAR"]
[null,"LEUCORREDUCIDA POOL"]
[null,"LEUCODEPLETADA POOL"]
[null,"AFÉRESIS"]
["PLASMAS","PLASMA FRESCO CONGELADO TERAPÉUTICO"]
[null,"PLASMA USO NO TERAPÉUTICO"]
["CRIOPRECIPITADOS"]
["SECCIÓN C.1: COMPONENTES SANGUÍNEOS ELIMINADOS (CS-BS )"]
["CAUSA",null,"GLOBULOS ROJOS*","PLASMAS*","PLAQUETAS",null,null,"CRIOPRECIPI-TADOS"]
[null,null,null,null,"Estándar","Pool*","Aféresis"]
["CALIFICACIÓN MICROBIOLÓGICA REACTIVA"]
["OBSOLESCENCIA"]
["OTROS"]
["TOTAL",null,{"$f":"SUM(C66:C68)","v":0},0,0,0,0,0]
["* Cualquier tipo"]
["SECCIÓN C.2 .: COMPONENTES SANGUÍNEOS ELIMINADOS O DEVUELTOS AL CENTRO DE SANGRE ( UMT)"]
["CAUSA",null,"GLOBULOS ROJOS*","PLASMAS*","PLAQUETAS",null,null,"CRIOPRECIPI-TADOS"]
[null,null,null,null,"Estándar","Pool*","Aféresis"]
["OBSOLESCENCIA"]
["FALLA POR CADENA DE FRÍO"]
["DEVOLUCIONES POR PRODUCTO POR NO CUMPLIR ESTÁNDAR"]
["DESCONGELAMIENTO SIN USO"]
["OTROS"]
["TOTAL",null,{"$f":"SUM(C74:C78)","v":0},0,0,0,0,0]
["* Cualquier tipo"]
["SECCIÓN C.3 : COMPONENTES SANGUÍNEOS TRANSFORMACIONES (CS-BS-UMT)"]
["COMPONENTES",null,"TOTAL","UNIDADES PEDIÁTRICAS","IRRADIACIÓN","RECONSTITU-CIÓN PARA USO PEDIÁTRICO (RECAMBIO)","REDUCCIÓN VOLUMEN","DESPLASMATI-ZACIÓN"]
["GLOBULOS ROJOS*"]
["PLAQUETAS","ESTÁNDAR"]
[null,"POOL*"]
[null,"AFÉRESIS"]
["PLASMAS*"]
["CRIOPRECIPITADOS"]
["* Cualquier tipo"]
["SECCIÓN C.4: COMPONENTES SANGUÍNEOS DISTRIBUÍBLES (CS)"]
["CAUSA",null,"TOTAL"]
[]
["GLOBULOS ROJOS*"]
["PLAQUETAS","ESTÁNDAR"]
[null,"POOL*"]
[null,"AFÉRESIS"]
["PLASMAS*"]
["CRIOPRECIPITADOS"]
["* Cualquier tipo"]
["SECCIÓN C.5: SATISFACCION STOCK (7 DÍAS) CS"]
["GR","NÚMERO DÍAS BAJO STOCK ÓPTIMO"]
["O +"]
["A +"]
["B +"]
["O ( - )"]
["A ( - )"]
["SECCIÓN C.6: SATISFACCION STOCK CRITICO (3 DÍAS) UMT"]
["GR","NÚMERO DÍAS BAJO STOCK ÓPTIMO"]
["O +"]
["A +"]
["B +"]
["O ( - )"]
["A ( - )"]
["SECCIÓN D: COMPONENTES SANGUINEOS DISTRIBUIDOS (CS) O TRANSFERIDOS (BS Y UMT)"]
["DESCRIPCIÓN",null,"TOTAL","PÚBLICO","PRIVADO**","F.F.A.A."]
["GLOBULOS ROJOS*",null,{"$f":"SUM(D116:F116)","v":0}]
["PLAQUETAS","ESTANDAR",0]
[null,"POOL*",0]
[null,"AFERESIS",0]
["PLASMAS*",null,0]
["CRIOPRECIPITADOS",null,0]
["* Cualquier tipo"]
["**Universitarios, Clínicas Privadas, Otros"]
["SECCIÓN D.1: TRANSFUSIONES (UMT - BS )"]
["TRANSFUSIONES                                                   (Nº DE UNIDADES)",null,"TOTAL","MENORES DE 15 AÑOS",null,"DE 15 Y MAS AÑOS"]
[null,null,null,"Normales ","Irradiados","Normales","Irradiados"]
["GLOBULOS ROJOS*",null,{"$f":"SUM(D127:G127)","v":0}]
["PLAQUETAS","ESTANDAR",0]
[null,"POOL*",0]
[null,"AFERESIS",0]
["PLASMAS*",null,0]
["CRIOPRECIPITADOS",null,0]
["TOTAL",null,0,{"$f":"SUM(D127:D132)","v":0},{"$f":"SUM(E127:E132)","v":0},{"$f":"SUM(F127:F132)","v":0},{"$f":"SUM(G127:G132)","v":0}]
["SECCIÓN E: DEMANDA GLÓBULOS ROJOS PARA TRANSFUSIÓN (UMT-BS)"]
["TIPO",null,"TOTAL"]
["UNIDADES","SOLICITADAS"]
[null,"DESPACHADAS"]
["SECCIÓN F: REACCIONES ADVERSAS POR ACTO* TRANSFUSIONAL  (UMT-BS)"]
["TIPO","TOTAL","GLÓBULOS ROJOS","PLASMAS","PLAQUETAS"]
[]
["RASH ALÉRGICO",{"$f":"SUM(C141:E141)","v":0}]
["ANAFILAXIA",0]
["REACCIÓN FEBRIL NO HEMOLÍTICA",0]
["REACCIÓN HEMOLÍTICA AGUDA POR INCOMPATIBILIDAD ABO",0]
["REACCIÓN HEMOLÍTICA AGUDA POR OTRA CAUSA",0]
["SOBRECARGA CIRCULATORIA",0]
["REACCIÓN HEMOLÍTICA TARDÍA",0]
["SEPTICEMIA",0]
["TRALI",0]
["OTRAS",0]
["* Cada vez que el paciente se transfunde."]
[]
[]
[]
[]
[]
[]
[]
[]
[]
[]
[]
[]
[]
[]
[]
[]
[]
[]
[]
[]
[]
[]
[]
[]
[]
[]
[]
[]
[]
[]
[]
[]
[]
[]
[]
[]
[]
[]
[]
[]
[]
[]
[]
[{"$f":"SUM(D12:D15,D22:D27,D31:D43,B49,C69:H69,C79:H79,C83:H88,C93:C98,C116:C121,C133,B141:B150,C53:C62,B102:B106,B109:B113,D16:D17,C136:C137)","v":0},{"$f":"SUM(CG5:CN157)","v":0}]

{"sheet":"A26","index":17,"n_rows":197,"n_cols":87,"rows_kept":197,"cut":false,"hidden":false,"merged":[[84,1,85,1],[84,0,85,0],[80,0,81,0],[80,1,81,1],[80,2,80,6],[84,2,85,2],[64,7,65,8],[65,2,66,2],[65,3,65,5],[65,6,66,6],[75,0,76,0],[75,1,76,1],[75,2,75,6],[72,0,72,1],[68,0,68,1],[69,0,69,1],[70,0,70,1],[71,0,71,1],[60,0,60,1],[61,0,61,1],[64,0,66,1],[64,2,64,6],[67,0,67,1],[62,0,62,1],[59,0,59,1],[49,0,49,1],[52,0,52,1],[53,0,53,1],[54,0,54,1],[55,0,56,0],[58,0,58,1],[57,0,57,1],[31,0,31,1],[32,0,32,1],[33,0,33,1],[37,0,37,1],[38,0,38,1],[35,0,35,1],[39,0,39,1],[40,0,40,1],[41,0,41,1],[42,0,44,0],[45,0,45,1],[25,0,25,1],[26,0,26,1],[27,0,27,1],[28,0,28,1],[29,0,29,1],[20,0,20,1],[21,0,21,1],[22,0,22,1],[23,0,23,1],[24,0,24,1],[47,0,48,0],[34,0,34,1],[18,0,18,1],[8,0,8,1],[9,0,9,1],[10,0,10,1],[11,0,11,1],[12,0,12,1],[13,0,13,1],[14,0,14,1],[15,0,15,1],[16,0,16,1],[17,0,17,1],[46,0,46,1],[30,0,30,1],[19,0,19,1]]}
["SERVICIO DE SALUD"]
[{"$f":"CONCATENATE(\"COMUNA: \",NOMBRE!B2,\" - \",\"( \",NOMBRE!C2,NOMBRE!D2,NOMBRE!E2,NOMBRE!F2,NOMBRE!G2,\" )\")","v":"COMUNA:  - (  )"}]
[{"$f":"CONCATENATE(\"ESTABLECIMIENTO/ESTRATEGIA: \",NOMBRE!B3,\" - \",\"( \",NOMBRE!C3,NOMBRE!D3,NOMBRE!E3,NOMBRE!F3,NOMBRE!G3,NOMBRE!H3,\" )\")","v":"ESTABLECIMIENTO/ESTRATEGIA:  - (  )"}]
[{"$f":"CONCATENATE(\"MES: \",NOMBRE!B6,\" - \",\"( \",NOMBRE!C6,NOMBRE!D6,\" )\")","v":"MES:  - (  )"}]
[{"$f":"CONCATENATE(\"AÑO: \",NOMBRE!B7)","v":"AÑO: 2019"}]
[null,null,"REM-26.  ACTIVIDADES EN DOMICILIO Y OTROS ESPACIOS"]
[]
["SECCIÓN A: VISITAS DOMICILIARIAS INTEGRALES A FAMILIAS (ESTABLECIMIENTOS APS)"]
["CONCEPTOS",null,"TOTAL","UN PROFESIONAL","DOS O MÁS PROFESIONALES","UN PROFESIONAL Y UN TÉCNICO PARAMÉDICO","FACILITADOR/A INTERCULTURAL PUEBLOS ORIGINARIOS","AGENTE COMUNITARIO","PRIMER CONTACTO","VISITA DE SEGUIMIENTO","PROGRAMA DE ATENCIÓN DOMICILIARIA A PERSONAS CON DEPENDENCIA SEVERA","PROGRAMA DE ACOMPAÑAMIENTO PSICOSOCIAL EN APS","MIGRANTES"]
["FAMILIA CON NIÑO PREMATURO",null,{"$f":"SUM(D10:F10)","v":0},null,null,null,null,null,null,null,null,null,null,null,null,null,null,null,null,null,null,null,null,null,null,null,null,null,null,null,null,null,null,null,null,null,null,null,null,null,null,null,null,null,null,null,null,null,null,null,null,null,null,null,null,null,null,null,null,null,null,null,null,null,null,null,null,null,null,null,null,null,null,null,null,null,null,null,{"$f":"IF(SUM(H10:I10)<>C10,\"* El número de visitas de primer contacto más la suma de vdi seguimiento deben ser coincidentes con el total. \",\"\")","v":""},{"$f":"IF(SUM(I10:J10)<>C10,\"* El nº de visitas de primer contacto más la suma de vdi seguimiento deben ser coincidentes con el total. \",\"\")","v":""},null,null,null,null,{"$f":"IF(SUM(H10:I10)<>C10,1,0)","v":0},{"$f":"IF(SUM(I10:J10)<>C10,1,0)","v":0}]
["FAMILIA CON NIÑO RECIÉN NACIDO",null,{"$f":"SUM(D11:F11)","v":0},null,null,null,null,null,null,null,null,null,null,null,null,null,null,null,null,null,null,null,null,null,null,null,null,null,null,null,null,null,null,null,null,null,null,null,null,null,null,null,null,null,null,null,null,null,null,null,null,null,null,null,null,null,null,null,null,null,null,null,null,null,null,null,null,null,null,null,null,null,null,null,null,null,null,null,"","",null,null,null,null,0,0]
["FAMILIA CON NIÑO CON DÉFICIT DEL DSM",null,0,null,null,null,null,null,null,null,null,null,null,null,null,null,null,null,null,null,null,null,null,null,null,null,null,null,null,null,null,null,null,null,null,null,null,null,null,null,null,null,null,null,null,null,null,null,null,null,null,null,null,null,null,null,null,null,null,null,null,null,null,null,null,null,null,null,null,null,null,null,null,null,null,null,null,null,"","",null,null,null,null,0,0]
["FAMILIA CON NIÑO EN RIESGO VINCULAR AFECTIVO",null,0,null,null,null,null,null,null,null,null,null,null,null,null,null,null,null,null,null,null,null,null,null,null,null,null,null,null,null,null,null,null,null,null,null,null,null,null,null,null,null,null,null,null,null,null,null,null,null,null,null,null,null,null,null,null,null,null,null,null,null,null,null,null,null,null,null,null,null,null,null,null,null,null,null,null,null,"","",null,null,null,null,0,0]
["FAMILIA CON NIÑO < 7 MESES CON SCORE DE RIESGO MODERADO DE MORIR POR NEUMONÍA",null,0,null,null,null,null,null,null,null,null,null,null,null,null,null,null,null,null,null,null,null,null,null,null,null,null,null,null,null,null,null,null,null,null,null,null,null,null,null,null,null,null,null,null,null,null,null,null,null,null,null,null,null,null,null,null,null,null,null,null,null,null,null,null,null,null,null,null,null,null,null,null,null,null,null,null,null,"","",null,null,null,null,0,0]
["FAMILIA CON NIÑO < 7 MESES CON SCORE DE RIESGO GRAVE DE MORIR POR NEUMONÍA",null,0,null,null,null,null,null,null,null,null,null,null,null,null,null,null,null,null,null,null,null,null,null,null,null,null,null,null,null,null,null,null,null,null,null,null,null,null,null,null,null,null,null,null,null,null,null,null,null,null,null,null,null,null,null,null,null,null,null,null,null,null,null,null,null,null,null,null,null,null,null,null,null,null,null,null,null,"","",null,null,null,null,0,0]
["FAMILIA CON NIÑO CON PROBLEMA RESPIRATORIO CRÓNICO O NO CONTROLADO",null,0,null,null,null,null,null,null,null,null,null,null,null,null,null,null,null,null,null,null,null,null,null,null,null,null,null,null,null,null,null,null,null,null,null,null,null,null,null,null,null,null,null,null,null,null,null,null,null,null,null,null,null,null,null,null,null,null,null,null,null,null,null,null,null,null,null,null,null,null,null,null,null,null,null,null,null,"","",null,null,null,null,0,0]
["FAMILIA CON NIÑO MALNUTRIDO",null,0,null,null,null,null,null,null,null,null,null,null,null,null,null,null,null,null,null,null,null,null,null,null,null,null,null,null,null,null,null,null,null,null,null,null,null,null,null,null,null,null,null,null,null,null,null,null,null,null,null,null,null,null,null,null,null,null,null,null,null,null,null,null,null,null,null,null,null,null,null,null,null,null,null,null,null,"","",null,null,null,null,0,0]
["FAMILIA CON NIÑO CON RIESGO PSICOSOCIAL (EXCLUYE VINCULAR AFECTIVO)",null,0,null,null,null,null,null,null,null,null,null,null,null,null,null,null,null,null,null,null,null,null,null,null,null,null,null,null,null,null,null,null,null,null,null,null,null,null,null,null,null,null,null,null,null,null,null,null,null,null,null,null,null,null,null,null,null,null,null,null,null,null,null,null,null,null,null,null,null,null,null,null,null,null,null,null,null,"","",null,null,null,null,0,0]
["FAMILIA CON ADOLESCENTE EN RIESGO O PROBLEMA PSICOSOCIAL",null,0,null,null,null,null,null,null,null,null,null,null,null,null,null,null,null,null,null,null,null,null,null,null,null,null,null,null,null,null,null,null,null,null,null,null,null,null,null,null,null,null,null,null,null,null,null,null,null,null,null,null,null,null,null,null,null,null,null,null,null,null,null,null,null,null,null,null,null,null,null,null,null,null,null,null,null,"","",null,null,null,null,0,0]
["FAMILIA CON INTEGRANTE CON PATOLOGÍA CRÓNICA DESCOMPENSADA",null,0,null,null,null,null,null,null,null,null,null,null,null,null,null,null,null,null,null,null,null,null,null,null,null,null,null,null,null,null,null,null,null,null,null,null,null,null,null,null,null,null,null,null,null,null,null,null,null,null,null,null,null,null,null,null,null,null,null,null,null,null,null,null,null,null,null,null,null,null,null,null,null,null,null,null,null,"","",null,null,null,null,0,0]
["FAMILIA CON ADULTO MAYOR DEPENDEDIENTE (EXCLUYE DEPENDIENTE SEVERO)",null,0,null,null,null,null,null,null,null,null,null,null,null,null,null,null,null,null,null,null,null,null,null,null,null,null,null,null,null,null,null,null,null,null,null,null,null,null,null,null,null,null,null,null,null,null,null,null,null,null,null,null,null,null,null,null,null,null,null,null,null,null,null,null,null,null,null,null,null,null,null,null,null,null,null,null,null,"","",null,null,null,null,0,0]
["FAMILIA CON ADULTO MAYOR CON DEMENCIA",null,0,null,null,null,null,null,null,null,null,null,null,null,null,null,null,null,null,null,null,null,null,null,null,null,null,null,null,null,null,null,null,null,null,null,null,null,null,null,null,null,null,null,null,null,null,null,null,null,null,null,null,null,null,null,null,null,null,null,null,null,null,null,null,null,null,null,null,null,null,null,null,null,null,null,null,null,{"$f":"IF(C22=0,\"\",IF(J22=\"\",IF(C22=\"\",\"\",\"* No olvide digitar la columna Programa de atención domiciliaria a personas con dependencia severa. \"),\"\"))","v":""},{"$f":"IF(J22<=C22,\"\",\"* Programa de atención Domiciliaria a personas con Dependencia severa debe ser MENOR O IGUAL  al Total. \")","v":""},{"$f":"IF(K22<=C22,\"\",\"* Programa de atención Domiciliaria a personas con Dependencia severa debe ser MENOR O IGUAL  al Total. \")","v":""},null,null,null,{"$f":"IF(J22<=C22,0,1)","v":0},{"$f":"IF(K22<=C22,0,1)","v":0}]
["FAMILIA CON ADULTO MAYOR EN RIESGO PSICOSOCIAL",null,0,null,null,null,null,null,null,null,null,null,null,null,null,null,null,null,null,null,null,null,null,null,null,null,null,null,null,null,null,null,null,null,null,null,null,null,null,null,null,null,null,null,null,null,null,null,null,null,null,null,null,null,null,null,null,null,null,null,null,null,null,null,null,null,null,null,null,null,null,null,null,null,null,null,null,null,{"$f":"IF(SUM(H23:I23)<>C23,\"* El número de visitas de primer contacto más la suma de vdi seguimiento deben ser coincidentes con el total. \",\"\")","v":""},{"$f":"IF(SUM(I23:J23)<>C23,\"* El nº de visitas de primer contacto más la suma de vdi seguimiento deben ser coincidentes con el total. \",\"\")","v":""},null,null,null,null,{"$f":"IF(SUM(H23:I23)<>C23,1,0)","v":0},{"$f":"IF(SUM(I23:J23)<>C23,1,0)","v":0}]
["FAMILIA CON GESTANTE >20 AÑOS EN RIESGO PSICOSOCIAL",null,0,null,null,null,null,null,null,null,null,null,null,null,null,null,null,null,null,null,null,null,null,null,null,null,null,null,null,null,null,null,null,null,null,null,null,null,null,null,null,null,null,null,null,null,null,null,null,null,null,null,null,null,null,null,null,null,null,null,null,null,null,null,null,null,null,null,null,null,null,null,null,null,null,null,null,null,"","",null,null,null,null,0,0]
["FAMILIA CON GESTANTE ADOLESCENTE 10 A 14 AÑOS",null,0,null,null,null,null,null,null,null,null,null,null,null,null,null,null,null,null,null,null,null,null,null,null,null,null,null,null,null,null,null,null,null,null,null,null,null,null,null,null,null,null,null,null,null,null,null,null,null,null,null,null,null,null,null,null,null,null,null,null,null,null,null,null,null,null,null,null,null,null,null,null,null,null,null,null,null,"","",null,null,null,null,0,0]
["FAMILIA CON GESTANTE ADOLESCENTE EN RIESGO PSICOSOCIAL 15 A 19 AÑOS",null,0,null,null,null,null,null,null,null,null,null,null,null,null,null,null,null,null,null,null,null,null,null,null,null,null,null,null,null,null,null,null,null,null,null,null,null,null,null,null,null,null,null,null,null,null,null,null,null,null,null,null,null,null,null,null,null,null,null,null,null,null,null,null,null,null,null,null,null,null,null,null,null,null,null,null,null,"","",null,null,null,null,0,0]
["FAMILIA CON ADOLESCENTE CON PROBLEMA RESPIRATORIO CRÓNICO O NO CONTROLADO",null,0,null,null,null,null,null,null,null,null,null,null,null,null,null,null,null,null,null,null,null,null,null,null,null,null,null,null,null,null,null,null,null,null,null,null,null,null,null,null,null,null,null,null,null,null,null,null,null,null,null,null,null,null,null,null,null,null,null,null,null,null,null,null,null,null,null,null,null,null,null,null,null,null,null,null,null,"","",null,null,null,null,0,0]
["FAMILIA CON ADULTO CON PROBLEMA RESPIRATORIO CRÓNICO O NO CONTROLADO",null,0,null,null,null,null,null,null,null,null,null,null,null,null,null,null,null,null,null,null,null,null,null,null,null,null,null,null,null,null,null,null,null,null,null,null,null,null,null,null,null,null,null,null,null,null,null,null,null,null,null,null,null,null,null,null,null,null,null,null,null,null,null,null,null,null,null,null,null,null,null,null,null,null,null,null,null,"","",null,null,null,null,0,0]
["FAMILIA CON GESTANTE EN RIESGO BIOMÉDICO",null,0,null,null,null,null,null,null,null,null,null,null,null,null,null,null,null,null,null,null,null,null,null,null,null,null,null,null,null,null,null,null,null,null,null,null,null,null,null,null,null,null,null,null,null,null,null,null,null,null,null,null,null,null,null,null,null,null,null,null,null,null,null,null,null,null,null,null,null,null,null,null,null,null,null,null,null,"","",null,null,null,null,0,0]
["FAMILIA CON INTEGRANTE CON ENFERMEDAD TERMINAL",null,0,null,null,null,null,null,null,null,null,null,null,null,null,null,null,null,null,null,null,null,null,null,null,null,null,null,null,null,null,null,null,null,null,null,null,null,null,null,null,null,null,null,null,null,null,null,null,null,null,null,null,null,null,null,null,null,null,null,null,null,null,null,null,null,null,null,null,null,null,null,null,null,null,null,null,null,"",{"$f":"IF(J30<=C30,\"\",\"* Programa de atención Domiciliaria a personas con Dependencia severa debe ser MENOR O IGUAL  al Total. \")","v":""},{"$f":"IF(K30<=C30,\"\",\"* Programa de atención Domiciliaria a personas con Dependencia severa debe ser MENOR O IGUAL  al Total. \")","v":""},null,null,null,0,{"$f":"IF(J30<=C30,0,1)","v":0},{"$f":"IF(K30<=C30,0,1)","v":0}]
["FAMILIA CON INTEGRANTE ALTA HOSPITALIZACIÓN PRECOZ",null,0,null,null,null,null,null,null,null,null,null,null,null,null,null,null,null,null,null,null,null,null,null,null,null,null,null,null,null,null,null,null,null,null,null,null,null,null,null,null,null,null,null,null,null,null,null,null,null,null,null,null,null,null,null,null,null,null,null,null,null,null,null,null,null,null,null,null,null,null,null,null,null,null,null,null,null,"",{"$f":"IF(J31<=C31,\"\",\"* Programa de atención Domiciliaria a personas con Dependencia severa debe ser MENOR O IGUAL  al Total. \")","v":""},{"$f":"IF(K31<=C31,\"\",\"* Programa de atención Domiciliaria a personas con Dependencia severa debe ser MENOR O IGUAL  al Total. \")","v":""},null,null,null,0,{"$f":"IF(J31<=C31,0,1)","v":0},{"$f":"IF(K31<=C31,0,1)","v":0}]
["FAMILIA CON INTEGRANTE CON DEPENDENCIA SEVERA (excluye adulto mayor)",null,{"$f":"SUM(D32:F32)","v":0},null,null,null,null,null,null,null,null,null,null,null,null,null,null,null,null,null,null,null,null,null,null,null,null,null,null,null,null,null,null,null,null,null,null,null,null,null,null,null,null,null,null,null,null,null,null,null,null,null,null,null,null,null,null,null,null,null,null,null,null,null,null,null,null,null,null,null,null,null,null,null,null,null,null,null,"",{"$f":"IF(J32<=C32,\"\",\"* Programa de atención Domiciliaria a personas con Dependencia severa debe ser MENOR O IGUAL  al Total. \")","v":""},{"$f":"IF(K32<=C32,\"\",\"* Programa de atención Domiciliaria a personas con Dependencia severa debe ser MENOR O IGUAL  al Total. \")","v":""},null,null,null,0,{"$f":"IF(J32<=C32,0,1)","v":0},{"$f":"IF(K32<=C32,0,1)","v":0}]
["FAMILIA CON OTRO RIESGO PSICOSOCIAL",null,0,null,null,null,null,null,null,null,null,null,null,null,null,null,null,null,null,null,null,null,null,null,null,null,null,null,null,null,null,null,null,null,null,null,null,null,null,null,null,null,null,null,null,null,null,null,null,null,null,null,null,null,null,null,null,null,null,null,null,null,null,null,null,null,null,null,null,null,null,null,null,null,null,null,null,null,"",{"$f":"IF(SUM(I33:J33)<>C33,\"* El nº de visitas de primer contacto más la suma de vdi seguimiento deben ser coincidentes con el total. \",\"\")","v":""},null,null,null,null,0,{"$f":"IF(SUM(I33:J33)<>C33,1,0)","v":0}]
["FAMILIA CON INTEGRANTE CON PROBLEMA DE SALUD MENTAL",null,0,null,null,null,null,null,null,null,null,null,null,null,null,null,null,null,null,null,null,null,null,null,null,null,null,null,null,null,null,null,null,null,null,null,null,null,null,null,null,null,null,null,null,null,null,null,null,null,null,null,null,null,null,null,null,null,null,null,null,null,null,null,null,null,null,null,null,null,null,null,null,null,null,null,null,null,"",{"$f":"IF(SUM(I34:J34)<>C34,\"* El nº de visitas de primer contacto más la suma de vdi seguimiento deben ser coincidentes con el total. \",\"\")","v":""},null,null,null,null,0,{"$f":"IF(SUM(I34:J34)<>C34,1,0)","v":0}]
["FAMILIA CON ADULTO MAYOR DEPENDEDIENTE SEVERO",null,{"$f":"SUM(D35:F35)","v":0},null,null,null,null,null,null,null,null,null,null,null,null,null,null,null,null,null,null,null,null,null,null,null,null,null,null,null,null,null,null,null,null,null,null,null,null,null,null,null,null,null,null,null,null,null,null,null,null,null,null,null,null,null,null,null,null,null,null,null,null,null,null,null,null,null,null,null,null,null,null,null,null,null,null,null,"",null,null,null,null,null,0]
["FAMILIA CON NIÑOS/AS DE 5 A 9 AÑOS CON PROBLEMAS Y/O TRASTORNOS DE SALUD MENTAL",null,{"$f":"SUM(D36:F36)","v":0}]
["SECCIÓN B: OTRAS VISITAS INTEGRALES"]
["CONCEPTOS",null,"TOTAL","UN PROFESIONAL","DOS O MÁS \nPROFESIONALES","UN PROFESIONAL Y \nUN TÉCNICO PARAMÉDICO","TÉCNICO PARAMÉDICO","FACILITADOR/A INTERCULTURAL"]
["VISITA EPIDEMIOLÓGICA",null,{"$f":"SUM(D39:F39)","v":0}]
["A LUGAR DE TRABAJO (*)",null,{"$f":"SUM(D40:F40)","v":0}]
["A COLEGIO, SALAS CUNA, JARDÍN INFANTIL (*)",null,0]
["A GRUPO COMUNITARIO",null,0]
["VISITA INTEGRAL DE SALUD MENTAL","A DOMINICILIO (NIVEL SECUNDARIO)",0]
[null,"A LUGAR DE TRABAJO",0]
[null,"A ESTABLECIMIENTOS EDUCACIONALES",0]
["EN SECTOR RURAL",null,{"$f":"SUM(D46:G46)","v":0}]
["OTRAS",null,{"$f":"SUM(D47:G47)","v":0}]
[" A PERSONAS CON DEPENDENCIA SEVERA","PRIMERA VISITA",{"$f":"SUM(D48:G48)","v":0}]
[null,"SEGUNDA VISITA",{"$f":"SUM(D49:G49)","v":0}]
["TOTAL",null,{"$f":"SUM(C39:C49)","v":0},{"$f":"SUM(D39:D49)","v":0},{"$f":"SUM(E39:E49)","v":0},{"$f":"SUM(F39:F49)","v":0},{"$f":"SUM(G46:G49)","v":0},{"$f":"SUM(H39:H47)","v":0}]
["(*) Excluye visita integral de salud mental"]
["SECCIÓN C:  VISITAS CON FINES DE TRATAMIENTOS Y/O PROCEDIMIENTOS EN  DOMICILIO",null,null,null,null,null,null,null,null,null,null,null,null,null,null,null,null,null,null,null,null,null,null,null,null,null,null,null,null,null,null,null,null,null,null,null,null,null,null,null,null,null,null,null,null,null,null,null,null,null,null,null,null,null,null,null,null,null,null,null,null,null,null,null,null,null,null,null,null,null,null,null,null,null,null,null,null,null,{"$f":"IF(F52<=C52,\"\",\"* Programa de atención Domiciliaria a personas con Dependencia severa debe ser MENOR O IGUAL al Total. \")","v":""},{"$f":"IF(C52=0,\"\",IF(F52=\"\",IF(C52=\"\",\"\",1),0))","v":""}]
["CONCEPTOS",null,"TOTAL","PROFESIONAL","TÉCNICO \nPARAMÉDICO","PROGRAMA DE ATENCIÓN DOMICILIARIA A PERSONAS CON DEPENDENCIA SEVERA",null,null,null,null,null,null,null,null,null,null,null,null,null,null,null,null,null,null,null,null,null,null,null,null,null,null,null,null,null,null,null,null,null,null,null,null,null,null,null,null,null,null,null,null,null,null,null,null,null,null,null,null,null,null,null,null,null,null,null,null,null,null,null,null,null,null,null,null,null,null,null,null,{"$f":"IF(F53<=C53,\"\",\"* Programa de atención Domiciliaria a personas con Dependencia severa debe ser MENOR O IGUAL al Total. \")","v":""},{"$f":"IF(C53=0,\"\",IF(F53=\"\",IF(C53=\"\",\"\",1),0))","v":0}]
["A PERSONAS CON DEPENDENCIA LEVE",null,{"$f":"SUM(D54:E54)","v":0}]
["A PERSONAS CON DEPENDENCIA MODERADA",null,0,null,null,null,null,null,null,null,null,null,null,null,null,null,null,null,null,null,null,null,null,null,null,null,null,null,null,null,null,null,null,null,null,null,null,null,null,null,null,null,null,null,null,null,null,null,null,null,null,null,null,null,null,null,null,null,null,null,null,null,null,null,null,null,null,null,null,null,null,null,null,null,null,null,null,null,{"$f":"IF(F55<=C55,\"\",\"* Programa de atención Domiciliaria a personas con Dependencia severa debe ser MENOR O IGUAL al Total. \")","v":""},{"$f":"IF(C55=0,\"\",IF(F55=\"\",IF(C55=\"\",\"\",1),0))","v":""}]
[" A PERSONAS CON DEPENDENCIA SEVERA","ONCOLÓGICOS (Excluye cuidados paliativos)",0,null,null,null,null,null,null,null,null,null,null,null,null,null,null,null,null,null,null,null,null,null,null,null,null,null,null,null,null,null,null,null,null,null,null,null,null,null,null,null,null,null,null,null,null,null,null,null,null,null,null,null,null,null,null,null,null,null,null,null,null,null,null,null,null,null,null,null,null,null,null,null,null,null,null,null,{"$f":"IF(F56<=C56,\"\",\"* Programa de atención Domiciliaria a personas con Dependencia severa debe ser MENOR O IGUAL al Total. \")","v":""},{"$f":"IF(C56=0,\"\",IF(F56=\"\",IF(C56=\"\",\"\",1),0))","v":""}]
[null,"NO ONCOLÓGICOS",{"$f":"SUM(D57:E57)","v":0},null,null,null,null,null,null,null,null,null,null,null,null,null,null,null,null,null,null,null,null,null,null,null,null,null,null,null,null,null,null,null,null,null,null,null,null,null,null,null,null,null,null,null,null,null,null,null,null,null,null,null,null,null,null,null,null,null,null,null,null,null,null,null,null,null,null,null,null,null,null,null,null,null,null,null,{"$f":"IF(F57<=C57,\"\",\"* Programa de atención Domiciliaria a personas con Dependencia severa debe ser MENOR O IGUAL al Total. \")","v":""},{"$f":"IF(C57=0,\"\",IF(F57=\"\",IF(C57=\"\",\"\",1),0))","v":""}]
["A PERSONAS EN CUIDADOS PALIATIVOS",null,{"$f":"SUM(D58:E58)","v":0}]
["OTROS",null,0]
["VISITA DE SEGUIMIENTO A PERSONAS CON DEPEDENCIA SEVERA ",null,{"$f":"SUM(D60:E60)","v":0},null,null,null,null,null,null,null,null,null,null,null,null,null,null,null,null,null,null,null,null,null,null,null,null,null,null,null,null,null,null,null,null,null,null,null,null,null,null,null,null,null,null,null,null,null,null,null,null,null,null,null,null,null,null,null,null,null,null,null,null,null,null,null,null,null,null,null,null,null,null,null,null,null,null,null,{"$f":"IF(F60<=C60,\"\",\"* Programa de atención Domiciliaria a personas con Dependencia severa debe ser MENOR O IGUAL al Total. \")","v":""},{"$f":"IF(C60=0,\"\",IF(F60=\"\",IF(C60=\"\",\"\",1),0))","v":""}]
["ATENCION ODONTOLÓGICA EN DOMICILIO",null,{"$f":"D61","v":0},null,null,null,null,null,null,null,null,null,null,null,null,null,null,null,null,null,null,null,null,null,null,null,null,null,null,null,null,null,null,null,null,null,null,null,null,null,null,null,null,null,null,null,null,null,null,null,null,null,null,null,null,null,null,null,null,null,null,null,null,null,null,null,null,null,null,null,null,null,null,null,null,null,null,null,{"$f":"IF(F61<=C61,\"\",\"* Programa de atención Domiciliaria a personas con Dependencia severa debe ser MENOR O IGUAL al Total. \")","v":""},{"$f":"IF(C61=0,\"\",IF(F61=\"\",IF(C61=\"\",\"\",1),0))","v":""}]
["ATENCION  FARMACEÚTICA EN DOMICILIO",null,{"$f":"D62","v":0}]
["ATENCIÓN NUTRICIONAL A PERSONAS CON INDICACION NUTRICIONAL ENTERAL DOMICILIARIA (NED)",null,{"$f":"+F63","v":0}]
["SECCIÓN D: RESCATE DE PACIENTES INASISTENTES"]
["GRUPO ETARIO",null,"RESCATE EN DOMICILIO",null,null,null,null,"RESCATE TELEFONICO"]
[null,null,"TOTAL","FUNCIONARIO",null,null,"COMPRA DE SERVICIO (*)"]
[null,null,null,"Técnico paramédico","Administrativo","Otro",null,"Desde el establecimiento","Compra de servicio (*)"]
["MENOR DE 1 AÑO",null,{"$f":"SUM(D68:F68)+H68","v":0}]
["1 a 4 AÑOS",null,0]
["5 a 9 AÑOS",null,0]
["10 a 24 AÑOS",null,0]
["25 a 64 AÑOS",null,0]
["65 Y MÁS",null,0]
["* No incluidas como producción del establecimiento."]
["SECCIÓN E: OTRAS VISITAS PROGRAMA DE ACOMPAÑAMIENTO PSICOSOCIAL EN ATENCIÓN PRIMARIA"]
["GRUPOS","TOTAL VISITAS","NÚMERO DE OTRAS VISITAS SEGÚN RANGO ETARIO"]
[null,null,"0 - 4","5 - 9","10 - 14","15 - 19","20 - 24"]
["ESTABLECIMIENTO EDUCACIONAL",{"$f":"SUM(C78:G78)","v":0}]
["A LUGAR DE TRABAJO",{"$f":"SUM(C79:G79)","v":0}]
["SECCIÓN F: APOYO TELEFÓNICO DEL PROGRAMA DE ACOMPAÑAMIENTO PSICOSOCIAL EN APS"]
["GRUPOS","TOTAL ACCIONES","NÚMERO DE ACCIONES DE ACOMPAÑAMIENTO TELEFÓNICO"]
[null,null,"0 - 4","5 - 9","10 - 14","15 - 19","20 - 24"]
["ACCIONES TELEFÓNICAS REALIZADAS (LLAMADAS O MENSAJERÍA)",{"$f":"SUM(C83:G83)","v":0}]
["SECCIÓN G: VISITA A ESTABLECIMIENTO EDUCACIONAL PROGRAMA DE APOYO A LA SALUD MENTAL INFANTIL (PASMI) EN ATENCIÓN PRIMARIA"]
["CONCEPTO","TOTAL VISITAS\n5 A 9 AÑOS","NÚMERO DE NIÑOS/AS VISITADOS\n5 A 9 AÑOS"]
[]
["ESTABLECIMIENTO EDUCACIONAL"]
[]
[]
[]
[]
[]
[]
[]
[]
[]
[]
[]
[]
[]
[]
[]
[]
[]
[]
[]
[]
[]
[]
[]
[]
[]
[]
[]
[]
[]
[]
[]
[]
[]
[]
[]
[]
[]
[]
[]
[]
[]
[]
[]
[]
[]
[]
[]
[]
[]
[]
[]
[]
[]
[]
[]
[]
[]
[]
[]
[]
[]
[]
[]
[]
[]
[]
[]
[]
[]
[]
[]
[]
[]
[]
[]
[]
[]
[]
[]
[]
[]
[]
[]
[]
[]
[]
[]
[]
[]
[]
[]
[]
[]
[]
[]
[]
[]
[]
[]
[]
[]
[]
[]
[]
[]
[]
[]
[]
[]
[{"$f":"SUM(C10:C34,C50,C54:C62,C68:C73,B78:B79,B83)","v":0},{"$f":"SUM(CG7:CO84)","v":0}]

{"sheet":"A27","index":18,"n_rows":199,"n_cols":85,"rows_kept":199,"cut":false,"hidden":false,"merged":[[126,1,127,1],[126,0,127,0],[130,0,131,0],[130,1,131,1],[126,2,126,12],[130,2,130,7],[121,0,122,0],[121,1,121,12],[89,0,90,2],[89,3,90,3],[89,4,90,4],[101,3,102,3],[101,4,101,9],[101,10,101,11],[91,0,91,2],[92,0,92,2],[93,0,93,2],[95,0,96,2],[95,3,96,3],[95,4,96,4],[103,0,105,1],[106,0,108,1],[109,0,111,1],[97,0,97,2],[98,0,98,2],[101,0,102,2],[99,0,99,2],[116,0,117,0],[116,1,116,8],[85,4,85,5],[86,0,86,2],[86,4,86,5],[79,0,79,2],[81,0,81,2],[82,0,82,2],[84,0,84,2],[84,4,84,5],[80,0,80,2],[95,5,95,9],[45,1,48,1],[87,0,87,2],[55,1,55,2],[56,1,58,1],[78,0,78,2],[62,1,62,2],[63,1,63,2],[64,1,65,1],[66,1,66,2],[67,1,67,2],[68,1,68,2],[69,1,69,2],[70,1,72,1],[73,1,73,2],[75,1,75,2],[85,0,85,2],[77,0,77,2],[8,26,9,26],[8,27,9,27],[8,28,9,28],[10,0,41,0],[10,1,10,2],[11,1,14,1],[15,1,15,2],[16,1,16,2],[17,1,17,2],[18,1,18,2],[8,24,8,25],[35,1,35,2],[19,1,19,2],[20,1,20,2],[21,1,21,2],[22,1,24,1],[33,1,33,2],[34,1,34,2],[36,1,38,1],[39,1,39,2],[41,1,41,2],[40,1,40,2],[95,24,96,24],[95,25,96,25],[95,10,95,23],[5,0,5,14],[8,0,9,2],[8,3,9,3],[8,4,8,8],[8,9,8,23],[25,1,27,1],[28,1,28,2],[29,1,29,2],[30,1,31,1],[32,1,32,2],[43,0,43,2],[44,0,75,0],[44,1,44,2],[49,1,49,2],[50,1,50,2],[51,1,51,2],[52,1,52,2],[53,1,53,2],[54,1,54,2],[59,1,61,1],[74,1,74,2]]}
["SERVICIO DE SALUD"]
[{"$f":"CONCATENATE(\"COMUNA: \",NOMBRE!B2,\" - \",\"( \",NOMBRE!C2,NOMBRE!D2,NOMBRE!E2,NOMBRE!F2,NOMBRE!G2,\" )\")","v":"COMUNA:  - (  )"}]
[{"$f":"CONCATENATE(\"ESTABLECIMIENTO/ESTRATEGIA: \",NOMBRE!B3,\" - \",\"( \",NOMBRE!C3,NOMBRE!D3,NOMBRE!E3,NOMBRE!F3,NOMBRE!G3,NOMBRE!H3,\" )\")","v":"ESTABLECIMIENTO/ESTRATEGIA:  - (  )"}]
[{"$f":"CONCATENATE(\"MES: \",NOMBRE!B6,\" - \",\"( \",NOMBRE!C6,NOMBRE!D6,\" )\")","v":"MES:  - (  )"}]
[{"$f":"CONCATENATE(\"AÑO: \",NOMBRE!B7)","v":"AÑO: 2019"}]
["REM-27.  EDUCACIÓN PARA LA SALUD"]
[]
["SECCIÓN A: PERSONAS QUE INGRESAN A EDUCACIÓN GRUPAL SEGÚN ÁREAS TEMÁTICAS Y EDAD"]
["ÁREAS TEMÁTICAS DE PREVENCIÓN",null,null,"TOTAL","MADRE, PADRE O CUIDADOR DE :",null,null,null,null,"GRUPO DE EDAD (en años)",null,null,null,null,null,null,null,null,null,null,null,null,null,null,"GESTANTES",null,"GESTANTES ALTO RIESGO OBSTÉTRICO","MUJERES EN EDADES DE CLIMATERIO 45 A 64 AÑOS","FAMILIAS DE RIESGO"]
[null,null,null,null,"Menores de 1 año","Niños 12 a 23 meses","Niños de 2 a 5 años","Niños de 6 a 9 años","10 a 14 años","10 a 14","15 a 19","20 a 24","25 - 29","30 - 34","35 - 39","40 - 44","45 - 49","50 - 54","55 - 59","60 - 64","65 - 69","70 - 74","75 - 79","80 y mas","APS","Maternidad"]
["EDUCACIÓN DE GRUPO","ESTIMULACIÓN DESARROLLO PSICOMOTOR",null,{"$f":"SUM(E11:G11)","v":0}]
[null,"NUTRICIÓN","RIESGO DE MALNUTRICIÓN POR EXCESO",{"$f":"SUM(E12:X12)","v":0},null,null,null,null,null,null,null,null,null,null,null,null,null,null,null,null,null,null,null,null,null,null,null,null,null,null,null,null,null,null,null,null,null,null,null,null,null,null,null,null,null,null,null,null,null,null,null,null,null,null,null,null,null,null,null,null,null,null,null,null,null,null,null,null,null,null,null,null,null,null,null,null,null,null,{"$f":"IF(D12<SUM(Y12:AC12),\"* Total por edad NO DEBE ser menor que la suma de los subgrupos. \",\"\")","v":""},null,null,null,null,null,{"$f":"IF(D12<SUM(Y12:AC12),1,0)","v":0}]
[null,null,"MALNUTRICIÓN POR EXCESO",{"$f":"SUM(E13:X13)","v":0},null,null,null,null,null,null,null,null,null,null,null,null,null,null,null,null,null,null,null,null,null,null,null,null,null,null,null,null,null,null,null,null,null,null,null,null,null,null,null,null,null,null,null,null,null,null,null,null,null,null,null,null,null,null,null,null,null,null,null,null,null,null,null,null,null,null,null,null,null,null,null,null,null,null,"",null,null,null,null,null,0]
[null,null,"MALNUTRICIÓN DE DÉFICIT",{"$f":"SUM(E14:X14)","v":0},null,null,null,null,null,null,null,null,null,null,null,null,null,null,null,null,null,null,null,null,null,null,null,null,null,null,null,null,null,null,null,null,null,null,null,null,null,null,null,null,null,null,null,null,null,null,null,null,null,null,null,null,null,null,null,null,null,null,null,null,null,null,null,null,null,null,null,null,null,null,null,null,null,null,"",null,null,null,null,null,0]
[null,null,"SIN RIESGO DE MALNUTRICIÓN",0,null,null,null,null,null,null,null,null,null,null,null,null,null,null,null,null,null,null,null,null,null,null,null,null,null,null,null,null,null,null,null,null,null,null,null,null,null,null,null,null,null,null,null,null,null,null,null,null,null,null,null,null,null,null,null,null,null,null,null,null,null,null,null,null,null,null,null,null,null,null,null,null,null,null,"",null,null,null,null,null,0]
[null,"PREVENCIÓN DE IRA - ERA",null,{"$f":"SUM(E16:X16)","v":0},null,null,null,null,null,null,null,null,null,null,null,null,null,null,null,null,null,null,null,null,null,null,null,null,null,null,null,null,null,null,null,null,null,null,null,null,null,null,null,null,null,null,null,null,null,null,null,null,null,null,null,null,null,null,null,null,null,null,null,null,null,null,null,null,null,null,null,null,null,null,null,null,null,null,"",null,null,null,null,null,0]
[null,"PREVENCIÓN DE ACCIDENTES",null,0,null,null,null,null,null,null,null,null,null,null,null,null,null,null,null,null,null,null,null,null,null,null,null,null,null,null,null,null,null,null,null,null,null,null,null,null,null,null,null,null,null,null,null,null,null,null,null,null,null,null,null,null,null,null,null,null,null,null,null,null,null,null,null,null,null,null,null,null,null,null,null,null,null,null,"",null,null,null,null,null,0]
[null,"SALUD BUCO-DENTAL",null,0,null,null,null,null,null,null,null,null,null,null,null,null,null,null,null,null,null,null,null,null,null,null,null,null,null,null,null,null,null,null,null,null,null,null,null,null,null,null,null,null,null,null,null,null,null,null,null,null,null,null,null,null,null,null,null,null,null,null,null,null,null,null,null,null,null,null,null,null,null,null,null,null,null,null,"",null,null,null,null,null,0]
[null,"PREVENCIÓN VIOLENCIA DE GÉNERO",null,0,null,null,null,null,null,null,null,null,null,null,null,null,null,null,null,null,null,null,null,null,null,null,null,null,null,null,null,null,null,null,null,null,null,null,null,null,null,null,null,null,null,null,null,null,null,null,null,null,null,null,null,null,null,null,null,null,null,null,null,null,null,null,null,null,null,null,null,null,null,null,null,null,null,null,"",null,null,null,null,null,0]
[null,"SALUD SEXUAL Y REPRODUCTIVA",null,0,null,null,null,null,null,null,null,null,null,null,null,null,null,null,null,null,null,null,null,null,null,null,null,null,null,null,null,null,null,null,null,null,null,null,null,null,null,null,null,null,null,null,null,null,null,null,null,null,null,null,null,null,null,null,null,null,null,null,null,null,null,null,null,null,null,null,null,null,null,null,null,null,null,null,"",null,null,null,null,null,0]
[null,"PREPARACIÓN PARA EL PARTO Y LA CRIANZA",null,{"$f":"SUM(J21:T21)","v":0},null,null,null,null,null,null,null,null,null,null,null,null,null,null,null,null,null,null,null,null,null,null,null,null,null,null,null,null,null,null,null,null,null,null,null,null,null,null,null,null,null,null,null,null,null,null,null,null,null,null,null,null,null,null,null,null,null,null,null,null,null,null,null,null,null,null,null,null,null,null,null,null,null,null,"",null,null,null,null,null,0]
[null,"PROMOCIÓN DE SALUD MENTAL",null,{"$f":"SUM(H22:T22)","v":0},null,null,null,null,null,null,null,null,null,null,null,null,null,null,null,null,null,null,null,null,null,null,null,null,null,null,null,null,null,null,null,null,null,null,null,null,null,null,null,null,null,null,null,null,null,null,null,null,null,null,null,null,null,null,null,null,null,null,null,null,null,null,null,null,null,null,null,null,null,null,null,null,null,null,"",null,null,null,null,null,0]
[null,"PROMOCIÓN DEL DESARROLLO INFANTIL TEMPRANO","DEL LENGUAJE",{"$f":"E23","v":0},null,null,null,null,null,null,null,null,null,null,null,null,null,null,null,null,null,null,null,null,null,null,null,null,null,null,null,null,null,null,null,null,null,null,null,null,null,null,null,null,null,null,null,null,null,null,null,null,null,null,null,null,null,null,null,null,null,null,null,null,null,null,null,null,null,null,null,null,null,null,null,null,null,null,"",null,null,null,null,null,0]
[null,null,"MOTOR",{"$f":"E24","v":0},null,null,null,null,null,null,null,null,null,null,null,null,null,null,null,null,null,null,null,null,null,null,null,null,null,null,null,null,null,null,null,null,null,null,null,null,null,null,null,null,null,null,null,null,null,null,null,null,null,null,null,null,null,null,null,null,null,null,null,null,null,null,null,null,null,null,null,null,null,null,null,null,null,null,"",null,null,null,null,null,0]
[null,null,"OTROS",{"$f":"SUM(E25:G25)","v":0},null,null,null,null,null,null,null,null,null,null,null,null,null,null,null,null,null,null,null,null,null,null,null,null,null,null,null,null,null,null,null,null,null,null,null,null,null,null,null,null,null,null,null,null,null,null,null,null,null,null,null,null,null,null,null,null,null,null,null,null,null,null,null,null,null,null,null,null,null,null,null,null,null,null,"",null,null,null,null,null,0]
[null,"HABILIDADES PARENTALES","NADIE ES PERFECTO",{"$f":"SUM(E26:H26)","v":0},null,null,null,null,null,null,null,null,null,null,null,null,null,null,null,null,null,null,null,null,null,null,null,null,null,null,null,null,null,null,null,null,null,null,null,null,null,null,null,null,null,null,null,null,null,null,null,null,null,null,null,null,null,null,null,null,null,null,null,null,null,null,null,null,null,null,null,null,null,null,null,null,null,null,"",null,null,null,null,null,0]
[null,null,"FAMILIAS FUERTES",{"$f":"SUM(E27:I27)","v":0},null,null,null,null,null,null,null,null,null,null,null,null,null,null,null,null,null,null,null,null,null,null,null,null,null,null,null,null,null,null,null,null,null,null,null,null,null,null,null,null,null,null,null,null,null,null,null,null,null,null,null,null,null,null,null,null,null,null,null,null,null,null,null,null,null,null,null,null,null,null,null,null,null,null,"",null,null,null,null,null,0]
[null,null,"OTROS",{"$f":"SUM(E28:I28)","v":0},null,null,null,null,null,null,null,null,null,null,null,null,null,null,null,null,null,null,null,null,null,null,null,null,null,null,null,null,null,null,null,null,null,null,null,null,null,null,null,null,null,null,null,null,null,null,null,null,null,null,null,null,null,null,null,null,null,null,null,null,null,null,null,null,null,null,null,null,null,null,null,null,null,null,"",null,null,null,null,null,0]
[null,"AUTOCUIDADO",null,{"$f":"SUM(E29:X29)","v":0},null,null,null,null,null,null,null,null,null,null,null,null,null,null,null,null,null,null,null,null,null,null,null,null,null,null,null,null,null,null,null,null,null,null,null,null,null,null,null,null,null,null,null,null,null,null,null,null,null,null,null,null,null,null,null,null,null,null,null,null,null,null,null,null,null,null,null,null,null,null,null,null,null,null,"",null,null,null,null,null,0]
[null,"APOYO MADRE A MADRE",null,0,null,null,null,null,null,null,null,null,null,null,null,null,null,null,null,null,null,null,null,null,null,null,null,null,null,null,null,null,null,null,null,null,null,null,null,null,null,null,null,null,null,null,null,null,null,null,null,null,null,null,null,null,null,null,null,null,null,null,null,null,null,null,null,null,null,null,null,null,null,null,null,null,null,null,"",null,null,null,null,null,0]
[null,"PREVENCIÓN DE SALUD MENTAL ","PREVENCIÓN SUICIDIO",0,null,null,null,null,null,null,null,null,null,null,null,null,null,null,null,null,null,null,null,null,null,null,null,null,null,null,null,null,null,null,null,null,null,null,null,null,null,null,null,null,null,null,null,null,null,null,null,null,null,null,null,null,null,null,null,null,null,null,null,null,null,null,null,null,null,null,null,null,null,null,null,null,null,null,"",null,null,null,null,null,0]
[null,null,"PREVENCIÓN TRASTORNO MENTAL",0,null,null,null,null,null,null,null,null,null,null,null,null,null,null,null,null,null,null,null,null,null,null,null,null,null,null,null,null,null,null,null,null,null,null,null,null,null,null,null,null,null,null,null,null,null,null,null,null,null,null,null,null,null,null,null,null,null,null,null,null,null,null,null,null,null,null,null,null,null,null,null,null,null,null,"",null,null,null,null,null,0]
[null,"PREVENCION ALCOHOL Y DROGAS",null,0,null,null,null,null,null,null,null,null,null,null,null,null,null,null,null,null,null,null,null,null,null,null,null,null,null,null,null,null,null,null,null,null,null,null,null,null,null,null,null,null,null,null,null,null,null,null,null,null,null,null,null,null,null,null,null,null,null,null,null,null,null,null,null,null,null,null,null,null,null,null,null,null,null,null,"",null,null,null,null,null,0]
[null,"ANTITABÁQUICA (excluye REM 23)",null,0,null,null,null,null,null,null,null,null,null,null,null,null,null,null,null,null,null,null,null,null,null,null,null,null,null,null,null,null,null,null,null,null,null,null,null,null,null,null,null,null,null,null,null,null,null,null,null,null,null,null,null,null,null,null,null,null,null,null,null,null,null,null,null,null,null,null,null,null,null,null,null,null,null,null,"",null,null,null,null,null,0]
[null,"PREVENCIÓN DE LA TRANSMISIÓN VERTICAL DE VIH-SÍFILIS",null,{"$f":"SUM(J35:T35)","v":0},null,null,null,null,null,null,null,null,null,null,null,null,null,null,null,null,null,null,null,null,null,null,null,null,null,null,null,null,null,null,null,null,null,null,null,null,null,null,null,null,null,null,null,null,null,null,null,null,null,null,null,null,null,null,null,null,null,null,null,null,null,null,null,null,null,null,null,null,null,null,null,null,null,null,"",null,null,null,null,null,0]
[null,"OTRAS ÁREAS TEMÁTICAS",null,{"$f":"SUM(E36:X36)","v":0},null,null,null,null,null,null,null,null,null,null,null,null,null,null,null,null,null,null,null,null,null,null,null,null,null,null,null,null,null,null,null,null,null,null,null,null,null,null,null,null,null,null,null,null,null,null,null,null,null,null,null,null,null,null,null,null,null,null,null,null,null,null,null,null,null,null,null,null,null,null,null,null,null,null,{"$f":"IF(D36<SUM(Y36:AC36),\"* Total por edad NO DEBE ser menor que la suma de los subgrupos. \",\"\")","v":""},null,null,null,null,null,{"$f":"IF(D36<SUM(Y36:AC36),1,0)","v":0}]
[null,"EDUCACIÓN ESPECIAL EN ADULTO MAYOR","ESTIMULACIÓN DE MEMORIA",{"$f":"SUM(U37:X37)","v":0}]
[null,null,"PREVENCIÓN CAÍDAS",{"$f":"SUM(U38:X38)","v":0}]
[null,null,"ESTIMULACIÓN DE ACTIVIDAD FÍSICA",{"$f":"SUM(U39:X39)","v":0}]
[null,"USO RACIONAL DE MEDICAMENTOS",null,{"$f":"SUM(E40:X40)","v":0}]
[null,"RESISTENCIA ANTIMICROBIANOS",null,{"$f":"SUM(E41:X41)","v":0}]
[null,"TOTAL",null,{"$f":"SUM(E42:X42)","v":0},{"$f":"SUM(E11:E40)","v":0},0,0,0,0,0,0,0,0,0,0,0,0,0,0,0,0,0,0,0,0,0,0,0,0]
["SECCIÓN B: ACTIVIDADES DE EDUCACIÓN PARA LA SALUD SEGÚN PERSONAL QUE LAS REALIZA (SESIONES)",null,null,null,null,null,null,null,null,null,null,null,null,null,null,null,null,null,null,null,null,null,null,null,null,null,null,null,null,null,null,null,null,null,null,null,null,null,null,null,null,null,null,null,null,null,null,null,null,null,null,null,null,null,null,null,null,null,null,null,null,null,null,null,null,null,null,null,null,null,null,null,null,null,null,null,null,null,{"$f":"IF(AND(D43=0,D11>0),\"* En esta área en Sección A, se consignan personas pero falta registrar la Sesión. \",\"\")","v":""},null,null,null,null,null,{"$f":"IF(AND(D43=0,D11>0),1,0)","v":0}]
["ÁREAS TEMÁTICAS DE PREVENCIÓN",null,null,"TOTAL","UN PROFESIONAL","DOS O MÁS PROFESIO- NALES","UN PROFESIONAL Y UN TÉCNICO PARAMÉDICO","TÉCNICO \nPARAMÉ-\nDICO","FACILITADOR/A INTERCULTURAL",null,null,null,null,null,null,null,null,null,null,null,null,null,null,null,null,null,null,null,null,null,null,null,null,null,null,null,null,null,null,null,null,null,null,null,null,null,null,null,null,null,null,null,null,null,null,null,null,null,null,null,null,null,null,null,null,null,null,null,null,null,null,null,null,null,null,null,null,null,"",null,null,null,null,null,0]
["EDUCACIÓN DE GRUPO","ESTIMULACIÓN DESARROLLO PSICOMOTOR",null,{"$f":"SUM(E45:H45)","v":0},null,null,null,null,null,null,null,null,null,null,null,null,null,null,null,null,null,null,null,null,null,null,null,null,null,null,null,null,null,null,null,null,null,null,null,null,null,null,null,null,null,null,null,null,null,null,null,null,null,null,null,null,null,null,null,null,null,null,null,null,null,null,null,null,null,null,null,null,null,null,null,null,null,null,"",null,null,null,null,null,0]
[null,"NUTRICIÓN","RIESGO DE MALNUTRICIÓN POR EXCESO",0,null,null,null,null,null,null,null,null,null,null,null,null,null,null,null,null,null,null,null,null,null,null,null,null,null,null,null,null,null,null,null,null,null,null,null,null,null,null,null,null,null,null,null,null,null,null,null,null,null,null,null,null,null,null,null,null,null,null,null,null,null,null,null,null,null,null,null,null,null,null,null,null,null,null,"",null,null,null,null,null,0]
[null,null,"MALNUTRICIÓN POR EXCESO",0,null,null,null,null,null,null,null,null,null,null,null,null,null,null,null,null,null,null,null,null,null,null,null,null,null,null,null,null,null,null,null,null,null,null,null,null,null,null,null,null,null,null,null,null,null,null,null,null,null,null,null,null,null,null,null,null,null,null,null,null,null,null,null,null,null,null,null,null,null,null,null,null,null,null,"",null,null,null,null,null,0]
[null,null,"MALNUTRICIÓN DE DÉFICIT",0,null,null,null,null,null,null,null,null,null,null,null,null,null,null,null,null,null,null,null,null,null,null,null,null,null,null,null,null,null,null,null,null,null,null,null,null,null,null,null,null,null,null,null,null,null,null,null,null,null,null,null,null,null,null,null,null,null,null,null,null,null,null,null,null,null,null,null,null,null,null,null,null,null,null,"",null,null,null,null,null,0]
[null,null,"SIN RIESGO DE MALNUTRICIÓN",0,null,null,null,null,null,null,null,null,null,null,null,null,null,null,null,null,null,null,null,null,null,null,null,null,null,null,null,null,null,null,null,null,null,null,null,null,null,null,null,null,null,null,null,null,null,null,null,null,null,null,null,null,null,null,null,null,null,null,null,null,null,null,null,null,null,null,null,null,null,null,null,null,null,null,"",null,null,null,null,null,0]
[null,"PREVENCIÓN DE IRA - ERA",null,0,null,null,null,null,null,null,null,null,null,null,null,null,null,null,null,null,null,null,null,null,null,null,null,null,null,null,null,null,null,null,null,null,null,null,null,null,null,null,null,null,null,null,null,null,null,null,null,null,null,null,null,null,null,null,null,null,null,null,null,null,null,null,null,null,null,null,null,null,null,null,null,null,null,null,"",null,null,null,null,null,0]
[null,"PREVENCIÓN DE ACCIDENTES",null,0,null,null,null,null,null,null,null,null,null,null,null,null,null,null,null,null,null,null,null,null,null,null,null,null,null,null,null,null,null,null,null,null,null,null,null,null,null,null,null,null,null,null,null,null,null,null,null,null,null,null,null,null,null,null,null,null,null,null,null,null,null,null,null,null,null,null,null,null,null,null,null,null,null,null,"",null,null,null,null,null,0]
[null,"SALUD BUCO-DENTAL",null,0,null,null,null,null,null,null,null,null,null,null,null,null,null,null,null,null,null,null,null,null,null,null,null,null,null,null,null,null,null,null,null,null,null,null,null,null,null,null,null,null,null,null,null,null,null,null,null,null,null,null,null,null,null,null,null,null,null,null,null,null,null,null,null,null,null,null,null,null,null,null,null,null,null,null,"",null,null,null,null,null,0]
[null,"PREVENCIÓN VIOLENCIA DE GÉNERO",null,0,null,null,null,null,null,null,null,null,null,null,null,null,null,null,null,null,null,null,null,null,null,null,null,null,null,null,null,null,null,null,null,null,null,null,null,null,null,null,null,null,null,null,null,null,null,null,null,null,null,null,null,null,null,null,null,null,null,null,null,null,null,null,null,null,null,null,null,null,null,null,null,null,null,null,"",null,null,null,null,null,0]
[null,"SALUD SEXUAL Y REPRODUCTIVA",null,0,null,null,null,null,null,null,null,null,null,null,null,null,null,null,null,null,null,null,null,null,null,null,null,null,null,null,null,null,null,null,null,null,null,null,null,null,null,null,null,null,null,null,null,null,null,null,null,null,null,null,null,null,null,null,null,null,null,null,null,null,null,null,null,null,null,null,null,null,null,null,null,null,null,null,"",null,null,null,null,null,0]
[null,"PREPARACIÓN PARA EL PARTO Y LA CRIANZA",null,0,null,null,null,null,null,null,null,null,null,null,null,null,null,null,null,null,null,null,null,null,null,null,null,null,null,null,null,null,null,null,null,null,null,null,null,null,null,null,null,null,null,null,null,null,null,null,null,null,null,null,null,null,null,null,null,null,null,null,null,null,null,null,null,null,null,null,null,null,null,null,null,null,null,null,"",null,null,null,null,null,0]
[null,"PROMOCIÓN DE SALUD MENTAL",null,0,null,null,null,null,null,null,null,null,null,null,null,null,null,null,null,null,null,null,null,null,null,null,null,null,null,null,null,null,null,null,null,null,null,null,null,null,null,null,null,null,null,null,null,null,null,null,null,null,null,null,null,null,null,null,null,null,null,null,null,null,null,null,null,null,null,null,null,null,null,null,null,null,null,null,"",null,null,null,null,null,0]
[null,"PROMOCIÓN DEL DESARROLLO INFANTIL TEMPRANO","DEL LENGUAJE",0,null,null,null,null,null,null,null,null,null,null,null,null,null,null,null,null,null,null,null,null,null,null,null,null,null,null,null,null,null,null,null,null,null,null,null,null,null,null,null,null,null,null,null,null,null,null,null,null,null,null,null,null,null,null,null,null,null,null,null,null,null,null,null,null,null,null,null,null,null,null,null,null,null,null,"",null,null,null,null,null,0]
[null,null,"MOTOR",0,null,null,null,null,null,null,null,null,null,null,null,null,null,null,null,null,null,null,null,null,null,null,null,null,null,null,null,null,null,null,null,null,null,null,null,null,null,null,null,null,null,null,null,null,null,null,null,null,null,null,null,null,null,null,null,null,null,null,null,null,null,null,null,null,null,null,null,null,null,null,null,null,null,null,"",null,null,null,null,null,0]
[null,null,"OTROS",0,null,null,null,null,null,null,null,null,null,null,null,null,null,null,null,null,null,null,null,null,null,null,null,null,null,null,null,null,null,null,null,null,null,null,null,null,null,null,null,null,null,null,null,null,null,null,null,null,null,null,null,null,null,null,null,null,null,null,null,null,null,null,null,null,null,null,null,null,null,null,null,null,null,null,"",null,null,null,null,null,0]
[null,"HABILIDADES PARENTALES","NADIE ES PERFECTO",0,null,null,null,null,null,null,null,null,null,null,null,null,null,null,null,null,null,null,null,null,null,null,null,null,null,null,null,null,null,null,null,null,null,null,null,null,null,null,null,null,null,null,null,null,null,null,null,null,null,null,null,null,null,null,null,null,null,null,null,null,null,null,null,null,null,null,null,null,null,null,null,null,null,null,"",null,null,null,null,null,0]
[null,null,"FAMILIAS FUERTES",0,null,null,null,null,null,null,null,null,null,null,null,null,null,null,null,null,null,null,null,null,null,null,null,null,null,null,null,null,null,null,null,null,null,null,null,null,null,null,null,null,null,null,null,null,null,null,null,null,null,null,null,null,null,null,null,null,null,null,null,null,null,null,null,null,null,null,null,null,null,null,null,null,null,null,"",null,null,null,null,null,0]
[null,null,"OTROS",0,null,null,null,null,null,null,null,null,null,null,null,null,null,null,null,null,null,null,null,null,null,null,null,null,null,null,null,null,null,null,null,null,null,null,null,null,null,null,null,null,null,null,null,null,null,null,null,null,null,null,null,null,null,null,null,null,null,null,null,null,null,null,null,null,null,null,null,null,null,null,null,null,null,null,"",null,null,null,null,null,0]
[null,"AUTOCUIDADO",null,0,null,null,null,null,null,null,null,null,null,null,null,null,null,null,null,null,null,null,null,null,null,null,null,null,null,null,null,null,null,null,null,null,null,null,null,null,null,null,null,null,null,null,null,null,null,null,null,null,null,null,null,null,null,null,null,null,null,null,null,null,null,null,null,null,null,null,null,null,null,null,null,null,null,null,"",null,null,null,null,null,0]
[null,"APOYO MADRE A MADRE",null,0,null,null,null,null,null,null,null,null,null,null,null,null,null,null,null,null,null,null,null,null,null,null,null,null,null,null,null,null,null,null,null,null,null,null,null,null,null,null,null,null,null,null,null,null,null,null,null,null,null,null,null,null,null,null,null,null,null,null,null,null,null,null,null,null,null,null,null,null,null,null,null,null,null,null,"",null,null,null,null,null,0]
[null,"PREVENCIÓN DE SALUD MENTAL ","PREVENCIÓN SUICIDIO",0,null,null,null,null,null,null,null,null,null,null,null,null,null,null,null,null,null,null,null,null,null,null,null,null,null,null,null,null,null,null,null,null,null,null,null,null,null,null,null,null,null,null,null,null,null,null,null,null,null,null,null,null,null,null,null,null,null,null,null,null,null,null,null,null,null,null,null,null,null,null,null,null,null,null,"",null,null,null,null,null,0]
[null,null,"PREVENCIÓN TRASTORNO MENTAL",0,null,null,null,null,null,null,null,null,null,null,null,null,null,null,null,null,null,null,null,null,null,null,null,null,null,null,null,null,null,null,null,null,null,null,null,null,null,null,null,null,null,null,null,null,null,null,null,null,null,null,null,null,null,null,null,null,null,null,null,null,null,null,null,null,null,null,null,null,null,null,null,null,null,null,"",null,null,null,null,null,0]
[null,"PREVENCION ALCOHOL Y DROGAS",null,0,null,null,null,null,null,null,null,null,null,null,null,null,null,null,null,null,null,null,null,null,null,null,null,null,null,null,null,null,null,null,null,null,null,null,null,null,null,null,null,null,null,null,null,null,null,null,null,null,null,null,null,null,null,null,null,null,null,null,null,null,null,null,null,null,null,null,null,null,null,null,null,null,null,null,"",null,null,null,null,null,0]
[null,"ANTITABÁQUICA (excluye REM 23)",null,0,null,null,null,null,null,null,null,null,null,null,null,null,null,null,null,null,null,null,null,null,null,null,null,null,null,null,null,null,null,null,null,null,null,null,null,null,null,null,null,null,null,null,null,null,null,null,null,null,null,null,null,null,null,null,null,null,null,null,null,null,null,null,null,null,null,null,null,null,null,null,null,null,null,null,"",null,null,null,null,null,0]
[null,"PREVENCIÓN DE LA TRANSMISIÓN VERTICAL DE VIH-SIFILIS",null,0,null,null,null,null,null,null,null,null,null,null,null,null,null,null,null,null,null,null,null,null,null,null,null,null,null,null,null,null,null,null,null,null,null,null,null,null,null,null,null,null,null,null,null,null,null,null,null,null,null,null,null,null,null,null,null,null,null,null,null,null,null,null,null,null,null,null,null,null,null,null,null,null,null,null,"",null,null,null,null,null,0]
[null,"OTRAS ÁREAS TEMÁTICAS",null,0,null,null,null,null,null,null,null,null,null,null,null,null,null,null,null,null,null,null,null,null,null,null,null,null,null,null,null,null,null,null,null,null,null,null,null,null,null,null,null,null,null,null,null,null,null,null,null,null,null,null,null,null,null,null,null,null,null,null,null,null,null,null,null,null,null,null,null,null,null,null,null,null,null,null,"",null,null,null,null,null,0]
[null,"EDUCACIÓN ESPECIAL EN ADULTO MAYOR","ESTIMULACIÓN DE MEMORIA",0,null,null,null,null,null,null,null,null,null,null,null,null,null,null,null,null,null,null,null,null,null,null,null,null,null,null,null,null,null,null,null,null,null,null,null,null,null,null,null,null,null,null,null,null,null,null,null,null,null,null,null,null,null,null,null,null,null,null,null,null,null,null,null,null,null,null,null,null,null,null,null,null,null,null,"",null,null,null,null,null,0]
[null,null,"PREVENCIÓN CAÍDAS",0,null,null,null,null,null,null,null,null,null,null,null,null,null,null,null,null,null,null,null,null,null,null,null,null,null,null,null,null,null,null,null,null,null,null,null,null,null,null,null,null,null,null,null,null,null,null,null,null,null,null,null,null,null,null,null,null,null,null,null,null,null,null,null,null,null,null,null,null,null,null,null,null,null,null,{"$f":"IF(AND(D72=0,D38>0),\"* En esta área en Sección A, se consignan personas pero falta registrar la Sesión. \",\"\")","v":""},null,null,null,null,null,{"$f":"IF(AND(D72=0,D38>0),1,0)","v":0}]
[null,null,"ESTIMULACIÓN DE ACTIVIDAD FÍSICA",0,null,null,null,null,null,null,null,null,null,null,null,null,null,null,null,null,null,null,null,null,null,null,null,null,null,null,null,null,null,null,null,null,null,null,null,null,null,null,null,null,null,null,null,null,null,null,null,null,null,null,null,null,null,null,null,null,null,null,null,null,null,null,null,null,null,null,null,null,null,null,null,null,null,null,{"$f":"IF(AND(D73=0,D39>0),\"* En esta área en Sección A, se consignan personas pero falta registrar la Sesión. \",\"\")","v":""},null,null,null,null,null,{"$f":"IF(AND(D73=0,D39>0),1,0)","v":0}]
[null,"USO RACIONAL DE MEDICAMENTOS",null,{"$f":"SUM(E74:H74)","v":0},null,null,null,null,null,null,null,null,null,null,null,null,null,null,null,null,null,null,null,null,null,null,null,null,null,null,null,null,null,null,null,null,null,null,null,null,null,null,null,null,null,null,null,null,null,null,null,null,null,null,null,null,null,null,null,null,null,null,null,null,null,null,null,null,null,null,null,null,null,null,null,null,null,null,{"$f":"IF(AND(D74=0,D40>0),\"* En esta área en Sección A, se consignan personas pero falta registrar la Sesión. \",\"\")","v":""},null,null,null,null,null,{"$f":"IF(AND(D74=0,D40>0),1,0)","v":0}]
[null,"RESISTENCIA ANTIMICROBIANOS",null,{"$f":"SUM(E75:H75)","v":0}]
[null,"TOTAL",null,{"$f":"SUM(E76:H76)","v":0},{"$f":"SUM(E45:E74)","v":0},{"$f":"SUM(F45:F74)","v":0},{"$f":"SUM(G45:G74)","v":0},{"$f":"SUM(H45:H74)","v":0},{"$f":"SUM(I45:I74)","v":0}]
["SECCIÓN C: ACTIVIDAD FÍSICA GRUPAL PARA PROGRAMA SALUD CARDIOVASCULAR (SESIONES)"]
["GRUPO DE EDAD",null,null,"TOTAL SESIONES","PROFESOR\nEDUCACIÓN FÍSICA","KINESIÓ-\nLOGO","OTROS PROFESIONALES","TÉCNICO PARAMÉDICO"]
["10 A 19 AÑOS",null,null,{"$f":"SUM(E79:H79)","v":0}]
["20 A 24 AÑOS",null,null,{"$f":"SUM(E80:H80)","v":0}]
["25 A 64 AÑOS",null,null,{"$f":"SUM(E81:H81)","v":0}]
["65 Y MÁS",null,null,{"$f":"SUM(E82:H82)","v":0}]
["TOTAL",null,null,{"$f":"SUM(E83:H83)","v":0},{"$f":"SUM(E79:E82)","v":0},{"$f":"SUM(F79:F82)","v":0},{"$f":"SUM(G79:G82)","v":0},{"$f":"SUM(H79:H82)","v":0}]
["SECCIÓN D: EDUCACIÓN GRUPAL A GESTANTES DE ALTO RIESGO OBSTÉTRICO (Nivel Secundario)"]
["TEMAS",null,null,"TOTAL \nSESIONES"]
["AUTOCUIDADO SEGÚN PATOLOGÍA"]
["PREPARACIÓN PARA EL PARTO"]
["TALLER DE EDUCACIÓN PRENATAL"]
["SECCIÓN E: TALLERES PROGRAMA \"MÁS A.M AUTOVALENTES\""]
["TALLER",null,null,"Nº DE SESIONES","Nº DE PARTICIPAN- TES"]
[]
["ESTIMULACIÓN DE FUNCIONES MOTORAS Y PREVENCIÓN DE CAÍDAS"]
["ESTIMULACIÓN DE FUNCIONES  COGNITIVA"]
["AUTOCUIDADO Y ESTILOS DE VIDA SALUDABLE"]
["SECCIÓN F: TALLERES PROGRAMA VIDA SANA"]
["TALLER",null,null,"Nº DE SESIONES","Nº DE PARTICIPAN- TES","MADRE, PADRE O CUIDADOR DE :",null,null,null,null,"POR EDAD",null,null,null,null,null,null,null,null,null,null,null,null,null,"Gestantes","Post Parto"]
[null,null,null,null,null,"Menores de 1 año","Niños 12 a 23 meses","Niños de 2 a 5 años","Niños de 6 a 9 años","10 a 14 años","menor de 2 años","2 a 4","5 a 9","10 a 14","15 a 19","20 a 24","25 - 29","30 - 34","35 - 39","40 - 44","45 - 49","50 - 54","55 - 59","60 - 64"]
["CIRCULO DE ACTIVIDAD FISICA",null,null,null,{"$f":"SUM(F98:X98)","v":0}]
["CIRCULO DE VIDA SANA",null,null,null,{"$f":"SUM(F99:X99)","v":0},null,null,null,null,null,null,null,null,null,null,null,null,null,null,null,null,null,null,null,null,null,null,null,null,null,null,null,null,null,null,null,null,null,null,null,null,null,null,null,null,null,null,null,null,null,null,null,null,null,null,null,null,null,null,null,null,null,null,null,null,null,null,null,null,null,0,null,null,0,null,null,null,null,null,null,null,null,null,null,0]
["ACTIVIDADES MASIVAS",null,null,null,{"$f":"SUM(F100:X100)","v":0},null,null,null,null,null,null,null,null,null,null,null,null,null,null,null,null,null,null,null,null,null,null,null,null,null,null,null,null,null,null,null,null,null,null,null,null,null,null,null,null,null,null,null,null,null,null,null,null,null,null,null,null,null,null,null,null,null,null,null,null,null,null,null,null,null,0,null,null,0,null,null,null,null,null,null,null,null,null,null,0]
["SECCIÓN G: INTERVENCIONES POR PATRON DE CONSUMO DE ALCOHOL, TABACO Y OTRAS DROGAS",null,null,null,null,null,null,null,null,null,null,null,null,null,null,null,null,null,null,null,null,null,null,null,null,null,null,null,null,null,null,null,null,null,null,null,null,null,null,null,null,null,null,null,null,null,null,null,null,null,null,null,null,null,null,null,null,null,null,null,null,null,null,null,null,null,null,null,null,null,null,null,null,null,null,null,null,null,null,null,null,null,null,null,0]
["TIPO DE INTERVENCIÓN",null,null,"Nº DE INTERVEN-CIONES","POR EDAD",null,null,null,null,null,"SEXO",null,"* La Suma por edad NO DEBE ser distinto al total por Sexo. ",null,null,null,null,null,null,null,null,null,null,null,null,null,null,null,null,null,null,null,null,null,null,null,null,null,null,null,null,null,null,null,null,null,null,null,null,null,null,null,null,null,null,null,null,null,null,null,null,null,null,null,null,null,null,null,null,null,null,null,null,null,null,null,null,null,"* La Suma por edad NO DEBE ser distinto al total por Sexo. ",null,null,null,null,null,1]
[null,null,null,null,"10-14 años","15-19 años","20-24 años","25-44 años","45-64 años","65 o más","Hombres","Mujeres","* La Suma por edad NO DEBE ser distinto al total por Sexo. ",null,null,null,null,null,null,null,null,null,null,null,null,null,null,null,null,null,null,null,null,null,null,null,null,null,null,null,null,null,null,null,null,null,null,null,null,null,null,null,null,null,null,null,null,null,null,null,null,null,null,null,null,null,null,null,null,null,null,null,null,null,null,null,null,null,"* La Suma por edad NO DEBE ser distinto al total por Sexo. ",null,null,null,null,null,1]
["INTERVENCIÓN MÍNIMA\n(BAJO RIESGO)",null," ALCOHOL",{"$f":"SUM(E104:J104)","v":0},null,null,null,null,null,null,null,null,null,null,null,null,null,null,null,null,null,null,null,null,null,null,null,null,null,null,null,null,null,null,null,null,null,null,null,null,null,null,null,null,null,null,null,null,null,null,null,null,null,null,null,null,null,null,null,null,null,null,null,null,null,null,null,null,null,null,null,null,null,null,null,null,null,null,null,null,null,null,null,null,0]
[null,null," TABACO",{"$f":"SUM(E105:J105)","v":0},null,null,null,null,null,null,null,null,null,null,null,null,null,null,null,null,null,null,null,null,null,null,null,null,null,null,null,null,null,null,null,null,null,null,null,null,null,null,null,null,null,null,null,null,null,null,null,null,null,null,null,null,null,null,null,null,null,null,null,null,null,null,null,null,null,null,null,null,null,null,null,null,null,null,null,null,null,null,null,null,0]
[null,null," DROGAS",0,null,null,null,null,null,null,null,null,null,null,null,null,null,null,null,null,null,null,null,null,null,null,null,null,null,null,null,null,null,null,null,null,null,null,null,null,null,null,null,null,null,null,null,null,null,null,null,null,null,null,null,null,null,null,null,null,null,null,null,null,null,null,null,null,null,null,null,null,null,null,null,null,null,null,null,null,null,null,null,null,0]
["INTERVENCIÓN BREVE \n(RIESGO)",null," ALCOHOL",0,null,null,null,null,null,null,null,null,null,null,null,null,null,null,null,null,null,null,null,null,null,null,null,null,null,null,null,null,null,null,null,null,null,null,null,null,null,null,null,null,null,null,null,null,null,null,null,null,null,null,null,null,null,null,null,null,null,null,null,null,null,null,null,null,null,null,null,null,null,null,null,null,null,null,null,null,null,null,null,null,0]
[null,null," TABACO",0,null,null,null,null,null,null,null,null,null,null,null,null,null,null,null,null,null,null,null,null,null,null,null,null,null,null,null,null,null,null,null,null,null,null,null,null,null,null,null,null,null,null,null,null,null,null,null,null,null,null,null,null,null,null,null,null,null,null,null,null,null,null,null,null,null,null,null,null,null,null,null,null,null,null,null,null,null,null,null,null,0]
[null,null," DROGAS",0,null,null,null,null,null,null,null,null,null,null,null,null,null,null,null,null,null,null,null,null,null,null,null,null,null,null,null,null,null,null,null,null,null,null,null,null,null,null,null,null,null,null,null,null,null,null,null,null,null,null,null,null,null,null,null,null,null,null,null,null,null,null,null,null,null,null,null,null,null,null,null,null,null,null,null,null,null,null,null,null,0]
["INTERVENCIÓN REFERENCIA ASISTIDA\n(PERJUDICIAL O DEPENDENCIA)",null," ALCOHOL",0,null,null,null,null,null,null,null,null,null,null,null,null,null,null,null,null,null,null,null,null,null,null,null,null,null,null,null,null,null,null,null,null,null,null,null,null,null,null,null,null,null,null,null,null,null,null,null,null,null,null,null,null,null,null,null,null,null,null,null,null,null,null,null,null,null,null,null,null,null,null,null,null,null,null,null,null,null,null,null,null,0]
[null,null," TABACO",0,null,null,null,null,null,null,null,null,null,null,null,null,null,null,null,null,null,null,null,null,null,null,null,null,null,null,null,null,null,null,null,null,null,null,null,null,null,null,null,null,null,null,null,null,null,null,null,null,null,null,null,null,null,null,null,null,null,null,null,null,null,null,null,null,null,null,null,null,null,null,null,null,null,null,null,null,null,null,null,null,0]
[null,null," DROGAS",0,null,null,null,null,null,null,null,null,null,null,null,null,null,null,null,null,null,null,null,null,null,null,null,null,null,null,null,null,null,null,null,null,null,null,null,null,null,null,null,null,null,null,null,null,null,null,null,null,null,null,null,null,null,null,null,null,null,null,null,null,null,null,null,null,null,null,null,null,null,null,null,null,null,null,null,null,null,null,null,null,0]
["SECCIÓN H: PERSONAS QUE INGRESAN A TALLERES PARA PADRES DEL PROGRAMA DE APOYO A LA SALUD MENTAL INFANTIL (PASMI)"]
["Concepto","Total de padres, madres o cuidadores de 5 a 9 años","Total de talleres","Total de sesiones"]
["Taller Nadie es Perfecto (PASMI)"]
["SECCIÓN I: ORGANIZACIONES SOCIALES DE LA RED DEL PROGRAMA MÁS ADULTOS MAYORES AUTOVALENTES"]
["Concepto","POR TIPO DE ORGANIZACIÓN"]
[null,"N° Total  de Organizaciones","Clubes de Adultos Mayores","Centros de Madres","Clubes Deportivos","Uniones Comunales de Adultos Mayores","Junta de Vecinos","Organizaciones informales","Otras organizaciones formales"]
["Organizaciones ingresadas al Programa de Estimulación Funcional del programa Más Adultos Mayores Autovalentes",{"$f":"SUM(C119:I119)","v":0}]
["Organizaciones con Líderes Comunitarios Capacitados por el Programa Más Adultos Mayores Autovalentes",{"$f":"SUM(C120:I120)","v":0}]
["SEECCIÓN J: SERVICIOS DE LA RED DEL PROGRAMA MÁS ADULTOS MAYORES AUTOVALENTES"]
["Concepto","POR TIPO DE SERVICIO"]
[null,"N° Total de Servicios","Unidad Municipal de Personas Mayores ","Unidad Municipal de Atención Social","Unidad Municipal de Deportes","Unidad Municipal Turismo ","Unidad Municipal Educación","Biblioteca Municipal","Unidad Cultura Minicipal","Otras Unidades Municipales","Escuelas o Colegios","Universidades","Otras Unidades Externas al Municipio"]
["Servicios Locales con oferta programática para personas mayores (total o parcial) ",{"$f":"SUM(C124:M124)","v":0}]
["Servicios Locales con Planes Intersectoriales para el Fomento del Autocuidado y Estimulación Funcional desarrollados junto al Programa Más Adultos Mayores Autovalentes",{"$f":"SUM(C125:M125)","v":0}]
["SECCIÓN K: TALLER DE LACTANCIA MATERNA EN MATERNIDAD"]
["Concepto","Total","GRUPO DE EDAD (En años)"]
[null,null,"10 a 14 años","15 a 19 años","20 a 24 años","25 a 29 años","30 a 34 años","35 a 39 años","40 a 44 años","45 a 49 años","50 a 54 años","PUEBLOS ORIGINARIOS","MIGRANTES"]
["NUMERO DE TALLERES DE LACTANCIA MATERNA REALIZADA EN MATERNIDADES",{"$f":"SUM(C129:K129)","v":0}]
["SECCIÓN L: TALLER DE LACTANCIA MATERNA EN ATENCIÓN PRIMARIA "]
["Concepto","Total","POR RANGO ETARIO"]
[null,null," De 0 a 29 días","De 1 mes a 2 meses 29 días","De 3 meses a 5 meses 29 días","De 6 meses a 11 meses 29 días","PUEBLOS ORGINARIOS","MIGRANTES"]
["NUMERO DE TALLERES DE LACTANCIA MATERNA REALIZADA EN ATENCION PRIMARIA A MENORES DE UN AÑO",{"$f":"SUM(C133:F133)","v":0}]
[]
[]
[]
[]
[]
[]
[]
[]
[]
[]
[]
[]
[]
[]
[]
[]
[]
[]
[]
[]
[]
[]
[]
[]
[]
[]
[]
[]
[]
[]
[]
[]
[]
[]
[]
[]
[]
[]
[]
[]
[]
[]
[]
[]
[]
[]
[]
[]
[]
[]
[]
[]
[]
[]
[]
[]
[]
[]
[]
[]
[]
[]
[]
[]
[]
[{"$f":"SUM(D42,D76,D83,D86:D88,D92:E94,D98:E99,D104:L112)","v":0},{"$f":"SUM(CG8:CO113)","v":2}]

{"sheet":"A28","index":19,"n_rows":291,"n_cols":88,"rows_kept":291,"cut":false,"hidden":false,"merged":[[258,38,258,39],[258,40,258,41],[261,0,261,41],[238,40,238,41],[238,1,238,3],[242,0,242,41],[258,0,259,0],[258,1,258,3],[258,4,258,5],[258,6,258,7],[258,8,258,9],[258,10,258,11],[258,12,258,13],[258,14,258,15],[258,16,258,17],[258,18,258,19],[258,20,258,21],[258,22,258,23],[258,24,258,25],[258,26,258,27],[258,28,258,29],[258,30,258,31],[258,32,258,33],[258,34,258,35],[258,36,258,37],[238,22,238,23],[238,24,238,25],[238,26,238,27],[238,28,238,29],[238,30,238,31],[238,32,238,33],[238,34,238,35],[238,36,238,37],[57,46,59,46],[107,2,107,4],[238,0,239,0],[238,4,238,5],[238,6,238,7],[238,8,238,9],[238,10,238,11],[238,12,238,13],[238,14,238,15],[238,16,238,17],[238,18,238,19],[238,20,238,21],[97,0,98,1],[100,0,100,1],[102,0,103,2],[107,1,108,1],[107,0,108,0],[134,42,134,44],[135,43,135,44],[135,42,136,42],[169,43,171,43],[169,42,171,42],[170,38,170,39],[170,40,170,41],[27,3,29,3],[27,4,27,41],[27,42,27,44],[27,0,29,0],[27,1,29,2],[238,38,238,39],[50,1,50,2],[51,1,51,2],[52,0,52,2],[53,0,53,2],[54,0,54,2],[55,0,55,2],[28,38,28,39],[58,10,58,11],[58,12,58,13],[58,14,58,15],[58,16,58,17],[58,18,58,19],[58,22,58,23],[170,12,170,13],[170,14,170,15],[170,16,170,17],[58,20,58,21],[170,30,170,31],[30,0,30,2],[31,0,49,0],[36,1,36,2],[37,1,37,2],[38,1,38,2],[39,1,39,2],[40,1,40,2],[41,1,41,2],[42,1,42,2],[43,1,43,2],[44,1,44,2],[45,1,45,2],[46,1,46,2],[47,1,47,2],[48,1,48,2],[49,1,49,2],[27,45,29,45],[28,4,28,5],[28,6,28,7],[28,8,28,9],[28,10,28,11],[28,12,28,13],[28,14,28,15],[28,16,28,17],[28,18,28,19],[28,20,28,21],[28,22,28,23],[28,24,28,25],[28,26,28,27],[28,28,28,29],[28,30,28,31],[28,32,28,33],[28,34,28,35],[28,36,28,37],[28,40,28,41],[28,42,29,42],[28,43,29,43],[28,44,29,44],[170,18,170,19],[170,20,170,21],[170,22,170,23],[170,24,170,25],[170,26,170,27],[170,28,170,29],[57,42,59,42],[58,24,58,25],[58,26,58,27],[170,32,170,33],[170,34,170,35],[170,36,170,37],[169,0,171,0],[169,4,169,41],[170,4,170,5],[135,32,135,33],[135,34,135,35],[135,36,135,37],[135,38,135,39],[135,40,135,41],[135,20,135,21],[135,22,135,23],[135,24,135,25],[135,26,135,27],[135,28,135,29],[135,30,135,31],[135,4,135,5],[135,6,135,7],[135,8,135,9],[135,10,135,11],[135,12,135,13],[135,14,135,15],[169,1,170,3],[170,6,170,7],[170,8,170,9],[170,10,170,11],[119,0,123,0],[124,0,129,0],[130,0,131,0],[134,0,136,0],[134,4,134,41],[135,16,135,17],[135,18,135,19],[107,10,108,10],[113,4,113,5],[113,6,113,7],[113,8,113,9],[107,5,108,5],[107,6,108,6],[107,7,107,9],[113,0,114,0],[113,1,114,1],[113,2,113,3],[134,1,135,3],[57,0,59,0],[57,1,58,3],[97,2,98,2],[31,1,31,2],[32,1,32,2],[33,1,33,2],[34,1,34,2],[35,1,35,2],[115,0,118,0],[10,12,10,13],[10,14,10,15],[10,34,10,35],[10,30,10,31],[10,32,10,33],[10,16,10,17],[10,18,10,19],[10,20,10,21],[102,3,103,3],[102,4,102,6],[102,7,103,7],[97,3,97,5],[97,6,98,6],[58,28,58,29],[58,30,58,31],[57,4,57,41],[58,32,58,33],[58,34,58,35],[58,36,58,37],[58,38,58,39],[58,40,58,41],[58,4,58,5],[58,6,58,7],[58,8,58,9],[9,45,11,45],[57,43,57,45],[58,43,59,43],[58,44,59,44],[58,45,59,45],[5,0,5,13],[9,0,11,0],[9,1,10,3],[9,4,9,41],[10,36,10,37],[10,38,10,39],[10,40,10,41],[10,22,10,23],[10,24,10,25],[9,42,9,44],[10,42,11,42],[10,43,11,43],[10,44,11,44],[10,28,10,29],[10,26,10,27],[10,4,10,5],[10,6,10,7],[10,8,10,9],[10,10,10,11]]}
["SERVICIO DE SALUD"]
[{"$f":"CONCATENATE(\"COMUNA: \",NOMBRE!B2,\" - \",\"( \",NOMBRE!C2,NOMBRE!D2,NOMBRE!E2,NOMBRE!F2,NOMBRE!G2,\" )\")","v":"COMUNA:  - (  )"}]
[{"$f":"CONCATENATE(\"ESTABLECIMIENTO/ESTRATEGIA: \",NOMBRE!B3,\" - \",\"( \",NOMBRE!C3,NOMBRE!D3,NOMBRE!E3,NOMBRE!F3,NOMBRE!G3,NOMBRE!H3,\" )\")","v":"ESTABLECIMIENTO/ESTRATEGIA:  - (  )"}]
[{"$f":"CONCATENATE(\"MES: \",NOMBRE!B6,\" - \",\"( \",NOMBRE!C6,NOMBRE!D6,\" )\")","v":"MES:  - (  )"}]
[{"$f":"CONCATENATE(\"AÑO: \",NOMBRE!B7)","v":"AÑO: 2019"}]
["REM-28.  PROGRAMA DE REHABILITACIÓN INTEGRAL"]
[]
["A. NIVEL PRIMARIO "]
["SECCIÓN A.1: INGRESOS Y EGRESOS  AL PROGRAMA DE REHABILITACIÓN INTEGRAL"]
["TIPO DE INGRESO","TOTAL",null,null,"POR EDAD (en años)",null,null,null,null,null,null,null,null,null,null,null,null,null,null,null,null,null,null,null,null,null,null,null,null,null,null,null,null,null,null,null,null,null,null,null,null,null,"TIPO DE ESTRATEGIA ",null,null,"Otros"]
[null,null,null,null,"< 12 meses",null,"12 a 23 meses",null,"2 - 4",null,"5 - 9",null,"10 - 14",null,"15 - 19 ",null,"20 - 24 ",null,"25-29",null,"30-34",null,"35 - 39",null,"40 - 44",null,"45- 49",null,"50 - 54",null,"55 - 59",null,"60 - 64",null,"65 - 69",null,"70 - 74",null,"75 - 79",null,"80 y mas",null,"Rehabilitación Base Comunitaria (RBC)","Rehabilitación Integral(RI)","Rehabilitación Rural (RR)"]
[null,"Ambos Sexos","Hombres","Mujeres","Hombres","Mujeres","Hombres","Mujeres","Hombres","Mujeres","Hombres","Mujeres","Hombres","Mujeres","Hombres","Mujeres","Hombres","Mujeres","Hombres","Mujeres","Hombres","Mujeres","Hombres","Mujeres","Hombres","Mujeres","Hombres","Mujeres","Hombres","Mujeres","Hombres","Mujeres","Hombres","Mujeres","Hombres","Mujeres","Hombres","Mujeres","Hombres","Mujeres","Hombres","Mujeres"]
["INGRESOS",{"$f":"SUM(C13+D13)","v":0},{"$f":"SUM(E13+G13+I13+K13+M13+O13+Q13+S13+U13+W13+Y13+AA13+AC13+AE13+AG13+AI13+AK13+AM13+AO13)","v":0},0,null,null,null,null,null,null,null,null,null,null,null,null,null,null,null,null,null,null,null,null,null,null,null,null,null,null,null,null,null,null,null,null,null,null,null,null,null,null,null,null,null,null,null,null,null,null,null,null,null,null,null,null,null,null,null,null,null,null,null,null,null,null,null,null,null,null,null,null,null,null,null,null,null,null,{"$f":"IF(B13<>(AQ13+ AR13 + AS13 + AT13),\"* Total Ingresos debe ser igual que Tipo de Estrategia más Otros. \",\"\")","v":""},null,null,null,null,null,{"$f":"IF(B13<>(AQ13+ AR13 + AS13 + AT13),1,\"\")","v":""}]
["INGRESOS CON PLAN DE TRATAMIENTO INTEGRAL (PTI)",0,0,0,null,null,null,null,null,null,null,null,null,null,null,null,null,null,null,null,null,null,null,null,null,null,null,null,null,null,null,null,null,null,null,null,null,null,null,null,null,null,null,null,null,null,null,null,null,null,null,null,null,null,null,null,null,null,null,null,null,null,null,null,null,null,null,null,null,null,null,null,null,null,null,null,null,null,"",null,null,null,null,null,""]
["INGRESOS CON PLAN DE TRATAMIENTO INTEGRAL (PTI) CON OBJETIVOS PARA EL TRABAJO",0,0,0,null,null,null,null,null,null,null,null,null,null,null,null,null,null,null,null,null,null,null,null,null,null,null,null,null,null,null,null,null,null,null,null,null,null,null,null,null,null,null,null,null,null,null,null,null,null,null,null,null,null,null,null,null,null,null,null,null,null,null,null,null,null,null,null,null,null,null,null,null,null,null,null,null,null,"",null,null,null,null,null,""]
["INGRESOS  DE USUARIOS CON CUIDADOR ",0,0,0,null,null,null,null,null,null,null,null,null,null,null,null,null,null,null,null,null,null,null,null,null,null,null,null,null,null,null,null,null,null,null,null,null,null,null,null,null,null,null,null,null,null,null,null,null,null,null,null,null,null,null,null,null,null,null,null,null,null,null,null,null,null,null,null,null,null,null,null,null,null,null,null,null,null,"",null,null,null,null,null,""]
["INGRESOS ACV REFERIDOS DESDE HOSPITAL",0,0,0,null,null,null,null,null,null,null,null,null,null,null,null,null,null,null,null,null,null,null,null,null,null,null,null,null,null,null,null,null,null,null,null,null,null,null,null,null,null,null,null,null,null,null,null,null,null,null,null,null,null,null,null,null,null,null,null,null,null,null,null,null,null,null,null,null,null,null,null,null,null,null,null,null,null,"",null,null,null,null,null,""]
["INGRESOS  POR AMPUTACIÓN",0,0,0,null,null,null,null,null,null,null,null,null,null,null,null,null,null,null,null,null,null,null,null,null,null,null,null,null,null,null,null,null,null,null,null,null,null,null,null,null,null,null,null,null,null,null,null,null,null,null,null,null,null,null,null,null,null,null,null,null,null,null,null,null,null,null,null,null,null,null,null,null,null,null,null,null,null,"",null,null,null,null,null,""]
["REINGRESO Al PROGRAMA ",0,0,0,null,null,null,null,null,null,null,null,null,null,null,null,null,null,null,null,null,null,null,null,null,null,null,null,null,null,null,null,null,null,null,null,null,null,null,null,null,null,null,null,null,null,null,null,null,null,null,null,null,null,null,null,null,null,null,null,null,null,null,null,null,null,null,null,null,null,null,null,null,null,null,null,null,null,"",null,null,null,null,null,""]
["INGRESOS CON PTI CUIDADOR",0,{"$f":"SUM(O20+Q20+S20+U20+W20+Y20+AA20+AC20+AE20+AG20+AI20+AK20+AM20+AO20)","v":0},{"$f":"SUM(P20+R20+T20+V20+X20+Z20+AB20+AD20+AF20+AH20+AJ20+AL20+AN20+AP20)","v":0},null,null,null,null,null,null,null,null,null,null,null,null,null,null,null,null,null,null,null,null,null,null,null,null,null,null,null,null,null,null,null,null,null,null,null,null,null,null,null,null,null,null,null,null,null,null,null,null,null,null,null,null,null,null,null,null,null,null,null,null,null,null,null,null,null,null,null,null,null,null,null,null,null,null,"",null,null,null,null,null,""]
["EGRESOS",0,{"$f":"SUM(C22+C23+C24+C25)","v":0},{"$f":"SUM(D22+D23+D24+D25)","v":0},{"$f":"SUM(E22:E25)","v":0},{"$f":"SUM(F22:F25)","v":0},0,0,0,0,0,0,0,0,0,0,0,0,0,0,0,0,0,0,0,0,{"$f":"SUM(AA22:AA25)","v":0},0,0,0,0,0,0,0,0,0,0,0,0,0,0,0,0,0,0,0]
["EGRESOS POR ALTA",0,{"$f":"SUM(E22+G22+I22+K22+M22+O22+Q22+S22+U22+W22+Y22+AA22+AC22+AE22+AG22+AI22+AK22+AM22+AO22)","v":0},0,null,null,null,null,null,null,null,null,null,null,null,null,null,null,null,null,null,null,null,null,null,null,null,null,null,null,null,null,null,null,null,null,null,null,null,null,null,null,null,null,null,null,null,null,null,null,null,null,null,null,null,null,null,null,null,null,null,null,null,null,null,null,null,null,null,null,null,null,null,null,null,null,null,null,{"$f":"IF(B22<>(AQ22+ AR22 + AS22 + AT22),\"* Total Egresos debe ser igual que Tipo de Estrategia más Otros. \",\"\")","v":""},null,null,null,null,null,{"$f":"IF(B22<>(AQ22+ AR22 + AS22 + AT22),1,\"\")","v":""}]
["EGRESOS POR ABANDONO",0,0,0,null,null,null,null,null,null,null,null,null,null,null,null,null,null,null,null,null,null,null,null,null,null,null,null,null,null,null,null,null,null,null,null,null,null,null,null,null,null,null,null,null,null,null,null,null,null,null,null,null,null,null,null,null,null,null,null,null,null,null,null,null,null,null,null,null,null,null,null,null,null,null,null,null,null,"",null,null,null,null,null,""]
["EGRESOS POR FALLECIMIENTO",0,0,0,null,null,null,null,null,null,null,null,null,null,null,null,null,null,null,null,null,null,null,null,null,null,null,null,null,null,null,null,null,null,null,null,null,null,null,null,null,null,null,null,null,null,null,null,null,null,null,null,null,null,null,null,null,null,null,null,null,null,null,null,null,null,null,null,null,null,null,null,null,null,null,null,null,null,"",null,null,null,null,null,""]
["EGRESOS POR OTRAS CAUSAS",0,0,0,null,null,null,null,null,null,null,null,null,null,null,null,null,null,null,null,null,null,null,null,null,null,null,null,null,null,null,null,null,null,null,null,null,null,null,null,null,null,null,null,null,null,null,null,null,null,null,null,null,null,null,null,null,null,null,null,null,null,null,null,null,null,null,null,null,null,null,null,null,null,null,null,null,null,"",null,null,null,null,null,""]
["EGRESOS CON PTI CUIDADOR",0,{"$f":"SUM(E26+G26+I26+K26+M26+O26+Q26+S26+U26+W26+Y26+AA26+AC26+AE26+AG26+AI26+AK26+AM26+AO26)","v":0},0,null,null,null,null,null,null,null,null,null,null,null,null,null,null,null,null,null,null,null,null,null,null,null,null,null,null,null,null,null,null,null,null,null,null,null,null,null,null,null,null,null,null,null,null,null,null,null,null,null,null,null,null,null,null,null,null,null,null,null,null,null,null,null,null,null,null,null,null,null,null,null,null,null,null,"",null,null,null,null,null,""]
["SECCION A.2: INGRESOS POR CONDICIÓN DE SALUD",null,null,null,null,null,null,null,null,null,null,null,null,null,null,null,null,null,null,null,null,null,null,null,null,null,null,null,null,null,null,null,null,null,null,null,null,null,null,null,null,null,null,null,null,null,null,null,null,null,null,null,null,null,null,null,null,null,null,null,null,null,null,null,null,null,null,null,null,null,null,null,null,null,null,null,null,null,"",{"$f":"IF(B57<AQ57,\"* El número de Beneficiarios NO DEBE ser mayor que el Total. \",\"\")","v":""},{"$f":"IF(B57<>(AR57+ AS57 + AT57 + AU27),\"* Total Ingresos debe ser igual que Tipo de Estrategia más Otros. \",\"\")","v":""},null,null,null,"",{"$f":"IF(B57=0,\"\",IF(AQ57=\"\",IF(B57=\"\",\"\",1),0))","v":""},{"$f":"IF(B57<>(AR57+ AS57 + AT57 + AU27),1,\"\")","v":""}]
["CONDICIÓN DE SALUD","CONCEPTO",null,"TOTAL","POR EDAD (en años)",null,null,null,null,null,null,null,null,null,null,null,null,null,null,null,null,null,null,null,null,null,null,null,null,null,null,null,null,null,null,null,null,null,null,null,null,null,"TIPO DE ESTRATEGIA ",null,null,"Otros",null,null,null,null,null,null,null,null,null,null,null,null,null,null,null,null,null,null,null,null,null,null,null,null,null,null,null,null,null,null,null,{"$f":"IF(#REF!=0,\"\",IF(AQ58=\"\",IF(#REF!=\"\",\"\",\"* No olvide digitar la columna Beneficiarios. \"),\"\"))","v":{"$error":"#REF!"}},{"$f":"IF(#REF!<AQ58,\"* El número de Beneficiarios NO DEBE ser mayor que el Total. \",\"\")","v":{"$error":"#REF!"}},{"$f":"IF(#REF!<>(AR58+ AS58 + AT58 +#REF!),\"* Total Ingresos debe ser igual que Tipo de Estrategia más Otros. \",\"\")","v":{"$error":"#REF!"}},null,null,null,{"$f":"IF(#REF!<AQ58,1,0)","v":{"$error":"#REF!"}},{"$f":"IF(#REF!=0,\"\",IF(AQ58=\"\",IF(#REF!=\"\",\"\",1),0))","v":{"$error":"#REF!"}},{"$f":"IF(#REF!<>(AR58+ AS58 + AT58 +#REF!),1,\"\")","v":{"$error":"#REF!"}}]
[null,null,null,null,"< 12 meses",null,"12 a 23 meses",null,"2 - 4",null,"5 - 9",null,"10 - 14",null,"15 - 19 ",null,"20 - 24 ",null,"25-29",null,"30-34",null,"35 - 39",null,"40 - 44",null,"45- 49",null,"50 - 54",null,"55 - 59",null,"60 - 64",null,"65 - 69",null,"70 - 74",null,"75 - 79",null,"80 y mas",null,"Rehabilitación Base Comunitaria (RBC)","Rehabilitación Integral(RI)","Rehabilitación Rural (RR)"]
[null,null,null,null,"Hombres","Mujeres","Hombres","Mujeres","Hombres",null,"Hombres","Mujeres","Hombres","Mujeres","Hombres","Mujeres","Hombres","Mujeres","Hombres","Mujeres","Hombres","Mujeres","Hombres","Mujeres","Hombres","Mujeres","Hombres","Mujeres","Hombres","Mujeres","Hombres","Mujeres","Hombres","Mujeres","Hombres","Mujeres","Hombres","Mujeres","Hombres","Mujeres","Hombres","Mujeres",null,null,null,null,null,null,null,null,null,null,null,null,null,null,null,null,null,null,null,null,null,null,null,null,null,null,null,null,null,null,null,null,null,null,null,null,{"$f":"IF(E30<MAX(E31:E49),\"* EN RBC existen patologías que son mayores a los Ingresos-personas. \",\"\")","v":""},{"$f":"IF(F30<MAX(F31:F49),\"* EN RI existen patologías que son mayores a los Ingresos-personas. \",\"\")","v":""},{"$f":"IF(G30<MAX(G31:G49),\"* EN RR existen patologías que son mayores a los Ingresos-personas. \",\"\")","v":""},{"$f":"IF(H30<MAX(H31:H49),\"* EN Otros existen patologías que son mayores a los Ingresos-personas. \",\"\")","v":""},null,null,{"$f":"IF(E30<MAX(E31:E49),1,\"\")","v":""},{"$f":"IF(F30<MAX(F31:F49),1,\"\")","v":""},{"$f":"IF(G30<MAX(G31:G49),1,\"\")","v":""},{"$f":"IF(H30<MAX(H31:H49),1,\"\")","v":""}]
["TOTAL INGRESO (N° DE PERSONAS)",null,null,null,null,null,null,null,null,null,null,null,null,null,null,null,null,null,null,null,null,null,null,null,null,null,null,null,null,null,null,null,null,null,null,null,null,null,null,null,null,null,null,null,null,null,null,null,null,null,null,null,null,null,null,null,null,null,null,null,null,null,null,null,null,null,null,null,null,null,null,null,null,null,null,null,null,null,{"$f":"IF(D30<>B13,\"* El número de ingreso NO DEBE ser distinto al total de ingresos de la sección A.1. \",\"\")","v":""},null,null,null,null,null,{"$f":"IF(D30<>B13,1,\"\")","v":""}]
["CONDICIÓN FÍSICA","SÍNDROME DOLOROSO DE ORIGEN TRAUMÁTICO",null,{"$f":"SUM(E32:AP32)","v":0}]
[null,"ARTROSIS LEVE Y MODERADA DE RODILLA Y CADERA",null,{"$f":"SUM(E33:AP33)","v":0}]
[null,"NEUROLOGICOS ACCIDENTE CEREBRO VASCULAR (ACV)",null,0]
[null,"NEUROLOGICOS  TRAUMATISMO ENCEFALO CRANEANO (TEC)",null,0]
[null,"NEUROLOGICOS LESIÓN MEDULAR",null,0]
[null,"QUEMADOS",null,0]
[null,"ENFERMEDAD DE PARKINSON",null,0]
[null,"NEUROLÓGICOS DISRAFIA",null,0]
[null,"OTRO DÉFICIT SECUNDARIO CON COMPROMISO NEUROMUSCULAR EN MENOR DE 20 AÑOS CONGÉNITO",null,0]
[null,"OTRO DÉFICIT SECUNDARIO CON COMPROMISO NEUROMUSCULAR EN MENOR DE 20 AÑOS ADQUIRIDO",null,0]
[null,"OTRO DÉFICIT SECUNDARIO CON COMPROMISO NEUROMUSCULAR  EN MAYOR DE 20 AÑOS ",null,0]
[null,"OTROS",null,0]
[null,"AMPUTACIÓN POR DIABETES",null,0]
[null,"AMPUTACIÓN POR OTRAS CAUSAS",null,0]
[null,"ARTROSIS SEVERA DE RODILLA Y CADERA",null,0]
[null,"OTRAS ARTROSIS",null,0]
[null,"REUMATOLOGICAS",null,0]
[null,"DOLOR LUMBAR",null,0]
[null,"HOMBRO DOLOROSO",null,0]
[null,"CUIDADOS PALIATIVOS",null,0]
[null,"OTROS SÍNDROMES DOLOROSOS NO TRAUMÁTICOS",null,0]
["CONDICIÓN SENSORIAL VISUAL",null,null,0]
["CONDICIÓN SENSORIAL AUDITIVO",null,null,{"$f":"SUM(E54:AP54)","v":0}]
["OTROS",null,null,0,null,null,null,null,null,null,null,null,null,null,null,null,null,null,null,null,null,null,null,null,null,null,null,null,null,null,null,null,null,null,null,null,null,null,null,null,null,null,null,null,null,null,null,null,null,null,null,null,null,null,null,null,null,null,null,null,null,null,null,null,null,null,null,null,null,null,null,null,null,null,null,null,null,null,{"$f":"IF(B55=0,\"\",IF(AQ55=\"\",IF(B55=\"\",\"\",\"* No olvide digitar la columna Beneficiarios. \"),\"\"))","v":""},{"$f":"IF(B55<AQ55,\"* El número de Beneficiarios NO DEBE ser mayor que el Total. \",\"\")","v":""},{"$f":"IF(B55<>(AR55+ AS55 + AT55 + AU55),\"* Total Ingresos debe ser igual que Tipo de Estrategia más Otros. \",\"\")","v":""},null,null,null,{"$f":"IF(B55<AQ55,1,0)","v":0},{"$f":"IF(B55=0,\"\",IF(AQ55=\"\",IF(B55=\"\",\"\",1),0))","v":""},{"$f":"IF(B55<>(AR55+ AS55 + AT55 + AU55),1,\"\")","v":""}]
["CUIDADORES",null,null,0,null,null,null,null,null,null,null,null,null,null,null,null,null,null,null,null,null,null,null,null,null,null,null,null,null,null,null,null,null,null,null,null,null,null,null,null,null,null,null,null,null,null,null,null,null,null,null,null,null,null,null,null,null,null,null,null,null,null,null,null,null,null,null,null,null,null,null,null,null,null,null,null,null,null,{"$f":"IF(B56=0,\"\",IF(AQ56=\"\",IF(B56=\"\",\"\",\"* No olvide digitar la columna Beneficiarios. \"),\"\"))","v":""},{"$f":"IF(B56<AQ56,\"* El número de Beneficiarios NO DEBE ser mayor que el Total. \",\"\")","v":""},{"$f":"IF(B56<>(AR56+ AS56 + AT56 + AU56),\"* Total Ingresos debe ser igual que Tipo de Estrategia más Otros. \",\"\")","v":""},null,null,null,{"$f":"IF(B56<AQ56,1,0)","v":0},{"$f":"IF(B56=0,\"\",IF(AQ56=\"\",IF(B56=\"\",\"\",1),0))","v":""},{"$f":"IF(B56<>(AR56+ AS56 + AT56 + AU56),1,\"\")","v":""}]
["SECCIÓN A.3: EVALUACIÓN INICIAL",null,null,null,null,null,null,null,null,null,null,null,null,null,null,null,null,null,null,null,null,null,null,null,null,null,null,null,null,null,null,null,null,null,null,null,null,null,null,null,null,null,null,null,null,null,null,null,null,null,null,null,null,null,null,null,null,null,null,null,null,null,null,null,null,null,null,null,null,null,null,null,null,null,null,null,null,null,{"$f":"IF(B57=0,\"\",IF(AQ57=\"\",IF(B57=\"\",\"\",\"* No olvide digitar la columna Beneficiarios. \"),\"\"))","v":""},{"$f":"IF(B57<AQ57,\"* El número de Beneficiarios NO DEBE ser mayor que el Total. \",\"\")","v":""},{"$f":"IF(B57<>(AR57+ AS57 + AT57 + AU57),\"* Total Ingresos debe ser igual que Tipo de Estrategia más Otros. \",\"\")","v":""},null,null,null,{"$f":"IF(B57<AQ57,1,0)","v":0},{"$f":"IF(B57=0,\"\",IF(AQ57=\"\",IF(B57=\"\",\"\",1),0))","v":""},{"$f":"IF(B57<>(AR57+ AS57 + AT57 + AU57),1,\"\")","v":""}]
["PROFESIONAL","TOTAL      ",null,null,"POR DE EDAD (en años)",null,null,null,null,null,null,null,null,null,null,null,null,null,null,null,null,null,null,null,null,null,null,null,null,null,null,null,null,null,null,null,null,null,null,null,null,null,"Beneficiarios","TIPO DE ESTRATEGIA ",null,null,"UAPO-RINO",null,null,null,null,null,null,null,null,null,null,null,null,null,null,null,null,null,null,null,null,null,null,null,null,null,null,null,null,null,null,null,{"$f":"IF(B58=0,\"\",IF(AQ58=\"\",IF(B58=\"\",\"\",\"* No olvide digitar la columna Beneficiarios. \"),\"\"))","v":""},{"$f":"IF(B58<AQ58,\"* El número de Beneficiarios NO DEBE ser mayor que el Total. \",\"\")","v":""},{"$f":"IF(B58<>(AR58+ AS58 + AT58 + AU58),\"* Total Ingresos debe ser igual que Tipo de Estrategia más Otros. \",\"\")","v":{"$error":"#VALUE!"}},null,null,null,{"$f":"IF(B58<AQ58,1,0)","v":0},{"$f":"IF(B58=0,\"\",IF(AQ58=\"\",IF(B58=\"\",\"\",1),0))","v":0},{"$f":"IF(B58<>(AR58+ AS58 + AT58 + AU58),1,\"\")","v":{"$error":"#VALUE!"}}]
[null,null,null,null,"< 12 meses",null,"12 a 23 meses",null,"2 - 4",null,"5 - 9",null,"10 - 14",null,"15 - 19 ",null,"20 - 24 ",null,"25-29",null,"30-34",null,"35 - 39",null,"40 - 44",null,"45- 49",null,"50 - 54",null,"55 - 59",null,"60 - 64",null,"65 - 69",null,"70 - 74",null,"75 - 79",null,"80 y mas",null,null,"Rehabilitación Base Comunitaria (RBC)","Rehabilitación Integral(RI)","Rehabilitación Rural (RR)"]
[null,"Ambos Sexos","Hombres","Mujeres","Hombres","Mujeres","Hombres","Mujeres","Hombres","Mujeres","Hombres","Mujeres","Hombres","Mujeres","Hombres","Mujeres","Hombres","Mujeres","Hombres","Mujeres","Hombres","Mujeres","Hombres","Mujeres","Hombres","Mujeres","Hombres","Mujeres","Hombres","Mujeres","Hombres","Mujeres","Hombres","Mujeres","Hombres","Mujeres","Hombres","Mujeres","Hombres","Mujeres","Hombres","Mujeres"]
["MÉDICO",{"$f":"SUM(C61+D61)","v":0},{"$f":"SUM(E61+G61+I61+K61+M61+O61+Q61+S61+U61+W61+Y61+AA61+AC61+AE61+AG61+AI61+AK61+AM61+AO61)","v":0},{"$f":"SUM(F61+H61+J61+L61+N61+P61+R61+T61+V61+X61+Z61+AB61+AD61+AF61+AH61+AJ61+AL61+AN61+AP61)","v":0}]
["KINESIÓLOGO",{"$f":"SUM(C62+D62)","v":0},{"$f":"SUM(E62+G62+I62+K62+M62+O62+Q62+S62+U62+W62+Y62+AA62+AC62+AE62+AG62+AI62+AK62+AM62+AO62)","v":0},0]
["TERAPEUTA OCUPACIONAL",{"$f":"SUM(C63+D63)","v":0},{"$f":"SUM(E63+G63+I63+K63+M63+O63+Q63+S63+U63+W63+Y63+AA63+AC63+AE63+AG63+AI63+AK63+AM63+AO63)","v":0},0]
["FONOAUDIÓLOGO",{"$f":"SUM(C64+D64)","v":0},{"$f":"SUM(E64+G64+I64+K64+M64+O64+Q64+S64+U64+W64+Y64+AA64+AC64+AE64+AG64+AI64+AK64+AM64+AO64)","v":0},0]
["PSICÓLOGO/A",{"$f":"SUM(C65+D65)","v":0},{"$f":"SUM(E65+G65+I65+K65+M65+O65+Q65+S65+U65+W65+Y65+AA65+AC65+AE65+AG65+AI65+AK65+AM65+AO65)","v":0},0]
["TOTAL",{"$f":"SUM(B61:B65)","v":0},{"$f":"SUM(C61:C65)","v":0},{"$f":"SUM(D61:D65)","v":0},{"$f":"SUM(E61:E65)","v":0},{"$f":"SUM(F61:F65)","v":0},0,0,0,0,0,0,0,0,0,0,0,0,0,0,0,0,0,0,0,0,0,0,0,0,0,0,0,0,0,0,0,0,0,0,0,0,0,0,0,{"$f":"SUM(AT61:AT65)","v":0},{"$f":"SUM(AU61:AU65)","v":0}]
["SECCIÓN A.4: EVALUACIÓN INTERMEDIA"]
["PROFESIONAL","TOTAL      ","Rehabilitación Base Comunitaria (RBC)","Rehabilitación Integral (RI)","Rehabilitación Rural (RR)","UAPO-RINO","Otros"]
["KINESIÓLOGO",{"$f":"SUM(C69:G69)","v":0}]
["TERAPEUTA OCUPACIONAL",{"$f":"SUM(C70:G70)","v":0}]
["FONOAUDIÓLOGO",0]
["PSICÓLOGO/A",0]
["TOTAL",{"$f":"SUM(B69:B72)","v":0},{"$f":"SUM(C69:C72)","v":0},{"$f":"SUM(D69:D72)","v":0},0,{"$f":"SUM(F69:F72)","v":0},{"$f":"SUM(G69:G72)","v":0}]
["SECCIÓN A.5: SESIONES DE REHABILITACIÓN"]
["PROFESIONAL","TOTAL      ","Rehabilitación Base Comunitaria (RBC)","Rehabilitación Integral (RI)","Rehabilitación Rural (RR)","UAPO-RINO","Otros"]
["KINESIÓLOGO",{"$f":"SUM(C76:G76)","v":0}]
["TERAPEUTA OCUPACIONAL",{"$f":"SUM(C77:G77)","v":0}]
["FONOAUDIÓLOGO",0]
["PSICÓLOGO/A",0]
["TOTAL",{"$f":"SUM(B76:B79)","v":0},{"$f":"SUM(C76:C79)","v":0},{"$f":"SUM(D76:D79)","v":0},0,{"$f":"SUM(F76:F79)","v":0},{"$f":"SUM(G76:G79)","v":0}]
["SECCIÓN A.7: CONSEJERÍA INDIVIDUAL AGENDADA",null,null,null,null,null,null,null,null,null,null,null,null,null,null,null,null,null,null,null,null,null,null,null,null,null,null,null,null,null,null,null,null,null,null,null,null,null,null,null,null,null,null,null,null,null,null,null,null,null,null,null,null,null,null,null,null,null,null,null,null,null,null,null,null,null,null,null,null,null,null,null,null,null,null,null,null,{"$f":"IF(B112<>SUM(H112:K112),\"* Total personas  debe ser igual que según Tipo estrategia + otros. \",\"\")","v":""},null,null,null,null,null,{"$f":"IF(B112<>SUM(H112:K112),1,0)","v":0}]
["PROFESIONAL","Total Rehabilitacion Base Comunitaria","Total Rehabilitación Integral","Total Rehabilitacion  Rural ","Otros"]
["KINESIÓLOGO"]
["TERAPEUTA OCUPACIONAL"]
["FONOAUDIÓLOGO"]
["PSICÓLOGO/A"]
["ASISTENTE SOCIAL"]
["TOTAL",{"$f":"SUM(B83:B87)","v":0},{"$f":"SUM(C83:C87)","v":0},{"$f":"SUM(D83:D87)","v":0},{"$f":"SUM(E83:E87)","v":0}]
["SECCIÓN A.8: CONSEJERÍA FAMILIAR AGENDADA"]
["PROFESIONAL","Total Rehabilitacion Base Comunitaria","Total Rehabilitación Integral","Total Rehabilitacion  Rural ","Otros"]
["KINESIÓLOGO"]
["TERAPEUTA OCUPACIONAL"]
["FONOAUDIÓLOGO"]
["PSICÓLOGO/A"]
["ASISTENTE SOCIAL"]
["TOTAL",{"$f":"SUM(B91:B95)","v":0},{"$f":"SUM(C91:C95)","v":0},{"$f":"SUM(D91:D95)","v":0},{"$f":"SUM(E91:E95)","v":0}]
["SECCIÓN A.9: VISITAS DOMICILIARIAS INTEGRALES"]
["FAMILIA",null,"TOTAL","TIPO DE ESTRATEGIA ",null,null,"Otros"]
[null,null,null,"Rehabilitación Base Comunitaria (RBC)","Rehabilitación Integral(RI)","Rehabilitación Rural (RR)"]
["VISITA DOMICILIARIA INTEGRAL",null,{"$f":"SUM(D100:G100)","v":0}]
["VISITA DE TRATAMIENTO Y/O PROCEDIMIENTO",null,{"$f":"SUM(D101:G101)","v":0}]
["SECCIÓN A.10: NÚMERO DE PERSONAS QUE INGRESAN Y NÚMERO DE SESIONES DE EDUCACIÓN GRUPAL"]
["ÁREA TEMÁTICA DE PREVENCIÓN Y TRATAMIENTO",null,null,"TOTAL","TIPO DE ESTRATEGIA ",null,null,"Otros"]
[null,null,null,null,"Rehabilitación Base Comunitaria (RBC)","Rehabilitación Integral(RI)","Rehabilitación Rural (RR)"]
["NÙMERO DE PERSONAS ",null,null,{"$f":"SUM(E105:H105)","v":0}]
["NÙMERO DE SESIONES",null,null,{"$f":"SUM(E106:H106)","v":0}]
["SECCIÓN A.11: PERSONAS QUE LOGRAN PARTICIPACION EN COMUNIDAD "]
["COMPONENTE (Nº PERSONAS)","TOTAL","LABORAL",null,null,"Educativa","Comunitario","TIPO DE ESTRATEGIA ",null,null,"Otros"]
[null,null,"Trabajo con objetivos de habilitación y rehabilitación","Trabajo sin objetivos de habilitación y rehabilitación","Dueña/o de casa",null,null,"Rehabilitación Base Comunitaria (RBC)","Rehabilitación Integral(RI)","Rehabilitación Rural (RR)"]
["CONDICIÓN FÍSICA",{"$f":"SUM(C110:G110)","v":0},null,null,null,null,null,null,null,null,null,"* Total personas  debe ser igual que según Tipo estrategia + otros. "]
["CONDICIÓN SENSORIAL VISUAL",{"$f":"SUM(C111:G111)","v":0}]
["CONDICIÓN SENSORIAL AUDITIVO",{"$f":"SUM(C112:G112)","v":0}]
["SECCIÓN A.12: ACTIVIDADES Y PARTICIPACION"]
["MODALIDADES DE INTERVENCIÓN","GRUPO OBJETIVO","TOTALES RBC",null,"TOTALES RI",null,"TOTALES RR",null,"OTROS TOTALES"]
[null,null," Actividades ","Participantes "," Actividades ","Participantes "," Actividades ","Participantes "," Actividades ","Participantes "]
["DIAGNÓSTICO O PLANIFICACIÓN PARTICIPATIVA ","COMUNAS, COMUNIDADES"]
[null,"ORGANIZACIONES ASOCIADAS A DISCAPACIDAD"]
[null,"ORGANIZACIONES COMUNITARIAS"]
[null,"COMUNIDAD EDUCATIVA"]
["ACTIVIDADES DE PROMOCIÓN DE LA SALUD","COMUNAS, COMUNIDADES."]
[null,"EMPLEADORES Y COMPAÑEROS DE TRABAJO"]
[null,"COMUNIDAD EDUCATIVA"]
[null,"RED DE APOYO"]
[null,"CUIDADORES"]
["ACTIVIDADES PARA FORTALECER LOS CONOCIMIENTOS Y DESTREZAS PERSONALES","PROFESIONALES DE SALUD"]
[null,"EMPLEADORES Y COMPAÑEROS DE TRABAJO"]
[null,"COMUNIDAD EDUCATIVA"]
[null,"MONITORES"]
[null,"RED DE APOYO"]
[null,"CUIDADORES"]
["ASESORÍA A GRUPOS COMUNITARIOS","ORGANIZACIONES DE PSD"]
[null,"ORGANIZACIONES PARA/POR PSD"]
["SECCIÓN B: NIVEL HOSPITALARIO"]
["SECCIÓN B.1: INGRESOS Y EGRESOS  AL PROGRAMA DE REHABILITACIÓN INTEGRAL"]
["INGRESOS","TOTAL",null,null,"POR DE EDAD (en años)",null,null,null,null,null,null,null,null,null,null,null,null,null,null,null,null,null,null,null,null,null,null,null,null,null,null,null,null,null,null,null,null,null,null,null,null,null,"TIPO ATENCION"]
[null,null,null,null,"< 12 meses",null,"12 a 23 meses",null,"2 - 4",null,"5 - 9",null,"10 - 14",null,"15 - 19 ",null,"20 - 24 ",null,"25-29",null,"30-34",null,"35 - 39",null,"40 - 44",null,"45- 49",null,"50 - 54",null,"55 - 59",null,"60 - 64",null,"65 - 69",null,"70 - 74",null,"75 - 79",null,"80 y mas",null,"Abierta","CERRADA"]
[null,"Ambos Sexos","Hombres","Mujeres","Hombres","Mujeres","Hombres","Mujeres","Hombres","Mujeres","Hombres","Mujeres","Hombres","Mujeres","Hombres","Mujeres","Hombres","Mujeres","Hombres","Mujeres","Hombres","Mujeres","Hombres","Mujeres","Hombres","Mujeres","Hombres","Mujeres","Hombres","Mujeres","Hombres","Mujeres","Hombres","Mujeres","Hombres","Mujeres","Hombres","Mujeres","Hombres","Mujeres","Hombres","Mujeres",null,"UPC","Cuidados Medios y Básicos"]
["TOTAL INGRESO (N° DE PERSONAS)",{"$f":"SUM(C138+D138)","v":0},{"$f":"SUM(E138+G138+I138+K138+M138+O138+Q138+S138+U138+W138+Y138+AA138+AC138+AE138+AG138+AI138+AK138+AM138+AO138)","v":0},{"$f":"SUM(F138+H138+J138+L138+N138+P138+R138+T138+V138+X138+Z138+AB138+AD138+AF138+AH138+AJ138+AL138+AN138+AP138)","v":0}]
["INGRESOS CON PLAN DE TRATAMIENTO INTEGRAL (PTI)",{"$f":"SUM(C139+D139)","v":0},{"$f":"SUM(E139+G139+I139+K139+M139+O139+Q139+S139+U139+W139+Y139+AA139+AC139+AE139+AG139+AI139+AK139+AM139+AO139)","v":0},0]
["NEUROLÓGICOS TRAUMATISMO ENCÉFALO CRANEANO (TEC)",{"$f":"SUM(C140+D140)","v":0},{"$f":"SUM(E140+G140+I140+K140+M140+O140+Q140+S140+U140+W140+Y140+AA140+AC140+AE140+AG140+AI140+AK140+AM140+AO140)","v":0},0]
["NEUROLÓGICOS LESIÓN MEDULAR ",{"$f":"SUM(C141+D141)","v":0},{"$f":"SUM(E141+G141+I141+K141+M141+O141+Q141+S141+U141+W141+Y141+AA141+AC141+AE141+AG141+AI141+AK141+AM141+AO141)","v":0},0]
["NEUROLÓGICOS ACCIDENTE CEREBRO VASCULAR (ACV)",{"$f":"SUM(C142+D142)","v":0},{"$f":"SUM(E142+G142+I142+K142+M142+O142+Q142+S142+U142+W142+Y142+AA142+AC142+AE142+AG142+AI142+AK142+AM142+AO142)","v":0},0]
["NEUROLOGICOS DISRAFIA",null,null,0]
["NEUROLÓGICAS TUMORES",{"$f":"SUM(C144+D143)","v":0},{"$f":"SUM(E143+G143+I143+K143+M143+O143+Q143+S143+U143+W143+Y143+AA143+AC143+AE143+AG143+AI143+AK143+AM143+AO143)","v":0}]
["PARÁLISIS CEREBRAL",{"$f":"SUM(C145+D145)","v":0},{"$f":"SUM(E145+G145+I145+K145+M145+O145+Q145+S145+U145+W145+Y145+AA145+AC145+AE145+AG145+AI145+AK145+AM145+AO145)","v":0},0]
["QUEMADOS",0,0,0]
["SENSORIALES AUDITIVOS",0,0,0]
["SENSORIALES VISUALES",0,0,0]
["TRAUMATOLÓGICOS",0,0,0]
["AMPUTADOS POR OTRAS CAUSAS",0,0,0]
["AMPUTADOS POR DIABETES",0,0,0]
["CARDIOVASCULAR",0,0,0]
["RESPIRATORIO",0,0,0]
["NEUROMUSCULARES AGUDAS",0,0,0]
["NEUROMUSCULARES CRÓNICAS",0,0,0]
["REUMATOLÓGICAS",{"$f":"SUM(C156+D156)","v":0},{"$f":"SUM(E156+G156+I156+K156+M156+O156+Q156+S156+U156+W156+Y156+AA156+AC156+AE156+AG156+AI156+AK156+AM156+AO156)","v":0},{"$f":"SUM(F156+H156+J156+L156+N156+P156+R156+T156+V156+X156+Z156+AB156+AD156+AF156+AH156+AJ156+AL156+AN156+AP156)","v":0}]
["NEUROLÓGICAS ESCLEROSIS LATERAL AMIOTRÓFICA (ELA)",{"$f":"SUM(C157+D157)","v":0},{"$f":"SUM(E157+G157+I157+K157+M157+O157+Q157+S157+U157+W157+Y157+AA157+AC157+AE157+AG157+AI157+AK157+AM157+AO157)","v":0},{"$f":"SUM(F157+H157+J157+L157+N157+P157+R157+T157+V157+X157+Z157+AB157+AD157+AF157+AH157+AJ157+AL157+AN157+AP157)","v":0}]
["RETRASO EN EL DESARROLLO PSICOMOTOR",0,0,0]
["ONCOLÓGICOS ",0,0,0]
["SINDROME DE INMOVILIZACIÓN",0,0,0]
["CUIDADOS PALIATIVOS",0,0,0]
["OTROS",0,0,0]
["EGRESOS",{"$f":"SUM(B164:B168)","v":0},{"$f":"SUM(C164:C168)","v":0},{"$f":"SUM(D164:D168)","v":0},{"$f":"SUM(E164:E168)","v":0},{"$f":"SUM(F164:F168)","v":0},0,0,0,0,0,0,0,0,0,0,0,0,0,0,0,0,0,0,0,0,0,0,0,0,0,0,0,0,0,0,0,0,0,0,0,0,0,0,0]
["EGRESOS POR ALTA",{"$f":"SUM(C164+D164)","v":0},{"$f":"SUM(E164+G164+I164+K164+M164+O164+Q164+S164+U164+W164+Y164+AA164+AC164+AE164+AG164+AI164+AK164+AM164+AO164)","v":0},{"$f":"SUM(F164+H164+J164+L164+N164+P164+R164+T164+V164+X164+Z164+AB164+AD164+AF164+AH164+AJ164+AL164+AN164+AP164)","v":0}]
["EGRESOS POR ABANDONO",0,0,0]
["EGRESOS POR FALLECIMIENTO",0,0,0]
["EGRESOS ACV REFERIDO A APS",0,0,0]
["OTROS",0,0,0]
["SECCIÓN B.2: EVALUACIÓN INICIAL"]
["PROFESIONAL","TOTAL      ",null,null,"POR DE EDAD (en años)",null,null,null,null,null,null,null,null,null,null,null,null,null,null,null,null,null,null,null,null,null,null,null,null,null,null,null,null,null,null,null,null,null,null,null,null,null,"Beneficiarios","Interconsultas a \nHospitalizados\n(en sala)"]
[null,null,null,null,"< 12 meses",null,"12 a 23 meses",null,"2 - 4",null,"5 - 9",null,"10 - 14",null,"15 - 19 ",null,"20 - 24 ",null,"25-29",null,"30-34",null,"35 - 39",null,"40 - 44",null,"45- 49",null,"50 - 54",null,"55 - 59",null,"60 - 64",null,"65 - 69",null,"70 - 74",null,"75 - 79",null,"80 y mas"]
[null,"Ambos Sexos","Hombres","Mujeres","Hombres","Mujeres","Hombres","Mujeres","Hombres","Mujeres","Hombres","Mujeres","Hombres","Mujeres","Hombres","Mujeres","Hombres","Mujeres","Hombres","Mujeres","Hombres","Mujeres","Hombres","Mujeres","Hombres","Mujeres","Hombres","Mujeres","Hombres","Mujeres","Hombres","Mujeres","Hombres","Mujeres","Hombres","Mujeres","Hombres","Mujeres","Hombres","Mujeres","Hombres","Mujeres"]
["KINESIÓLOGO",{"$f":"SUM(C173+D173)","v":0},{"$f":"SUM(E173+G173+I173+K173+M173+O173+Q173+S173+U173+W173+Y173+AA173+AC173+AE173+AG173+AI173+AK173+AM173+AO173)","v":0},{"$f":"SUM(F173+H173+J173+L173+N173+P173+R173+T173+V173+X173+Z173+AB173+AD173+AF173+AH173+AJ173+AL173+AN173+AP173)","v":0}]
["TERAPEUTA OCUPACIONAL",0,0,0]
["FONOAUDIÓLOGO",0,0,0]
["PSICÓLOGO/A",0,0,0]
["ASISTENTE SOCIAL",0,0,0]
["ORTOPROTESISTA",0,0,{"$f":"SUM(F178+H178+J178+L178+N178+P178+R178+T178+V178+X178+Z178+AB178+AD178+AF178+AH178+AJ178+AL178+AN178+AP178)","v":0}]
["TOTAL",{"$f":"SUM(B173:B178)","v":0},{"$f":"SUM(C173:C178)","v":0},{"$f":"SUM(D173:D178)","v":0},{"$f":"SUM(E173:E178)","v":0},{"$f":"SUM(F173:F178)","v":0},{"$f":"SUM(G173:G178)","v":0},0,0,0,0,0,0,0,0,0,0,0,0,0,0,0,0,0,0,0,0,0,0,0,0,0,0,0,0,0,0,0,0,0,0,0,0,0]
["SECCIÓN B.3: EVALUACION INTERMEDIA"]
["PROFESIONAL","TOTAL      "]
["KINESIÓLOGO"]
["TERAPEUTA OCUPACIONAL"]
["FONOAUDIÓLOGO"]
["PSICÓLOGO/A"]
["ORTOPROTESISTA"]
["TOTAL",{"$f":"SUM(B182:B186)","v":0}]
["SECCIÓN B.4: SESIONES DE REHABILITACIÓN"]
["PROFESIONAL","TOTAL      "]
["KINESIÓLOGO"]
["TERAPEUTA OCUPACIONAL"]
["FONOAUDIÓLOGO"]
["PSICÓLOGO/A"]
["TOTAL",{"$f":"SUM(B190:B193)","v":0}]
["SECCION B.5: DERIVACIONES Y CONTINUIDAD EN LOS CUIDADOS"]
["DERIVACIÓN","TOTAL      "]
["A OTRO HOSPITAL (hospitalizado)"]
["A NIVEL SECUNDARIO (ambulatorio)"]
["A NIVEL PRIMARIO"]
["SECCION B.6: PROCEDIMIENTOS Y OTRAS ACTIVIDADES"]
["TIPO","TOTAL"]
["EVALUACIÓN AYUDAS TÉCNICAS"]
["ENTRENAMIENTO DE AYUDAS TECNICAS"]
["FISIOTERAPIA"]
["TRATAMIENTO COMPRESIVO"]
["ENTRENAMIENTO PROTÉSICO"]
["EDUCACIÓN GRUPAL"]
["EDUCACIÓN FAMILIAR"]
["ASPIRACIÓN"]
["EJERCICIOS TERAPÉUTICOS"]
["EVALUACIÓN DEL HABLA Y LENGUAJE"]
["TRATAMIENTO (VOZ, HABLA Y/O LENGUAJE)"]
["TRATAMIENTO FUNCIONES MOTORAS ORALES "]
["ESTIMULACIÓN COGNITIVA"]
["PREVENCIÓN DE DETERIORO DE ÓRGANOS FONO ARTICULATORIOS (OFA)"]
["EVALUACIÓN DE DISFAGIA"]
["REHABILITACIÓN DISFAGIA"]
["CONFECCIÓN ÓRTESIS Y/O ADAPTACIONES"]
["HABILITACIÓN Y REHABILITACIÓN EN ACTIVIDADES DE LA VIDA DIARIA (AVD)"]
["HABILITACIÓN Y REHABILITACIÓN EDUCACIONAL"]
["ACTIVIDADES RECREATIVAS"]
["ACTIVIDADES TERAPÉUTICAS"]
["INTEGRACIÓN SENSORIAL"]
["PSICOTERAPIA "]
["MASOTERAPIA"]
["ADAPTACIÓN DEL HOGAR"]
["ORIENTACIÓN Y MOVILIDAD"]
["ORIENTACIÓN SOCIOLABORAL"]
["ORIENTACIÓN FAMILIAR Y A LA RED DE APOYO PARA EL TRABAJO"]
["GESTIÓN DE LA RED LOCAL PARA EL TRABAJO"]
["TOMA DE MOLDE DE ÓRTESIS Y PRÓTESIS"]
["PRUEBA DE ÓRTESIS Y PRÓTESIS"]
["CONFECCIÓN DE ÓRTESIS Y PRÓTESIS"]
["REPARACIÓN DE ÓRTESIS Y PRÓTESIS"]
["REHABILITACIÓN AUDITIVA INDIVIDUAL"]
["REHABILITACIÓN AUDITIVA GRUPAL"]
["TOTAL",{"$f":"SUM(B202:B236)","v":0}]
["SECCION C: : NÚMERO DE AYUDAS TÉCNICAS ENTREGADAS POR TIPO"]
["AYUDAS TÉCNICAS","TOTAL",null,null,"< 12 meses",null,"12 a 23 meses",null,"2 - 4",null,"5 - 9",null,"10 - 14",null,"15 - 19 ",null,"20 - 24 ",null,"25-29",null,"30-34",null,"35 - 39",null,"40 - 44",null,"45- 49",null,"50 - 54",null,"55 - 59",null,"60 - 64",null,"65 - 69",null,"70 - 74",null,"75 - 79",null,"80 y mas"]
[null,"Ambos Sexos","Hombres","Mujeres","Hombres","Mujeres","Hombres","Mujeres","Hombres","Mujeres","Hombres","Mujeres","Hombres","Mujeres","Hombres","Mujeres","Hombres","Mujeres","Hombres","Mujeres","Hombres","Mujeres","Hombres","Mujeres","Hombres","Mujeres","Hombres","Mujeres","Hombres","Mujeres","Hombres","Mujeres","Hombres","Mujeres","Hombres","Mujeres","Hombres","Mujeres","Hombres","Mujeres","Hombres","Mujeres"]
["Número de personas con Ayuda técnica entregada"]
["NÚMERO DE PERSONAS CON AYUDA TÉCNICA ENTREGADA",{"$f":"SUM(C242:D242)","v":0},{"$f":"+E242+G242+I242+K242+M242+O242+Q242+S242+U242+W242+Y242+AA242+AC242+AE242+AG242+AI242+AK242+AM242+AO242","v":0},{"$f":"+F242+H242+J242+L242+N242+P242+R242+T242+V242+X242+Z242+AB242+AD242+AF242+AH242+AJ242+AL242+AN242+AP242","v":0}]
["TIPOS DE AYUDAS TÉCNICAS"]
["SILLAS DE RUEDAS ESTANDAR",{"$f":"SUM(C244:D244)","v":0},{"$f":"+E244+G244+I244+K244+M244+O244+Q244+S244+U244+W244+Y244+AA244+AC244+AE244+AG244+AI244+AK244+AM244+AO244","v":0},{"$f":"+F244+H244+J244+L244+N244+P244+R244+T244+V244+X244+Z244+AB244+AD244+AF244+AH244+AJ244+AL244+AN244+AP244","v":0}]
["SILLA DE RUEDAS NEUROLOGICA",0,{"$f":"+E245+G245+I245+K245+M245+O245+Q245+S245+U245+W245+Y245+AA245+AC245+AE245+AG245+AI245+AK245+AM245+AO245","v":0},0]
["COJIN ANTI ESCARAS",0,0,0]
["COLCHÓN ANTI ESCARAS",0,0,0]
["BASTONES",0,0,0]
["ANDADORES",0,0,0]
["CORSÉ",0,0,{"$f":"+F250+H250+J250+L250+N250+P250+R250+T250+V250+X250+Z250+AB250+AD250+AF250+AH250+AJ250+AL250+AN250+AP250","v":0}]
["ORTESIS BAJA TEMPERATURA (palmeta, cock up, digitales entre otras)",0,0,0]
["ORTESIS ALTA TEMPERATURA (OTP, canaletas, canaleta con yugo, entre otras)",0,0,{"$f":"+F252+H252+J252+L252+N252+P252+R252+T252+V252+X252+Z252+AB252+AD252+AF252+AH252+AJ252+AL252+AN252+AP252","v":0}]
["SISTEMA COMPRESIVO",0,0,0]
["PROTESIS EXTREMIDAD INFERIOR",0,0,0]
["PROTESIS EXTREMIDAD SUPERIOR",0,0,0]
["AYUDA TÉCNICA AUDITIVAS AUDIFONOS",0,0,0]
["AYUDA TÉCNICA VISUALES LENTES",0,0,0]
["SECCION C.1: : PERSONAS CON CONDICIÓN DE SALUD QUE RECIBE  AYUDAS TÉCNICAS"]
["CONDICIÓN DE SALUD","TOTAL",null,null,"< 12 meses",null,"12 a 23 meses",null,"2 - 4",null,"5 - 9",null,"10 - 14",null,"15 - 19 ",null,"20 - 24 ",null,"25-29",null,"30-34",null,"35 - 39",null,"40 - 44",null,"45- 49",null,"50 - 54",null,"55 - 59",null,"60 - 64",null,"65 - 69",null,"70 - 74",null,"75 - 79",null,"80 y mas"]
[null,"Ambos Sexos","Hombres","Mujeres","Hombres","Mujeres","Hombres","Mujeres","Hombres","Mujeres","Hombres","Mujeres","Hombres","Mujeres","Hombres","Mujeres","Hombres","Mujeres","Hombres","Mujeres","Hombres","Mujeres","Hombres","Mujeres","Hombres","Mujeres","Hombres","Mujeres","Hombres","Mujeres","Hombres","Mujeres","Hombres","Mujeres","Hombres","Mujeres","Hombres","Mujeres","Hombres","Mujeres","Hombres","Mujeres"]
["NÚMERO DE PERSONAS CON AYUDA TÉCNICA ENTREGADA",{"$f":"SUM(C261:D261)","v":0},{"$f":"+E261+G261+I261+K261+M261+O261+Q261+S261+U261+W261+Y261+AA261+AC261+AE261+AG261+AI261+AK261+AM261+AO261","v":0},{"$f":"+F261+H261+J261+L261+N261+P261+R261+T261+V261+X261+Z261+AB261+AD261+AF261+AH261+AJ261+AL261+AN261+AP261","v":0}]
["CONDICIONES DE SALUD"]
["NEUROLÓGICO  TRAUMATISMO ENCÉFALO CRANEANO ",{"$f":"SUM(C263:D263)","v":0},{"$f":"+E263+G263+I263+K263+M263+O263+Q263+S263+U263+W263+Y263+AA263+AC263+AE263+AG263+AI263+AK263+AM263+AO263","v":0},{"$f":"+F263+H263+J263+L263+N263+P263+R263+T263+V263+X263+Z263+AB263+AD263+AF263+AH263+AJ263+AL263+AN263+AP263","v":0}]
["NEUROLÓGICOS DISRAFIA",0,0,0]
["NEUROLÓGICO LESIÓN MEDULAR",0,0,0]
["NEUROLÓGICO ACCIDENTE CEREBRO VASCULAR HEMORRAGICO",0,0,0]
["NEUROLÓGICO ACCIDENTE CEREBRO VASCULAR  ISQUÉMICO",0,0,0]
["NEUROLÓGICO TUMORES",0,0,0]
["NEUROLÓGICO PARALISIS CEREBRAL",0,0,0]
["NEUROLÓGICO PARKINSON",0,0,0]
["NEUROLÓGICO ESCLEROSIS LATERAL AMIOTRÓFICA",0,0,0]
["OTROS NEUROLÓGICOS ",0,0,0]
["ARTROSIS CADERA/RODILLA GES",0,0,0]
["ARTROSIS CADERA/RODILLA NO GES",0,0,0]
["OTRAS ARTROSIS  (hombro, columna)",0,0,0]
["AMPUTACIÓN POR DIABETES",0,0,0]
["AMPUTACIÓN POR OTRAS CAUSAS",0,0,0]
["ONCOLÓGICOS",0,0,0]
["CUIDADOS PALIATIVOS",0,0,0]
["QUEMADOS",0,0,0]
["SENSORIAL AUDITIVO",0,0,0]
["SENSORIAL VISUAL",0,0,0]
["OTRAS CONDICIONES DE SALUD",0,0,0]
[]
[]
[]
[]
[]
[]
[{"$f":"SUM(B13:B26,#REF!,B66,B73,B80,#REF!,B88:E88,B96:E96,C100:C101,D105:D106,B110:B112,B138,B164:B168,B179,B187,B194,B237,C116:J132,B163:AS163,#REF!,B197:B199,B139,B140:B162)","v":{"$error":"#REF!"}}]
[null,{"$f":"SUM(CG6:CT207)","v":{"$error":"#REF!"}}]

{"sheet":"A29","index":20,"n_rows":230,"n_cols":82,"rows_kept":230,"cut":false,"hidden":false,"merged":[[58,5,59,6],[58,3,59,4],[25,2,26,2],[25,3,25,11],[47,0,50,0],[35,0,37,0],[38,0,40,0],[58,2,60,2],[58,0,60,1],[25,12,25,14],[64,3,65,3],[66,0,80,0],[66,1,66,2],[67,1,67,2],[68,1,68,2],[69,1,69,2],[76,1,76,2],[77,1,77,2],[78,1,78,2],[79,1,79,2],[70,1,70,2],[64,0,65,0],[64,1,65,2],[61,0,61,1],[62,0,62,1],[81,1,81,2],[81,0,88,0],[82,1,82,2],[88,1,88,2],[71,1,71,2],[72,1,72,2],[73,1,73,2],[83,1,83,2],[84,1,84,2],[85,1,85,2],[86,1,86,2],[87,1,87,2],[80,1,80,2],[75,1,75,2],[74,1,74,2],[5,0,5,19],[8,0,9,1],[8,2,8,4],[8,5,8,6],[8,7,8,8],[8,9,8,10],[8,11,8,12],[8,13,8,14],[10,0,10,1],[11,0,11,1],[12,0,12,1],[13,0,13,1],[55,0,56,0],[41,0,46,0],[25,0,26,1],[51,0,54,0],[14,0,14,1],[19,0,19,1],[22,0,22,1],[27,0,34,0]]}
["SERVICIO DE SALUD"]
[{"$f":"CONCATENATE(\"COMUNA: \",NOMBRE!B2,\" - \",\"( \",NOMBRE!C2,NOMBRE!D2,NOMBRE!E2,NOMBRE!F2,NOMBRE!G2,\" )\")","v":"COMUNA:  - (  )"}]
[{"$f":"CONCATENATE(\"ESTABLECIMIENTO/ESTRATEGIA: \",NOMBRE!B3,\" - \",\"( \",NOMBRE!C3,NOMBRE!D3,NOMBRE!E3,NOMBRE!F3,NOMBRE!G3,NOMBRE!H3,\" )\")","v":"ESTABLECIMIENTO/ESTRATEGIA:  - (  )"}]
[{"$f":"CONCATENATE(\"MES: \",NOMBRE!B6,\" - \",\"( \",NOMBRE!C6,NOMBRE!D6,\" )\")","v":"MES:  - (  )"}]
[{"$f":"CONCATENATE(\"AÑO: \",NOMBRE!B7)","v":"AÑO: 2019"}]
["REM-29.  PROGRAMA DE IMÁGENES DIAGNÓSTICAS Y/O RESOLUTIVIDAD EN ATENCION PRIMARIA"]
[]
["SECCIÓN A: PROGRAMA DE RESOLUTIVIDAD ATENCIÓN PRIMARIA DE SALUD"]
["CONSULTAS",null,"TOTAL",null,null,"<15",null,"15 - 19",null,"20 - 64",null,"65 Y MÁS",null,"TOTAL INTERCONSULTAS GENERADAS EN APS PARA RESOLUCION POR ESPECIALIDAD"]
[null,null,"Ambos Sexos","Hombres","Mujeres","Hombres","Mujeres","Hombres","Mujeres","Hombres","Mujeres","Hombres","Mujeres","Menos 15 años","15 y más años"]
["CONSULTAS MÉDICAS DE ESPECIALIDADES"]
["OFTALMOLOGÍA ",null,{"$f":"SUM(D12+E12)","v":0},{"$f":"SUM(F12+H12+J12+L12)","v":0},{"$f":"SUM(G12+I12+K12+M12)","v":0}]
["OTORRINOLARINGOLOGÍA/UAPORRINO",null,{"$f":"SUM(D13+E13)","v":0},{"$f":"SUM(F13+H13+J13+L13)","v":0},{"$f":"SUM(G13+I13+K13+M13)","v":0}]
["CONSULTAS OTROS PROFESIONALES"]
["TECNÓLOGO MÉDICO POR VICIO DE REFRACCIÓN ",null,{"$f":"SUM(D15+E15)","v":0},{"$f":"SUM(F15+H15+J15+L15)","v":0},{"$f":"SUM(G15+I15+K15+M15)","v":0}]
["TECNÓLOGO MÉDICO (OFTALMOLOGIA) OTRAS CONSULTAS ",null,{"$f":"SUM(D16+E16)","v":0},{"$f":"SUM(F16+H16+J16+L16)","v":0},{"$f":"SUM(G16+I16+K16+M16)","v":0}]
["TECNÓLOGO MÉDICO POR HIPOACUSIA (UAPORRINO)",null,{"$f":"SUM(D17+E17)","v":0},{"$f":"SUM(F17+H17+J17+L17)","v":0},{"$f":"SUM(G17+I17+K17+M17)","v":0}]
["TECNÓLOGO MÉDICO OTRAS CONSULTAS (UAPORRINO)",null,0,0,0]
["FONOAUDIOLOGO (UAPORRRINO) ",null,0,0,0]
["INGRESOS Y EGRESOS GLAUCOMA UAPO"]
["INGRESOS GLAUCOMA UAPO",null,{"$f":"SUM(D21+E21)","v":0},{"$f":"SUM(F21+H21+J21+L21)","v":0},{"$f":"SUM(G21+I21+K21+M21)","v":0}]
["EGRESOS GLAUCOMA UAPO",null,{"$f":"SUM(D22+E22)","v":0},{"$f":"SUM(F22+H22+J22+L22)","v":0},{"$f":"SUM(G22+I22+K22+M22)","v":0}]
["Controles Glaucoma UAPO"]
["MÉDICO",null,{"$f":"SUM(D24+E24)","v":0},{"$f":"SUM(F24+H24+J24+L24)","v":0},{"$f":"SUM(G24+I24+K24+M24)","v":0}]
["SECCIÓN B: PROCEDIMIENTOS DE IMÁGENES DIAGNOSTICAS Y PROGRAMA DE RESOLUTIVIDAD EN APS  "]
["TIPO DE EXAMEN Y PROCEDIMIENTO DIAGNOSTICO",null,"TOTAL","POR EDAD (EN AÑOS)",null,null,null,null,null,null,null,null,"MODALIDAD"]
[null,null,null,"< 35","35 A 49","50 a 54","55 a 59","60 a 64","65 a 69","70 a 74","75 a 79","80 y más","INSTITUCIONAL","COMPRA AL SISTEMA","COMPRA EXTRASISTEMA"]
["MAMOGRAFÍA","SOLICITADAS",{"$f":"SUM(D28:L28)","v":0}]
[null,"INFORMADAS",{"$f":"SUM(D29:L29)","v":0},{"$f":"SUM(D30:D34)","v":0},{"$f":"SUM(E30:E34)","v":0},{"$f":"SUM(F30:F34)","v":0},0,0,0,0,0,0,null,null,null,null,null,null,null,null,null,null,null,null,null,null,null,null,null,null,null,null,null,null,null,null,null,null,null,null,null,null,null,null,null,null,null,null,null,null,null,null,null,null,null,null,null,null,null,null,null,null,null,null,null,null,null,null,null,null,null,null,null,null,null,null,null,null,null,null,null,0]
[null,"CON BIRADS 0",{"$f":"SUM(D30:L30)","v":0}]
[null,"CON BIRADS 1 o 2",{"$f":"SUM(D31:L31)","v":0}]
[null,"CON BIRADS  3",0]
[null,"CON BIRADS  4, 5 o 6",0]
[null,"SIN INFORME BIRADS",0]
[null,"MAGNIFICACIONES",0]
["ECOTOMOGRAFÍA MAMARIA","SOLICITADAS",0]
[null,"INFORMADAS",0,null,null,null,null,null,null,null,null,null,null,null,null,null,null,null,null,null,null,null,null,null,null,null,null,null,null,null,null,null,null,null,null,null,null,null,null,null,null,null,null,null,null,null,null,null,null,null,null,null,null,null,null,null,null,null,null,null,null,null,null,null,null,null,null,null,null,null,null,null,null,null,null,null,null,null,null,null,null,0]
[null,"CON INFORME DE SOSPECHA DE MALIGNIDAD",0]
["ECOTOMOGRAFÍA ABDOMINAL","SOLICITADAS",0]
[null,"INFORMADAS",0,null,null,null,null,null,null,null,null,null,null,null,null,null,null,null,null,null,null,null,null,null,null,null,null,null,null,null,null,null,null,null,null,null,null,null,null,null,null,null,null,null,null,null,null,null,null,null,null,null,null,null,null,null,null,null,null,null,null,null,null,null,null,null,null,null,null,null,null,null,null,null,null,null,null,null,null,null,null,0]
[null,"CON RESULTADO LITIASIS BILIAR",0]
["ENDOSCOPIA DIGESTIVA ALTA","SOLICITADAS",0]
[null,"INFORMADAS",0,null,null,null,null,null,null,null,null,null,null,null,null,null,null,null,null,null,null,null,null,null,null,null,null,null,null,null,null,null,null,null,null,null,null,null,null,null,null,null,null,null,null,null,null,null,null,null,null,null,null,null,null,null,null,null,null,null,null,null,null,null,null,null,null,null,null,null,null,null,null,null,null,null,null,null,null,null,null,0]
[null,"TOMA DE BIOPSIA",0]
[null,"CON INFORME DE SOSPECHA DE MALIGNIDAD",0]
[null,"TEST DE UREASA SOLICITADAS",0]
[null,"TEST DE UREASA POSITIVAS (+) H PYLORI",0]
["CIRUGÍA MENOR","SOLICITADAS",0]
[null,"REALIZADAS",0,null,null,null,null,null,null,null,null,null,null,null,null,null,null,null,null,null,null,null,null,null,null,null,null,null,null,null,null,null,null,null,null,null,null,null,null,null,null,null,null,null,null,null,null,null,null,null,null,null,null,null,null,null,null,null,null,null,null,null,null,null,null,null,null,null,null,null,null,null,null,null,null,null,null,null,null,null,null,0]
[null,"BIOPSIAS DE CIRUGÍA MENOR ENVIADAS A ANATOMÍA PATOLÓGICA",0]
[null,"N° BIOPSIAS DE CIRUGÍA MENOR CON INFORME DE SOSPECHA DE MALIGNIDAD",0]
["RADIOGRAFIA TORAX POR SOSPECHA NEUMONIA Y SOSPECHA DE OTRA PATOLOGÍA RESPIRATORIA CRONICA","SOLICITADAS"]
[null,"REALIZADAS",{"$f":"SUM(D53:L53)","v":0},{"$f":"SUM(D54:D55)","v":0},{"$f":"SUM(E54:E55)","v":0},0,0,0,0,0,0,0,null,null,null,null,null,null,null,null,null,null,null,null,null,null,null,null,null,null,null,null,null,null,null,null,null,null,null,null,null,null,null,null,null,null,null,null,null,null,null,null,null,null,null,null,null,null,null,null,null,null,null,null,null,null,null,null,null,null,null,null,null,null,null,null,null,null,null,null,null,0]
[null,"ANTERO POSTERIOR (FRONTAL)",0]
[null,"ANTERO POSTERIOR  Y LATERAL",0]
["RADIOGRAFÍA DE CADERAS 3-6 MESES (SCREENING) ","SOLICITADAS"]
[null,"INFORMADAS",null,null,null,null,null,null,null,null,null,null,null,null,null,null,null,null,null,null,null,null,null,null,null,null,null,null,null,null,null,null,null,null,null,null,null,null,null,null,null,null,null,null,null,null,null,null,null,null,null,null,null,null,null,null,null,null,null,null,null,null,null,null,null,null,null,null,null,null,null,null,null,null,null,null,null,null,null,null,null,0]
["SECCIÓN C: ENTREGA DE AYUDAS TÉCNICAS"]
["CONCEPTO",null,"Ambos Sexos","< 65 Años",null,"De 65 años y más"]
[]
[null,null,null,"Hombres","Mujeres","Hombres","Mujeres"]
["LENTES (Entregados)",null,{"$f":"+D62+E62+F62+G62","v":0}]
["AUDIFONOS (Entregados)",null,{"$f":"+D63+E63+F63+G63","v":0}]
["SECCIÓN D: PROCEDIMIENTOS APOYO CLÍNICO Y TERAPÉUTICO"]
["ESPECIALIDAD","PROCEDIMIENTOS",null,"TOTAL"]
[]
["OFTALMOLOGÍA","CUANTIFICACIÓN DE LAGRIMACIÓN (TEST DE SCHIMER), UNO O AMBOS OJOS"]
[null,"CURVA DE TENSIÓN APLANÁTICA (POR CADA DÍA), C/OJO"]
[null,"DISPLOSCOPIA CUANTITATIVA, AMBOS OJOS"]
[null,"EXPLORACIÓN SENSORIOMOTORA: ESTRABISMO, ESTUDIO COMPLETO, AMBOS OJOS"]
[null,"RETINOGRAFÍA, AMBOS OJOS"]
[null,"TONOMETRÍA APLANÁTICA C/OJO"]
[null,"TRATAMIENTO ORTÓPTICO Y/O PLEÓPTICO (POR SESIÓN), AMBOS OJOS"]
[null,"EXPLORACIÓN VITREORRETINAL, AMBOS OJOS (FONDO DE OJO)"]
[null,"CUERPO EXTRAÑO CONJUNTIVAL Y/O CORNEAL"]
[null,"CAMPIMETRÍA COMPUTARIZADA, C/OJO (EN UAPO)"]
[null,"TOMOGRAFIA COHERENTE OPTICA"]
[null,"PAQUIMETRIA"]
[null,"AUTOREFRACTOMIA"]
[null,"LENSOMETRIA"]
[null,"EXTRACCIÓN CUERPO EXTRAÑO OJO (EXCLUYE CONJUNTIVAL Y/O CORNEAL)"]
["OTORRINOLARINGOLOGÍA ","AUDIMETRÍAS (REALIZADAS)"]
[null,"IMPEDANCIOMETRÍA"]
[null,"SESIONES DE REHABILITACION AUTIDIVA GRUPAL"]
[null,"SESIONES DE REHABILITACION AUTIDIVA INDIVIDUAL"]
[null,"SESIONES DE REHABILITACION VESTIBULAR"]
[null,"EMISIONES OTOACUSTICAS"]
[null,"CALIBRACION AUDIFONOS"]
[null,"EXAMEN FUNCIONAL VIII PAR"]
[]
[]
[]
[]
[]
[]
[]
[]
[]
[]
[]
[]
[]
[]
[]
[]
[]
[]
[]
[]
[]
[]
[]
[]
[]
[]
[]
[]
[]
[]
[]
[]
[]
[]
[]
[]
[]
[]
[]
[]
[]
[]
[]
[]
[]
[]
[]
[]
[]
[]
[]
[]
[]
[]
[]
[]
[]
[]
[]
[]
[]
[]
[]
[]
[]
[]
[]
[]
[]
[]
[]
[]
[]
[]
[]
[]
[]
[]
[]
[]
[]
[]
[]
[]
[]
[]
[]
[]
[]
[]
[]
[]
[]
[]
[]
[]
[]
[]
[]
[]
[]
[]
[]
[]
[]
[]
[]
[]
[]
[]
[]
[]
[]
[]
[]
[]
[]
[]
[]
[]
[]
[]
[]
[]
[]
[]
[]
[]
[]
[]
[]
[]
[]
[]
[]
[]
[]
[]
[]
[]
[{"$f":"SUM(C12:C13,C15:C16,C21:C22,C24,C28:C57,C62:C63,D67:D89)","v":0},{"$f":"SUM(CD28:CE61)","v":0}]

{"sheet":"A30","index":21,"n_rows":178,"n_cols":27,"rows_kept":178,"cut":false,"hidden":false,"merged":[[13,9,13,12],[14,11,14,12],[119,8,119,9],[9,0,9,4],[101,16,101,19],[102,16,102,17],[102,18,102,19],[101,9,101,12],[101,13,101,15],[102,9,102,10],[102,11,102,12],[102,13,103,13],[102,14,102,15],[101,5,101,8],[102,1,102,2],[102,3,102,4],[102,5,102,6],[83,10,83,11],[83,5,83,7],[82,1,82,7],[83,12,83,14],[82,8,82,14],[84,4,85,4],[84,12,85,12],[84,13,84,14],[84,8,85,8],[84,9,85,9],[84,10,85,10],[84,11,85,11],[119,10,119,11],[117,8,118,11],[101,0,103,0],[117,1,117,7],[118,1,118,2],[118,3,118,4],[118,5,118,7],[117,0,120,0],[102,7,102,8],[101,1,101,4],[119,5,120,5],[119,6,119,7],[119,1,120,1],[119,2,120,2],[119,3,120,3],[119,4,120,4],[14,25,14,26],[14,20,15,20],[14,16,14,17],[13,13,13,15],[14,14,14,15],[13,20,13,22],[14,21,14,22],[13,23,13,26],[14,23,14,24],[13,16,13,19],[14,18,14,19],[14,13,15,13],[14,9,14,10],[78,3,78,4],[14,1,14,2],[14,3,14,4],[77,1,77,4],[14,5,14,6],[14,7,14,8],[78,1,78,2],[13,0,15,0],[83,3,83,4],[83,8,83,9],[77,0,79,0],[82,0,85,0],[13,1,13,4],[77,5,77,8],[78,5,78,6],[78,7,78,8],[83,1,83,2],[84,5,85,5],[84,6,84,7],[84,1,85,1],[84,2,85,2],[13,5,13,8],[84,3,85,3]]}
["SERVICIO DE SALUD"]
[{"$f":"CONCATENATE(\"COMUNA: \",NOMBRE!B2,\" - \",\"( \",NOMBRE!C2,NOMBRE!D2,NOMBRE!E2,NOMBRE!F2,NOMBRE!G2,\" )\")","v":"COMUNA:  - (  )"}]
[{"$f":"CONCATENATE(\"ESTABLECIMIENTO/ESTRATEGIA: \",NOMBRE!B3,\" - \",\"( \",NOMBRE!C3,NOMBRE!D3,NOMBRE!E3,NOMBRE!F3,NOMBRE!G3,NOMBRE!H3,\" )\")","v":"ESTABLECIMIENTO/ESTRATEGIA:  - (  )"}]
[{"$f":"CONCATENATE(\"MES: \",NOMBRE!B6,\" - \",\"( \",NOMBRE!C6,NOMBRE!D6,\" )\")","v":"MES:  - (  )"}]
[{"$f":"CONCATENATE(\"AÑO: \",NOMBRE!B7)","v":"AÑO: 2019"}]
[null,null,null,null,"REM-30: ATENCIONES POR TELEMEDICINA EN LA RED ASISTENCIAL"]
[]
[]
[]
["SECCION A: TELECONSULTA MEDICA DE ESPECIALIDAD "]
[]
[]
[]
["ESPECIALIDADES  ","TELECONSULTA  MEDICA DE ESPECIALIDAD AMBULATORIA  NUEVA",null,null,null,"TELECONSULTA MEDICA  DE ESPECIALIDAD AMBULATORIA  CONTROL ",null,null,null,"TOTAL TELECONSULTAS  MEDICAS AMBULATORIAS DE ESPECIALIDAD REALIZADAS  POR TELEMEDICINA",null,null,null,"MODALIDAD",null,null,"TELECONSULTA MEDICA DE ESPECIALIDAD REALIZADAS   A PACIENTES HOSPITALIZADOS ",null,null,null,"MODALIDAD",null,null,"CONSULTAS POR TELEMEDICINA SOLICITADAS DESDE APS O NIVEL SECUNDARIO RESUELTAS POR OTRO ESTABLECIMIENTO "]
[null,"MENORES DE 15 AÑOS ",null,"15 AÑOS Y MÁS",null,"MENORES DE 15 AÑOS ",null,"15 AÑOS Y MÁS",null,"MENORES DE 15 AÑOS ",null,"15 AÑOS Y MÁS",null,"Institucional","Compra de Servicio",null,"MENORES DE 15 AÑOS ",null,"15 AÑOS Y MÁS",null,"Institucional","Compra de Servicio",null,"MENORES DE 15 AÑOS ",null,"15 AÑOS Y MÁS"]
[null,"Hombres","Mujeres","Hombres","Mujeres","Hombres","Mujeres","Hombres","Mujeres","Hombres","Mujeres","Hombres","Mujeres",null,"Sistema","Extrasistema","Hombres","Mujeres","Hombres","Mujeres",null,"Sistema","Extrasistema","Hombres","Mujeres","Hombres","Mujeres"]
["TOTAL",{"$f":"SUM(B18:B74)","v":0},{"$f":"SUM(C18:C74)","v":0},0,0,0,0,0,0,{"$f":"SUM(J18:J74)","v":0},0,0,0,{"$f":"SUM(N18:N74)","v":0},{"$f":"SUM(O18:O74)","v":0},{"$f":"SUM(P18:P74)","v":0},0,0,0,0,0,0,0,0,0,0,0]
["PEDIATRÍA",null,null,null,null,null,null,null,null,{"$f":"SUM(B18+F18)","v":0},{"$f":"SUM(C18+G18)","v":0},{"$f":"SUM(D18+H18)","v":0},{"$f":"SUM(E18+I18)","v":0}]
["MEDICINA INTERNA",null,null,null,null,null,null,null,null,0,0,0,0]
["NEONATOLOGÍA",null,null,null,null,null,null,null,null,0,0,0,0]
["ENFERMEDAD RESPIRATORIA PEDIÁTRICA (BRONCOPULMONAR INFANTIL)",null,null,null,null,null,null,null,null,0,0,0,0]
["ENFERMEDAD RESPIRATORIA DE ADULTO (BRONCOPULMONAR)",null,null,null,null,null,null,null,null,0,0,0,0]
["CARDIOLOGÍA PEDIÁTRICA",null,null,null,null,null,null,null,null,0,0,0,0]
["CARDIOLOGÍA",null,null,null,null,null,null,null,null,0,0,0,0]
["ENDOCRINOLOGÍA PEDIÁTRICA",null,null,null,null,null,null,null,null,0,0,0,0]
["ENDOCRINOLOGÍA ADULTO",null,null,null,null,null,null,null,null,0,0,0,0]
["GASTROENTEROLOGÍA PEDIÁTRICA",null,null,null,null,null,null,null,null,0,0,0,0]
["GASTROENTEROLOGÍA ADULTO",null,null,null,null,null,null,null,null,0,0,0,0]
["GENÉTICA CLÍNICA",null,null,null,null,null,null,null,null,0,0,0,0]
["HEMATO-ONCOLOGÍA PEDIÁTRICA",null,null,null,null,null,null,null,null,0,0,0,0]
["HEMATOLOGÍA",null,null,null,null,null,null,null,null,0,0,0,0]
["NEFROLOGÍA PEDIÁTRICA",null,null,null,null,null,null,null,null,0,0,0,0]
["NEFROLOGÍA ADULTO",null,null,null,null,null,null,null,null,0,0,0,0]
["NUTRIÓLOGO PEDIÁTRICO",null,null,null,null,null,null,null,null,0,0,0,0]
["NUTRIÓLOGO",null,null,null,null,null,null,null,null,0,0,0,0]
["REUMATOLOGÍA PEDIÁTRICA",null,null,null,null,null,null,null,null,0,0,0,0]
["REUMATOLOGÍA",null,null,null,null,null,null,null,null,0,0,0,0]
["DERMATOLOGÍA",null,null,null,null,null,null,null,null,0,0,0,0]
["INFECTOLOGÍA PEDIÁTRICA",null,null,null,null,null,null,null,null,0,0,0,0]
["INFECTOLOGÍA",null,null,null,null,null,null,null,null,0,0,0,0]
["INMUNOLOGÍA",null,null,null,null,null,null,null,null,0,0,0,0]
["GERIATRÍA",null,null,null,null,null,null,null,null,0,0,0,0]
["MEDICINA FÍSICA Y REHABILITACIÓN PEDIÁTRICA (FISIATRÍA PEDIÁTRICA)",null,null,null,null,null,null,null,null,0,0,0,0]
["MEDICINA FÍSICA Y REHABILITACIÓN (FISIATRÍA ADULTO)",null,null,null,null,null,null,null,null,0,0,0,0]
["NEUROLOGÍA PEDIÁTRICA",null,null,null,null,null,null,null,null,0,0,0,0]
["NEUROLOGÍA",null,null,null,null,null,null,null,null,0,0,0,0]
["ONCOLOGÍA MÉDICA",null,null,null,null,null,null,null,null,0,0,0,0]
["PSIQUIATRÍA PEDIÁTRICA Y DE LA ADOLESCENCIA",null,null,null,null,null,null,null,null,0,0,0,0]
["PSIQUIATRÍA",null,null,null,null,null,null,null,null,0,0,0,0]
["CIRUGÍA PEDIÁTRICA",null,null,null,null,null,null,null,null,{"$f":"SUM(B50+F50)","v":0},{"$f":"SUM(C50+G50)","v":0},{"$f":"SUM(D50+H50)","v":0},{"$f":"SUM(E50+I50)","v":0}]
["CIRUGÍA GENERAL",null,null,null,null,null,null,null,null,0,0,0,0]
["CIRUGÍA DIGESTIVA",null,null,null,null,null,null,null,null,0,0,0,0]
["CIRUGÍA DE CABEZA, CUELLO Y MAXILOFACIAL",null,null,null,null,null,null,null,null,0,0,0,0]
["CIRUGÍA PLÁSTICA Y REPARADORA PEDIÁTRICA",null,null,null,null,null,null,null,null,0,0,0,0]
["CIRUGÍA PLÁSTICA Y REPARADORA",null,null,null,null,null,null,null,null,0,0,0,0]
["COLOPROCTOLOGÍA",null,null,null,null,null,null,null,null,0,0,0,0]
["CIRUGÍA TÓRAX",null,null,null,null,null,null,null,null,0,0,0,0]
["CIRUGÍA VASCULAR PERIFÉRICA",null,null,null,null,null,null,null,null,0,0,0,0]
["NEUROCIRUGÍA",null,null,null,null,null,null,null,null,0,0,0,0]
["CIRUGÍA CARDIOVASCULAR",null,null,null,null,null,null,null,null,0,0,0,0]
["ANESTESIOLOGÍA",null,null,null,null,null,null,null,null,0,0,0,0]
["OBSTETRICIA",null,null,null,null,null,null,null,null,0,0,0,0]
["GINECOLOGÍA PEDIÁTRICA Y DE LA ADOLESCENCIA",null,null,null,null,null,null,null,null,0,0,0,0]
["GINECOLOGÍA",null,null,null,null,null,null,null,null,0,0,0,0]
["OFTALMOLOGÍA",null,null,null,null,null,null,null,null,0,0,0,0]
["OTORRINOLARINGOLOGÍA",null,null,null,null,null,null,null,null,0,0,0,0]
["TRAUMATOLOGÍA Y ORTOPEDIA PEDIÁTRICA",null,null,null,null,null,null,null,null,0,0,0,0]
["TRAUMATOLOGÍA Y ORTOPEDIA",null,null,null,null,null,null,null,null,0,0,0,0]
["UROLOGÍA PEDIÁTRICA",null,null,null,null,null,null,null,null,0,0,0,0]
["UROLOGÍA",null,null,null,null,null,null,null,null,0,0,0,0]
["MEDICINA FAMILIAR DEL NIÑO",null,null,null,null,null,null,null,null,0,0,0,0]
["MEDICINA FAMILIAR",null,null,null,null,null,null,null,null,0,0,0,0]
["DIABETOLOGÍA",null,null,null,null,null,null,null,null,0,0,0,0]
["MEDICINA INTENSIVA",null,null,null,null,null,null,null,null,{"$f":"SUM(B74+F74)","v":0},0,0,0]
["IMAGENOLOGÍA",null,null,null,null,null,null,null,null,{"$f":"SUM(B75+F75)","v":0},{"$f":"SUM(C75+G75)","v":0},{"$f":"SUM(D75+H75)","v":0},{"$f":"SUM(E75+I75)","v":0}]
["RADIOTERAPIA ONCOLÓGICA",null,null,null,null,null,null,null,null,{"$f":"SUM(B76+F76)","v":0},{"$f":"SUM(C76+G76)","v":0},0,{"$f":"SUM(E76+I76)","v":0}]
["SECCIÓN B : TELECONSULTA MÉDICA EN ESTABLECIMIENTOS DE ATENCIÓN SECUNDARIA DE URGENCIA "]
["PROFESIONALES"," TELECONSULTA MEDICA DE URGENCIA DE UEH DE HOSPITALES DE ALTA Y MEDIANA COMPLEJIDAD",null,null,null,"CONSULTAS POR TELEMEDICINA SOLICITADAS DESDE APS O NIVEL SECUNDARIO RESUELTAS POR OTRO ESTABLECIMIENTO "]
[null,"MENORES DE 15 AÑOS ",null,"15 AÑOS Y MÁS",null,"MENORES DE 15 AÑOS ",null,"15 AÑOS Y MÁS"]
[null,"Hombres ","Mujeres","Hombres","Mujeres","Hombres","Mujeres","Hombres","Mujeres"]
["MÉDICO"]
["SECCIÓN C : TELEINFORMES  EN ESTABLECIMIENTOS DE ATENCIÓN PRIMARIA, SECUNDARIA Y TERCIARIA"]
["INFORMES REALIZADOS POR TELEMEDICINA ","ESTABLECIMIENTOS DE NIVEL PRIMARIO DE SALUD",null,null,null,null,null,null,"ESTABLECIMIENTOS DE NIVEL SECUNDARIO Y TERCIARIO"]
[null,"MENORES DE 15 AÑOS ",null,"15 AÑOS Y MÁS",null,"MODALIDAD",null,null,"MENORES DE 15 AÑOS ",null,"15 AÑOS Y MÁS",null,"MODALIDAD"]
[null,"Hombres","Mujeres","Hombres","Mujeres","Institucional","Compra de Servicio",null,"Hombres","Mujeres","Hombres","Mujeres","Institucional","Compra de Servicio"]
[null,null,null,null,null,null,"Sistema","Extrasistema",null,null,null,null,null,"Sistema","Extrasistema"]
["TOTAL EMISIONES DE INFORMES",{"$f":"SUM(B88:B100)","v":0},0,0,0,0,0,0,0,0,0,0,0,0,0]
["N° DE INFORMES ECOGRAFÍAS OBSTETRICA"]
["N° DE INFORMES ELECTROCARDIOGRAMA"]
["N° DE INFORMES ELECTROENCEFALOGRAMA"]
["N° DE INFORMES ESPIROMETRÍAS"]
["N° DE INFORMES FONDO DE OJO"]
["N° DE INFORMES HOLTER DE PRESIÓN ARTERIAL"]
["N° DE INFORMES TEST DE ESFUERZO"]
["N° DE INFORMES RADIOGRAFÍAS SIMPLES"]
["N° DE INFORMES RADIOGRAFÍAS DENTALES"]
["N° DE INFORMES DE TOMOGRAFÍA AXIAL COMPUTALIZADA"]
["N° DE INFORMES DE RESONANCIA MAGNÉTICA NUCLEAR"]
["N° DE INFORMES ECOGRAFIAS ABDOMINAL"]
["N° DE MAMOGRAFIAS"]
["SECCION D: TELECONSULTA AMBULATORIA EN ESPECIALIDAD ODONTOLOGICA"]
["ESPECIALIDADES ODONTOLOGICAS","TELECONSULTA  MEDICA DE ESPECIALIDAD AMBULATORIA  NUEVA",null,null,null,"TELECONSULTA MEDICA  DE ESPECIALIDAD AMBULATORIA  CONTROL ",null,null,null,"TOTAL TELECONSULTAS  MEDICAS AMBULATORIAS DE ESPECIALIDAD REALIZADAS  POR TELEMEDICINA",null,null,null,"MODALIDAD",null,null,"CONSULTAS POR TELEMEDICINA SOLICITADAS DESDE APS O NIVEL SECUNDARIO RESUELTAS POR OTRO ESTABLECIMIENTO "]
[null,"MENORES DE 15 AÑOS ",null,"15 AÑOS Y MÁS",null,"MENORES DE 15 AÑOS ",null,"15 AÑOS Y MÁS",null,"MENORES DE 15 AÑOS ",null,"15 AÑOS Y MÁS",null,"Institucional","Compra de Servicio",null,"MENORES DE 15 AÑOS ",null,"15 AÑOS Y MÁS"]
[null,"Hombres","Mujeres","Hombres","Mujeres","Hombres","Mujeres","Hombres","Mujeres","Hombres","Mujeres","Hombres","Mujeres",null,"Sistema","Extrasistema","Hombres","Mujeres","Hombres","Mujeres"]
["TOTAL",{"$f":"SUM(B106:B116)","v":0},0,0,0,0,0,0,0,0,0,0,0,0,0,0,0,0,0,0]
["CIRUGÍA BUCAL",null,null,null,null,null,null,null,null,{"$f":"SUM(B106+F106)","v":0},{"$f":"SUM(C106+G106)","v":0},{"$f":"SUM(D106+H106)","v":0},{"$f":"SUM(E106+I106)","v":0}]
["CIRUGÍA Y TRAUMATOLOGÍA MAXILOFACIAL",null,null,null,null,null,null,null,null,{"$f":"SUM(B107+F107)","v":0},{"$f":"SUM(C107+G107)","v":0},{"$f":"SUM(D107+H107)","v":0},{"$f":"SUM(E107+I107)","v":0}]
["ENDODONCIA",null,null,null,null,null,null,null,null,0,0,0,0]
["ODONTOPEDIATRÍA",null,null,null,null,null,null,null,null,0,0,0,0]
["ORTODONCIA Y ORTOPEDIA DENTO MAXILOFACIAL",null,null,null,null,null,null,null,null,0,0,0,0]
["PERIODONCIA",null,null,null,null,null,null,null,null,0,0,0,0]
["REHABILITACIÓN: PRÓTESIS FIJA",null,null,null,null,null,null,null,null,0,0,0,0]
["REHABILITACIÓN: PRÓTESIS REMOVIBLE",null,null,null,null,null,null,null,null,0,0,0,0]
["IMPLANTOLOGÍA BUCO MAXILOFACIAL",null,null,null,null,null,null,null,null,0,0,0,0]
["PATOLOGÍA ORAL",null,null,null,null,null,null,null,null,0,0,0,0]
["TRASTORNOS TEMPOROMANDIBULARES Y DOLOR OROFACIAL",null,null,null,null,null,null,null,null,0,0,0,0]
["SECCION E: TELEPROCEDIMIENTOS EN ATENCION SECUNDARIA Y TERCIARIA"]
["TELEPROCEDIMIENTOS","ESTABLECIMIENTOS DE NIVEL SECUNDARIO Y TERCIARIO",null,null,null,null,null,null,"PROCEDIMIENTOS POR TELEMEDICINA SOLICITADOS DESDE  NIVEL SECUNDARIO Y TERCIARIO Y RESUELTOS POR OTRO ESTABLECIMIENTO "]
[null,"MENORES DE 15 AÑOS ",null,"15 AÑOS Y MÁS",null,"MODALIDAD"]
[null,"Hombres","Mujeres","Hombres","Mujeres","Institucional","Compra de Servicio",null,"MENORES DE 15 AÑOS ",null,"15 AÑOS Y MÁS"]
[null,null,null,null,null,null,"Sistema","Extrasistema","Hombres","Mujeres","Hombres","Mujeres"]
["TOTAL",{"$f":"SUM(B123:B126)","v":0},0,0,0,0,0,0,0,0,0,0]
["ECOCARDIOGRAMA"]
["TROMBOLISIS DE URGENCIA INFARTO CEREBRAL (ACV)"]
["TROMBOLISIS INTRACORONARIA (IAM)"]
["ECOGRAFÍA GINECO-OBSTÉTRICA"]
[]
[]
[]
[]
[]
[]
[]
[]
[]
[]
[]
[]
[]
[]
[]
[]
[]
[]
[]
[]
[]
[]
[]
[]
[]
[]
[]
[]
[]
[]
[]
[]
[]
[]
[]
[]
[]
[]
[]
[]
[]
[]
[]
[]
[]
[]
[]
[]
[]
[]
[]
[{"$f":"SUM(B17:AA17,B81:I81,B87:O87, B105:T105,B122:L122)","v":0},0]

{"sheet":"A31","index":22,"n_rows":182,"n_cols":88,"rows_kept":182,"cut":false,"hidden":false,"merged":[[56,34,57,34],[56,35,57,35],[56,6,56,32],[56,36,57,36],[92,0,92,1],[84,0,84,1],[85,0,85,1],[86,0,86,1],[87,0,87,1],[91,0,91,1],[79,0,79,1],[80,0,80,1],[81,0,81,1],[82,0,82,1],[83,0,83,1],[74,0,74,1],[76,0,78,1],[76,2,77,4],[56,33,57,33],[58,0,58,1],[59,0,59,1],[60,0,60,1],[61,0,61,1],[76,39,78,39],[76,40,78,40],[76,41,78,41],[76,42,78,42],[77,5,77,6],[77,7,77,8],[77,9,77,10],[77,11,77,12],[77,13,77,14],[77,15,77,16],[77,17,77,18],[77,19,77,20],[77,21,77,22],[77,23,77,24],[77,25,77,26],[77,27,77,28],[76,5,76,38],[77,29,77,30],[77,31,77,32],[77,33,77,34],[77,35,77,36],[77,37,77,38],[38,32,39,32],[38,0,39,0],[38,1,39,1],[38,2,39,2],[38,3,39,3],[56,0,57,1],[56,3,57,3],[56,2,57,2],[38,4,39,4],[56,4,57,4],[56,5,57,5],[38,5,38,31],[38,33,39,33],[9,43,11,43],[9,44,11,44],[9,45,11,45],[30,41,32,41],[30,42,32,42],[30,43,32,43],[30,44,32,44],[30,45,32,45],[9,40,11,40],[9,42,11,42],[9,39,11,39],[30,38,32,38],[30,39,32,39],[31,34,31,35],[31,36,31,37],[30,40,32,40],[9,41,11,41],[38,34,39,34],[38,35,39,35],[10,31,10,32],[10,33,10,34],[10,35,10,36],[10,37,10,38],[9,5,9,38],[10,27,10,28],[10,21,10,22],[10,23,10,24],[10,25,10,26],[31,30,31,31],[31,32,31,33],[6,0,6,19],[9,0,11,1],[9,2,10,4],[10,17,10,18],[10,19,10,20],[10,7,10,8],[10,9,10,10],[10,11,10,12],[10,13,10,14],[10,15,10,16],[12,0,14,0],[10,5,10,6],[15,0,27,0],[28,0,28,1],[30,0,32,0],[30,1,31,3],[30,4,30,37],[31,4,31,5],[31,6,31,7],[31,8,31,9],[31,10,31,11],[10,29,10,30],[31,12,31,13],[31,14,31,15],[31,16,31,17],[31,18,31,19],[31,20,31,21],[31,22,31,23],[31,24,31,25],[31,26,31,27],[31,28,31,29]]}
["SERVICIO DE SALUD"]
[{"$f":"CONCATENATE(\"COMUNA: \",NOMBRE!B2,\" - \",\"( \",NOMBRE!C2,NOMBRE!D2,NOMBRE!E2,NOMBRE!F2,NOMBRE!G2,\" )\")","v":"COMUNA:  - (  )"}]
[{"$f":"CONCATENATE(\"ESTABLECIMIENTO/ESTRATEGIA: \",NOMBRE!B3,\" - \",\"( \",NOMBRE!C3,NOMBRE!D3,NOMBRE!E3,NOMBRE!F3,NOMBRE!G3,NOMBRE!H3,\" )\")","v":"ESTABLECIMIENTO/ESTRATEGIA:  - (  )"}]
[{"$f":"CONCATENATE(\"MES: \",NOMBRE!B6,\" - \",\"( \",NOMBRE!C6,NOMBRE!D6,\" )\")","v":"MES:  - (  )"}]
[{"$f":"CONCATENATE(\"AÑO: \",NOMBRE!B7)","v":"AÑO: 2019"}]
[]
["REM-31.  MEDICINA COMPLEMENTARIA"]
[]
["SECCIÓN A: TIPOS DE TERAPIAS ENTREGADAS EN ATENCIÓN INDIVIDUAL"]
["TIPO DE TERAPIA",null,"Total",null,null,"POR EDAD ",null,null,null,null,null,null,null,null,null,null,null,null,null,null,null,null,null,null,null,null,null,null,null,null,null,null,null,null,null,null,null,null,null,"Atenciones realizadas durante otras consultas","Beneficiarios","Pueblos Originarios","Migrantes","Niños, Niñas, Adolescentes y Jóvenes población SENAME","Ingresos","Controles"]
[null,null,null,null,null," 0  -  4",null," 5  -  9",null," 10 - 14  ",null,"15 a 19",null,"20 - 24",null,"25 - 29",null,"30 - 34",null,"35 - 39",null,"40 - 44",null,"45 - 49",null,"50 - 54",null,"55 - 59",null,"60 - 64",null,"65 - 69",null,"70 - 74",null,"75 - 79",null,"80 y mas"]
[null,null,"Ambos Sexos","Hombres","Mujeres","Hombres","Mujeres","Hombres","Mujeres","Hombres","Mujeres","Hombres","Mujeres","Hombres","Mujeres","Hombres","Mujeres","Hombres","Mujeres","Hombres","Mujeres","Hombres","Mujeres","Hombres","Mujeres","Hombres","Mujeres","Hombres","Mujeres","Hombres","Mujeres","Hombres","Mujeres","Hombres","Mujeres","Hombres","Mujeres","Hombres","Mujeres"]
["Reguladas","Acupuntura",{"$f":"+D13+E13","v":0},{"$f":"+F13+H13+J13+L13+N13+P13+R13+T13+V13+X13+Z13+AB13+AD13+AF13+AH13+AJ13+AL13","v":0},{"$f":"+G13+I13+K13+M13+O13+Q13+S13+U13+W13+Y13+AA13+AC13+AE13+AG13+AI13+AK13+AM13","v":0},null,null,null,null,null,null,null,null,null,null,null,null,null,null,null,null,null,null,null,null,null,null,null,null,null,null,null,null,null,null,null,null,null,null,null,null,null,null,null,null,null,null,null,null,null,null,null,null,null,null,null,null,null,null,null,null,null,null,null,null,null,null,null,null,null,null,null,null,null,null,null,null,null,null,null,null,null,null,null,0,0]
[null,"Homeopatía",{"$f":"+D14+E14","v":0},{"$f":"+F14+H14+J14+L14+N14+P14+R14+T14+V14+X14+Z14+AB14+AD14+AF14+AH14+AJ14+AL14","v":0},{"$f":"+G14+I14+K14+M14+O14+Q14+S14+U14+W14+Y14+AA14+AC14+AE14+AG14+AI14+AK14+AM14","v":0},null,null,null,null,null,null,null,null,null,null,null,null,null,null,null,null,null,null,null,null,null,null,null,null,null,null,null,null,null,null,null,null,null,null,null,null,null,null,null,null,null,null,null,null,null,null,null,null,null,null,null,null,null,null,null,null,null,null,null,null,null,null,null,null,null,null,null,null,null,null,null,null,null,null,null,null,null,null,null,0,0]
[null,"Naturopatía",0,0,0,null,null,null,null,null,null,null,null,null,null,null,null,null,null,null,null,null,null,null,null,null,null,null,null,null,null,null,null,null,null,null,null,null,null,null,null,null,null,null,null,null,null,null,null,null,null,null,null,null,null,null,null,null,null,null,null,null,null,null,null,null,null,null,null,null,null,null,null,null,null,null,null,null,null,null,null,null,null,null,0,0]
["No reguladas","Apiterapia",0,0,0,null,null,null,null,null,null,null,null,null,null,null,null,null,null,null,null,null,null,null,null,null,null,null,null,null,null,null,null,null,null,null,null,null,null,null,null,null,null,null,null,null,null,null,null,null,null,null,null,null,null,null,null,null,null,null,null,null,null,null,null,null,null,null,null,null,null,null,null,null,null,null,null,null,null,null,null,null,null,null,0,0]
[null,"Aurículoterapia",0,0,0,null,null,null,null,null,null,null,null,null,null,null,null,null,null,null,null,null,null,null,null,null,null,null,null,null,null,null,null,null,null,null,null,null,null,null,null,null,null,null,null,null,null,null,null,null,null,null,null,null,null,null,null,null,null,null,null,null,null,null,null,null,null,null,null,null,null,null,null,null,null,null,null,null,null,null,null,null,null,null,0,0]
[null,"Biomagnetismo",0,0,0,null,null,null,null,null,null,null,null,null,null,null,null,null,null,null,null,null,null,null,null,null,null,null,null,null,null,null,null,null,null,null,null,null,null,null,null,null,null,null,null,null,null,null,null,null,null,null,null,null,null,null,null,null,null,null,null,null,null,null,null,null,null,null,null,null,null,null,null,null,null,null,null,null,null,null,null,null,null,null,0,0]
[null,"Fitoterapia ",0,0,0,null,null,null,null,null,null,null,null,null,null,null,null,null,null,null,null,null,null,null,null,null,null,null,null,null,null,null,null,null,null,null,null,null,null,null,null,null,null,null,null,null,null,null,null,null,null,null,null,null,null,null,null,null,null,null,null,null,null,null,null,null,null,null,null,null,null,null,null,null,null,null,null,null,null,null,null,null,null,null,0,0]
[null,"Masoterapia",0,0,0,null,null,null,null,null,null,null,null,null,null,null,null,null,null,null,null,null,null,null,null,null,null,null,null,null,null,null,null,null,null,null,null,null,null,null,null,null,null,null,null,null,null,null,null,null,null,null,null,null,null,null,null,null,null,null,null,null,null,null,null,null,null,null,null,null,null,null,null,null,null,null,null,null,null,null,null,null,null,null,0,0]
[null,"Medicina Antroposófica",0,0,0,null,null,null,null,null,null,null,null,null,null,null,null,null,null,null,null,null,null,null,null,null,null,null,null,null,null,null,null,null,null,null,null,null,null,null,null,null,null,null,null,null,null,null,null,null,null,null,null,null,null,null,null,null,null,null,null,null,null,null,null,null,null,null,null,null,null,null,null,null,null,null,null,null,null,null,null,null,null,null,0,0]
[null,"Quiropraxia",0,0,0,null,null,null,null,null,null,null,null,null,null,null,null,null,null,null,null,null,null,null,null,null,null,null,null,null,null,null,null,null,null,null,null,null,null,null,null,null,null,null,null,null,null,null,null,null,null,null,null,null,null,null,null,null,null,null,null,null,null,null,null,null,null,null,null,null,null,null,null,null,null,null,null,null,null,null,null,null,null,null,0,0]
[null,"Reiki",0,0,0]
[null,"Sanación Pranica ",{"$f":"+D24+E24","v":0},{"$f":"+F24+H24+J24+L24+N24+P24+R24+T24+V24+X24+Z24+AB24+AD24+AF24+AH24+AJ24+AL24","v":0},0,null,null,null,null,null,null,null,null,null,null,null,null,null,null,null,null,null,null,null,null,null,null,null,null,null,null,null,null,null,null,null,null,null,null,null,null,null,null,null,null,null,null,null,null,null,null,null,null,null,null,null,null,null,null,null,null,null,null,null,null,null,null,null,null,null,null,null,null,null,null,null,null,null,null,null,null,null,null,null,0,0]
[null,"Sintergetica",0,0,0,null,null,null,null,null,null,null,null,null,null,null,null,null,null,null,null,null,null,null,null,null,null,null,null,null,null,null,null,null,null,null,null,null,null,null,null,null,null,null,null,null,null,null,null,null,null,null,null,null,null,null,null,null,null,null,null,null,null,null,null,null,null,null,null,null,null,null,null,null,null,null,null,null,null,null,null,null,null,null,0,0]
[null,"Terapia Floral",0,0,0,null,null,null,null,null,null,null,null,null,null,null,null,null,null,null,null,null,null,null,null,null,null,null,null,null,null,null,null,null,null,null,null,null,null,null,null,null,null,null,null,null,null,null,null,null,null,null,null,null,null,null,null,null,null,null,null,null,null,null,null,null,null,null,null,null,null,null,null,null,null,null,null,null,null,null,null,null,null,null,0,0]
[null,"Terapia Neural",0,0,0,null,null,null,null,null,null,null,null,null,null,null,null,null,null,null,null,null,null,null,null,null,null,null,null,null,null,null,null,null,null,null,null,null,null,null,null,null,null,null,null,null,null,null,null,null,null,null,null,null,null,null,null,null,null,null,null,null,null,null,null,null,null,null,null,null,null,null,null,null,null,null,null,null,null,null,null,null,null,null,0,0]
[null,"Otras",0,0,0,null,null,null,null,null,null,null,null,null,null,null,null,null,null,null,null,null,null,null,null,null,null,null,null,null,null,null,null,null,null,null,null,null,null,null,null,null,null,null,null,null,null,null,null,null,null,null,null,null,null,null,null,null,null,null,null,null,null,null,null,null,null,null,null,null,null,null,null,null,null,null,null,null,null,null,null,null,null,null,0,0]
["Total",null,{"$f":"SUM(D29:E29)","v":0},{"$f":"+F29+H29+J29+L29+N29+P29+R29+T29+V29+X29+Z29+AB29+AD29+AF29+AH29+AJ29+AL29","v":0},{"$f":"+G29+I29+K29+M29+O29+Q29+S29+U29+W29+Y29+AA29+AC29+AE29+AG29+AI29+AK29+AM29","v":0},{"$f":"SUM(F13:F28)","v":0},{"$f":"SUM(G13:G28)","v":0},{"$f":"SUM(H13:H28)","v":0},0,0,0,0,0,0,0,0,0,0,0,0,0,0,0,0,0,0,0,0,0,0,0,0,0,0,0,0,0,0,0,0,{"$f":"SUM(AO13:AO28)","v":0},{"$f":"SUM(AP13:AP28)","v":0},{"$f":"SUM(AQ13:AQ28)","v":0},{"$f":"SUM(AR13:AR28)","v":0},0,0]
["SECCIÓN B: PERSONAS QUE RECIBEN MEDICINAS O PRACTICAS COMPLEMENTARIAS"]
["GRUPO OBJETIVO","Total",null,null,"POR EDAD ",null,null,null,null,null,null,null,null,null,null,null,null,null,null,null,null,null,null,null,null,null,null,null,null,null,null,null,null,null,null,null,null,null,"Beneficiarios","Pueblos Originarios","Migrantes","Niños, Niñas, Adolescentes y Jóvenes población SENAME","Ingresos","Controles ","Atención Individual","Atención Grupal"]
[null,null,null,null," 0  -  4",null," 5  -  9",null," 10 - 14  ",null,"15 a 19",null,"20 - 24",null,"25 - 29",null,"30 - 34",null,"35 - 39",null,"40 - 44",null,"45 - 49",null,"50 - 54",null,"55 - 59",null,"60 - 64",null,"65 - 69",null,"70 - 74",null,"75 - 79",null,"80 y mas"]
[null,"Ambos Sexos","Hombres","Mujeres","Hombres","Mujeres","Hombres","Mujeres","Hombres","Mujeres","Hombres","Mujeres","Hombres","Mujeres","Hombres","Mujeres","Hombres","Mujeres","Hombres","Mujeres","Hombres","Mujeres","Hombres","Mujeres","Hombres","Mujeres","Hombres","Mujeres","Hombres","Mujeres","Hombres","Mujeres","Hombres","Mujeres","Hombres","Mujeres","Hombres","Mujeres"]
["Pacientes",{"$f":"SUM(C34:D34)","v":0},{"$f":"+E34+G34+I34+K34+M34+O34+Q34+S34+U34+W34+Y34+AA34+AC34+AE34+AG34+AI34+AK34","v":0},0,null,null,null,null,null,null,null,null,null,null,null,null,null,null,null,null,null,null,null,null,null,null,null,null,null,null,null,null,null,null,null,null,null,null,null,null,null,null,null,null,null,null,null,null,null,null,null,null,null,null,null,null,null,null,null,null,null,null,null,null,null,null,null,null,null,null,null,null,null,null,null,null,null,null,null,null,null,null,null,null,0,0]
["Familiares / Cuidadores de los pacientes",{"$f":"SUM(C35:D35)","v":0},{"$f":"+E35+G35+I35+K35+M35+O35+Q35+S35+U35+W35+Y35+AA35+AC35+AE35+AG35+AI35+AK35","v":0},0,null,null,null,null,null,null,null,null,null,null,null,null,null,null,null,null,null,null,null,null,null,null,null,null,null,null,null,null,null,null,null,null,null,null,null,null,null,null,null,null,null,null,null,null,null,null,null,null,null,null,null,null,null,null,null,null,null,null,null,null,null,null,null,null,null,null,null,null,null,null,null,null,null,null,null,null,null,null,null,null,0,0]
["Funcionarios",{"$f":"SUM(C36:D36)","v":0},0,0,null,null,null,null,null,null,null,null,null,null,null,null,null,null,null,null,null,null,null,null,null,null,null,null,null,null,null,null,null,null,null,null,null,null,null,null,null,null,null,null,null,null,null,null,null,null,null,null,null,null,null,null,null,null,null,null,null,null,null,null,null,null,null,null,null,null,null,null,null,null,null,null,null,null,null,null,null,null,null,null,0,0]
["Total",{"$f":"+C37+D37","v":0},0,0,{"$f":"SUM(E34:E36)","v":0},{"$f":"SUM(F34:F36)","v":0},{"$f":"SUM(G34:G36)","v":0},0,0,0,0,0,0,null,0,0,0,0,0,0,0,0,0,0,0,0,0,0,0,0,0,0,0,0,0,0,0,0,{"$f":"SUM(AM34:AM36)","v":0},{"$f":"SUM(AN34:AN36)","v":0},{"$f":"SUM(AO34:AO36)","v":0},{"$f":"SUM(AP34:AP36)","v":0},0,0,0,{"$f":"SUM(AT34:AT36)","v":0},null,null,null,null,null,null,null,null,null,null,null,null,null,null,null,null,null,null,null,null,null,null,null,null,null,null,null,null,null,null,null,null,null,null,null,null,null,null,0,0]
["SECCIÓN C: ATENCONES SEGÚN PROFESIONAL QUE ENTREGA LAS  MEDICINAS O PRACTICAS COMPLEMENTARIAS",null,null,null,null,null,null,null,null,null,null,null,null,null,null,null,null,null,null,null,null,null,null,null,null,null,null,null,null,null,null,null,null,null,null,null,null,null,null,null,null,null,null,null,null,null,null,null,null,null,null,null,null,null,null,null,null,null,null,null,null,null,null,null,null,null,null,null,null,null,null,null,null,null,null,null,null,null,null,null,null,null,null,null,0,0]
["PERFIL PROFESIONAL ","Total","Acupuntura","Homeopatía","Naturopatía","No reguladas",null,null,null,null,null,null,null,null,null,null,null,null,null,null,null,null,null,null,null,null,null,null,null,null,null,null,"Beneficiarios","Pueblos originarios","Migrantes","Niños, Niñas, Adolescentes y Jóvenes población SENAME",null,null,null,null,null,null,null,null,null,null,null,null,null,null,null,null,null,null,null,null,null,null,null,null,null,null,null,null,null,null,null,null,"* No olvide digitar la columna Pueblos Originarios y/o Migrantes (Digite Cero si no tiene). ",null,null,null,null,null,1,0,0,0,"* No olvide digitar la columna Pueblos Originarios y/o Migrantes (Digite Cero si no tiene). ",null,"* No olvide digitar la columna Pueblos Originarios y/o Migrantes (Digite Cero si no tiene). ",null,null,null,1,0,1,0]
[null,null,null,null,null,"Apiterapia","Arte terapia","Aurículoterapia","Biodanza","Biomagnetismo","Chi Kung / Qi Gong","Fitoterapia","Huertos mediicnales","* El número de Pueblos Originarios y/o Migrantes NO DEBE ser mayor que el Total. ","Medicina Antroposófica","Meditación ","Quiropraxia","Reiki","Sanación Pránica","Sintergética","Sonoterapia","Tai chi","Terapia Floral","Terapia Neural","Yoga","Constelaciones Familiares","Circulos de escucha","Musicoterapia","Danzaterapia","Dramaterapia","Otras Individuales","Otras Grupales",null,null,null,null,null,null,null,null,null,null,null,null,null,null,null,null,null,null,null,null,null,null,null,null,null,null,null,null,null,null,null,null,null,null,null,null,null,"* El número de Pueblos Originarios y/o Migrantes NO DEBE ser mayor que el Total. ","* El número de Pueblos Originarios y/o Migrantes NO DEBE ser mayor que el Total. ","* El número de Pueblos Originarios y/o Migrantes NO DEBE ser mayor que el Total. ","* El número de Pueblos Originarios y/o Migrantes NO DEBE ser mayor que el Total. ",null,0,1,1,1,null,"* El número de Pueblos Originarios y/o Migrantes NO DEBE ser mayor que el Total. ",null,"* El número de Pueblos Originarios y/o Migrantes NO DEBE ser mayor que el Total. ",null,null,0,1,0,1]
["Médico",{"$f":"SUM(C41:AF41)","v":0},null,null,null,null,null,null,null,null,null,null,null,null,null,null,null,null,null,null,null,null,null,null,null,null,null,null,null,null,null,null,null,null,null,null,null,null,null,null,null,null,null,null,null,null,null,null,null,null,null,null,null,null,null,null,null,null,null,null,null,null,null,null,null,null,null,null,null,null,null,null,null,null,0,0,0,0,null,null,null,null,null,null,0,0,0,0]
["Odontólogo",0,null,null,null,null,null,null,null,null,null,null,null,null,null,null,null,null,null,null,null,null,null,null,null,null,null,null,null,null,null,null,null,null,null,null,null,null,null,null,null,null,null,null,null,null,null,null,null,null,null,null,null,null,null,null,null,null,null,null,null,null,null,null,null,null,null,null,null,null,null,null,null,null,0,0,0,0,null,null,null,null,null,null,0,0,0,0]
["Enfermera (o)",0,null,null,null,null,null,null,null,null,null,null,null,null,null,null,null,null,null,null,null,null,null,null,null,null,null,null,null,null,null,null,null,null,null,null,null,null,null,null,null,null,null,null,null,null,null,null,null,null,null,null,null,null,null,null,null,null,null,null,null,null,null,null,null,null,null,null,null,null,null,null,null,null,0,0,0,0,null,null,null,null,null,null,0,0,0,0]
["Matrona (on)",0,null,null,null,null,null,null,null,null,null,null,null,null,null,null,null,null,null,null,null,null,null,null,null,null,null,null,null,null,null,null,null,null,null,null,null,null,null,null,null,null,null,null,null,null,null,null,null,null,null,null,null,null,null,null,null,null,null,null,null,null,null,null,null,null,null,null,null,null,null,null,null,null,0,0,0,0,0,0,null,null,null,null,null,null,0,0]
["Psicólogo",0,null,null,null,null,null,null,null,null,null,null,null,null,null,null,null,null,null,null,null,null,null,null,null,null,null,null,null,null,null,null,null,null,null,null,null,null,null,null,null,null,null,null,null,null,null,null,null,null,null,null,null,null,null,null,null,null,null,null,null,null,null,null,null,null,null,null,null,null,null,null,null,null,0,0,0,0,0,0,null,null,null,null,null,null,0,0]
["Fonoaudiólogo",0,null,null,null,null,null,null,null,null,null,null,null,null,null,null,null,null,null,null,null,null,null,null,null,null,null,null,null,null,null,null,null,null,null,null,null,null,null,null,null,null,null,null,null,null,null,null,null,null,null,null,null,null,null,null,null,null,null,null,null,null,null,null,null,null,null,null,null,null,null,null,null,null,0,0,0,0,0,0,null,null,null,null,null,null,0,0]
["Kinesiólogo",0,null,null,null,null,null,null,null,null,null,null,null,null,null,null,null,null,null,null,null,null,null,null,null,null,null,null,null,null,null,null,null,null,null,null,null,null,null,null,null,null,null,null,null,null,null,null,null,null,null,null,null,null,null,null,null,null,null,null,null,null,null,null,null,null,null,null,null,null,null,null,null,null,0,0,0,0,0,0,null,null,null,null,null,null,0,0]
["Farmaceutico",0,null,null,null,null,null,null,null,null,null,null,null,null,null,null,null,null,null,null,null,null,null,null,null,null,null,null,null,null,null,null,null,null,null,null,null,null,null,null,null,null,null,null,null,null,null,null,null,null,null,null,null,null,null,null,null,null,null,null,null,null,null,null,null,null,null,null,null,null,null,null,null,null,null,null,null,null,null,0,0]
["Paramédico",0,null,null,null,null,null,null,null,null,null,null,null,null,null,null,null,null,null,null,null,null,null,null,null,null,null,null,null,null,null,null,null,null,null,null,null,null,null,null,null,null,null,null,null,null,null,null,null,null,null,null,null,null,null,null,null,null,null,null,null,null,null,null,null,null,null,null,null,null,null,null,null,null,null,null,null,null,null,0,0]
["Nutricionista",0,null,null,null,null,null,null,null,null,null,null,null,null,null,null,null,null,null,null,null,null,null,null,null,null,null,null,null,null,null,null,null,null,null,null,null,null,null,null,null,null,null,null,null,null,null,null,null,null,null,null,null,null,null,null,null,null,null,null,null,null,null,null,null,null,null,null,null,null,null,null,null,null,null,null,null,null,null,0,0]
["Tecnólogo Médico",0,null,null,null,null,null,null,null,null,null,null,null,null,null,null,null,null,null,null,null,null,null,null,null,null,null,null,null,null,null,null,null,null,null,null,null,null,null,null,null,null,null,null,null,null,null,null,null,null,null,null,null,null,null,null,null,null,null,null,null,null,null,null,null,null,null,null,null,null,null,null,null,null,null,null,null,null,null,0,0]
["Asistente Social",0,null,null,null,null,null,null,null,null,null,null,null,null,null,null,null,null,null,null,null,null,null,null,null,null,null,null,null,null,null,null,null,null,null,null,null,null,null,null,null,null,null,null,null,null,null,null,null,null,null,null,null,null,null,null,null,null,null,null,null,null,null,null,null,null,null,null,null,null,null,null,null,null,null,null,null,null,null,0,0]
["Terapeuta Ocupacional",0,null,null,null,null,null,null,null,null,null,null,null,null,null,null,null,null,null,null,null,null,null,null,null,null,null,null,null,null,null,null,null,null,null,null,null,null,null,null,null,null,null,null,null,null,null,null,null,null,null,null,null,null,null,null,null,null,null,null,null,null,null,null,null,null,null,null,null,null,null,null,null,null,0,0,0,0,0,0,null,null,null,null,null,null,0,0]
["Terapeuta Complementario",0,null,null,null,null,null,null,null,null,null,null,null,null,null,null,null,null,null,null,null,null,null,null,null,null,null,null,null,null,null,null,null,null,null,null,null,null,null,null,null,null,null,null,null,null,null,null,null,null,null,null,null,null,null,null,null,null,null,null,null,null,null,null,null,null,null,null,null,null,null,null,null,null,0,0,0,0,0,0,null,null,null,null,null,null,0,0]
["Total",{"$f":"SUM(B41:B54)","v":0},{"$f":"SUM(C41:C54)","v":0},{"$f":"SUM(D41:D54)","v":0},0,0,0,0,0,0,0,0,0,0,0,0,0,0,0,0,0,0,0,0,0,0,0,0,{"$f":"SUM(AC41:AC54)","v":0},0,{"$f":"SUM(AE41:AE54)","v":0},0,0,0,0,{"$f":"SUM(AJ41:AJ54)","v":0},null,null,null,null,null,null,null,null,null,null,null,null,null,null,null,null,null,null,null,null,null,null,null,null,null,null,null,null,null,null,null,null,null,null,null,null,null,null,0,0,0,0,0,0,null,null,null,null,null,null,0,0]
["SECCIÓN D: ORIGEN DE LA ATENCIÓN CON MEDICINAS O PRACTICAS COMPLEMENTARIAS",null,null,null,null,null,null,null,null,null,null,null,null,null,null,null,null,null,null,null,null,null,null,null,null,null,null,null,null,null,null,null,null,null,null,null,null,null,null,null,null,null,null,null,null,null,null,null,null,null,null,null,null,null,null,null,null,null,null,null,null,null,null,null,null,null,null,null,null,null,null,null,null,null,null,null,null,null,null,null,null,null,null,null,0,0]
["ORIGEN DE LA ATENCIÓN",null,"Total","Acupuntura","Homeopatía","Naturopatía","No reguladas",null,null,null,null,null,null,null,null,null,null,null,null,null,null,null,null,null,null,null,null,null,null,null,null,null,null,"Beneficiarios","Pueblos originarios","Migrantes","Niños, Niñas, Adolescentes y Jóvenes población SENAME",null,null,null,null,null,null,null,null,null,null,null,null,null,null,null,null,null,null,null,null,null,null,null,null,null,null,null,null,null,null,null,null,null,null,null,null,null,null,null,null,null,"* No olvide digitar la columna Pueblos Originarios y/o Migrantes (Digite Cero si no tiene). ",null,null,null,null,null,1,0]
[null,null,null,null,null,null,"Apiterapia","Arte terapia","Aurículoterapia","Biodanza","Biomagnetismo","Chi Kung / Qi Gong","Fitoterapia","Huertos mediicnales","* El número de Pueblos Originarios y/o Migrantes NO DEBE ser mayor que el Total. ","Medicina Antroposófica","Meditación ","Quiropraxia","Reiki","Sanación Pránica","Sintergética","Sonoterapia","Tai chi","Terapia Floral","Terapia Neural","Yoga","Constelaciones Familiares","Circulos de escucha","Musicoterapia","Danzaterapia","Dramaterapia","Otras Individuales","Otras Grupales",null,null,null,null,null,null,null,null,null,null,null,null,null,null,null,null,null,null,null,null,null,null,null,null,null,null,null,null,null,null,null,null,null,null,null,null,null,null,null,null,null,null,null,null,null,null,"* El número de Pueblos Originarios y/o Migrantes NO DEBE ser mayor que el Total. ",null,null,null,null,0,1]
["Consulta Espontánea",null,{"$f":"SUM(D59:AG59)","v":0},null,null,null,null,null,null,null,null,null,null,null,null,null,null,null,null,null,null,null,null,null,null,null,null,null,null,null,null,null,null,null,null,null,null,null,null,null,null,null,null,null,null,null,null,null,null,null,null,null,null,null,null,null,null,null,null,null,null,null,null,null,null,null,null,null,null,null,null,null,null,null,null,null,null,null,null,null,null,null,null,null,0,0]
["Derivado desde Morbilidad",null,{"$f":"SUM(D60:AG60)","v":0},null,null,null,null,null,null,null,null,null,null,null,null,null,null,null,null,null,null,null,null,null,null,null,null,null,null,null,null,null,null,null,null,null,null,null,null,null,null,null,null,null,null,null,null,null,null,null,null,null,null,null,null,null,null,null,null,null,null,null,null,null,null,null,null,null,null,null,null,null,null,null,null,null,null,null,null,null,null,null,null,null,0,0]
["Derivado desde Especialidad",null,0,null,null,null,null,null,null,null,null,null,null,null,null,null,null,null,null,null,null,null,null,null,null,null,null,null,null,null,null,null,null,null,null,null,null,null,null,null,null,null,null,null,null,null,null,null,null,null,null,null,null,null,null,null,null,null,null,null,null,null,null,null,null,null,null,null,null,null,null,null,null,null,null,null,null,null,null,null,null,null,null,null,0,0]
["Paciente Hospitalizado",null,0,null,null,null,null,null,null,null,null,null,null,null,null,null,null,null,null,null,null,null,null,null,null,null,null,null,null,null,null,null,null,null,null,null,null,null,null,null,null,null,null,null,null,null,null,null,null,null,null,null,null,null,null,null,null,null,null,null,null,null,null,null,null,null,null,null,null,null,null,null,null,null,null,null,null,null,null,null,null,null,null,null,0,0]
["Crónicos Cardiovascular",null,0,null,null,null,null,null,null,null,null,null,null,null,null,null,null,null,null,null,null,null,null,null,null,null,null,null,null,null,null,null,null,null,null,null,null,null,null,null,null,null,null,null,null,null,null,null,null,null,null,null,null,null,null,null,null,null,null,null,null,null,null,null,null,null,null,null,null,null,null,null,null,null,null,null,null,null,null,null,null,null,null,null,0,0]
["Otros crónicos",null,0,null,null,null,null,null,null,null,null,null,null,null,null,null,null,null,null,null,null,null,null,null,null,null,null,null,null,null,null,null,null,null,null,null,null,null,null,null,null,null,null,null,null,null,null,null,null,null,null,null,null,null,null,null,null,null,null,null,null,null,null,null,null,null,null,null,null,null,null,null,null,null,null,null,null,null,null,null,null,null,null,null,0,0]
["Salud Mental",null,0,null,null,null,null,null,null,null,null,null,null,null,null,null,null,null,null,null,null,null,null,null,null,null,null,null,null,null,null,null,null,null,null,null,null,null,null,null,null,null,null,null,null,null,null,null,null,null,null,null,null,null,null,null,null,null,null,null,null,null,null,null,null,null,null,null,null,null,null,null,null,null,null,null,null,null,null,null,null,null,null,null,0,0]
["Salud Oral",null,0,null,null,null,null,null,null,null,null,null,null,null,null,null,null,null,null,null,null,null,null,null,null,null,null,null,null,null,null,null,null,null,null,null,null,null,null,null,null,null,null,null,null,null,null,null,null,null,null,null,null,null,null,null,null,null,null,null,null,null,null,null,null,null,null,null,null,null,null,null,null,null,null,null,null,null,null,null,null,null,null,null,0,0]
["Salud sexual y reproductiva ",null,0,null,null,null,null,null,null,null,null,null,null,null,null,null,null,null,null,null,null,null,null,null,null,null,null,null,null,null,null,null,null,null,null,null,null,null,null,null,null,null,null,null,null,null,null,null,null,null,null,null,null,null,null,null,null,null,null,null,null,null,null,null,null,null,null,null,null,null,null,null,null,null,null,null,null,null,null,null,null,null,null,null,0,0]
["Chile Crece Contigo ",null,0,null,null,null,null,null,null,null,null,null,null,null,null,null,null,null,null,null,null,null,null,null,null,null,null,null,null,null,null,null,null,null,null,null,null,null,null,null,null,null,null,null,null,null,null,null,null,null,null,null,null,null,null,null,null,null,null,null,null,null,null,null,null,null,null,null,null,null,null,null,null,null,null,null,null,null,null,null,null,null,null,null,0,0]
["Cáncer (QT/RT)",null,0,null,null,null,null,null,null,null,null,null,null,null,null,null,null,null,null,null,null,null,null,null,null,null,null,null,null,null,null,null,null,null,null,null,null,null,null,null,null,null,null,null,null,null,null,null,null,null,null,null,null,null,null,null,null,null,null,null,null,null,null,null,null,null,null,null,null,null,null,null,null,null,null,null,null,null,null,null,null,null,null,null,0,0]
["Dependencia  severa",null,0,null,null,null,null,null,null,null,null,null,null,null,null,null,null,null,null,null,null,null,null,null,null,null,null,null,null,null,null,null,null,null,null,null,null,null,null,null,null,null,null,null,null,null,null,null,null,null,null,null,null,null,null,null,null,null,null,null,null,null,null,null,null,null,null,null,null,null,null,null,null,null,null,null,null,null,null,null,null,null,null,null,0,0]
["Hospitalización Domiciliaria",null,0,null,null,null,null,null,null,null,null,null,null,null,null,null,null,null,null,null,null,null,null,null,null,null,null,null,null,null,null,null,null,null,null,null,null,null,null,null,null,null,null,null,null,null,null,null,null,null,null,null,null,null,null,null,null,null,null,null,null,null,null,null,null,null,null,null,null,null,null,null,null,null,null,null,null,null,null,null,null,null,null,null,0,0]
["Rehabilitación Fisica",null,0]
["Manejo del Dolor",null,0]
["Otros",null,0]
["Total",null,{"$f":"SUM(C59:C74)","v":0},{"$f":"SUM(D59:D74)","v":0},{"$f":"SUM(E59:E74)","v":0},{"$f":"SUM(F59:F74)","v":0},0,0,0,0,0,0,0,0,0,0,0,0,0,0,0,0,0,0,0,0,0,0,0,{"$f":"SUM(AD59:AD74)","v":0},0,0,0,{"$f":"SUM(AH59:AH74)","v":0},{"$f":"SUM(AI59:AI74)","v":0},0,{"$f":"SUM(AK59:AK74)","v":0}]
["SECCIÓN E: TIPOS DE TERAPIAS Y PRACTICAS DE BIENESTAR  ENTREGADAS EN ATENCION GRUPAL Y COMUNITARIA"]
["TIPO DE TERAPIA ",null,"Total",null,null,"NUMERO  POR EDAD ",null,null,null,null,null,null,null,null,null,null,null,null,null,null,null,null,null,null,null,null,null,null,null,null,null,null,null,null,null,null,null,null,null,"Beneficiarios","Pueblos Originarios","Migrantes","Niños, Niñas, Adolescentes y Jóvenes población SENAME"]
[null,null,null,null,null," 0  -  4",null," 5  -  9",null," 10 - 14  ",null,"15 a 19",null,"20 - 24",null,"25 - 29",null,"30 - 34",null,"35 - 39",null,"40 - 44",null,"45 - 49",null,"50 - 54",null,"55 - 59",null,"60 - 64",null,"65 - 69",null,"70 - 74",null,"75 - 79",null,"80 y mas"]
[null,null,"Ambos Sexos","Hombres","Mujeres","Hombres","Mujeres","Hombres","Mujeres","Hombres","Mujeres","Hombres","Mujeres","Hombres","Mujeres","Hombres","Mujeres","Hombres","Mujeres","Hombres","Mujeres","Hombres","Mujeres","Hombres","Mujeres","Hombres","Mujeres","Hombres","Mujeres","Hombres","Mujeres","Hombres","Mujeres","Hombres","Mujeres","Hombres","Mujeres","Hombres","Mujeres"]
["Arte terapia",null,{"$f":"SUM(D80:E80)","v":0},{"$f":"+F80+H80+J80+L80+N80+P80+R80+T80+V80+X80+Z80+AB80+AD80+AF80+AH80+AJ80+AL80","v":0},{"$f":"+G80+I80+K80+M80+O80+Q80+S80+U80+W80+Y80+AA80+AC80+AE80+AG80+AI80+AK80+AM80","v":0}]
["Biodanza",null,{"$f":"SUM(D81:E81)","v":0},{"$f":"+F81+H81+J81+L81+N81+P81+R81+T81+V81+X81+Z81+AB81+AD81+AF81+AH81+AJ81+AL81","v":0},{"$f":"+G81+I81+K81+M81+O81+Q81+S81+U81+W81+Y81+AA81+AC81+AE81+AG81+AI81+AK81+AM81","v":0}]
["Chi Kung / Qi Gong",null,0,0,0]
["Huertos Medicinales o Alimenticio/Medicinales",null,0,0,0]
["Meditación",null,0,0,0]
["Sonoterapia",null,0,0,0]
["Tai Chi",null,0,0,0]
["Yoga",null,0,0,0]
["Constelaciones familiares",null,0,0,0]
["Cìrculos de Escucha",null,0,0,0]
["Musicoterapia",null,0,0,0]
["Dramaterapia",null,0,0,0]
["Otras",null,0,0,0]
["Total",null,{"$f":"SUM(D93:E93)","v":0},{"$f":"+F93+H93+J93+L93+N93+P93+R93+T93+V93+X93+Z93+AB93+AD93+AF93+AH93+AJ93+AL93","v":0},0,{"$f":"SUM(F80:F91)","v":0},0,0,0,0,0,0,0,0,0,0,0,0,0,0,0,0,0,0,0,0,0,0,0,0,0,0,0,0,0,0,0,0,0,0,0,0]
[]
[]
[]
[]
[]
[]
[]
[]
[]
[]
[]
[]
[]
[]
[]
[]
[]
[]
[]
[]
[]
[]
[]
[]
[]
[]
[]
[]
[]
[]
[]
[]
[]
[]
[]
[]
[]
[]
[]
[]
[]
[]
[]
[]
[]
[]
[]
[]
[]
[]
[]
[]
[]
[]
[]
[]
[]
[]
[]
[]
[]
[]
[]
[]
[]
[]
[]
[]
[]
[]
[]
[]
[]
[]
[]
[]
[]
[]
[]
[]
[]
[]
[]
[]
[]
[]
[]
[]
[{"$f":"SUM(C29:AQ29,B34:B37,B41:B55, C59:C75)","v":0},{"$f":"SUM(CG11:CH74)","v":4}]

{"sheet":"Contro","index":23,"n_rows":31,"n_cols":24,"rows_kept":31,"cut":false,"hidden":false,"merged":[]}
[null,null,"NUMERO DE ERRORES  SEGÚN:"]
[null,null,"A.- DIFERENCIAS ENTRE TOTAL Y BENEFICIARIO "]
[null,null,"B.- ENTRE TOTAL Y DESGLOSE SEGÚN SEXO"]
[null,null,"C.- ENTRE EVALUACIONES Y RESULTADOS, INGRESOS A PROGRAMAS Y APLICACIÓN DE INSTRUMENTOS, ETC."]
[null,null,{"$f":"CONCATENATE(\"ESTABLECIMIENTO/ESTRATEGIA: \",NOMBRE!$B$3,\" - \",\"( \",NOMBRE!$C$3,NOMBRE!$D$3,NOMBRE!$E$3,NOMBRE!$F$3,NOMBRE!$G$3,NOMBRE!$H$3,NOMBRE!$I$3,\" )\")","v":"ESTABLECIMIENTO/ESTRATEGIA:  - ( Falta Cód. Est. )"}]
[null,null,"REM","Nº ERRORES","JUSTIFICAR ERRORES (indicar)","REM\nSIN DATOS","CAUSAL","OTRA CAUSAL (indicar)"]
[null,null,"HOJA NOMBRE",{"$f":"NOMBRE!AG7","v":5},null,null,null,null,null,null,null,null,null,null,null,null,null,null,null,null,null,null,null,"Licencia médica"]
[null,null,"REMA01",{"$f":"'A01'!B195","v":0},null,{"$f":"IF('A01'!A$195>0,\"\",\"SIN DATOS\")","v":"SIN DATOS"},null,null,null,null,null,null,null,null,null,null,null,null,null,null,null,null,null,"Feriado Legal"]
[null,null,"REMA02",{"$f":"+'A02'!B195","v":0},null,{"$f":"IF('A02'!A$195>0,\"\",\"SIN DATOS\")","v":"SIN DATOS"},null,null,null,null,null,null,null,null,null,null,null,null,null,null,null,null,null,"No hubo profesional"]
[null,null,"REMA03",{"$f":"+'A03'!B197","v":0},null,{"$f":"IF('A03'!A197>0,\"\",\"SIN DATOS\")","v":"SIN DATOS"},null,null,null,null,null,null,null,null,null,null,null,null,null,null,null,null,null,"No corresponde REM"]
[null,null,"REMA04",{"$f":"+'A04'!B208","v":0},null,{"$f":"IF('A04'!A208>0,\"\",\"SIN DATOS\")","v":"SIN DATOS"},null,null,null,null,null,null,null,null,null,null,null,null,null,null,null,null,null,"Otra causa justificada"]
[null,null,"REMA05",{"$f":"+'A05'!B308","v":8},null,{"$f":"IF('A05'!A308>0,\"\",\"SIN DATOS\")","v":"SIN DATOS"}]
[null,null,"REMA06",{"$f":"+'A06'!B180","v":0},null,{"$f":"IF('A06'!A180>0,\"\",\"SIN DATOS\")","v":"SIN DATOS"}]
[null,null,"REMA07",{"$f":"+'A07'!B196","v":2},null,{"$f":"IF('A07'!A196>0,\"\",\"SIN DATOS\")","v":"SIN DATOS"}]
[null,null,"REMA08",{"$f":"'A08'!B217","v":0},null,{"$f":"IF('A08'!A217>0,\"\",\"SIN DATOS\")","v":"SIN DATOS"}]
[null,null,"REMA09",{"$f":"'A09'!B301","v":8},null,{"$f":"IF('A09'!A301>0,\"\",\"SIN DATOS\")","v":"SIN DATOS"}]
[null,null,"REMA11",{"$f":"'A11'!B283","v":0},null,{"$f":"IF('A11'!A283>0,\"\",\"SIN DATOS\")","v":"SIN DATOS"}]
[null,null,"REMA19-a",{"$f":"+A19a!B193","v":1},null,{"$f":"IF(A19a!A$193>0,\"\",\"SIN DATOS\")","v":"SIN DATOS"}]
[null,null,"REMA19-b",{"$f":"A19b!B195","v":0},null,{"$f":"IF(A19b!A195>0,\"\",\"SIN DATOS\")","v":"SIN DATOS"}]
[null,null,"REMA21",{"$f":"'A21'!B195","v":0},null,{"$f":"IF('A21'!A195>0,\"\",\"SIN DATOS\")","v":"SIN DATOS"}]
[null,null,"REMA23",{"$f":"'A23'!B197","v":0},null,{"$f":"IF('A23'!A197>0,\"\",\"SIN DATOS\")","v":"SIN DATOS"}]
[null,null,"REMA24",{"$f":"+'A24'!B203","v":0},null,{"$f":"IF('A24'!A203>0,\"\",\"SIN DATOS\")","v":"SIN DATOS"}]
[null,null,"REMA25",{"$f":"+'A25'!B195","v":0},null,{"$f":"IF('A25'!A195>0,\"\",\"SIN DATOS\")","v":"SIN DATOS"}]
[null,null,"REMA26",{"$f":"+'A26'!B197","v":0},null,{"$f":"IF('A26'!A197>0,\"\",\"SIN DATOS\")","v":"SIN DATOS"}]
[null,null,"REMA27",{"$f":"+'A27'!B199","v":2},null,{"$f":"IF('A27'!A$199>0,\"\",\"SIN DATOS\")","v":"SIN DATOS"}]
[null,null,"REMA28",{"$f":"+'A28'!B291","v":{"$error":"#REF!"}},null,{"$f":"IF('A28'!A290>0,\"\",\"SIN DATOS\")","v":{"$error":"#REF!"}}]
[null,null,"REMA29",{"$f":"+'A29'!B230","v":0},null,{"$f":"IF('A29'!A$230>0,\"\",\"SIN DATOS\")","v":"SIN DATOS"}]
[null,null,"REMA30",{"$f":"+'A30'!BI178","v":0},null,{"$f":"IF('A30'!A$178>0,\"\",\"SIN DATOS\")","v":"SIN DATOS"}]
[null,null,"REMA31",{"$f":"+'A31'!BI183","v":0},null,{"$f":"IF('A31'!A$182>0,\"\",\"SIN DATOS\")","v":"SIN DATOS"}]
[]
[null,null,"TOTAL",{"$f":"SUM(D7:D29)","v":{"$error":"#REF!"}}]

{"sheet":"MACROS","index":24,"n_rows":10,"n_cols":2,"rows_kept":10,"cut":false,"hidden":false,"merged":[[0,0,0,13],[6,1,7,7]]}
["Hoja de Macros y Utilidades"]
[]
[{"$f":"CONCATENATE(\"ESTABLECIMIENTO/ESTRATEGIA: \",NOMBRE!B3,\" - \",\"( \",NOMBRE!C3,NOMBRE!D3,NOMBRE!E3,NOMBRE!F3,NOMBRE!G3,NOMBRE!H3,\" )\")","v":"ESTABLECIMIENTO/ESTRATEGIA:  - (  )"}]
[]
[null,"CREA UNA COPIA  DEL ARCHIVO  (TRANFORMA HOJAS A VALORES)"]
[]
[null,{"$f":"IF(Contro!D31>0,\"ANTES DE EJECUTAR SUS MACROS REVISE LA HOJA CONTROL, EXISTEN ERRORES\",\"\")","v":{"$error":"#REF!"}}]
[]
[]
[null,"Contraseña para copia del archivo :DEIS"]