{"text_format":"1","workbook":"xlsx","n_sheets":25,"sheets":["NOMBRE","A01","A02","A03","A04","A05","A06","A07","A08","A09","A11","A19a","A19b","A21","A23","A24","A25","A26","A27","A28","A29","A30 ","A31","Contro","MACROS"],"not_rendered":{"charts":0,"images":0,"macros":1,"external_links":0,"defined_names":3,"comments":1,"pivot_tables":0},"unopened":[],"bounds":{"document_bytes":16777216,"sheet_cells":100000,"rows_first":2000,"rows_last":500,"rows_between":2000,"halvings":0,"cell_chars":16384,"cell_head_chars":4096},"cells_cut":0,"cells_raw":0,"read":"whole","date_system":"1900"}

{"sheet":"NOMBRE","index":0,"n_rows":37,"n_cols":33,"rows_kept":37,"cut":false,"hidden":false,"merged":[[0,2,0,7],[16,1,18,1],[0,0,0,1],[8,0,8,1],[14,0,14,1],[8,6,13,9],[16,6,16,9]]}
["DATOS DEL ESTABLECIMIENTO",null,"CÓDIGOS"]
["NOMBRE DE COMUNA",null,null,null,null,null,null,null,{"$f":"IF(OR(NOMBRE!C2=\"\",NOMBRE!D2=\"\",NOMBRE!E2=\"\",NOMBRE!F2=\"\",NOMBRE!G2=\"\"),\"Falta Cód. Com.\",\"\")","v":"Falta Cód. Com."},null,null,null,null,null,null,null,null,null,null,null,null,null,null,null,null,null,null,null,null,null,null,null,{"$f":"IF(I2>\"\",1,0)","v":1}]
["NOMBRE ESTABLECIMIENTO/ESTRATEGIA",null,null,null,null,null,null,null,{"$f":"IF(OR(NOMBRE!C3=\"\",NOMBRE!D3=\"\",NOMBRE!E3=\"\",NOMBRE!F3=\"\",NOMBRE!G3=\"\",NOMBRE!H3=\"\"),\"Falta Cód. Est.\",\"\")","v":"Falta Cód. Est."},null,null,null,null,null,null,null,null,null,null,null,null,null,null,null,null,null,null,null,null,null,null,null,{"$f":"IF(I3>\"\",1,0)","v":1}]
["TIPO DE ESTABLECIMIENTO/ESTRATEGIA",null,null,null,null,null,null,null,{"$f":"IF(OR(NOMBRE!B4=\"\"),\"Falta Tipo. Est.\",\"\")","v":"Falta Tipo. Est."},null,null,null,null,null,null,null,null,null,null,null,null,null,null,null,null,null,null,null,null,null,null,null,{"$f":"IF(I4>\"\",1,0)","v":1}]
["DEPENDENCIA",null,null,null,null,null,null,null,{"$f":"IF(OR(NOMBRE!B5=\"\"),\"Falta Dependencia. Est.\",\"\")","v":"Falta Dependencia. Est."},null,null,null,null,null,null,null,null,null,null,null,null,null,null,null,null,null,null,null,null,null,null,null,{"$f":"IF(I5>\"\",1,0)","v":1}]
["MES:",null,null,null,null,null,null,null,{"$f":"IF(OR(NOMBRE!C6=\"\",NOMBRE!D6=\"\"),\"Falta Cód. Mes.\",\"\")","v":"Falta Cód. Mes."},null,null,null,null,null,null,null,null,null,null,null,null,null,null,null,null,null,null,null,null,null,null,null,{"$f":"IF(I6>\"\",1,0)","v":1}]
["AÑO:",2020,null,null,null,null,null,null,null,null,null,null,null,null,null,null,null,null,null,null,null,null,null,null,null,null,null,null,null,null,null,null,{"$f":"SUM(AG2:AG6)","v":5}]
[]
["Versión 1.0: ENERO 2020 ",null,null,null,null,null,"Para habilitar el contenido de las celdas \"Tipo de Establecimiento\", \"Dependencia\" y \"Mes\", presione el boton \"Verificar Habilitacion de Macros\".                                   Para poder tener un 100% de funcionalidad debe hablitar la opcion Macros en esta planilla."]
[]
["Director Servicio de Salud o Director Establecimiento",null,null,null,null,null,null,null,null,null,null,null,null,null,null,null,null,null,null,null,null,null,null,null,null,null,"ENERO","Establecimiento de Mayor Complejidad (EMAYC)","SERVICIO DE SALUD"]
["Jefe de Estadísticas",null,null,null,null,null,null,null,null,null,null,null,null,null,null,null,null,null,null,null,null,null,null,null,null,null,"FEBRERO","Establecimiento de Mediana Complejidad (EMEDC)","MUNICIPAL"]
[null,null,null,null,null,null,null,null,null,null,null," ",null,null,null,null,null,null,null,null,null,null,null,null,null,null,"MARZO","Establecimiento de Menor Complejidad (EMENC)","OTRA INSTITUCIÓN (Delegado)"]
[null,null,null,null,null,null,null,null,null,null,null,null,null,null,null,null,null,null,null,null,null,null,null,null,null,null,"ABRIL","Centros de Diagnóstico Terapéutico (CDT)"]
["MINSAL - DEIS",null,null,null,null,null,null,null,null,null,null,null,null,null,null,null,null,null,null,null,null,null,null,null,null,null,"MAYO","Centro de Referencia de Salud (CRS)"]
[null,null,null,null,null,null,null,null,null,null,null,null,null,null,null,null,null,null,null,null,null,null,null,null,null,null,"JUNIO","Consultorio General Urbano (CGU)"]
[null,"SERIE A",null,null,null,null,"ESTADO MACROS:",null,null,null,null,null,null,null,null,null,null,null,null,null,null,null,null,null,null,null,"JULIO","Consultorio General Urbano (CGU) - CESFAM"]
[null,null,null,null,null,null,null,null,"HABILITADO",null,null,null,null,null,null,null,null,null,null,null,null,null,null,null,null,null,"AGOSTO","Consultorio General Urbano(CGU) con SAPU/SUR/SAR"]
[null,null,null,null,null,null,null,null,null,null,null,null,null,null,null,null,null,null,null,null,null,null,null,null,null,null,"SEPTIEMBRE","Consultorio General Urbano (CGU) - CESFAM con SAPU/SAR"]
[null,null,null,null,null,null,null,null,null,null,null,null,null,null,null,null,null,null,null,null,null,null,null,null,null,null,"OCTUBRE","Consultorio General Rural (CGR)"]
[null,null,null,null,null,null,null,null,null,null,null,null,null,null,null,null,null,null,null,null,null,null,null,null,null,null,"NOVIEMBRE","Consultorio General Rural (CGR) - CESFAM"]
[null,null,null,null,null,null,null,null,null,null,null,null,null,null,null,null,null,null,null,null,null,null,null,null,null,null,"DICIEMBRE","Consultorio General Rural (CGR) con SAPU/SAR/SUR"]
[null,null,null,null,null,null,null,null,null,null,null,null,null,null,null,null,null,null,null,null,null,null,null,null,null,null,null,"Consultorio General Rural (CGR) - CESFAM con SAPU/SAR/SUR"]
[null,null,null,null,null,null,null,null,null,null,null,null,null,null,null,null,null,null,null,null,null,null,null,null,null,null,null,"Posta de Salud Rural (PSR)"]
[null,null,null,null,null,null,null,null,null,null,null,null,null,null,null,null,null,null,null,null,null,null,null,null,null,null,null,"Centro Comunitario de Salud Familiar (CECOF)"]
[null,null,null,null,null,null,null,null,null,null,null,null,null,null,null,null,null,null,null,null,null,null,null,null,null,null,null,"Consultorio de Salud Mental (COSAM)"]
[null,null,null,null,null,null,null,null,null,null,null,null,null,null,null,null,null,null,null,null,null,null,null,null,null,null,null,"Programa de Reparación y Atención Integral de Salud (PRAIS)"]
[null,null,null,null,null,null,null,null,null,null,null,null,null,null,null,null,null,null,null,null,null,null,null,null,null,null,null,"Centro de Atención Funcionarios (CAF)"]
[null,null,null,null,null,null,null,null,null,null,null,null,null,null,null,null,null,null,null,null,null,null,null,null,null,null,null,"Clínica Dental Móvil (CDM)"]
[null,null,null,null,null,null,null,null,null,null,null,null,null,null,null,null,null,null,null,null,null,null,null,null,null,null,null,"Dirección Servicio de Salud (DSS)"]
[null,null,null,null,null,null,null,null,null,null,null,null,null,null,null,null,null,null,null,null,null,null,null,null,null,null,null,"Servicio de Atención Primaria de Urgencia (SAPU)"]
[null,null,null,null,null,null,null,null,null,null,null,null,null,null,null,null,null,null,null,null,null,null,null,null,null,null,null,"SAPU Alta Resolución (SAR)"]
[null,null,null,null,null,null,null,null,null,null,null,null,null,null,null,null,null,null,null,null,null,null,null,null,null,null,null,"Laboratorio Clínico o Dental"]
[null,null,null,null,null,null,null,null,null,null,null,null,null,null,null,null,null,null,null,null,null,null,null,null,null,null,null,"Servicio de Atención Primaria de Urgencia Dental (SAPUDENT)"]
[null,null,null,null,null,null,null,null,null,null,null,null,null,null,null,null,null,null,null,null,null,null,null,null,null,null,null,"Centro de Rehabilitación (CR)"]
[null,null,null,null,null,null,null,null,null,null,null,null,null,null,null,null,null,null,null,null,null,null,null,null,null,null,null,"Hospital de Campaña"]
[null,null,null,null,null,null,null,null,null,null,null,null,null,null,null,null,null,null,null,null,null,null,null,null,null,null,null,"Centro Oncologico"]

{"sheet":"A01","index":1,"n_rows":185,"n_cols":98,"rows_kept":185,"cut":false,"hidden":false,"merged":[[30,0,33,0],[36,13,36,14],[36,15,36,16],[36,29,36,30],[36,31,36,32],[36,25,36,26],[36,27,36,28],[36,17,36,18],[36,19,36,20],[36,5,36,6],[70,3,71,3],[70,4,70,5],[35,39,37,39],[28,37,29,37],[36,37,36,38],[36,33,36,34],[36,35,36,36],[62,2,62,4],[62,5,62,7],[36,11,36,12],[36,7,36,8],[36,9,36,10],[35,2,36,4],[35,5,35,38],[36,21,36,22],[36,23,36,24],[66,0,66,1],[67,0,67,1],[72,0,76,0],[68,0,68,1],[35,0,37,0],[35,1,37,1],[42,0,43,0],[38,0,41,0],[44,0,45,0],[46,0,47,0],[64,0,64,1],[62,0,63,1],[65,0,65,1],[51,0,55,0],[56,0,60,0],[48,0,50,0],[5,0,5,36],[19,0,20,0],[21,0,22,0],[25,0,26,0],[28,0,29,0],[9,24,9,26],[11,0,12,0],[13,0,14,0],[15,0,16,0],[9,2,10,2],[23,0,24,0],[28,2,28,4],[28,1,29,1],[28,35,28,36],[28,5,28,33],[28,34,29,34],[84,0,86,0],[84,1,85,3],[84,4,84,31],[84,32,86,32],[9,22,10,22],[9,23,10,23],[9,19,9,20],[9,0,10,0],[9,1,10,1],[9,3,9,18],[9,21,10,21],[17,0,18,0],[77,0,81,0],[70,0,71,0],[70,1,71,1],[70,2,71,2],[84,33,86,33],[84,34,86,34],[85,4,85,5],[85,6,85,7],[85,8,85,9],[85,10,85,11],[85,12,85,13],[85,14,85,15],[85,16,85,17],[85,18,85,19],[85,20,85,21],[85,22,85,23],[85,24,85,25],[85,26,85,27],[85,28,85,29],[85,30,85,31]]}
["SERVICIO DE SALUD"]
[{"$f":"CONCATENATE(\"COMUNA: \",NOMBRE!B2,\" - \",\"( \",NOMBRE!C2,NOMBRE!D2,NOMBRE!E2,NOMBRE!F2,NOMBRE!G2,\" )\")","v":"COMUNA:  - (  )"}]
[{"$f":"CONCATENATE(\"ESTABLECIMIENTO/ESTRATEGIA: \",NOMBRE!B3,\" - \",\"( \",NOMBRE!C3,NOMBRE!D3,NOMBRE!E3,NOMBRE!F3,NOMBRE!G3,NOMBRE!H3,\" )\")","v":"ESTABLECIMIENTO/ESTRATEGIA:  - (  )"}]
[{"$f":"CONCATENATE(\"MES: \",NOMBRE!B6,\" - \",\"( \",NOMBRE!C6,NOMBRE!D6,\" )\")","v":"MES:  - (  )"}]
[{"$f":"CONCATENATE(\"AÑO: \",NOMBRE!B7)","v":"AÑO: 2020"}]
["REM-A01.   CONTROLES DE SALUD"]
[]
[]
["SECCIÓN A: CONTROLES DE SALUD SEXUAL Y REPRODUCTIVA"]
["TIPO DE CONTROL","PROFESIONAL","TOTAL      ","POR EDAD",null,null,null,null,null,null,null,null,null,null,null,null,null,null,null,"SEXO",null,"Beneficiarios","Control con pareja familiar u otro","Control de diada con presencia del padre","TIPOS DE LACTANCIA"]
[null,null,null," 5  -  9"," 10 - 14","15 a 19","20 - 24","25 - 29","30 - 34","35 - 39","40 - 44","45 - 49","50 - 54","55 - 59","60 - 64","65 - 69","70 - 74","75 - 79","80 y mas","HOMBRES","MUJERES",null,null,null,"Lactancia Materna Exclusiva","Lactancia Materna / Formula Láctea","Formula Láctea"]
[" PRE-\nCONCEPCIONAL ","MÉDICO",{"$f":"SUM(E12:M12)","v":0},null,null,null,null,null,null,null,null,null,null,null,null,null,null,null,null,null,null,null,null,null,null,null,null,null,null,null,null,null,null,null,null,null,null,null,null,null,null,null,null,null,null,null,null,null,null,null,null,null,null,null,null,null,null,null,null,null,null,null,null,null,null,null,null,null,null,null,null,null,null,null,null,null,null,null,null,null,null,null,null,null,null,null,null,null,null,0,0,null,null,null,0]
[null,"MATRONA /ÓN",{"$f":"SUM(E13:M13)","v":0},null,null,null,null,null,null,null,null,null,null,null,null,null,null,null,null,null,null,null,null,null,null,null,null,null,null,null,null,null,null,null,null,null,null,null,null,null,null,null,null,null,null,null,null,null,null,null,null,null,null,null,null,null,null,null,null,null,null,null,null,null,null,null,null,null,null,null,null,null,null,null,null,null,null,null,null,null,null,null,null,null,null,null,null,null,null,0,0,null,null,null,0]
["PRENATAL","MÉDICO",{"$f":"SUM(E14:N14)","v":0},null,null,null,null,null,null,null,null,null,null,null,null,null,null,null,null,null,null,null,null,null,null,null,null,null,null,null,null,null,null,null,null,null,null,null,null,null,null,null,null,null,null,null,null,null,null,null,null,null,null,null,null,null,null,null,null,null,null,null,null,null,null,null,null,null,null,null,null,null,null,null,null,null,null,null,null,null,null,null,null,null,null,null,null,null,null,0,0,0,null,null,0,0]
[null,"MATRONA /ÓN",0,null,null,null,null,null,null,null,null,null,null,null,null,null,null,null,null,null,null,null,null,null,null,null,null,null,null,null,null,null,null,null,null,null,null,null,null,null,null,null,null,null,null,null,null,null,null,null,null,null,null,null,null,null,null,null,null,null,null,null,null,null,null,null,null,null,null,null,null,null,null,null,null,null,null,null,null,null,null,null,null,null,null,null,null,null,null,0,0,0,null,null,0,0]
["POST PARTO Y POST ABORTO","MÉDICO",0,null,null,null,null,null,null,null,null,null,null,null,null,null,null,null,null,null,null,null,null,null,null,null,null,null,null,null,null,null,null,null,null,null,null,null,null,null,null,null,null,null,null,null,null,null,null,null,null,null,null,null,null,null,null,null,null,null,null,null,null,null,null,null,null,null,null,null,null,null,null,null,null,null,null,null,null,null,null,null,null,null,null,null,null,null,null,0,0,null,null,null,0]
[null,"MATRONA /ÓN",0,null,null,null,null,null,null,null,null,null,null,null,null,null,null,null,null,null,null,null,null,null,null,null,null,null,null,null,null,null,null,null,null,null,null,null,null,null,null,null,null,null,null,null,null,null,null,null,null,null,null,null,null,null,null,null,null,null,null,null,null,null,null,null,null,null,null,null,null,null,null,null,null,null,null,null,null,null,null,null,null,null,null,null,null,null,null,0,0,null,null,null,0]
["PUÉRPERA CON RECIÉN NACIDO HASTA 10 DÍAS DE VIDA","MÉDICO",0,null,null,null,null,null,null,null,null,null,null,null,null,null,null,null,null,null,null,null,null,null,null,null,null,null,null,null,null,null,null,null,null,null,null,null,null,null,null,null,null,null,null,null,null,null,null,null,null,null,null,null,null,null,null,null,null,null,null,null,null,null,null,null,null,null,null,null,null,null,null,null,null,null,null,null,null,null,null,null,null,{"$f":"IF(AND(C18<>0,'A05'!C50=\"\"),\"* No olvide registrar ingresos a control de salud de los respectivos RN, en REM A05-secci„n E. \",\"\")","v":""},null,null,null,null,null,0,0,null,0,0,0,null,0,0]
[null,"MATRONA /ÓN",0,null,null,null,null,null,null,null,null,null,null,null,null,null,null,null,null,null,null,null,null,null,null,null,null,null,null,null,null,null,null,null,null,null,null,null,null,null,null,null,null,null,null,null,null,null,null,null,null,null,null,null,null,null,null,null,null,null,null,null,null,null,null,null,null,null,null,null,null,null,null,null,null,null,null,null,null,null,null,null,null,{"$f":"IF(AND(C19<>0,'A05'!C50=\"\"),\"* No olvide registrar ingresos a control de salud de los respectivos RN, en REM A05-secci„n E. \",\"\")","v":""},null,null,null,null,null,0,0,null,0,0,0,null,0,0]
["PUÉRPERA CON RECIÉN NACIDO ENTRE 11 y 28 DÍAS","MÉDICO",0,null,null,null,null,null,null,null,null,null,null,null,null,null,null,null,null,null,null,null,null,null,null,null,null,null,null,null,null,null,null,null,null,null,null,null,null,null,null,null,null,null,null,null,null,null,null,null,null,null,null,null,null,null,null,null,null,null,null,null,null,null,null,null,null,null,null,null,null,null,null,null,null,null,null,null,null,null,null,null,null,{"$f":"IF(AND(C20<>0,'A05'!C50=\"\"),\"* No olvide registrar ingresos a control de salud de los respectivos RN, en REM A05-secci„n E. \",\"\")","v":""},null,null,null,null,null,0,0,null,0,0,0,null,0,0]
[null,"MATRONA /ÓN",0,null,null,null,null,null,null,null,null,null,null,null,null,null,null,null,null,null,null,null,null,null,null,null,null,null,null,null,null,null,null,null,null,null,null,null,null,null,null,null,null,null,null,null,null,null,null,null,null,null,null,null,null,null,null,null,null,null,null,null,null,null,null,null,null,null,null,null,null,null,null,null,null,null,null,null,null,null,null,null,null,{"$f":"IF(AND(C21<>0,'A05'!C50=\"\"),\"* No olvide registrar ingresos a control de salud de los respectivos RN, en REM A05-secci„n E. \",\"\")","v":""},null,null,null,null,null,0,0,null,0,0,0,null,0,0]
["GINECOLÓGICO ","MÉDICO ",{"$f":"SUM(E22:S22)","v":0},null,null,null,null,null,null,null,null,null,null,null,null,null,null,null,null,null,null,null,null,null,null,null,null,null,null,null,null,null,null,null,null,null,null,null,null,null,null,null,null,null,null,null,null,null,null,null,null,null,null,null,null,null,null,null,null,null,null,null,null,null,null,null,null,null,null,null,null,null,null,null,null,null,null,null,null,null,null,null,null,null,null,null,null,null,null,0,0,null,null,null,0]
[null,"MATRONA /ÓN",{"$f":"SUM(E23:S23)","v":0},null,null,null,null,null,null,null,null,null,null,null,null,null,null,null,null,null,null,null,null,null,null,null,null,null,null,null,null,null,null,null,null,null,null,null,null,null,null,null,null,null,null,null,null,null,null,null,null,null,null,null,null,null,null,null,null,null,null,null,null,null,null,null,null,null,null,null,null,null,null,null,null,null,null,null,null,null,null,null,null,null,null,null,null,null,null,0,0,null,null,null,0]
["CLIMATERIO ","MÉDICO",{"$f":"SUM(L24:O24)","v":0},null,null,null,null,null,null,null,null,null,null,null,null,null,null,null,null,null,null,null,null,null,null,null,null,null,null,null,null,null,null,null,null,null,null,null,null,null,null,null,null,null,null,null,null,null,null,null,null,null,null,null,null,null,null,null,null,null,null,null,null,null,null,null,null,null,null,null,null,null,null,null,null,null,null,null,null,null,null,null,null,null,null,null,null,null,null,0,0,null,null,null,0]
[null,"MATRONA /ÓN",{"$f":"SUM(L25:O25)","v":0},null,null,null,null,null,null,null,null,null,null,null,null,null,null,null,null,null,null,null,null,null,null,null,null,null,null,null,null,null,null,null,null,null,null,null,null,null,null,null,null,null,null,null,null,null,null,null,null,null,null,null,null,null,null,null,null,null,null,null,null,null,null,null,null,null,null,null,null,null,null,null,null,null,null,null,null,null,null,null,null,null,null,null,null,null,null,0,0,null,null,null,0]
["REGULACIÓN DE FECUNDIDAD","MÉDICO",{"$f":"SUM(E26:S26)","v":0},null,null,null,null,null,null,null,null,null,null,null,null,null,null,null,null,null,null,null,null,null,null,null,null,null,null,null,null,null,null,null,null,null,null,null,null,null,null,null,null,null,null,null,null,null,null,null,null,null,null,null,null,null,null,null,null,null,null,null,null,null,null,null,null,null,null,null,null,null,null,null,null,null,null,null,null,null,null,null,null,null,null,null,null,null,null,0,0,null,null,null,0]
[null,"MATRONA /ÓN",{"$f":"SUM(E27:S27)","v":0},null,null,null,null,null,null,null,null,null,null,null,null,null,null,null,null,null,null,null,null,null,null,null,null,null,null,null,null,null,null,null,null,null,null,null,null,null,null,null,null,null,null,null,null,null,null,null,null,null,null,null,null,null,null,null,null,null,null,null,null,null,null,null,null,null,null,null,null,null,null,null,null,null,null,null,null,null,null,null,null,null,null,null,null,null,null,0,0,null,null,null,0]
["SECCIÓN B: CONTROLES DE SALUD SEGÚN CICLO VITAL"]
["TIPO DE CONTROL","PROFESIONAL","TOTAL",null,null,"POR EDAD ",null,null,null,null,null,null,null,null,null,null,null,null,null,null,null,null,null,null,null,null,null,null,null,null,null,null,null,null,"Beneficiarios","CONTROL CON PRESENCIA DEL PADRE",null,"Niños, Niñas, Adolescentes y Jóvenes Población SENAME"]
[null,null,"Ambos Sexos","Hombres","Mujeres","Menor de 1 mes","1 mes","2 meses","3 meses","4 meses"," 5 meses","6 meses"," 7  -  11 meses","12 a 17 meses","18  - 23  meses","24  - 47  meses","48  - 59  meses","60  - 71  meses"," 6  -  9 "," 10 - 14 ","15 - 19","20 - 24","25 - 29","30 - 34","35 - 39","40 - 44","45 - 49","50 - 54","55 - 59","60 - 64","65 - 69","70 - 74","75 - 79","80 y mas",null,"menor 1 año","1 año a 3 años 11 meses 29 días"]
["DE SALUD","MÉDICO",{"$f":"SUM(F31:AH31)","v":0},null,null,null,null,null,null,null,null,null,null,null,null,null,null,null,null,null,null,null,null,null,null,null,null,null,null,null,null,null,null,null,null,null,null,null,null,null,null,null,null,null,null,null,null,null,null,null,null,null,null,null,null,null,null,null,null,null,null,null,null,null,null,null,null,null,null,null,null,null,null,null,null,null,null,null,null,null,{"$f":"IF(AJ31>SUM(F31:M31),\"* Los controles con presencia del padre NO DEBE ser mayor que el total Controles Menor 1 año. \",IF(AK31>SUM(N31:P31),\"* Los controles con presencia del padre NO DEBE ser mayor que el total Controles 1 año a 3 años 11 meses 29 dÍas. \",\"\"))","v":""},{"$f":"IF(AND(F31<>0,'A05'!C50=\"\"),\"* NO OLVIDE REGISTRAR INGRESOS A CONTROL DE SALUD DE LOS RESPECTIVOS RN, EN REM A05-SECCIÓN E. \",\"\")","v":""},null,null,null,0,{"$f":"IF(AJ31>SUM(F31:M31),1,IF(AK31>SUM(N31:P31),1,0))","v":0},0]
[null,"ENFERMERA /O",{"$f":"SUM(F32:AH32)","v":0},null,null,null,null,null,null,null,null,null,null,null,null,null,null,null,null,null,null,null,null,null,null,null,null,null,null,null,null,null,null,null,null,null,null,null,null,null,null,null,null,null,null,null,null,null,null,null,null,null,null,null,null,null,null,null,null,null,null,null,null,null,null,null,null,null,null,null,null,null,null,null,null,null,null,null,null,null,{"$f":"IF(AJ32>SUM(F32:M32),\"* Los controles con presencia del padre NO DEBE ser mayor que el total Controles Menor 1 año. \",IF(AK32>SUM(N32:P32),\"* Los controles con presencia del padre NO DEBE ser mayor que el total Controles 1 año a 3 años 11 meses 29 dÍas. \",\"\"))","v":""},{"$f":"IF(AND(F32<>0,'A05'!C50=\"\"),\"* NO OLVIDE REGISTRAR INGRESOS A CONTROL DE SALUD DE LOS RESPECTIVOS RN, EN REM A05-SECCIÓN E. \",\"\")","v":""},null,null,null,0,{"$f":"IF(AJ32>SUM(F32:M32),1,IF(AK32>SUM(N32:P32),1,0))","v":0},0]
[null,"MATRONA /ÓN",{"$f":"SUM(F33+T33+U33+V33+W33+X33+Y33+Z33+AA33+AB33+AC33+AD33+AE33+AF33+AG33+AH33)","v":0},null,null,null,null,null,null,null,null,null,null,null,null,null,null,null,null,null,null,null,null,null,null,null,null,null,null,null,null,null,null,null,null,null,null,null,null,null,null,null,null,null,null,null,null,null,null,null,null,null,null,null,null,null,null,null,null,null,null,null,null,null,null,null,null,null,null,null,null,null,null,null,null,null,null,null,null,null,{"$f":"IF((AJ33>F33),\"* Los controles con presencia del padre NO DEBE ser mayor que el total Controles Menor 1 año. \",\"\")","v":""},{"$f":"IF(AND(F33<>0,'A05'!C50=\"\"),\"* NO OLVIDE REGISTRAR INGRESOS A CONTROL DE SALUD DE LOS RESPECTIVOS RN, EN REM A05-SECCIÓN E. \",\"\")","v":""},null,null,null,0,{"$f":"IF(AJ33>SUM(F33:M33),1,IF(AK33>SUM(N33:P33),1,0))","v":0},0]
[null,"TÉCNICO PARAMÉDICO",{"$f":"SUM(N34:S34)","v":0},null,null,null,null,null,null,null,null,null,null,null,null,null,null,null,null,null,null,null,null,null,null,null,null,null,null,null,null,null,null,null,null,null,null,null,null,null,null,null,null,null,null,null,null,null,null,null,null,null,null,null,null,null,null,null,null,null,null,null,null,null,null,null,null,null,null,null,null,null,null,null,null,null,null,null,null,null,{"$f":"IF(AK34>SUM(N34:S34),\"* Los controles con presencia del padre NO DEBE ser mayor que el total Controles 1año a 3 años 11 meses 29 dÍas. \",\"\")","v":""},null,null,null,null,0,{"$f":"IF(AJ34>SUM(F34:M34),1,IF(AK34>SUM(N34:P34),1,0))","v":0},0]
["SECCIÓN C: CONTROLES SEGÚN PROBLEMA DE SALUD"]
["TIPO DE CONTROL","PROFESIONAL","TOTAL",null,null,"POR EDAD ",null,null,null,null,null,null,null,null,null,null,null,null,null,null,null,null,null,null,null,null,null,null,null,null,null,null,null,null,null,null,null,null,null,"Beneficiarios"]
[null,null,null,null,null," 0  -  4",null," 5  -  9",null," 10 - 14  ",null,"15 a 19",null,"20 - 24",null,"25 - 29",null,"30 - 34",null,"35 - 39",null,"40 - 44",null,"45 - 49",null,"50 - 54",null,"55 - 59",null,"60 - 64",null,"65 - 69",null,"70 - 74",null,"75 - 79",null,"80 y mas"]
[null,null,"Ambos Sexos","Hombres","Mujeres","Hombres","Mujeres","Hombres","Mujeres","Hombres","Mujeres","Hombres","Mujeres","Hombres","Mujeres","Hombres","Mujeres","Hombres","Mujeres","Hombres","Mujeres","Hombres","Mujeres","Hombres","Mujeres","Hombres","Mujeres","Hombres","Mujeres","Hombres","Mujeres","Hombres","Mujeres","Hombres","Mujeres","Hombres","Mujeres","Hombres","Mujeres"]
["DE SALUD CARDIOVASCULAR","MÉDICO",{"$f":"SUM(D39:E39)","v":0},{"$f":"SUM(L39+N39+P39+R39+T39+V39+X39+Z39+AB39+AD39+AF39+AH39+AJ39+AL39)","v":0},0,null,null,null,null,null,null,null,null,null,null,null,null,null,null,null,null,null,null,null,null,null,null,null,null,null,null,null,null,null,null,null,null,null,null,null,null,null,null,null,null,null,null,null,null,null,null,null,null,null,null,null,null,null,null,null,null,null,null,null,null,null,null,null,null,null,null,null,null,null,null,null,null,null,null,null,null,null,null,null,null,null,0]
[null,"ENFERMERA /O",0,0,0,null,null,null,null,null,null,null,null,null,null,null,null,null,null,null,null,null,null,null,null,null,null,null,null,null,null,null,null,null,null,null,null,null,null,null,null,null,null,null,null,null,null,null,null,null,null,null,null,null,null,null,null,null,null,null,null,null,null,null,null,null,null,null,null,null,null,null,null,null,null,null,null,null,null,null,null,null,null,null,null,null,0]
[null,"NUTRICIONISTA",0,0,0,null,null,null,null,null,null,null,null,null,null,null,null,null,null,null,null,null,null,null,null,null,null,null,null,null,null,null,null,null,null,null,null,null,null,null,null,null,null,null,null,null,null,null,null,null,null,null,null,null,null,null,null,null,null,null,null,null,null,null,null,null,null,null,null,null,null,null,null,null,null,null,null,null,null,null,null,null,null,null,null,null,0]
[null,"TÉCNICO PARAMÉDICO",0,0,0,null,null,null,null,null,null,null,null,null,null,null,null,null,null,null,null,null,null,null,null,null,null,null,null,null,null,null,null,null,null,null,null,null,null,null,null,null,null,null,null,null,null,null,null,null,null,null,null,null,null,null,null,null,null,null,null,null,null,null,null,null,null,null,null,null,null,null,null,null,null,null,null,null,null,null,null,null,null,null,null,null,0]
["DE TUBERCULOSIS","MÉDICO",0,{"$f":"SUM(F43+H43+J43+L43+N43+P43+R43+T43+V43+X43+Z43+AB43+AD43+AF43+AH43+AJ43+AL43)","v":0},{"$f":"SUM(G43+I43+K43+M43+O43+Q43+S43+U43+W43+Y43+AA43+AC43+AE43+AG43+AI43+AK43+AM43)","v":0},null,null,null,null,null,null,null,null,null,null,null,null,null,null,null,null,null,null,null,null,null,null,null,null,null,null,null,null,null,null,null,null,null,null,null,null,null,null,null,null,null,null,null,null,null,null,null,null,null,null,null,null,null,null,null,null,null,null,null,null,null,null,null,null,null,null,null,null,null,null,null,null,null,null,null,null,null,null,null,null,null,0]
[null,"ENFERMERA /O",0,{"$f":"SUM(F44+H44+J44+L44+N44+P44+R44+T44+V44+X44+Z44+AB44+AD44+AF44+AH44+AJ44+AL44)","v":0},{"$f":"SUM(G44+I44+K44+M44+O44+Q44+S44+U44+W44+Y44+AA44+AC44+AE44+AG44+AI44+AK44+AM44)","v":0},null,null,null,null,null,null,null,null,null,null,null,null,null,null,null,null,null,null,null,null,null,null,null,null,null,null,null,null,null,null,null,null,null,null,null,null,null,null,null,null,null,null,null,null,null,null,null,null,null,null,null,null,null,null,null,null,null,null,null,null,null,null,null,null,null,null,null,null,null,null,null,null,null,null,null,null,null,null,null,null,null,0]
["SEGUIMIENTO AUTOVALENTE CON RIESGO","MÉDICO",0,{"$f":"SUM(AF45+AH45+AJ45+AL45)","v":0},0,null,null,null,null,null,null,null,null,null,null,null,null,null,null,null,null,null,null,null,null,null,null,null,null,null,null,null,null,null,null,null,null,null,null,null,null,null,null,null,null,null,null,null,null,null,null,null,null,null,null,null,null,null,null,null,null,null,null,null,null,null,null,null,null,null,null,null,null,null,null,null,null,null,null,null,null,null,null,null,null,null,0]
[null,"ENFERMERA /O",0,0,0,null,null,null,null,null,null,null,null,null,null,null,null,null,null,null,null,null,null,null,null,null,null,null,null,null,null,null,null,null,null,null,null,null,null,null,null,null,null,null,null,null,null,null,null,null,null,null,null,null,null,null,null,null,null,null,null,null,null,null,null,null,null,null,null,null,null,null,null,null,null,null,null,null,null,null,null,null,null,null,null,null,0]
["SEGUIMIENTO RIESGO DEPENDENCIA","MÉDICO",0,0,0,null,null,null,null,null,null,null,null,null,null,null,null,null,null,null,null,null,null,null,null,null,null,null,null,null,null,null,null,null,null,null,null,null,null,null,null,null,null,null,null,null,null,null,null,null,null,null,null,null,null,null,null,null,null,null,null,null,null,null,null,null,null,null,null,null,null,null,null,null,null,null,null,null,null,null,null,null,null,null,null,null,0]
[null,"ENFERMERA /O",0,0,0,null,null,null,null,null,null,null,null,null,null,null,null,null,null,null,null,null,null,null,null,null,null,null,null,null,null,null,null,null,null,null,null,null,null,null,null,null,null,null,null,null,null,null,null,null,null,null,null,null,null,null,null,null,null,null,null,null,null,null,null,null,null,null,null,null,null,null,null,null,null,null,null,null,null,null,null,null,null,null,null,null,0]
["DE  INFECCIÓN TRANSMISIÓN SEXUAL","MÉDICO",0,{"$f":"SUM(F49+H49+J49+L49+N49+P49+R49+T49+V49+X49+Z49+AB49+AD49+AF49+AH49+AJ49+AL49)","v":0},0,null,null,null,null,null,null,null,null,null,null,null,null,null,null,null,null,null,null,null,null,null,null,null,null,null,null,null,null,null,null,null,null,null,null,null,null,null,null,null,null,null,null,null,null,null,null,null,null,null,null,null,null,null,null,null,null,null,null,null,null,null,null,null,null,null,null,null,null,null,null,null,null,null,null,null,null,null,null,null,null,null,0]
[null,"ENFERMERA /O",0,0,0,null,null,null,null,null,null,null,null,null,null,null,null,null,null,null,null,null,null,null,null,null,null,null,null,null,null,null,null,null,null,null,null,null,null,null,null,null,null,null,null,null,null,null,null,null,null,null,null,null,null,null,null,null,null,null,null,null,null,null,null,null,null,null,null,null,null,null,null,null,null,null,null,null,null,null,null,null,null,null,null,null,0]
[null,"MATRONA /ÓN",0,0,0,null,null,null,null,null,null,null,null,null,null,null,null,null,null,null,null,null,null,null,null,null,null,null,null,null,null,null,null,null,null,null,null,null,null,null,null,null,null,null,null,null,null,null,null,null,null,null,null,null,null,null,null,null,null,null,null,null,null,null,null,null,null,null,null,null,null,null,null,null,null,null,null,null,null,null,null,null,null,null,null,null,0]
["OTROS PROBLEMAS DE SALUD","MÉDICO",0,0,0,null,null,null,null,null,null,null,null,null,null,null,null,null,null,null,null,null,null,null,null,null,null,null,null,null,null,null,null,null,null,null,null,null,null,null,null,null,null,null,null,null,null,null,null,null,null,null,null,null,null,null,null,null,null,null,null,null,null,null,null,null,null,null,null,null,null,null,null,null,null,null,null,null,null,null,null,null,null,null,null,null,0]
[null,"ENFERMERA /O",0,0,0,null,null,null,null,null,null,null,null,null,null,null,null,null,null,null,null,null,null,null,null,null,null,null,null,null,null,null,null,null,null,null,null,null,null,null,null,null,null,null,null,null,null,null,null,null,null,null,null,null,null,null,null,null,null,null,null,null,null,null,null,null,null,null,null,null,null,null,null,null,null,null,null,null,null,null,null,null,null,null,null,null,0]
[null,"MATRONA /ÓN",0,0,0,null,null,null,null,null,null,null,null,null,null,null,null,null,null,null,null,null,null,null,null,null,null,null,null,null,null,null,null,null,null,null,null,null,null,null,null,null,null,null,null,null,null,null,null,null,null,null,null,null,null,null,null,null,null,null,null,null,null,null,null,null,null,null,null,null,null,null,null,null,null,null,null,null,null,null,null,null,null,null,null,null,0]
[null,"NUTRICIONISTA",0,0,0,null,null,null,null,null,null,null,null,null,null,null,null,null,null,null,null,null,null,null,null,null,null,null,null,null,null,null,null,null,null,null,null,null,null,null,null,null,null,null,null,null,null,null,null,null,null,null,null,null,null,null,null,null,null,null,null,null,null,null,null,null,null,null,null,null,null,null,null,null,null,null,null,null,null,null,null,null,null,null,null,null,0]
[null,"TÉCNICO PARAMÉDICO",0,0,0,null,null,null,null,null,null,null,null,null,null,null,null,null,null,null,null,null,null,null,null,null,null,null,null,null,null,null,null,null,null,null,null,null,null,null,null,null,null,null,null,null,null,null,null,null,null,null,null,null,null,null,null,null,null,null,null,null,null,null,null,null,null,null,null,null,null,null,null,null,null,null,null,null,null,null,null,null,null,null,null,null,0]
["NIÑOS CON NECESIDADES ESPECIALES","MÉDICO",0,{"$f":"SUM(F57+H57+J57+L57+N57)","v":0},0,null,null,null,null,null,null,null,null,null,null,null,null,null,null,null,null,null,null,null,null,null,null,null,null,null,null,null,null,null,null,null,null,null,null,null,null,null,null,null,null,null,null,null,null,null,null,null,null,null,null,null,null,null,null,null,null,null,null,null,null,null,null,null,null,null,null,null,null,null,null,null,null,null,null,null,null,null,null,null,null,null,0]
[null,"ENFERMERA /O",0,0,0,null,null,null,null,null,null,null,null,null,null,null,null,null,null,null,null,null,null,null,null,null,null,null,null,null,null,null,null,null,null,null,null,null,null,null,null,null,null,null,null,null,null,null,null,null,null,null,null,null,null,null,null,null,null,null,null,null,null,null,null,null,null,null,null,null,null,null,null,null,null,null,null,null,null,null,null,null,null,null,null,null,0]
[null,"MATRONA /ÓN",0,0,0,null,null,null,null,null,null,null,null,null,null,null,null,null,null,null,null,null,null,null,null,null,null,null,null,null,null,null,null,null,null,null,null,null,null,null,null,null,null,null,null,null,null,null,null,null,null,null,null,null,null,null,null,null,null,null,null,null,null,null,null,null,null,null,null,null,null,null,null,null,null,null,null,null,null,null,null,null,null,null,null,null,0]
[null,"NUTRICIONISTA",0,0,0,null,null,null,null,null,null,null,null,null,null,null,null,null,null,null,null,null,null,null,null,null,null,null,null,null,null,null,null,null,null,null,null,null,null,null,null,null,null,null,null,null,null,null,null,null,null,null,null,null,null,null,null,null,null,null,null,null,null,null,null,null,null,null,null,null,null,null,null,null,null,null,null,null,null,null,null,null,null,null,null,null,0]
[null,"TÉCNICO PARAMÉDICO",0,0,0,null,null,null,null,null,null,null,null,null,null,null,null,null,null,null,null,null,null,null,null,null,null,null,null,null,null,null,null,null,null,null,null,null,null,null,null,null,null,null,null,null,null,null,null,null,null,null,null,null,null,null,null,null,null,null,null,null,null,null,null,null,null,null,null,null,null,null,null,null,null,null,null,null,null,null,null,null,null,null,null,null,0]
["SECCIÓN D: CONTROL DE SALUD INTEGRAL DE ADOLESCENTES (incluidos en sección B)"]
["LUGAR DEL CONTROL, SEGÚN EDAD",null,"10 A 14 AÑOS",null,null,"15 A 19 AÑOS"]
[null,null,"Ambos Sexos","Hombres","Mujeres","Ambos Sexos","Hombres","Mujeres"]
["EN ESPACIO AMIGABLE",null,{"$f":"SUM(D65:E65)","v":0},null,null,{"$f":"SUM(G65:H65)","v":0}]
["EN OTROS ESPACIOS DEL ESTABLECIMIENTO DE SALUD",null,{"$f":"SUM(D66:E66)","v":0},null,null,{"$f":"SUM(G66:H66)","v":0}]
["EN ESTABLECIMIENTOS EDUCACIONALES",null,{"$f":"SUM(D67:E67)","v":0},null,null,{"$f":"SUM(G67:H67)","v":0}]
["EN OTROS LUGARES FUERA DEL ESTABLECIMIENTO DE SALUD",null,{"$f":"SUM(D68:E68)","v":0},null,null,{"$f":"SUM(G68:H68)","v":0}]
["TOTAL",null,{"$f":"SUM(C65:C68)","v":0},0,0,0,0,0]
["SECCIÓN E: CONTROLES DE SALUD EN ESTABLECIMIENTO EDUCACIONAL (Los controles individuales deben estar incluídos en la Sección B)"]
["TIPO DE CONTROLES","CURSO","TOTAL*","TOTAL NIÑOS Y NIÑAS","SEXO"]
[null,null,null,null,"Hombres","Mujeres"]
["CONTROLES INDIVIDUALES","KÍNDER",{"$f":"SUM(E73:F73)","v":0}]
[null,"PRIMERO BÁSICO ",{"$f":"SUM(E74:F74)","v":0}]
[null,"SEGUNDO BÁSICO",{"$f":"SUM(E75:F75)","v":0}]
[null,"TERCERO BÁSICO",{"$f":"SUM(E76:F76)","v":0}]
[null,"CUARTO BÁSICO",{"$f":"SUM(E77:F77)","v":0}]
["CONTROLES \nGRUPALES *","KÍNDER",null,{"$f":"SUM(E78:F78)","v":0}]
[null,"PRIMERO BÁSICO ",null,{"$f":"SUM(E79:F79)","v":0}]
[null,"SEGUNDO BÁSICO",null,{"$f":"SUM(E80:F80)","v":0}]
[null,"TERCERO BÁSICO",null,{"$f":"SUM(E81:F81)","v":0}]
[null,"CUARTO BÁSICO",null,{"$f":"SUM(E82:F82)","v":0}]
[" En Total* se registra el número de controles grupales"]
["SECCIÓN F: CONTROLES INTEGRALES DE PERSONAS CON CONDICIONES CRÓNICAS",null,null,null,null,null,null,null,null,null,null,null,null,null,null,null,null,null,null,null,null,null,null,null,null,null,null,null,null,null,null,null,null,null,null,null,null,null,null,null,null,null,null,null,null,null,null,null,null,null,null,null,null,null,null,null,null,null,null,null,null,null,null,null,null,null,null,null,null,null,null,null,null,null,null,null,null,null,null,null,null,null,null,null,null,0,0,0]
["TIPO DE CONTROL","TOTAL",null,null,"POR EDAD ",null,null,null,null,null,null,null,null,null,null,null,null,null,null,null,null,null,null,null,null,null,null,null,null,null,null,null,"Beneficiarios","Migrantes","Pueblos Originarios"]
[null,null,null,null,"15 a 19",null,"20 - 24",null,"25 - 29",null,"30 - 34",null,"35 - 39",null,"40 - 44",null,"45 - 49",null,"50 - 54",null,"55 - 59",null,"60 - 64",null,"65 - 69",null,"70 - 74",null,"75 - 79",null,"80 y mas"]
[null,"Ambos Sexos","Hombres","Mujeres","Hombres","Mujeres","Hombres","Mujeres","Hombres","Mujeres","Hombres","Mujeres","Hombres","Mujeres","Hombres","Mujeres","Hombres","Mujeres","Hombres","Mujeres","Hombres","Mujeres","Hombres","Mujeres","Hombres","Mujeres","Hombres","Mujeres","Hombres","Mujeres","Hombres","Mujeres"]
["CONTROL INTEGRAL CON RIESGO LEVE (G1)",{"$f":"SUM(C88:D88)","v":0},{"$f":"SUM(E88+G88+I88+K88+M88+O88+Q88+S88+U88+W88+Y88+AA88+AC88+AE88)","v":0},{"$f":"SUM(F88+H88+J88+L88+N88+P88+R88+T88+V88+X88+Z88+AB88+AD88+AF88)","v":0},null,null,null,null,null,null,null,null,null,null,null,null,null,null,null,null,null,null,null,null,null,null,null,null,null,null,null,null,null,null,null,null,null,null,null,null,null,null,null,null,null,null,null,null,null,null,null,null,null,null,null,null,null,null,null,null,null,null,null,null,null,null,null,null,null,null,null,null,null,null,null,null,null,null,null,null,null,null,null,null,null,0,0,0]
["CONTROL INTEGRAL CON RIESGO MODERADO (G2)",{"$f":"SUM(C89:D89)","v":0},0,0]
["CONTROL INTEGRAL CON RIESGO ALTO (G3)",{"$f":"SUM(C90:D90)","v":0},0,0]
["SEGUIMIENTO A DISTANCIA CON RIESGO ALTO (G3)",{"$f":"SUM(C91:D91)","v":0},0,{"$f":"SUM(F91+H91+J91+L91+N91+P91+R91+T91+V91+X91+Z91+AB91+AD91+AF91)","v":0},null,null,null,null,null,null,null,null,null,null,null,null,null,null,null,null,null,null,null,null,null,null,null,null,null,null,null,null,null,null,null,null,null,null,null,null,null,null,null,null,null,null,null,null,null,null,null,null,null,null,null,null,null,null,null,null,null,null,null,null,null,null,null,null,null,null,null,null,null,null,null,null,null,null,null,null,null,null,null,null,null,0,0,0]
[]
[]
[]
[]
[]
[]
[]
[]
[]
[]
[]
[]
[]
[]
[]
[]
[]
[]
[]
[]
[]
[]
[]
[]
[]
[]
[]
[]
[]
[]
[]
[]
[]
[]
[]
[]
[]
[]
[]
[]
[]
[]
[]
[]
[]
[]
[]
[]
[]
[]
[]
[]
[]
[]
[]
[]
[]
[]
[]
[]
[]
[]
[]
[]
[]
[]
[]
[]
[]
[]
[]
[]
[]
[]
[]
[]
[]
[]
[]
[]
[]
[]
[]
[]
[]
[]
[]
[]
[]
[]
[]
[]
[]
[{"$f":"SUM(C12:C27,V12:V27,T26:U27,X18:AA21,W14:W15,C31:C34,D31:E34,AI31:AI34,C39:E61,C65:C69,F65:F69,C73:C77,D78:D82)","v":0},{"$f":"SUM(CG1:CU82)","v":0}]

{"sheet":"A02","index":2,"n_rows":195,"n_cols":87,"rows_kept":195,"cut":false,"hidden":false,"merged":[[31,30,31,31],[31,14,31,15],[31,16,31,17],[31,18,31,19],[31,20,31,21],[31,22,31,23],[31,24,31,25],[26,30,26,31],[31,0,32,0],[31,1,31,3],[31,4,31,5],[31,6,31,7],[31,8,31,9],[31,10,31,11],[31,12,31,13],[26,14,26,15],[26,16,26,17],[26,18,26,19],[26,20,26,21],[26,22,26,23],[26,24,26,25],[31,26,31,27],[31,28,31,29],[18,30,18,31],[26,0,27,0],[26,1,26,3],[26,4,26,5],[26,6,26,7],[26,8,26,9],[26,10,26,11],[26,12,26,13],[18,14,18,15],[18,16,18,17],[18,18,18,19],[18,20,18,21],[18,22,18,23],[18,24,18,25],[26,26,26,27],[26,28,26,29],[5,0,5,29],[8,0,9,0],[8,1,8,3],[18,0,19,0],[18,1,18,3],[18,4,18,5],[18,6,18,7],[18,8,18,9],[18,10,18,11],[18,12,18,13],[18,26,18,27],[18,28,18,29]]}
["SERVICIO DE SALUD"]
[{"$f":"CONCATENATE(\"COMUNA: \",NOMBRE!B2,\" - \",\"( \",NOMBRE!C2,NOMBRE!D2,NOMBRE!E2,NOMBRE!F2,NOMBRE!G2,\" )\")","v":"COMUNA:  - (  )"}]
[{"$f":"CONCATENATE(\"ESTABLECIMIENTO/ESTRATEGIA: \",NOMBRE!B3,\" - \",\"( \",NOMBRE!C3,NOMBRE!D3,NOMBRE!E3,NOMBRE!F3,NOMBRE!G3,NOMBRE!H3,\" )\")","v":"ESTABLECIMIENTO/ESTRATEGIA:  - (  )"}]
[{"$f":"CONCATENATE(\"MES: \",NOMBRE!B6,\" - \",\"( \",NOMBRE!C6,NOMBRE!D6,\" )\")","v":"MES:  - (  )"}]
[{"$f":"CONCATENATE(\"AÑO: \",NOMBRE!B7)","v":"AÑO: 2020"}]
["REM-A02.   EXAMEN DE MEDICINA PREVENTIVA EN MAYORES DE 15 AÑOS"]
[]
["SECCIÓN A: EMP REALIZADO POR PROFESIONAL"]
["PROFESIONAL","TOTAL"]
[null,"Ambos Sexos","Hombres","Mujeres"]
["TOTAL ",{"$f":"SUM(B12:B17)","v":0},{"$f":"SUM(C12:C17)","v":0},{"$f":"SUM(D12:D17)","v":0}]
["MÉDICO",{"$f":"SUM(C12:D12)","v":0}]
["ENFERMERA /O",0]
["MATRONA /ÓN",0]
["NUTRICIONISTA ",0]
["OTRO PROFESIONAL",0]
["TÉCNICO PARAMÉDICO",0]
["SECCIÓN B: EMP SEGÚN RESULTADO DEL ESTADO NUTRICIONAL"]
["ESTADO \nNUTRICIONAL","TOTAL",null,null,"15 a 19",null,"20 a 24",null,"25 a 29",null,"30 a 34",null,"35 a 39",null,"40 a 44",null,"45 a 49",null,"50 a 54",null,"55 a 59",null,"60 a 64",null,"65 a 69",null,"70 a 74",null,"75 a 79",null,"80 y más"]
[null,"Ambos Sexos","Hombres","Mujeres","Hombres","Mujeres","Hombres","Mujeres","Hombres","Mujeres","Hombres","Mujeres","Hombres","Mujeres","Hombres","Mujeres","Hombres","Mujeres","Hombres","Mujeres","Hombres","Mujeres","Hombres","Mujeres","Hombres","Mujeres","Hombres","Mujeres","Hombres","Mujeres","Hombres","Mujeres"]
["TOTAL",{"$f":"SUM(B22:B25)","v":0},0,0,0,0,0,0,0,0,0,0,0,0,0,0,0,0,0,0,0,0,0,0,0,0,0,0,0,0,0,0,null,null,null,null,null,null,null,null,null,null,null,null,null,null,null,null,null,null,null,null,null,null,null,null,null,null,null,null,null,null,null,null,null,null,null,null,null,null,null,null,null,null,null,null,null,null,null,null,null,null,null,null,null,null,0]
["NORMAL",{"$f":"SUM(C22:D22)","v":0},{"$f":"SUM(E22+G22+I22+K22+M22+O22+Q22+S22+U22+W22+Y22+AA22+AC22+AE22)","v":0},0]
["BAJO PESO",{"$f":"SUM(C23:D23)","v":0},0,0]
["SOBREPESO",{"$f":"SUM(C24:D24)","v":0},0,0]
["OBESOS",{"$f":"SUM(C25:D25)","v":0},0,0]
["SECCIÓN C: RESULTADOS DE EMP SEGÚN ESTADO DE SALUD"]
["ESTADO \nDE SALUD","TOTAL",null,null,"15 a 19",null,"20 a 24",null,"25 a 29",null,"30 a 34",null,"35 a 39",null,"40 a 44",null,"45 a 49",null,"50 a 54",null,"55 a 59",null,"60 a 64",null,"65 a 69",null,"70 a 74",null,"75 a 79",null,"80 y más"]
[null,"Ambos Sexos","Hombres","Mujeres","Hombres","Mujeres","Hombres","Mujeres","Hombres","Mujeres","Hombres","Mujeres","Hombres","Mujeres","Hombres","Mujeres","Hombres","Mujeres","Hombres","Mujeres","Hombres","Mujeres","Hombres","Mujeres","Hombres","Mujeres","Hombres","Mujeres","Hombres","Mujeres","Hombres","Mujeres"]
["TABAQUISMO",{"$f":"SUM(C29:D29)","v":0},{"$f":"SUM(E29+G29+I29+K29+M29+O29+Q29+S29+U29+W29+Y29+AA29+AC29+AE29)","v":0},{"$f":"SUM(F29+H29+J29+L29+N29+P29+R29+T29+V29+X29+Z29+AB29+AD29+AF29)","v":0},null,null,null,null,null,null,null,null,null,null,null,null,null,null,null,null,null,null,null,null,null,null,null,null,null,null,null,null,null,null,null,null,null,null,null,null,null,null,null,null,null,null,null,null,null,null,null,null,null,null,null,null,null,null,null,null,null,null,null,null,null,null,null,null,null,null,null,null,null,null,null,null,null,null,null,null,null,null,null,null,0]
["PRESIÓN ARTERIAL ELEVADA (= >140/90 mmHg)",{"$f":"SUM(C30:D30)","v":0},{"$f":"SUM(E30+G30+I30+K30+M30+O30+Q30+S30+U30+W30+Y30+AA30+AC30+AE30)","v":0},{"$f":"SUM(F30+H30+J30+L30+N30+P30+R30+T30+V30+X30+Z30+AB30+AD30+AF30)","v":0},null,null,null,null,null,null,null,null,null,null,null,null,null,null,null,null,null,null,null,null,null,null,null,null,null,null,null,null,null,null,null,null,null,null,null,null,null,null,null,null,null,null,null,null,null,null,null,null,null,null,null,null,null,null,null,null,null,null,null,null,null,null,null,null,null,null,null,null,null,null,null,null,null,null,null,null,null,null,null,null,0]
["SECCIÓN D: RESULTADOS DE EMP SEGÚN ESTADO DE SALUD (EXÁMENES DE LABORATORIO)"]
["ESTADO \nDE SALUD","TOTAL",null,null,"15 a 19 años",null,"20 a 24 años",null,"25 a 29",null,"30 a 34",null,"35 a 39",null,"40 a 44",null,"45 a 49",null,"50 a 54",null,"55 a 59",null,"60 a 64",null,"65 a 69",null,"70 a 74",null,"75 a 79",null,"80 y más"]
[null,"Ambos Sexos","Hombres","Mujeres","Hombres","Mujeres","Hombres","Mujeres","Hombres","Mujeres","Hombres","Mujeres","Hombres","Mujeres","Hombres","Mujeres","Hombres","Mujeres","Hombres","Mujeres","Hombres","Mujeres","Hombres","Mujeres","Hombres","Mujeres","Hombres","Mujeres","Hombres","Mujeres","Hombres","Mujeres"]
["GLICEMIA ALTERADA (= > a 100 mg/dl)",{"$f":"SUM(C34:D34)","v":0},{"$f":"SUM(E34+G34+I34+K34+M34+O34+Q34+S34+U34+W34+Y34+AA34+AC34+AE34)","v":0},{"$f":"SUM(F34+H34+J34+L34+N34+P34+R34+T34+V34+X34+Z34+AB34+AD34+AF34)","v":0}]
["COLESTEROL ELEVADO (= > 200 mg/dl)",{"$f":"SUM(C35:D35)","v":0},{"$f":"SUM(E35+G35+I35+K35+M35+O35+Q35+S35+U35+W35+Y35+AA35+AC35+AE35)","v":0},{"$f":"SUM(F35+H35+J35+L35+N35+P35+R35+T35+V35+X35+Z35+AB35+AD35+AF35)","v":0}]
[]
[]
[]
[]
[]
[]
[]
[]
[]
[]
[]
[]
[]
[]
[]
[]
[]
[]
[]
[]
[]
[]
[]
[]
[]
[]
[]
[]
[]
[]
[]
[]
[]
[]
[]
[]
[]
[]
[]
[]
[]
[]
[]
[]
[]
[]
[]
[]
[]
[]
[]
[]
[]
[]
[]
[]
[]
[]
[]
[]
[]
[]
[]
[]
[]
[]
[]
[]
[]
[]
[]
[]
[]
[]
[]
[]
[]
[]
[]
[]
[]
[]
[]
[]
[]
[]
[]
[]
[]
[]
[]
[]
[]
[]
[]
[]
[]
[]
[]
[]
[]
[]
[]
[]
[]
[]
[]
[]
[]
[]
[]
[]
[]
[]
[]
[]
[]
[]
[]
[]
[]
[]
[]
[]
[]
[]
[]
[]
[]
[]
[]
[]
[]
[]
[]
[]
[]
[]
[]
[]
[]
[]
[]
[]
[]
[]
[]
[]
[]
[]
[]
[]
[]
[]
[]
[]
[]
[]
[]
[{"$f":"SUM(B12:B17,B21:B25,B29:B30,B34:B35)","v":0},{"$f":"SUM(CG7:CM52)","v":0}]

{"sheet":"A03","index":3,"n_rows":251,"n_cols":129,"rows_kept":251,"cut":false,"hidden":false,"merged":[[195,22,196,22],[194,19,194,22],[194,5,194,14],[194,15,195,16],[194,17,195,18],[188,7,188,8],[188,9,188,10],[195,13,195,14],[188,17,188,18],[187,19,188,20],[195,19,196,19],[195,20,196,20],[195,21,196,21],[9,23,9,24],[11,0,11,1],[12,0,13,0],[8,0,10,1],[8,2,9,4],[8,5,8,24],[9,5,9,6],[42,0,42,1],[43,0,43,1],[19,0,19,1],[20,0,23,0],[24,0,32,0],[33,0,34,0],[35,0,37,0],[16,0,18,0],[16,1,18,1],[16,2,17,4],[16,5,16,16],[17,5,17,6],[17,7,17,8],[17,9,17,10],[17,11,17,12],[17,13,17,14],[17,15,17,16],[50,0,50,1],[51,0,51,1],[9,19,9,20],[9,21,9,22],[16,17,18,17],[39,2,40,4],[39,5,39,16],[40,5,40,6],[40,7,40,8],[40,9,40,10],[40,11,40,12],[9,7,9,8],[9,9,9,10],[9,11,9,12],[9,13,9,14],[9,15,9,16],[9,17,9,18],[39,0,41,1],[40,13,40,14],[40,15,40,16],[44,0,44,1],[45,0,45,1],[47,0,49,1],[55,2,56,4],[55,5,55,14],[56,5,56,6],[56,7,56,8],[56,9,56,10],[56,11,56,12],[56,13,56,14],[47,2,48,4],[47,5,47,8],[48,5,48,6],[48,7,48,8],[58,0,58,1],[59,0,59,1],[62,0,62,1],[60,0,60,1],[61,0,61,1],[65,0,66,1],[52,0,52,1],[53,0,53,1],[55,0,57,1],[90,0,90,15],[76,0,76,1],[77,0,78,0],[79,0,80,0],[82,2,82,4],[82,5,82,6],[82,7,82,8],[65,2,66,2],[67,0,67,1],[68,0,68,1],[69,0,69,1],[70,0,70,1],[71,0,71,1],[86,0,86,1],[85,0,85,1],[82,0,83,1],[84,0,84,1],[87,0,87,1],[88,0,88,1],[73,0,73,1],[74,0,74,1],[89,0,89,1],[106,25,106,26],[106,17,106,18],[106,19,106,20],[99,0,99,1],[100,0,100,1],[106,13,106,14],[106,15,106,16],[152,29,152,30],[152,31,152,32],[106,21,106,22],[106,23,106,24],[101,0,103,0],[105,0,107,0],[105,1,107,1],[105,2,106,4],[105,5,105,26],[149,0,149,1],[152,25,152,26],[152,27,152,28],[144,0,148,0],[123,0,127,0],[128,0,132,0],[113,0,117,0],[118,0,122,0],[91,0,91,16],[92,0,94,1],[92,2,93,4],[92,5,92,16],[93,5,93,6],[108,0,112,0],[106,9,106,10],[106,11,106,12],[133,0,137,0],[93,9,93,10],[93,11,93,12],[93,13,93,14],[93,15,93,16],[95,0,95,1],[138,0,138,1],[139,0,143,0],[106,5,106,6],[106,7,106,8],[98,0,98,1],[161,5,161,14],[5,0,5,24],[162,13,162,14],[164,0,166,0],[152,17,152,18],[152,19,152,20],[152,21,152,22],[152,23,152,24],[96,0,96,1],[97,0,97,1],[161,1,163,1],[161,2,162,4],[152,11,152,12],[154,0,156,0],[157,0,159,0],[162,5,162,6],[162,7,162,8],[162,9,162,10],[93,7,93,8],[152,33,152,34],[152,35,152,36],[152,37,152,38],[202,0,202,1],[187,0,189,1],[171,0,173,1],[199,0,200,1],[199,2,199,3],[167,0,169,0],[170,0,170,14],[151,0,153,1],[151,2,152,4],[152,5,152,6],[152,9,152,10],[151,5,151,38],[152,7,152,8],[152,13,152,14],[152,15,152,16],[162,11,162,12],[180,2,181,4],[180,5,180,16],[181,5,181,6],[171,5,171,16],[176,0,176,1],[204,0,204,1],[201,0,201,1],[172,7,172,8],[172,9,172,10],[161,0,163,0],[171,2,172,4],[190,0,191,0],[192,0,192,1],[197,0,197,1],[174,0,174,1],[175,0,175,1],[187,2,188,4],[188,5,188,6],[184,0,184,1],[194,0,196,1],[194,2,195,4],[195,5,195,6],[195,7,195,8],[195,9,195,10],[181,9,181,10],[172,5,172,6],[187,5,187,18],[185,0,185,1],[188,11,188,12],[177,0,177,1],[181,7,181,8],[180,0,182,1],[183,0,183,1],[203,0,203,1],[188,13,188,14],[188,15,188,16],[195,11,195,12],[172,15,172,16],[181,11,181,12],[172,11,172,12],[172,13,172,14],[181,13,181,14],[181,15,181,16]]}
["SERVICIO DE SALUD"]
[{"$f":"CONCATENATE(\"COMUNA: \",NOMBRE!B2,\" - \",\"( \",NOMBRE!C2,NOMBRE!D2,NOMBRE!E2,NOMBRE!F2,NOMBRE!G2,\" )\")","v":"COMUNA:  - (  )"}]
[{"$f":"CONCATENATE(\"ESTABLECIMIENTO/ESTRATEGIA: \",NOMBRE!B3,\" - \",\"( \",NOMBRE!C3,NOMBRE!D3,NOMBRE!E3,NOMBRE!F3,NOMBRE!G3,NOMBRE!H3,\" )\")","v":"ESTABLECIMIENTO/ESTRATEGIA:  - (  )"}]
[{"$f":"CONCATENATE(\"MES: \",NOMBRE!B6,\" - \",\"( \",NOMBRE!C6,NOMBRE!D6,\" )\")","v":"MES:  - (  )"}]
[{"$f":"CONCATENATE(\"AÑO: \",NOMBRE!B7)","v":"AÑO: 2020"}]
["REM-A03.   APLICACIÓN Y RESULTADOS DE ESCALAS DE EVALUACIÓN "]
["SECCIÓN A: APLICACIÓN DE INSTRUMENTO Y RESULTADO EN EL NIÑO (A)"]
["SECCIÓN A.1: APLICACIÓN Y RESULTADOS DE PAUTA BREVE"]
["EVALUACIONES POR EDAD DEL NIÑO",null,"TOTAL  ",null,null,"GRUPO DE EDAD"]
[null,null,null,null,null,"Menor de 1 mes",null,"1 mes",null,"2 meses",null,"3 meses",null,"4 meses",null," 5 meses",null,"6 meses",null," 7 - 11 meses",null,"12 - 17 meses",null,"18 - 24 meses"]
[null,null,"Ambos Sexos","Hombres","Mujeres","Hombres","Mujeres","Hombres","Mujeres","Hombres","Mujeres","Hombres","Mujeres","Hombres","Mujeres","Hombres","Mujeres","Hombres","Mujeres","Hombres","Mujeres","Hombres","Mujeres","Hombres","Mujeres"]
["APLICACIÓN PAUTA BREVE",null,{"$f":"SUM(D12+E12)","v":0},{"$f":"SUM(F12+H12+J12+L12+N12+P12+R12+T12+V12+X12)","v":0},0]
["RESULTADOS","NORMAL",{"$f":"SUM(D13+E13)","v":0},0,0,null,null,null,null,null,null,null,null,null,null,null,null,null,null,null,null,null,null,null,null,null,null,null,null,null,null,null,null,null,null,null,null,null,null,null,null,null,null,null,null,null,null,null,null,null,null,null,null,null,null,null,null,null,null,null,null,null,null,null,null,null,null,null,null,null,null,null,null,null,null,null,null,null,null,null,null,null,null,null,null,null,null,null,null,null,null,null,null,null,null,null,null,null,null,null,null,null,null,null,null,null,null,null,null,0,0,0,0,0,0,0,0,0,0,0,0,0,0,0,0,0,0,0,0]
[null,"ALTERADO",{"$f":"SUM(D14+E14)","v":0},0,0]
[]
["SECCIÓN A.2: RESULTADOS DE LA APLICACIÓN DE ESCALA DE EVALUACIÓN DEL DESARROLLO PSICOMOTOR"]
["ACTIVIDAD","RESULTADO","TOTAL    ",null,null,"POR EDAD",null,null,null,null,null,null,null,null,null,null,null,"MIGRANTES"]
[null,null,null,null,null,"Menor 7 meses",null,"7 - 11 meses",null,"12 - 17 meses",null,"18 - 23 meses",null,"24 - 47 meses",null,"48 - 59 meses"]
[null,null,"Ambos Sexos","Hombres","Mujeres","Hombres","Mujeres","Hombres","Mujeres","Hombres","Mujeres","Hombres","Mujeres","Hombres","Mujeres","Hombres","Mujeres"]
["APLICACIÓN TEST DE DESARROLLO PSICOMOTOR",null,{"$f":"SUM(D20+E20)","v":0},{"$f":"SUM(F20+H20+J20+L20+N20+P20)","v":0},{"$f":"SUM(G20+I20+K20+M20+O20+Q20)","v":0},null,null,null,null,null,null,null,null,null,null,null,null,null,null,null,null,null,null,null,null,null,null,null,null,null,null,null,null,null,null,null,null,null,null,null,null,null,null,null,null,null,null,null,null,null,null,null,null,null,null,null,null,null,null,null,null,null,null,null,null,null,null,null,null,null,null,null,null,null,null,null,null,null,null,null,null,null,null,null,0,0,0,0,0,0,0,0]
["PRIMERA EVALUACIÓN","NORMAL",0,0,0]
[null,"NORMAL CON REZAGO",0,0,0]
[null,"RIESGO",0,0,0]
[null,"RETRASO",0,0,0]
["REEVALUACIÓN","NORMAL (desde normal con rezago)",0,0,0]
[null,"NORMAL (desde riesgo)",0,0,0]
[null,"NORMAL (desde retraso)",0,0,0]
[null,"NORMAL CON REZAGO (desde riesgo)",0,0,0]
[null,"NORMAL CON REZAGO (desde retraso)",0,{"$f":"+F29+H29+J29+L29+N29+P29","v":0},{"$f":"+G29+I29+K29+M29+O29+Q29","v":0}]
[null,"RIESGO (desde retraso)",{"$f":"SUM(D30:E30)","v":0},{"$f":"+F30+H30+J30+L30+N30+P30","v":0},{"$f":"+G30+I30+K30+M30+O30+Q30","v":0}]
[null,"NORMAL CON REZAGO (desde normal con rezago)",{"$f":"SUM(D31:E31)","v":0},{"$f":"SUM(F31+H31+J31+L31+N31+P31)","v":0},0]
[null,"RIESGO (desde riesgo)",{"$f":"SUM(D32+E32)","v":0},0,0]
[null,"RETRASO (desde retraso)",0,0,0]
["DERIVADOS A ESPECIALIDAD","RIESGO",0,0,0]
[null,"RETRASO",0,0,0]
["TRASLADO DE ESTABLECIMIENTO","NORMAL CON REZAGO",0,0,0]
[null,"RIESGO",0,0,0]
[null,"RETRASO",0,0,0]
["SECCIÓN A.3: NIÑOS Y NIÑAS CON REZAGO, DÉFICIT U OTRA VULNERABILIDAD DERIVADOS A ALGUNA MODALIDAD DE ESTIMULACIÓN EN LA PRIMERA EVALUACIÓN"]
["NIÑO / A",null,"TOTAL    ",null,null,"POR EDAD"]
[null,null,null,null,null,"Menor 7 meses",null,"7 - 11 meses",null,"12 - 17 meses",null,"18 - 23 meses",null,"24 - 47 meses",null,"48 - 59 meses"]
[null,null,"Ambos Sexos","Hombres","Mujeres","Hombres","Mujeres","Hombres","Mujeres","Hombres","Mujeres","Hombres","Mujeres","Hombres","Mujeres","Hombres","Mujeres"]
["NORMAL CON REZAGO",null,{"$f":"SUM(D43+E43)","v":0},{"$f":"SUM(F43+H43+J43+L43+N43+P43)","v":0},0,null,null,null,null,null,null,null,null,null,null,null,null,{"$f":"CA43","v":""},null,null,null,null,null,null,null,null,null,null,null,null,null,null,null,null,null,null,null,null,null,null,null,null,null,null,null,null,null,null,null,null,null,null,null,null,null,null,null,null,null,null,null,null,null,null,null,null,null,null,null,null,null,null,null,null,null,null,null,null,{"$f":"IF(C43<>'A05'!C63,\"* Niños derivados deben ser iguales al ingreso de niños(as) Normal con Rezago a salas de estimulación REM A05 sección F. \",\"\")","v":""}]
["RIESGO",null,{"$f":"SUM(D44+E44)","v":0},0,0,null,null,null,null,null,null,null,null,null,null,null,null,{"$f":"CA44","v":""},null,null,null,null,null,null,null,null,null,null,null,null,null,null,null,null,null,null,null,null,null,null,null,null,null,null,null,null,null,null,null,null,null,null,null,null,null,null,null,null,null,null,null,null,null,null,null,null,null,null,null,null,null,null,null,null,null,null,null,null,{"$f":"IF(C44<>'A05'!C64,\"* Niños derivados deben ser iguales al ingreso de niños(as) con Riesgo a salas de estimulación REM A05 sección F. \",\"\")","v":""}]
["RETRASO",null,{"$f":"SUM(D45+E45)","v":0},0,0,null,null,null,null,null,null,null,null,null,null,null,null,{"$f":"CA45","v":""},null,null,null,null,null,null,null,null,null,null,null,null,null,null,null,null,null,null,null,null,null,null,null,null,null,null,null,null,null,null,null,null,null,null,null,null,null,null,null,null,null,null,null,null,null,null,null,null,null,null,null,null,null,null,null,null,null,null,null,null,{"$f":"IF(C45<>'A05'!C65,\"* Niños derivados deben ser iguales al ingreso de niños(as) con Retraso a salas de estimulación REM A05 sección F. \",\"\")","v":""}]
["OTRA VULNERABILIDAD",null,{"$f":"SUM(D46:E46)","v":0},0,0,null,null,null,null,null,null,null,null,null,null,null,null,{"$f":"CA46","v":""},null,null,null,null,null,null,null,null,null,null,null,null,null,null,null,null,null,null,null,null,null,null,null,null,null,null,null,null,null,null,null,null,null,null,null,null,null,null,null,null,null,null,null,null,null,null,null,null,null,null,null,null,null,null,null,null,null,null,null,null,{"$f":"IF(C46<>'A05'!C66,\"* Niños derivados deben ser iguales al ingreso de niños(as) con Otras Vulnerabilidad a salas de estimulación REM A05 sección F. \",\"\")","v":""}]
["SECCIÓN A.4: RESULTADOS DE LA APLICACIÓN DE PROTOCOLO NEUROSENSORIAL"]
["RESULTADOS",null,"TOTAL  ",null,null,"POR EDAD"]
[null,null,null,null,null,"1 mes",null,"2 meses"]
[null,null,"Ambos Sexos","Hombres","Mujeres","Hombres","Mujeres","Hombres","Mujeres"]
["APLICACIÓN DE PROTOCOLO NEUROSENSORIAL (1-2 MESES)",null,{"$f":"SUM(D51+E51)","v":0},{"$f":"SUM(F51+H51)","v":0},0,{"$f":"SUM(F52:F54)","v":0},{"$f":"SUM(G52:G54)","v":0},{"$f":"SUM(H52:H54)","v":0},{"$f":"SUM(I52:I54)","v":0}]
["NORMAL",null,{"$f":"SUM(D52+E52)","v":0},0,0]
["ANORMAL",null,{"$f":"SUM(D53+E53)","v":0},0,0]
["MUY ANORMAL",null,{"$f":"SUM(D54+E54)","v":0},0,0]
["SECCIÓN A.5:  LACTANCIA MATERNA EN MENORES CONTROLADOS"]
["TIPO DE ALIMENTACIÓN",null,"TOTAL",null,null,"SEGÚN CONTROL PROGRAMÁTICO"]
[null,null,null,null,null,"Del 1° mes",null,"Del 3° mes",null,"Del 6° mes",null,"Del 12° mes",null,"Del 24° mes"]
[null,null,"Ambos Sexos","Hombres","Mujeres","Hombres","Mujeres","Hombres","Mujeres","Hombres","Mujeres","Hombres","Mujeres","Hombres","Mujeres"]
["MENORES CONTROLADOS",null,{"$f":"SUM(D59+E59)","v":0},{"$f":"SUM(F59+H59+J59+L59+N59)","v":0},{"$f":"SUM(G59+I59+K59+M59+O59)","v":0},null,null,null,null,null,null,null,null,null,null,null,null,null,null,null,null,null,null,null,null,null,null,null,null,null,null,null,null,null,null,null,null,null,null,null,null,null,null,null,null,null,null,null,null,null,null,null,null,null,null,null,null,null,null,null,null,null,null,null,null,null,null,null,null,null,null,null,null,null,null,null,null,null,null,null,null,null,null,null,0,0,0,0,0]
["LACTANCIA MATERNA EXCLUSIVA",null,{"$f":"SUM(D60+E60)","v":0},{"$f":"SUM(F60+H60+J60)","v":0},0]
["LACTANCIA MATERNA / FORMULA LÁCTEA",null,{"$f":"SUM(D61+E61)","v":0},0,0]
["FORMULA LÁCTEA",null,{"$f":"SUM(D62+E62)","v":0},0,0]
["LACTANCIA MATERNA MAS SÓLIDOS",null,{"$f":"SUM(D63+E63)","v":0},{"$f":"SUM(J63+L63+N63)","v":0},{"$f":"SUM(K63+M63+O63)","v":0}]
["SECCION B: EVALUACIÓN, APLICACIÓN Y RESULTADOS DE ESCALAS EN  LA MUJER"]
["SECCIÓN B.1: EVALUACIÓN DEL ESTADO NUTRICIONAL A MUJERES CONTROLADAS AL OCTAVO MES POST PARTO"]
["ESTADO NUTRICIONAL",null,"TOTAL"]
[]
["TOTAL",null,{"$f":"SUM(C69:C72)","v":0}]
["OBESA"]
["SOBREPESO"]
["NORMAL"]
["BAJO PESO"]
["SECCIÓN B.2: APLICACIÓN DE ESCALA SEGÚN EVALUACIÓN DE RIESGO PSICOSOCIAL ABREVIADA A GESTANTES"]
["TIPO",null,"TOTAL DE APLICACIONES","RIESGO","DERIVADAS A EQUIPO DE CABECERA"]
["EVALUACIÓN AL INGRESO",null,null,null,null,null,null,null,null,null,null,null,null,null,null,null,null,null,null,null,null,null,null,null,null,null,null,null,null,null,null,null,null,null,null,null,null,null,null,null,null,null,null,null,null,null,null,null,null,null,null,null,null,null,null,null,null,null,null,null,null,null,null,null,null,null,null,null,null,null,null,null,null,null,null,null,null,null,null,null,{"$f":"IF(C75<='A05'!C11,\"\", \"* Total de aplicaciones EPSA NO DEBE ser MAYOR que el Total de Gestantes ingresadas en REM A05 Secci„n A. \")","v":""},null,null,null,0,0]
["SECCIÓN B.3: APLICACIÓN DE ESCALA DE EDIMBURGO A GESTANTES Y MUJERES POST PARTO",null,null,null,null,null,null,null,null,null,null,null,null,null,null,null,null,null,null,null,null,null,null,null,null,null,null,null,null,null,null,null,null,null,null,null,null,null,null,null,null,null,null,null,null,null,null,null,null,null,null,null,null,null,null,null,null,null,null,null,null,null,null,null,null,null,null,null,null,null,null,null,null,null,null,null,null,null,null,null,null,null,null,null,0]
["CONCEPTO",null,"TOTAL DE APLICACIONES","RESULTADOS  \n10 O MÁS PTOS. O RESULTADO DISTINTO DE 0 EN PREG 10 . (PUERPERAS)","RESULTADOS  \n13 O MÁS PTOS O RESULTADO DISTINTO DE 0 EN PREG 10. (GESTANTES)","TOTAL DE CASOS ALTERADOS DERIVADOS A SALUD MENTAL",null,null,null,null,null,null,null,null,null,null,null,null,null,null,null,null,null,null,null,null,null,null,null,null,null,null,null,null,null,null,null,null,null,null,null,null,null,null,null,null,null,null,null,null,null,null,null,null,null,null,null,null,null,null,null,null,null,null,null,null,null,null,null,null,null,null,null,null,null,null,null,null,null,null,null,null,null,null,0]
["EVALUACIÓN A GESTANTES","PRIMERA EVALUACIÓN (2º control prenatal)",null,null,null,null,null,null,null,null,null,null,null,null,null,null,null,null,null,null,null,null,null,null,null,null,null,null,null,null,null,null,null,null,null,null,null,null,null,null,null,null,null,null,null,null,null,null,null,null,null,null,null,null,null,null,null,null,null,null,null,null,null,null,null,null,null,null,null,null,null,null,null,null,null,null,null,null,null,null,null,null,null,null,0]
[null,"REEVALUACIÓN (con puntaje elevado en la primera evaluación)",null,null,null,null,null,null,null,null,null,null,null,null,null,null,null,null,null,null,null,null,null,null,null,null,null,null,null,null,null,null,null,null,null,null,null,null,null,null,null,null,null,null,null,null,null,null,null,null,null,null,null,null,null,null,null,null,null,null,null,null,null,null,null,null,null,null,null,null,null,null,null,null,null,null,null,null,null,null,null,null,null,null,0]
["EVALUACIÓN A MUJERES POST PARTO O SÍNTOMAS DE DEPRESIÓN","A los 2 meses",null,null,null,null,null,null,null,null,null,null,null,null,null,null,null,null,null,null,null,null,null,null,null,null,null,null,null,null,null,null,null,null,null,null,null,null,null,null,null,null,null,null,null,null,null,null,null,null,null,null,null,null,null,null,null,null,null,null,null,null,null,null,null,null,null,null,null,null,null,null,null,null,null,null,null,null,null,null,null,null,null,null,0]
[null,"A los 6 meses",null,null,null,null,null,null,null,null,null,null,null,null,null,null,null,null,null,null,null,null,null,null,null,null,null,null,null,null,null,null,null,null,null,null,null,null,null,null,null,null,null,null,null,null,null,null,null,null,null,null,null,null,null,null,null,null,null,null,null,null,null,null,null,null,null,null,null,null,null,null,null,null,null,null,null,null,null,null,null,null,null,null,0]
["SECCIÓN C: RESULTADOS DE LA EVALUACIÓN DEL ESTADO NUTRICIONAL DEL ADOLESCENTE CON CONTROL SALUD INTEGRAL"]
["ESTADO \nNUTRICIONAL",null,"TOTAL",null,null,"10 A 14",null,"15 A 19"]
[null,null,"Ambos Sexos","Hombres","Mujeres","Hombres","Mujeres","Hombres","Mujeres"]
["TOTAL",null,{"$f":"SUM(C86:C90)","v":0},0,0,0,0,0,0]
["NORMAL",null,{"$f":"SUM(D86+E86)","v":0},{"$f":"SUM(F86+H86)","v":0},0]
["BAJO PESO",null,{"$f":"SUM(D87+E87)","v":0},0,0]
["SOBREPESO",null,{"$f":"SUM(D88+E88)","v":0},0,0]
["OBESOS",null,{"$f":"SUM(D89+E89)","v":0},0,0]
["OBESOS SEVEROS",null,{"$f":"SUM(D90+E90)","v":0},0,0]
["SECCIÓN D: OTRAS EVALUACIONES, APLICACIONES Y RESULTADOS DE ESCALAS EN TODAS LAS EDADES"]
["SECCIÓN D.1: APLICACIÓN DE TAMIZAJE PARA EVALUAR EL NIVEL DE RIESGO DE CONSUMO DE  ALCOHOL, TABACO Y OTRAS DROGAS"]
["COMPONENTE",null,"TOTAL              ",null,null,"POR EDAD"]
[null,null,null,null,null,"10-14 años",null,"15-19 años",null,"20-24 años",null,"25-44 años",null,"45-64 años",null,"65 o más"]
[null,null,"Ambos Sexos","Hombres","Mujeres","Hombres","Mujeres","Hombres","Mujeres","Hombres","Mujeres","Hombres","Mujeres","Hombres","Mujeres","Hombres","Mujeres"]
["Nº DE AUDIT (EMP/EMPAM)",null,{"$f":"SUM(D96+E96)","v":0},{"$f":"+H96+J96+L96+N96+P96","v":0},{"$f":"+I96+K96+M96+O96+Q96","v":0}]
["Nº DE AUDIT APLICADO",null,0,{"$f":"SUM(J97+L97+N97+P97)","v":0},{"$f":"SUM(K97+M97+O97+Q97)","v":0}]
["Nº DE ASSIST (EMP/EMPAM)",null,0,{"$f":"+J98+L98+N98+P98","v":0},{"$f":"+K98+M98+O98+Q98","v":0}]
["N° DE ASSIST APLICADO",null,0,{"$f":"+J99+L99+N99+P99","v":0},{"$f":"+K99+M99+O99+Q99","v":0}]
["N° DE CRAFFT EN CONTROL DE SALUD INTEGRAL DEL ADOLESCENTE ",null,0,{"$f":"+F100+H100","v":0},{"$f":"+G100+I100","v":0}]
["N° DE CRAFFT APLICADO",null,0,{"$f":"+F101+H101","v":0},{"$f":"+G101+I101","v":0}]
["RESULTADOS DE EVALUACIÓN","BAJO RIESGO ",0,{"$f":"SUM(F102+H102+J102+L102+N102+P102)","v":0},0]
[null,"CONSUMO RIESGOSO / INTERMEDIO",0,0,0]
[null,"POSIBLE CONSUMO PERJUDICIAL O DEPENDENCIA ",0,0,0]
["SECCIÓN D.2: RESULTADOS DE LA APLICACIÓN DE INSTRUMENTO DE VALORACIÓN DE DESEMPEÑO EN COMUNIDAD (IVADEC-CIF)"]
["ACTIVIDAD","RESULTADO","TOTAL    ",null,null,"POR EDAD"]
[null,null,null,null,null,"6 -11 meses",null,"12 - 23 meses",null,"2 - 4 años",null,"5 - 9 años",null,"10 a 14 años",null,"15 a 19 años",null,"20 a 24 años",null,"25 a 64 años",null,"65 a 69 años",null,"70 a 79 años",null,"80 y más años"]
[null,null,"Ambos Sexos","Hombres","Mujeres","Hombres","Mujeres","Hombres","Mujeres","Hombres","Mujeres","Hombres","Mujeres","Hombres","Mujeres","Hombres","Mujeres","Hombres","Mujeres","Hombres","Mujeres","Hombres","Mujeres","Hombres","Mujeres","Hombres","Mujeres"]
["ORIGEN FÍSICO","SIN DISCAPACIDAD",{"$f":"SUM(D109+E109)","v":0},{"$f":"SUM(F109+H109+J109+L109+N109+P109+R109+T109+V109+X109+Z109)","v":0},{"$f":"SUM(G109+I109+K109+M109+O109+Q109+S109+U109+W109+Y109+AA109)","v":0}]
[null,"DISCAPACIDAD LEVE",0,0,0]
[null,"DISCAPACIDAD MODERADA",0,0,0]
[null,"DISCAPACIDAD SEVERA",0,0,0]
[null,"DISCAPACIDAD PROFUNDA",0,0,0]
["ORIGEN SENSORIAL VISUAL","SIN DISCAPACIDAD",0,0,0]
[null,"DISCAPACIDAD LEVE",0,0,0]
[null,"DISCAPACIDAD MODERADA",0,0,0]
[null,"DISCAPACIDAD SEVERA",0,0,0]
[null,"DISCAPACIDAD PROFUNDA",0,0,0]
["ORIGEN SENSORIAL AUDITIVO","SIN DISCAPACIDAD",0,0,0]
[null,"DISCAPACIDAD LEVE",0,0,0]
[null,"DISCAPACIDAD MODERADA",0,0,0]
[null,"DISCAPACIDAD SEVERA",0,0,0]
[null,"DISCAPACIDAD PROFUNDA",0,0,0]
["ORIGEN MENTAL PSÍQUICO","SIN DISCAPACIDAD",0,0,0]
[null,"DISCAPACIDAD LEVE",0,0,0]
[null,"DISCAPACIDAD MODERADA",0,0,0]
[null,"DISCAPACIDAD SEVERA",0,0,0]
[null,"DISCAPACIDAD PROFUNDA",0,0,0]
["ORIGEN MENTAL INTELECTUAL","SIN DISCAPACIDAD",0,0,0]
[null,"DISCAPACIDAD LEVE",0,0,0]
[null,"DISCAPACIDAD MODERADA",0,0,0]
[null,"DISCAPACIDAD SEVERA",0,0,0]
[null,"DISCAPACIDAD PROFUNDA",0,0,0]
["ORIGEN MÚLTIPLE","SIN DISCAPACIDAD",0,0,0]
[null,"DISCAPACIDAD LEVE",0,0,0]
[null,"DISCAPACIDAD MODERADA",0,0,0]
[null,"DISCAPACIDAD SEVERA",0,0,0]
[null,"DISCAPACIDAD PROFUNDA",0,0,0]
["TOTAL DE EVALUACIONES",null,{"$f":"SUM(C109:C138)","v":0},0,0,0,0,0,0,0,0,0,0,0,0,0,0,0,0,0,0,0,0,0,0,0,0]
["EVALUACIÓN INGRESO","SIN DISCAPACIDAD",{"$f":"SUM(D140+E140)","v":0},{"$f":"SUM(F140+H140+J140+L140+N140+P140+R140+T140+V140+X140+Z140)","v":0},{"$f":"SUM(G140+I140+K140+M140+O140+Q140+S140+U140+W140+Y140+AA140)","v":0}]
[null,"DISCAPACIDAD LEVE",0,0,0]
[null,"DISCAPACIDAD MODERADA",0,0,0]
[null,"DISCAPACIDAD SEVERA",0,0,0]
[null,"DISCAPACIDAD PROFUNDA",0,0,0]
["EVALUACIÓN EGRESO","SIN DISCAPACIDAD",0,0,0]
[null,"DISCAPACIDAD LEVE",0,0,0]
[null,"DISCAPACIDAD MODERADA",0,0,0]
[null,"DISCAPACIDAD SEVERA",0,0,0]
[null,"DISCAPACIDAD PROFUNDA",0,0,0]
["TOTAL DE EVALUACIONES",null,{"$f":"SUM(C140:C149)","v":0},0,0,0,0,0,0,0,0,0,0,0,0,0,0,0,0,0,0,0,0,0,0,0,0]
["SECCION D.3: APLICACIÓN Y RESULTADO DE PAUTA DE EVALUACIÓN Y SALUD MENTAL"]
["RESULTADOS",null,"TOTAL",null,null,"POR EDAD"]
[null,null,null,null,null,"0 a 4 años",null,"5 a 9 años",null,"10 a 14 años",null,"15 a 19 años",null,"20 a 24 años",null,"25 a 29 años",null,"30 a 34 años",null,"35 a 39 años",null,"40 a 44 años",null,"45 a 49 años",null,"50 a 54 años",null,"55 a 59 años",null,"60 a 64 años",null,"65 a 69 años",null,"70 a 74 años",null,"75 a 79 años",null,"80 y más años"]
[null,null,"Ambos Sexos","Hombres","Mujeres","Hombres","Mujeres","Hombres","Mujeres","Hombres","Mujeres","Hombres","Mujeres","Hombres","Mujeres","Hombres","Mujeres","Hombres","Mujeres","Hombres","Mujeres","Hombres","Mujeres","Hombres","Mujeres","Hombres","Mujeres","Hombres","Mujeres","Hombres","Mujeres","Hombres","Mujeres","Hombres","Mujeres","Hombres","Mujeres","Hombres","Mujeres"]
["EVALUACION AL INGRESO","BAJO",{"$f":"SUM(D155+E155)","v":0},{"$f":"SUM(F155+H155+J155+L155+N155+P155+R155+T155+V155+X155+Z155+AB155+AD155+AF155+AH155+AJ155+AL155)","v":0},0]
[null,"MEDIO",0,0,0]
[null,"ALTO",0,0,0]
["EVALUACION AL EGRESO","BAJO",0,0,0]
[null,"MEDIO",0,0,0]
[null,"ALTO",0,0,0]
["SECCIÓN D.4: RESULTADO DE APLICACIÓN DE CONDICIÓN DE FUNCIONALIDAD AL EGRESO PROGRAMA \"MÁS ADULTOS MAYORES AUTOVALENTES\""]
["ACTIVIDAD","RESULTADO","TOTAL",null,null,"POR EDAD"]
[null,null,null,null,null,"60 a 64 años",null,"65 a 69 años",null,"70 a 74 años",null,"75 a 79 años",null,"80 y más años"]
[null,null,"Ambos Sexos","Hombres","Mujeres","Hombres","Mujeres","Hombres","Mujeres","Hombres","Mujeres","Hombres","Mujeres","Hombres","Mujeres",null,null,null,null,null,null,null,null,null,null,null,null,null,null,null,null,null,null,null,null,null,null,null,null,null,null,null,null,null,null,null,null,null,null,null,null,null,null,null,null,null,null,null,null,null,null,null,null,null,null,null,null,null,null,null,null,null,null,null,null,null,null,null,null,null,null,null,null,null,0,0]
["TIMED UP AND GO","MEJORA",{"$f":"SUM(D165+E165)","v":0},{"$f":"SUM(F165+H165+J165+L165+N165)","v":0},0,null,null,null,null,null,null,null,null,null,null,null,null,null,null,null,null,null,null,null,null,null,null,null,null,null,null,null,null,null,null,null,null,null,null,null,null,null,null,null,null,null,null,null,null,null,null,null,null,null,null,null,null,null,null,null,null,null,null,null,null,null,null,null,null,null,null,null,null,null,null,null,null,null,null,null,null,null,null,null,0,0]
[null,"MANTIENE",0,0,0,null,null,null,null,null,null,null,null,null,null,null,null,null,null,null,null,null,null,null,null,null,null,null,null,null,null,null,null,null,null,null,null,null,null,null,null,null,null,null,null,null,null,null,null,null,null,null,null,null,null,null,null,null,null,null,null,null,null,null,null,null,null,null,null,null,null,null,null,null,null,null,null,null,null,null,null,null,null,null,0,0]
[null,"DISMINUYE",0,0,0,null,null,null,null,null,null,null,null,null,null,null,null,null,null,null,null,null,null,null,null,null,null,null,null,null,null,null,null,null,null,null,null,null,null,null,null,null,null,null,null,null,null,null,null,null,null,null,null,null,null,null,null,null,null,null,null,null,null,null,null,null,null,null,null,null,null,null,null,null,null,null,null,null,null,null,null,null,null,null,0,0]
["CUESTIONARIO ","MEJORA",0,0,0,null,null,null,null,null,null,null,null,null,null,null,null,null,null,null,null,null,null,null,null,null,null,null,null,null,null,null,null,null,null,null,null,null,null,null,null,null,null,null,null,null,null,null,null,null,null,null,null,null,null,null,null,null,null,null,null,null,null,null,null,null,null,null,null,null,null,null,null,null,null,null,null,null,null,null,null,null,null,null,0,0]
[null,"MANTIENE",0,0,0,null,null,null,null,null,null,null,null,null,null,null,null,null,null,null,null,null,null,null,null,null,null,null,null,null,null,null,null,null,null,null,null,null,null,null,null,null,null,null,null,null,null,null,null,null,null,null,null,null,null,null,null,null,null,null,null,null,null,null,null,null,null,null,null,null,null,null,null,null,null,null,null,null,null,null,null,null,null,null,0,0]
[null,"DISMINUYE",0,0,0]
["SECCIÓN D.5: VARIACIÓN  DE RESULTADO DE APLICACIÓN DEL ÍNDICE DE BARTHEL ENTRE EL INGRESO Y EGRESO HOSPITALARIO"]
["ÍNDICE DE BARTHEL",null,"TOTAL",null,null,"POR EDAD"]
[null,null,null,null,null,"65 a 69 años",null,"70 a 74 años",null,"75 a 79 años",null,"80 a 84 años",null,"85 a 89 años",null,"90 y mas años"]
[null,null,"Ambos Sexos","Hombres","Mujeres","Hombres","Mujeres","Hombres","Mujeres","Hombres","Mujeres","Hombres","Mujeres","Hombres","Mujeres","Hombres","Mujeres"]
["MEJORA PUNTUACIÓN ÍNDICE DE BARTHEL",null,{"$f":"SUM(D175+E175)","v":0},{"$f":"SUM(F175+H175+J175+L175+N175+P175)","v":0},0]
["MANTIENE PUNTUACIÓN ÍNDICE DE BARTHEL",null,{"$f":"SUM(D176+E176)","v":0},0,0]
["DISMINUYE PUNTUACIÓN ÍNDICE DE BARTHEL",null,{"$f":"SUM(D177+E177)","v":0},0,0]
["TOTAL",null,{"$f":"SUM(C175:C177)","v":0},0,0,0,0,0,0,0,0,0,0,0,0,0,0]
["** * El resultado que se consigna es la comparacion del indice de Barthel aplicado al Ingreso y Egreso de la Hospitalizacion"]
["SECCIÓN D.6: APLICACIÓN DE ESCALA ZARIT ABREVIADO EN CUIDADORES DE PERSONAS CON DEPENDENCIA SEVERA"]
["ESCALA DE SOBRECARGA DEL CUIDADOR \"ZARIT ABREVIADO\"",null,"TOTAL              ",null,null,"POR EDAD"]
[null,null,null,null,null,"10-14 años",null,"15-19 años",null,"20-24 años",null,"25-44 años",null,"45-64 años",null,"65 o más"]
[null,null,"Ambos Sexos","Hombres","Mujeres","Hombres","Mujeres","Hombres","Mujeres","Hombres","Mujeres","Hombres","Mujeres","Hombres","Mujeres","Hombres","Mujeres"]
["CUIDADORA (O) CON SOBRECARGA INTENSA",null,{"$f":"SUM(D184+E184)","v":0},{"$f":"SUM(F184+H184+J184+L184+N184+P184)","v":0},0]
["CUIDADORA (O) SIN SOBRECARGA INTENSA",null,{"$f":"SUM(D185+E185)","v":0},0,0]
["TOTAL CUIDADORES EVALUADOS",null,{"$f":"SUM(D186+E186)","v":0},0,0,{"$f":"SUM(F184:F185)","v":0},0,0,0,0,0,0,0,0,0,0,0]
["SECCIÓN D.7: APLICACIÓN Y RESULTADOS DE PAUTA DE EVALUACIÓN CON ENFOQUE DE RIESGO ODONTOLÓGICO (CERO)"]
["PAUTA CERO ",null,"TOTAL",null,null,"POR EDAD",null,null,null,null,null,null,null,null,null,null,null,null,null,"NIÑOS Y NIÑAS RED SENAME"]
[null,null,null,null,null,"<1 año",null,"1 año",null,"2 años",null,"3 años ",null,"4 años",null,"5 años",null,"6 años"]
[null,null,"Ambos sexos","Hombres","Mujeres","Hombres","Mujeres","Hombres","Mujeres","Hombres","Mujeres","Hombres","Mujeres","Hombres","Mujeres","Hombres","Mujeres","Hombres","Mujeres","Hombres","Mujeres"]
["EVALUACIÓN DE RIESGO","BAJO RIESGO ",{"$f":"SUM(D191+E191)","v":0},{"$f":"SUM(F191+H191+J191+L191+N191+P191+R191)","v":0},{"$f":"SUM(G191+I191+K191+M191+O191+Q191+S191)","v":0}]
[null,"ALTO RIESGO",{"$f":"SUM(D192+E192)","v":0},{"$f":"SUM(F192+H192+J192+L192+N192+P192+R192)","v":0},{"$f":"SUM(G192+I192+K192+M192+O192+Q192+S192)","v":0}]
["TOTAL ",null,{"$f":"SUM(C191+C192)","v":0},0,0,0,0,0,0,0,0,0,0,0,0,0,0,0,0,0,0]
["SECCION E: APLICACIÓN DE PAUTA DETECCIÓN DE FACTORES DE RIESGO PSICOSOCIAL INFANTIL"]
["EVALUACIÓN",null,"TOTAL",null,null,"POR EDAD",null,null,null,null,null,null,null,null,null,"Pueblo originarios",null,"Migrantes",null,"DERIVACIÓN"]
[null,null,null,null,null,"Menor 7 meses",null,"7 - 11 meses",null,"12 - 23 meses",null,"24- 48 meses",null,"5 A 9 AÑOS",null,null,null,null,null,"Riesgo","Derivadas a equipos de cabecera","derivada a MADI  0  4 años","Derivado a Salud Mental 5 a 9 años"]
[null,null,"Ambos sexos","Hombres","Mujeres","Hombres","Mujeres","Hombres","Mujeres","Hombres","Mujeres","Hombres","Mujeres","Hombres","Mujeres","Hombres","Mujeres","Hombres","Mujeres"]
["ESCALA DE  RIESGO PSICOSOCIAL EN CONTROL DE SALUD INFANTIL",null,{"$f":"SUM(D198+E198)","v":0},{"$f":"SUM(F198+H198+J198+L198+N198)","v":0},{"$f":"SUM(G198+I198+K198+M198+O198)","v":0},null,null,null,null,null,null,null,null,null,null,null,null,null,null,null,null,null,null,null,null,null,null,null,null,null,null,null,null,null,null,null,null,null,null,null,null,null,null,null,null,null,null,null,null,null,null,null,null,null,null,null,null,null,null,null,null,null,null,null,null,null,null,null,null,null,null,null,null,null,null,null,null,null,null,null,null,null,null,null,0,0,0,0,0]
["SECCIÓN F: TAMIZAJE TRASTORNO ESPECTRO AUTISTA  (MCHAT) "]
["EVALUACIÓN",null,"18 - 23 meses"]
[null,null,"Hombres","Mujeres"]
["Niños/as con Control a los 18 meses"]
["Niños/as con alteración de área Lenguaje y/o Social en Control de los 18 meses"]
["Niños/as con Tamizaje Trastorno Espectro Autista (MCHAT) realizado   con alteración del área de lenguaje y/o Social en el control de los 18 meses"]
["Niños/as con Tamizaje Trastorno Espectro Autista (MCHAT) alterado y  con alteración del área de lenguaje y/o Social en el control "]
[]
[]
[]
[]
[]
[]
[]
[]
[]
[]
[]
[]
[]
[]
[]
[]
[]
[]
[]
[]
[]
[]
[]
[]
[]
[]
[]
[]
[]
[]
[]
[]
[]
[]
[]
[]
[]
[]
[]
[]
[]
[]
[]
[]
[]
[{"$f":"SUM(F12:Y14,F20:R38,F43:Q46,F52:I54,F59:O63,C69:C72,C75:E75,C78:E81,F86:I90,F97:Q104,F109:AA138,F140:AA149,F155:AM160,F165:O170,F175:Q177,F184:Q185,F191:S192,F198:W198,C202:D205)","v":0},{"$f":"SUM(DF13:DY13,CG20:CN205)","v":0}]

{"sheet":"A04","index":4,"n_rows":208,"n_cols":88,"rows_kept":208,"cut":false,"hidden":false,"merged":[[119,0,121,0],[122,0,125,0],[94,6,95,7],[94,8,95,9],[109,38,109,39],[115,0,118,1],[115,2,117,4],[115,5,116,14],[117,5,117,6],[117,7,117,8],[117,9,117,10],[117,11,117,12],[117,13,117,14],[109,26,109,27],[109,28,109,29],[109,30,109,31],[109,32,109,33],[109,34,109,35],[109,36,109,37],[102,0,103,0],[102,1,103,1],[102,2,102,10],[102,11,103,11],[108,0,110,0],[108,40,110,40],[108,41,110,41],[109,4,109,5],[109,6,109,7],[109,8,109,9],[109,10,109,11],[109,12,109,13],[109,14,109,15],[109,16,109,17],[109,18,109,19],[108,1,109,3],[108,4,108,39],[109,20,109,21],[109,22,109,23],[109,24,109,25],[83,0,83,3],[89,0,89,3],[93,0,93,5],[94,0,96,0],[94,1,95,2],[94,3,95,4],[94,5,96,5],[77,0,78,0],[81,0,82,0],[81,1,82,1],[81,2,82,2],[81,3,82,3],[73,36,75,36],[74,5,74,6],[74,7,74,8],[74,9,74,10],[74,11,74,12],[74,13,74,14],[74,15,74,16],[74,17,74,18],[74,19,74,20],[74,21,74,22],[73,0,75,0],[73,1,75,1],[73,2,74,4],[73,5,73,34],[73,35,75,35],[74,23,74,24],[74,25,74,26],[74,27,74,28],[74,29,74,30],[74,31,74,32],[74,33,74,34],[69,0,70,0],[69,1,70,1],[69,2,70,2],[69,3,70,3],[51,16,52,16],[50,0,52,0],[50,1,51,3],[50,4,50,21],[72,0,72,6],[51,10,52,10],[51,11,52,11],[51,12,52,12],[51,13,52,13],[51,14,52,14],[51,15,52,15],[60,0,61,0],[60,1,60,2],[60,3,60,4],[60,5,60,6],[50,22,52,22],[51,4,52,4],[51,5,52,5],[51,6,52,6],[51,7,52,7],[51,8,52,8],[51,9,52,9],[28,38,28,39],[45,0,46,0],[45,1,46,1],[45,2,45,5],[45,6,45,9],[45,11,45,17],[28,26,28,27],[28,28,28,29],[28,30,28,31],[28,32,28,33],[28,34,28,35],[28,36,28,37],[51,17,52,17],[51,18,52,18],[51,19,52,19],[51,20,52,20],[51,21,52,21],[27,0,29,0],[27,1,28,3],[27,42,29,42],[27,43,29,43],[27,44,29,44],[28,4,28,5],[28,6,28,7],[28,8,28,9],[28,10,28,11],[28,12,28,13],[28,14,28,15],[28,16,28,17],[27,4,27,39],[27,40,29,40],[27,41,29,41],[28,18,28,19],[28,20,28,21],[28,22,28,23],[28,24,28,25],[8,42,10,42],[8,43,10,43],[8,44,10,44],[9,4,9,5],[9,6,9,7],[9,8,9,9],[9,10,9,11],[9,12,9,13],[9,14,9,15],[9,16,9,17],[9,38,9,39],[9,26,9,27],[9,28,9,29],[9,30,9,31],[9,32,9,33],[9,34,9,35],[9,36,9,37],[5,0,5,22],[8,0,10,0],[8,1,9,3],[8,4,8,39],[8,40,10,40],[8,41,10,41],[9,18,9,19],[9,20,9,21],[9,22,9,23],[9,24,9,25]]}
["SERVICIO DE SALUD"]
[{"$f":"CONCATENATE(\"COMUNA: \",NOMBRE!B2,\" - \",\"( \",NOMBRE!C2,NOMBRE!D2,NOMBRE!E2,NOMBRE!F2,NOMBRE!G2,\" )\")","v":"COMUNA:  - (  )"}]
[{"$f":"CONCATENATE(\"ESTABLECIMIENTO/ESTRATEGIA: \",NOMBRE!B3,\" - \",\"( \",NOMBRE!C3,NOMBRE!D3,NOMBRE!E3,NOMBRE!F3,NOMBRE!G3,NOMBRE!H3,\" )\")","v":"ESTABLECIMIENTO/ESTRATEGIA:  - (  )"}]
[{"$f":"CONCATENATE(\"MES: \",NOMBRE!B6,\" - \",\"( \",NOMBRE!C6,NOMBRE!D6,\" )\")","v":"MES:  - (  )"}]
[{"$f":"CONCATENATE(\"AÑO: \",NOMBRE!B7)","v":"AÑO: 2020"}]
["REM-A04.   CONSULTAS Y OTRAS ATENCIONES EN LA RED"]
[]
["SECCIÓN A: CONSULTAS MÉDICAS "]
["TIPO DE CONSULTA","TOTAL      ",null,null,"POR DE EDAD (en años)",null,null,null,null,null,null,null,null,null,null,null,null,null,null,null,null,null,null,null,null,null,null,null,null,null,null,null,null,null,null,null,null,null,null,null,"Beneficiarios","Pueblos Originarios","Migrantes","Niños, Niñas, Adolescentes y Jóvenes Población SENAME","Por Campaña de Invierno"]
[null,null,null,null,"Menor \nde 1",null,"1 a 4",null,"5 a 9",null,"10 a 14",null,"15 a 19",null,"20 a 24",null,"25 - 29",null,"30 - 34",null,"35 - 39",null,"40 - 44",null,"45 - 49",null,"50 - 54",null,"55 - 59",null,"60 - 64",null,"65 - 69",null,"70 - 74",null,"75 - 79",null,"80 y mas"]
[null,"Ambos Sexos","Hombres","Mujeres","Hombres","Mujeres","Hombres","Mujeres","Hombres","Mujeres","Hombres","Mujeres","Hombres","Mujeres","Hombres","Mujeres","Hombres","Mujeres","Hombres","Mujeres","Hombres","Mujeres","Hombres","Mujeres","Hombres","Mujeres","Hombres","Mujeres","Hombres","Mujeres","Hombres","Mujeres","Hombres","Mujeres","Hombres","Mujeres","Hombres","Mujeres","Hombres","Mujeres"]
["TOTAL",{"$f":"SUM(B13:B26)","v":0},{"$f":"SUM(C13:C26)","v":0},{"$f":"SUM(D13:D26)","v":0},{"$f":"SUM(E13:E26)","v":0},{"$f":"SUM(F13:F26)","v":0},{"$f":"SUM(G13:G26)","v":0},0,0,0,0,0,0,0,0,0,0,0,0,0,{"$f":"SUM(U13:U26)","v":0},{"$f":"SUM(V13:V26)","v":0},0,0,0,0,0,0,0,0,0,0,0,0,0,0,0,0,0,0,0,{"$f":"SUM(AP13:AP26)","v":0},{"$f":"SUM(AQ13:AQ26)","v":0},{"$f":"SUM(AR13:AR26)","v":0},{"$f":"SUM(AS13:AS26)","v":0}]
["IRA ALTA",{"$f":"SUM(C13:D13)","v":0},{"$f":"SUM(E13+G13+I13+K13+M13+O13+Q13+S13+U13+W13+Y13+AA13+AC13+AE13+AG13+AI13+AK13+AM13)","v":0},{"$f":"SUM(F13+H13+J13+L13+N13+P13+R13+T13+V13+X13+Z13+AB13+AD13+AF13+AH13+AJ13+AL13+AN13)","v":0},null,null,null,null,null,null,null,null,null,null,null,null,null,null,null,null,null,null,null,null,null,null,null,null,null,null,null,null,null,null,null,null,null,null,null,null,null,null,null,null,null,null,null,null,null,null,null,null,null,null,null,null,null,null,null,null,null,null,null,null,null,null,null,null,null,null,null,null,null,null,null,null,null,null,null,null,null,null,null,null,0,null,0,0]
["SÍNDROME BRONQUIAL OBSTRUCTIVO ",{"$f":"SUM(C14:D14)","v":0},{"$f":"SUM(E14+G14+I14)","v":0},{"$f":"SUM(F14+H14+J14)","v":0},null,null,null,null,null,null,null,null,null,null,null,null,null,null,null,null,null,null,null,null,null,null,null,null,null,null,null,null,null,null,null,null,null,null,null,null,null,null,null,null,null,null,null,null,null,null,null,null,null,null,null,null,null,null,null,null,null,null,null,null,null,null,null,null,null,null,null,null,null,null,null,null,null,null,null,null,null,null,null,null,0,null,0,0]
["NEUMONÍA",0,{"$f":"SUM(E15+G15+I15+K15+M15+O15+Q15+S15+U15+W15+Y15+AA15+AC15+AE15+AG15+AI15+AK15+AM15)","v":0},{"$f":"SUM(F15+H15+J15+L15+N15+P15+R15+T15+V15+X15+Z15+AB15+AD15+AF15+AH15+AJ15+AL15+AN15)","v":0},null,null,null,null,null,null,null,null,null,null,null,null,null,null,null,null,null,null,null,null,null,null,null,null,null,null,null,null,null,null,null,null,null,null,null,null,null,null,null,null,null,null,null,null,null,null,null,null,null,null,null,null,null,null,null,null,null,null,null,null,null,null,null,null,null,null,null,null,null,null,null,null,null,null,null,null,null,null,null,null,0,null,0,0]
["ASMA",0,{"$f":"SUM(I16+K16+M16+O16+Q16+S16+U16+W16+Y16+AA16+AC16+AE16+AG16+AI16+AK16+AM16)","v":0},{"$f":"SUM(J16+L16+N16+P16+R16+T16+V16+X16+Z16+AB16+AD16+AF16+AH16+AJ16+AL16+AN16)","v":0},null,null,null,null,null,null,null,null,null,null,null,null,null,null,null,null,null,null,null,null,null,null,null,null,null,null,null,null,null,null,null,null,null,null,null,null,null,null,null,null,null,null,null,null,null,null,null,null,null,null,null,null,null,null,null,null,null,null,null,null,null,null,null,null,null,null,null,null,null,null,null,null,null,null,null,null,null,null,null,null,0,null,0,0]
["ENFERMEDAD PULMONAR OBSTRUCTIVA CRÓNICA",0,{"$f":"SUM(U17+W17+Y17+AA17+AC17+AE17+AG17+AI17+AK17+AM17)","v":0},{"$f":"SUM(V17+X17+Z17+AB17+AD17+AF17+AH17+AJ17+AL17+AN17)","v":0},null,null,null,null,null,null,null,null,null,null,null,null,null,null,null,null,null,null,null,null,null,null,null,null,null,null,null,null,null,null,null,null,null,null,null,null,null,null,null,null,null,null,null,null,null,null,null,null,null,null,null,null,null,null,null,null,null,null,null,null,null,null,null,null,null,null,null,null,null,null,null,null,null,null,null,null,null,null,null,null,0,null,0,0]
["OTRAS RESPIRATORIAS",0,{"$f":"SUM(E18+G18+I18+K18+M18+O18+Q18+S18+U18+W18+Y18+AA18+AC18+AE18+AG18+AI18+AK18+AM18)","v":0},{"$f":"SUM(F18+H18+J18+L18+N18+P18+R18+T18+V18+X18+Z18+AB18+AD18+AF18+AH18+AJ18+AL18+AN18)","v":0},null,null,null,null,null,null,null,null,null,null,null,null,null,null,null,null,null,null,null,null,null,null,null,null,null,null,null,null,null,null,null,null,null,null,null,null,null,null,null,null,null,null,null,null,null,null,null,null,null,null,null,null,null,null,null,null,null,null,null,null,null,null,null,null,null,null,null,null,null,null,null,null,null,null,null,null,null,null,null,null,0,null,0,0]
["OBSTÉTRICA",{"$f":"SUM(C19:D19)","v":0},null,{"$f":"SUM(L19+N19+P19+R19+T19+V19+X19+Z19+AB19+AD19+AF19)","v":0},null,null,null,null,null,null,null,null,null,null,null,null,null,null,null,null,null,null,null,null,null,null,null,null,null,null,null,null,null,null,null,null,null,null,null,null,null,null,null,null,null,null,null,null,null,null,null,null,null,null,null,null,null,null,null,null,null,null,null,null,null,null,null,null,null,null,null,null,null,null,null,null,null,null,null,null,null,null,null,null,0,null,0,0]
["GINECOLÓGICA",{"$f":"SUM(C20:D20)","v":0},null,{"$f":"SUM(F20+H20+J20+L20+N20+P20+R20+T20+V20+X20+Z20+AB20+AD20+AF20+AH20+AJ20+AL20+AN20)","v":0},null,null,null,null,null,null,null,null,null,null,null,null,null,null,null,null,null,null,null,null,null,null,null,null,null,null,null,null,null,null,null,null,null,null,null,null,null,null,null,null,null,null,null,null,null,null,null,null,null,null,null,null,null,null,null,null,null,null,null,null,null,null,null,null,null,null,null,null,null,null,null,null,null,null,null,null,null,null,null,null,0,null,0,0]
["GINECOLÓGICA  POR INFERTILIDAD",0,{"$f":"SUM(O21+Q21+S21+U21+W21+Y21+AA21)","v":0},{"$f":"SUM(P21+R21+T21+V21+X21+Z21+AB21)","v":0},null,null,null,null,null,null,null,null,null,null,null,null,null,null,null,null,null,null,null,null,null,null,null,null,null,null,null,null,null,null,null,null,null,null,null,null,null,null,null,null,null,null,null,null,null,null,null,null,null,null,null,null,null,null,null,null,null,null,null,null,null,null,null,null,null,null,null,null,null,null,null,null,null,null,null,null,null,null,null,null,0,null,0,0]
["INFECCIÓN TRANSMISIÓN SEXUAL",0,{"$f":"SUM(E22+G22+I22+K22+M22+O22+Q22+S22+U22+W22+Y22+AA22+AC22+AE22+AG22+AI22+AK22+AM22)","v":0},{"$f":"SUM(F22+H22+J22+L22+N22+P22+R22+T22+V22+X22+Z22+AB22+AD22+AF22+AH22+AJ22+AL22+AN22)","v":0},null,null,null,null,null,null,null,null,null,null,null,null,null,null,null,null,null,null,null,null,null,null,null,null,null,null,null,null,null,null,null,null,null,null,null,null,null,null,null,null,null,null,null,null,null,null,null,null,null,null,null,null,null,null,null,null,null,null,null,null,null,null,null,null,null,null,null,null,null,null,null,null,null,null,null,null,null,null,null,null,0,null,0,0]
["VIH-SIDA",0,{"$f":"SUM(E23+G23+I23+K23+M23+O23+Q23+S23+U23+W23+Y23+AA23+AC23+AE23+AG23+AI23+AK23+AM23)","v":0},{"$f":"SUM(F23+H23+J23+L23+N23+P23+R23+T23+V23+X23+Z23+AB23+AD23+AF23+AH23+AJ23+AL23+AN23)","v":0},null,null,null,null,null,null,null,null,null,null,null,null,null,null,null,null,null,null,null,null,null,null,null,null,null,null,null,null,null,null,null,null,null,null,null,null,null,null,null,null,null,null,null,null,null,null,null,null,null,null,null,null,null,null,null,null,null,null,null,null,null,null,null,null,null,null,null,null,null,null,null,null,null,null,null,null,null,null,null,null,0,null,0,0]
["SALUD MENTAL",0,{"$f":"SUM(G24+I24+K24+M24+O24+Q24+S24+U24+W24+Y24+AA24+AC24+AE24+AG24+AI24+AK24+AM24)","v":0},{"$f":"SUM(H24+J24+L24+N24+P24+R24+T24+V24+X24+Z24+AB24+AD24+AF24+AH24+AJ24+AL24+AN24)","v":0},null,null,null,null,null,null,null,null,null,null,null,null,null,null,null,null,null,null,null,null,null,null,null,null,null,null,null,null,null,null,null,null,null,null,null,null,null,null,null,null,null,null,null,null,null,null,null,null,null,null,null,null,null,null,null,null,null,null,null,null,null,null,null,null,null,null,null,null,null,null,null,null,null,null,null,null,null,null,null,null,0,null,0,0]
["CARDIOVASCULAR",0,{"$f":"SUM(M25+O25+Q25+S25+U25+W25+Y25+AA25+AC25+AE25+AG25+AI25+AK25+AM25)","v":0},{"$f":"SUM(N25+P25+R25+T25+V25+X25+Z25+AB25+AD25+AF25+AH25+AJ25+AL25+AN25)","v":0},null,null,null,null,null,null,null,null,null,null,null,null,null,null,null,null,null,null,null,null,null,null,null,null,null,null,null,null,null,null,null,null,null,null,null,null,null,null,null,null,null,null,null,null,null,null,null,null,null,null,null,null,null,null,null,null,null,null,null,null,null,null,null,null,null,null,null,null,null,null,null,null,null,null,null,null,null,null,null,null,0,null,0,0]
["OTRAS MORBILIDADES",0,{"$f":"SUM(E26+G26+I26+K26+M26+O26+Q26+S26+U26+W26+Y26+AA26+AC26+AE26+AG26+AI26+AK26+AM26)","v":0},{"$f":"SUM(F26+H26+J26+L26+N26+P26+R26+T26+V26+X26+Z26+AB26+AD26+AF26+AH26+AJ26+AL26+AN26)","v":0},null,null,null,null,null,null,null,null,null,null,null,null,null,null,null,null,null,null,null,null,null,null,null,null,null,null,null,null,null,null,null,null,null,null,null,null,null,null,null,null,null,null,null,null,null,null,null,null,null,null,null,null,null,null,null,null,null,null,null,null,null,null,null,null,null,null,null,null,null,null,null,null,null,null,null,null,null,null,null,null,0,null,0,0]
["SECCIÓN B: CONSULTAS DE PROFESIONALES NO MÉDICOS ",null,null,null,null,null," "]
["PROFESIONAL","TOTAL      ",null,null,"POR DE EDAD (en años)",null,null,null,null,null,null,null,null,null,null,null,null,null,null,null,null,null,null,null,null,null,null,null,null,null,null,null,null,null,null,null,null,null,null,null,"Beneficiarios","Pueblos Originarios","Migrantes","Espacios Amigables","Niños, Niñas, Adolescentes y Jóvenes Población SENAME"]
[null,null,null,null,"Menor \nde 1",null,"1 a 4",null,"5 a 9",null,"10 a 14",null,"15 a 19",null,"20 a 24",null,"25 - 29",null,"30 - 34",null,"35 - 39",null,"40 - 44",null,"45 - 49",null,"50 - 54",null,"55 - 59",null,"60 - 64",null,"65 - 69",null,"70 - 74",null,"75 - 79",null,"80 y mas"]
[null,"Ambos Sexos","Hombres","Mujeres","Hombres","Mujeres","Hombres","Mujeres","Hombres","Mujeres","Hombres","Mujeres","Hombres","Mujeres","Hombres","Mujeres","Hombres","Mujeres","Hombres","Mujeres","Hombres","Mujeres","Hombres","Mujeres","Hombres","Mujeres","Hombres","Mujeres","Hombres","Mujeres","Hombres","Mujeres","Hombres","Mujeres","Hombres","Mujeres","Hombres","Mujeres","Hombres","Mujeres"]
["ENFERMERA /O",{"$f":"SUM(C31:D31)","v":0},{"$f":"SUM(E31+G31+I31+K31+M31+O31+Q31+S31+U31+W31+Y31+AA31+AC31+AE31+AG31+AI31+AK31+AM31)","v":0},0,null,null,null,null,null,null,null,null,null,null,null,null,null,null,null,null,null,null,null,null,null,null,null,null,null,null,null,null,null,null,null,null,null,null,null,null,null,null,null,null,null,null,null,null,null,null,null,null,null,null,null,null,null,null,null,null,null,null,null,null,null,null,null,null,null,null,null,null,null,null,null,null,null,null,null,null,null,null,null,null,0,0]
["MATRONA /ÓN (MORB.GINECOLÓGICA)",0,0,0,null,null,null,null,null,null,null,null,null,null,null,null,null,null,null,null,null,null,null,null,null,null,null,null,null,null,null,null,null,null,null,null,null,null,null,null,null,null,null,null,null,null,null,null,null,null,null,null,null,null,null,null,null,null,null,null,null,null,null,null,null,null,null,null,null,null,null,null,null,null,null,null,null,null,null,null,null,null,null,null,0,0]
["MATRONA /ÓN (ITS)",0,0,0,null,null,null,null,null,null,null,null,null,null,null,null,null,null,null,null,null,null,null,null,null,null,null,null,null,null,null,null,null,null,null,null,null,null,null,null,null,null,null,null,null,null,null,null,null,null,null,null,null,null,null,null,null,null,null,null,null,null,null,null,null,null,null,null,null,null,null,null,null,null,null,null,null,null,null,null,null,null,null,null,0,0]
["MATRONA /ÓN (INFERTILIDAD)",0,{"$f":"SUM(O34+Q34+S34+U34+W34+Y34+AA34)","v":0},{"$f":"SUM(P34+R34+T34+V34+X34+Z34+AB34)","v":0}]
["MATRONA /ÓN (OTRAS CONSULTAS)",{"$f":"SUM(C35:D35)","v":0},{"$f":"SUM(E35+G35+I35+K35+M35+O35+Q35+S35+U35+W35+Y35+AA35+AC35+AE35+AG35+AI35+AK35+AM35)","v":0},{"$f":"SUM(F35+H35+J35+L35+N35+P35+R35+T35+V35+X35+Z35+AB35+AD35+AF35+AH35+AJ35+AL35+AN35)","v":0}]
["MATRONA /ÓN (SALUD SEXUAL)",{"$f":"SUM(C36:D36)","v":0},{"$f":"SUM(K36+M36+O36+Q36+S36+U36+W36+Y36+AA36+AC36+AE36+AG36+AI36+AK36+AM36)","v":0},{"$f":"SUM(L36+N36+P36+R36+T36+V36+X36+Z36+AB36+AD36+AF36+AH36+AJ36+AL36+AN36)","v":0}]
["NUTRICIONISTA (OTRAS CONSULTAS)",0,0,0]
["NUTRICIONISTA MAULNUTRICIÓN POR EXCESO",{"$f":"SUM(C38:D38)","v":0},{"$f":"SUM(E38+G38+I38+K38+M38+O38+Q38+S38+U38+W38+Y38+AA38+AC38+AE38+AG38+AI38+AK38+AM38)","v":0},{"$f":"SUM(F38+H38+J38+L38+N38+P38+R38+T38+V38+X38+Z38+AB38+AD38+AF38+AH38+AJ38+AL38+AN38)","v":0}]
["NUTRICIONISTA MALNUTRICIÓN POR DÉFICIT",{"$f":"SUM(C39:D39)","v":0},{"$f":"SUM(E39+G39+I39+K39+M39+O39+Q39+S39+U39+W39+Y39+AA39+AC39+AE39+AG39+AI39+AK39+AM39)","v":0},{"$f":"SUM(F39+H39+J39+L39+N39+P39+R39+T39+V39+X39+Z39+AB39+AD39+AF39+AH39+AJ39+AL39+AN39)","v":0}]
["PSICÓLOGO/A",0,0,0]
["FONOAUDIÓLOGO",0,0,0]
["TERAPEUTA OCUPACIONAL",0,0,0]
["TECNÓLOGO MÉDICO (EXCLUYE UAPO)",0,0,0]
["ASISTENTE SOCIAL",0,0,0]
["SECCIÓN C: CONSULTAS ANTICONCEPCIÓN DE EMERGENCIA (Incluidas en Sección A y B, respectivamente.)"]
["PROFESIONAL","TOTAL      ","CON ENTREGA ANTICONCEPCIÓN EMERGENCIA",null,null,null,"SIN ENTREGA ANTICONCEPCIÓN EMERGENCIA"]
[null,null,"10 a 14 años","15 a 19 años","20 a 24 años","25 y más años","10 a 14 años","15 a 19 años","20 a 24 años","25 y más años"]
["MÉDICO",{"$f":"SUM(C48:J48)","v":0}]
["MATRONA /ÓN",{"$f":"SUM(C49:J49)","v":0}]
["SECCIÓN D: CONSULTAS EN HORARIO CONTINUADO (Incluidas en las consultas de morbilidad de sección A y B)"]
["TIPO JORNADA","TOTAL",null,null,"POR DE EDAD (en años)",null,null,null,null,null,null,null,null,null,null,null,null,null,null,null,null,null,"Beneficiarios"]
[null,null,null,null,"Menor \nde 1","1 a 4","5 a 9","10 a 14","15 a 19","20 a 24","25 - 29","30 - 34","35 - 39","40 - 44","45 - 49","50 - 54","55 - 59","60 - 64","65 - 69","70 - 74","75 - 79","80 y mas"]
[null,"Ambos Sexos","Hombres","Mujeres"]
["HORARIO CONTINUADO",{"$f":"SUM(B55:B56)","v":0},{"$f":"SUM(C55:C56)","v":0},{"$f":"SUM(D55:D56)","v":0},0,0,0,0,0,0,0,0,0,0,0,0,0,0,0,0,0,0,0,"  "]
["MÉDICO",{"$f":"SUM(E55:V55)","v":0},null,null,null,null,null,null,null,null,null,null,null,null,null,null,null,null,null,null,null,null,null,null,null,null,null,null,null,null,null,null,null,null,null,null,null,null,null,null,null,null,null,null,null,null,null,null,null,null,null,null,null,null,null,null,null,null,null,null,null,null,null,null,null,null,null,null,null,null,null,null,null,null,null,null,null,null,null,null,null,null,null,null,0,0,0]
["OTROS PROFESIONALES",{"$f":"SUM(E56:V56)","v":0},null,null,null,null,null,null,null,null,null,null,null,null,null,null,null,null,null,null,null,null,null,null,null,null,null,null,null,null,null,null,null,null,null,null,null,null,null,null,null,null,null,null,null,null,null,null,null,null,null,null,null,null,null,null,null,null,null,null,null,null,null,null,null,null,null,null,null,null,null,null,null,null,null,null,null,null,null,null,null,null,null,null,0,0,0]
["SÁBADO, DOMINGO o FESTIVO",{"$f":"SUM(B58:B59)","v":0},0,0,0,0,0,0,0,0,0,0,0,0,0,0,0,0,0,0,0,0,0,"  "]
["MÉDICO",{"$f":"SUM(E58:V58)","v":0}]
["OTROS PROFESIONALES",{"$f":"SUM(E59:V59)","v":0}]
["SECCIÓN E: CONSULTAS DE MORBILIDAD SOLICITADAS Y RECHAZADAS DENTRO DE LAS 48 HORAS DE SOLICITADA LA ATENCIÓN"]
["TIPO JORNADA","MENOR 5 AÑOS",null,"65 Y MÁS AÑOS",null,"EMBARAZADAS"]
[null,"TOTAL\nATENCIÓN\nSOLICITADA","RECHAZOS","TOTAL\nATENCIÓN\nSOLICITADA","RECHAZOS","TOTAL\nATENCIÓN\nSOLICITADA","RECHAZOS","  "]
["HORARIO NORMAL "]
["HORARIO CONTINUADO (Vespertina, Sábado, Domingo o Festivos)"]
["SECCIÓN F: CONSULTA  ABREVIADA"]
["PROFESIONAL","TOTAL"]
["MÉDICO"]
["MATRONA"]
["SECCIÓN G: ATENCIONES DE MEDICINA INDÍGENA ASOCIADA AL PROGRAMA ESPECIAL DE SALUD Y PUEBLOS ORIGINARIOS"]
["COMPONENTE","TOTAL","PUEBLOS ORIGINARIOS","PUEBLOS NO ORIGINARIOS"]
[]
["ATENCIONES POR AGENTE MEDICINA INDÍGENA",{"$f":"SUM(C72:D72)","v":0}]
["SECCIÓN H: INTERVENCIÓN INDIVIDUAL DEL USUARIO EN PROGRAMA ELIGE VIDA SANA"]
["PROFESIONAL","PRESTACIÓN","TOTAL",null,null,"POR DE EDAD (en años)",null,null,null,null,null,null,null,null,null,null,null,null,null,null,null,null,null,null,null,null,null,null,null,null,null,null,null,null,null,"Gestantes","Post Parto"]
[null,null,null,null,null,"Menor de 2 años",null,"2 a 4",null,"5 a 9",null,"10 a 14",null,"15 a 18",null,19,null,"20 a 24",null,"25 - 29",null,"30 - 34",null,"35 - 39",null,"40 - 44",null,"45 - 49",null,"50 - 54",null,"55 - 59",null,"60 - 64"]
[null,null,"Ambos Sexos","Hombres","Mujeres","Hombres","Mujeres","Hombres","Mujeres","Hombres","Mujeres","Hombres","Mujeres","Hombres","Mujeres","Hombres","Mujeres","Hombres","Mujeres","Hombres","Mujeres","Hombres","Mujeres","Hombres","Mujeres","Hombres","Mujeres","Hombres","Mujeres","Hombres","Mujeres","Hombres","Mujeres","Hombres","Mujeres"]
["PROFESIONAL DE LA ACTIVIDAD FÍSICA","EVALUACIÓN",{"$f":"SUM(D77:E77)","v":0},{"$f":"SUM(F77,H77,J77,L77,N77,P77,R77,T77,V77,X77,Z77,AB77,AD77,AF77,AH77)","v":0},0]
["NUTRICIONISTA","CONSULTA NUTRICIONAL",{"$f":"SUM(D78:E78)","v":0},0,0]
[null,"CONSULTA NUTRICIONAL DE SEGUIMIENTO",{"$f":"SUM(D79:E79)","v":0},0,0]
["PSICÓLOGO/A","CONSULTA",{"$f":"SUM(D80:E80)","v":0},0,0]
["SECCIÓN I: SERVICIOS FARMACÉUTICOS"]
["COMPONENTE","TOTAL","ATENCIÓN ABIERTA ","ATENCIÓN CERRADA"]
[]
["ATENCIÓN FARMACÉUTICA"]
["REVISIÓN DE LA MEDICACIÓN SIN ENTREVISTA",{"$f":"SUM(C85:D85)","v":0}]
["REVISIÓN DE LA MEDICACIÓN CON ENTREVISTA",{"$f":"SUM(C86:D86)","v":0}]
["CONCILIACIÓN FARMACÉUTICA",0]
["EDUCACIÓN FARMACÉUTICA",0]
["SEGUIMIENTO FARMACOTERAPÉUTICO",0]
["FARMACOVIGILANCIA"]
["REPORTE REACCIÓN ADVERSA A MEDICAMENTOS",{"$f":"SUM(C91:D91)","v":0}]
["REPORTE FALLA DE CALIDAD",{"$f":"SUM(C92:D92)","v":0}]
["REPORTE DE EVENTOS ADVERSOS ASOCIADOS A MEDICAMENTOS",0]
["SECCIÓN J: DESPACHO DE RECETAS DE PACIENTES AMBULATORIOS"]
["TIPO DE RECETA","RECETAS DESPACHADAS",null,"PRESCRIPCIONES",null,"RECETAS DESPACHADAS CON OPORTUNIDAD  (Entregado el mismo día)","RECETAS DESPACHADAS A PACIENTES DEL PROGRAMA DE SALUD CARDIOVASCULAR",null,"PRESCRIPCIONES A PACIENTES DEL PROGRAMA DE SALUD CARDIOVASCULAR"]
[]
[null,"DESPACHO TOTAL","DESPACHO\nPARCIAL","EMITIDAS","RECHAZADAS",null,"DESPACHO TOTAL","DESPACHO\nPARCIAL","EMITIDAS","RECHA-\nZADAS"]
["CRÓNICA",null,null,null,null,null,null,null,null,null,{"$f":"CA98&CB98&CC98&CD98","v":""},null,null,null,null,null,null,null,null,null,null,null,null,null,null,null,null,null,null,null,null,null,null,null,null,null,null,null,null,null,null,null,null,null,null,null,null,null,null,null,null,null,null,null,null,null,null,null,null,null,null,null,null,null,null,null,null,null,null,null,null,null,null,null,null,null,null,null,{"$f":"IF(CG98=1,\"* Las recetas totales despachadas a pacientes del PSC, deben ser menores o iguales al total de Recetas con Despacho Total. \",\"\")","v":""},{"$f":"IF(CH98=1,\"* Las recetas parciales despachadas a pacientes del PSC, deben ser menores o iguales al total de Recetas con Despacho Parcial. \",\"\")","v":""},{"$f":"IF(CI98=1,\"* Las prescripciones solicitadas a pacientes del PSC, deben ser menores o iguales a las Prescripciones totales Solicitadas. \",\"\")","v":""},{"$f":"IF(CJ98=1,\"* Las prescripciones rechazadas a pacientes del PSC, deben ser menores o iguales a las Prescripciones totales rechazadas. \",\"\")","v":""},null,null,{"$f":"IF(B98<G98,1,0)","v":0},{"$f":"IF(C98<H98,1,0)","v":0},{"$f":"IF(D98<I98,1,0)","v":0},{"$f":"IF(E98<J98,1,0)","v":0}]
["MORBILIDAD",null,null,null,null,null,null,null,null,null,{"$f":"CA99&CB99&CC99&CD99","v":""},null,null,null,null,null,null,null,null,null,null,null,null,null,null,null,null,null,null,null,null,null,null,null,null,null,null,null,null,null,null,null,null,null,null,null,null,null,null,null,null,null,null,null,null,null,null,null,null,null,null,null,null,null,null,null,null,null,null,null,null,null,null,null,null,null,null,null,{"$f":"IF(CG99=1,\"* Las recetas totales despachadas a pacientes del PSC, deben ser menores o iguales al total de Recetas con Despacho Total. \",\"\")","v":""},{"$f":"IF(CH99=1,\"* Las recetas parciales despachadas a pacientes del PSC, deben ser menores o iguales al total de Recetas con Despacho Parcial. \",\"\")","v":""},{"$f":"IF(CI99=1,\"* Las prescripciones solicitadas a pacientes del PSC, deben ser menores o iguales a las Prescripciones totales Solicitadas. \",\"\")","v":""},{"$f":"IF(CJ99=1,\"* Las prescripciones rechazadas a pacientes del PSC, deben ser menores o iguales a las Prescripciones totales rechazadas. \",\"\")","v":""},null,null,{"$f":"IF(B99<G99,1,0)","v":0},0,0,0]
["BAJO CONTROL LEGAL",null,null,null,null,null,null,null,null,null,"",null,null,null,null,null,null,null,null,null,null,null,null,null,null,null,null,null,null,null,null,null,null,null,null,null,null,null,null,null,null,null,null,null,null,null,null,null,null,null,null,null,null,null,null,null,null,null,null,null,null,null,null,null,null,null,null,null,null,null,null,null,null,null,null,null,null,null,"","","","",null,null,0,0,0,0]
["TOTAL",{"$f":"SUM(B98:B100)","v":0},0,0,0,0,0,0,0,0]
["SECCIÓN K: RONDAS POR TIPO Y PROFESIONAL"]
["TIPO DE RONDA","Nº Rondas","TOTAL DE PROFESIONALES QUE PARTICIPARON EN RONDAS, SEGÚN TIPO DE PROFESIONAL",null,null,null,null,null,null,null,null,"Compra de Servicio - Nº Traslados profesionales en Ronda"]
[null,null,"Médico","Dentista","Enfermera","Matrona","Nutricionista","Tec. Paramed.","Asis. Soc","Psicólogo","Otros"]
["TERRESTRE"]
["AÉREA"]
["MARÍTIMA"]
["SECCIÓN L: CLASIFICACIÓN DE CONSULTA NUTRICIONAL POR GRUPO DE EDAD (Incluidas en sección B)"]
["CLASIFICACIÓN","TOTAL      ",null,null,"POR DE EDAD (en años)",null,null,null,null,null,null,null,null,null,null,null,null,null,null,null,null,null,null,null,null,null,null,null,null,null,null,null,null,null,null,null,null,null,null,null,"Beneficiarios","Embarazadas"]
[null,null,null,null,"Menor \nde 1",null,"1 a 4",null,"5 a 9",null,"10 a 14",null,"15 a 19",null,"20 a 24",null,"25 - 29",null,"30 - 34",null,"35 - 39",null,"40 - 44",null,"45 - 49",null,"50 - 54",null,"55 - 59",null,"60 - 64",null,"65 - 69",null,"70 - 74",null,"75 - 79",null,"80 y mas"]
[null,"Ambos Sexos","Hombres","Mujeres","Hombres","Mujeres","Hombres","Mujeres","Hombres","Mujeres","Hombres","Mujeres","Hombres","Mujeres","Hombres","Mujeres","Hombres","Mujeres","Hombres","Mujeres","Hombres","Mujeres","Hombres","Mujeres","Hombres","Mujeres","Hombres","Mujeres","Hombres","Mujeres","Hombres","Mujeres","Hombres","Mujeres","Hombres","Mujeres","Hombres","Mujeres","Hombres","Mujeres"]
["MAL NUTRICIÓN POR DÉFICIT",{"$f":"SUM(C112:D112)","v":0},{"$f":"SUM(E112+G112+I112+K112+M112+O112+Q112+S112+U112+W112+Y112+AA112+AC112+AE112+AG112+AI112+AK112+AM112)","v":0},0]
["MAL NUTRICIÓN POR EXCESO",{"$f":"SUM(C113:D113)","v":0},0,0]
["ESTADO NUTRICIONAL NORMAL",{"$f":"SUM(C114:D114)","v":0},0,0]
["SECCIÓN M: CONSULTA DE LACTANCIA MATERNA EN MENORES CONTROLADOS"]
["ACTIVIDAD",null,"Total",null,null,"POR EDAD"]
[]
[null,null,null,null,null," De 0 a 29 días",null,"De 1 mes a 2 meses 29 días",null,"De 3 meses a 5 meses 29 días",null,"De 6 meses a 11 meses 29 días",null,"De 1 a 2 años"]
[null,null,"Ambos Sexos","Hombres","Mujeres","Hombres","Mujeres","Hombres","Mujeres","Hombres","Mujeres","Hombres","Mujeres","Hombres","Mujeres"]
["CONSULTA DE LACTANCIA","CONSULTA DE ALERTA",{"$f":"SUM(D120:E120)","v":0},{"$f":"SUM(F120+H120+J120+L120+N120)","v":0},0]
[null,"CONTROL DE SEGUIMIENTO",0,0,0]
[null,"CONSEJERÍA",0,0,0]
["CONSULTA DE LACTANCIA POR PROFESIONAL","MÉDICO",0,0,0]
[null,"MATRÓN/A",0,0,0]
[null,"ENFERMERA",0,0,0]
[null,"NUTRICIONISTA",0,0,0]
[]
[]
[]
[]
[]
[]
[]
[]
[]
[]
[]
[]
[]
[]
[]
[]
[]
[]
[]
[]
[]
[]
[]
[]
[]
[]
[]
[]
[]
[]
[]
[]
[]
[]
[]
[]
[]
[]
[]
[]
[]
[]
[]
[]
[]
[]
[]
[]
[]
[]
[]
[]
[]
[]
[]
[]
[]
[]
[]
[]
[]
[]
[]
[]
[]
[]
[]
[]
[]
[]
[]
[]
[]
[]
[]
[]
[]
[]
[]
[]
[]
[{"$f":"SUM(B12:D12,B31:B44,B48:B49,B54,B57,C77:E77,B91:B93,B101:F101,B105:B107,B112:B114,C120:C126,C78:C80,B72,B67:B68,B63:G64)","v":0},{"$f":"SUM(CG13:CJ129)","v":0}]

{"sheet":"A05","index":5,"n_rows":315,"n_cols":93,"rows_kept":315,"cut":false,"hidden":false,"merged":[[232,31,232,32],[270,48,272,48],[270,45,270,46],[271,45,272,45],[271,46,272,46],[247,45,249,45],[148,41,148,42],[148,19,148,20],[148,21,148,22],[148,37,148,38],[148,27,148,28],[232,27,232,28],[232,29,232,30],[232,21,232,22],[232,19,232,20],[190,19,190,20],[232,25,232,26],[190,23,190,24],[190,25,190,26],[190,27,190,28],[190,29,190,30],[190,31,190,32],[232,33,232,34],[232,35,232,36],[270,47,272,47],[239,37,241,37],[248,23,248,24],[240,27,240,28],[271,33,271,34],[271,23,271,24],[271,25,271,26],[248,31,248,32],[239,5,239,36],[240,31,240,32],[240,33,240,34],[240,35,240,36],[240,21,240,22],[248,35,248,36],[248,37,248,38],[248,41,249,41],[270,5,270,44],[271,21,271,22],[240,7,240,8],[90,33,90,36],[91,25,91,26],[91,27,91,28],[90,5,90,32],[91,19,91,20],[91,21,91,22],[101,27,101,28],[101,29,101,30],[91,33,92,33],[91,34,92,34],[91,35,92,35],[101,33,102,33],[91,29,91,30],[100,33,100,35],[91,31,91,32],[101,31,101,32],[101,34,102,34],[101,35,102,35],[101,25,101,26],[91,23,91,24],[91,36,92,36],[94,0,98,0],[81,17,81,18],[81,19,81,20],[109,5,109,6],[109,7,109,8],[109,9,109,10],[101,17,101,18],[101,19,101,20],[101,7,101,8],[101,9,101,10],[101,11,101,12],[101,13,101,14],[100,2,101,4],[101,15,101,16],[105,0,106,0],[100,0,102,1],[80,5,80,32],[81,23,81,24],[81,25,81,26],[81,27,81,28],[81,29,81,30],[91,15,91,16],[90,0,92,1],[90,2,91,4],[84,0,88,0],[83,0,83,1],[80,0,82,1],[80,2,81,4],[81,13,81,14],[81,15,81,16],[81,21,81,22],[19,0,19,1],[20,0,20,1],[109,2,109,4],[103,0,103,1],[78,0,78,1],[76,13,76,14],[93,0,93,1],[107,0,107,1],[109,0,110,1],[75,0,77,1],[91,5,91,6],[91,7,91,8],[91,9,91,10],[91,11,91,12],[91,13,91,14],[28,0,28,1],[75,5,75,14],[76,7,76,8],[76,9,76,10],[76,11,76,12],[75,2,76,4],[100,5,100,32],[109,11,109,12],[101,5,101,6],[5,0,5,15],[8,0,9,1],[8,2,9,2],[8,13,9,13],[10,0,10,1],[27,0,27,1],[30,0,31,1],[63,0,63,1],[23,0,23,1],[21,0,21,1],[24,0,24,1],[62,0,62,1],[32,0,32,1],[33,0,33,1],[34,0,34,1],[60,5,60,6],[22,0,22,1],[18,0,18,1],[11,0,11,1],[12,0,12,1],[13,0,13,1],[14,0,14,1],[16,0,17,1],[41,0,42,0],[45,0,45,1],[59,0,61,1],[25,0,25,1],[26,0,26,1],[60,21,60,22],[60,9,60,10],[30,3,30,13],[60,17,60,18],[60,19,60,20],[59,17,59,18],[59,19,59,20],[35,0,40,0],[47,0,48,0],[49,0,50,0],[51,0,51,1],[46,0,46,1],[16,4,17,4],[8,3,8,12],[60,7,60,8],[59,5,59,16],[60,11,60,12],[59,2,60,4],[30,2,31,2],[60,13,60,14],[60,15,60,16],[8,14,9,14],[8,15,9,15],[16,5,17,5],[16,2,17,2],[16,3,17,3],[124,0,126,0],[122,11,122,12],[122,13,122,15],[122,2,122,4],[122,5,122,6],[122,9,122,10],[122,0,123,1],[122,7,122,8],[148,15,148,16],[132,0,132,1],[133,0,133,1],[127,0,127,1],[128,0,131,0],[148,13,148,14],[190,13,190,14],[190,15,190,16],[135,2,135,4],[135,5,135,6],[190,9,190,10],[239,1,241,1],[271,43,271,44],[271,35,271,36],[271,37,271,38],[271,39,271,40],[271,41,271,42],[271,27,271,28],[271,29,271,30],[271,31,271,32],[247,5,247,38],[248,33,248,34],[248,25,248,26],[248,19,248,20],[248,21,248,22],[248,27,248,28],[248,29,248,30],[248,39,249,39],[248,40,249,40],[240,29,240,30],[282,36,284,36],[283,5,283,6],[283,7,283,8],[283,9,283,10],[283,11,283,12],[283,13,283,14],[283,27,283,28],[283,29,283,30],[283,31,283,32],[282,5,282,32],[282,33,283,34],[282,35,284,35],[283,15,283,16],[283,17,283,18],[283,19,283,20],[283,21,283,22],[283,23,283,24],[283,25,283,26],[290,8,290,9],[290,10,290,11],[290,12,290,13],[271,19,271,20],[270,0,272,1],[273,0,274,0],[247,2,248,4],[248,5,248,6],[248,7,248,8],[248,9,248,10],[248,11,248,12],[248,13,248,14],[250,0,250,1],[271,17,271,18],[271,9,271,10],[271,15,271,16],[275,0,275,1],[251,0,259,0],[271,11,271,12],[271,7,271,8],[271,13,271,14],[271,5,271,6],[289,1,290,3],[277,0,277,1],[278,0,280,0],[276,0,276,1],[190,47,191,47],[197,0,198,0],[190,46,191,46],[190,44,190,45],[190,39,190,41],[286,0,286,1],[287,0,287,1],[285,0,285,1],[282,0,284,1],[260,0,268,0],[270,2,271,4],[239,0,241,0],[244,0,245,0],[247,46,249,46],[234,0,235,0],[242,0,243,0],[247,0,249,1],[247,44,249,44],[247,42,248,43],[248,15,248,16],[248,17,248,18],[247,39,247,41],[289,0,291,0],[282,2,283,4],[289,4,289,12],[290,4,290,5],[290,6,290,7],[148,43,149,43],[169,0,172,0],[135,7,135,8],[135,9,135,10],[135,11,135,12],[135,13,135,14],[148,39,149,39],[148,40,149,40],[148,23,148,24],[148,2,148,4],[148,5,148,6],[148,7,148,8],[148,9,148,10],[148,11,148,12],[190,42,191,42],[179,0,181,0],[200,0,207,0],[192,0,192,1],[196,0,196,1],[148,44,149,44],[155,0,156,0],[190,2,190,4],[190,5,190,6],[190,43,191,43],[190,21,190,22],[190,7,190,8],[190,33,190,34],[190,35,190,36],[190,37,190,38],[173,0,178,0],[182,0,182,1],[183,0,183,1],[151,0,151,1],[148,29,148,30],[148,31,148,32],[148,33,148,34],[148,35,148,36],[152,0,153,0],[150,0,150,1],[190,17,190,18],[148,17,148,18],[148,25,148,26],[190,11,190,12],[119,24,119,25],[119,22,119,23],[119,16,119,17],[119,18,119,19],[81,31,81,32],[81,7,81,8],[81,9,81,10],[81,11,81,12],[81,5,81,6],[101,21,101,22],[101,23,101,24],[91,17,91,18],[119,20,119,21],[232,2,232,4],[232,5,232,6],[240,11,240,12],[240,13,240,14],[232,23,232,24],[240,23,240,24],[240,5,240,6],[240,25,240,26],[232,13,232,14],[232,15,232,16],[232,7,232,8],[232,9,232,10],[239,2,240,4],[240,9,240,10],[232,17,232,18],[240,15,240,16],[240,17,240,18],[240,19,240,20],[120,0,120,1],[111,0,113,0],[114,0,114,1],[115,0,118,0],[232,0,233,1],[221,0,223,0],[67,17,67,21],[67,0,69,1],[67,2,68,4],[67,5,67,16],[68,5,68,6],[68,7,68,8],[68,9,68,10],[194,0,195,0],[70,0,70,1],[71,0,71,1],[72,0,72,1],[73,0,73,1],[68,17,68,18],[68,19,69,19],[68,20,68,21],[232,11,232,12],[76,5,76,6],[158,0,165,0],[270,49,272,49],[43,0,44,0],[190,0,191,1],[230,0,230,1],[229,0,229,1],[228,0,228,1],[227,0,227,1],[226,0,226,1],[225,0,225,1],[224,0,224,1],[166,0,168,0],[236,0,237,0],[141,0,144,0],[56,0,56,1],[57,0,57,1],[64,0,64,1],[65,0,65,1],[119,0,119,1],[154,0,154,1],[193,0,193,1],[68,11,68,12],[68,13,68,14],[68,15,68,16],[208,0,210,0],[295,33,297,33],[295,34,297,34],[295,35,297,35],[295,0,297,0],[295,1,297,1],[295,2,296,4],[296,19,296,20],[296,21,296,22],[296,23,296,24],[296,25,296,26],[296,27,296,28],[296,29,296,30],[296,31,296,32],[59,23,61,23],[59,21,59,22],[59,24,60,25],[298,0,300,0],[301,0,303,0],[295,5,295,32],[296,5,296,6],[296,7,296,8],[296,9,296,10],[296,11,296,12],[296,13,296,14],[296,15,296,16],[296,17,296,18],[184,0,184,1],[185,0,185,1],[186,0,186,1],[187,0,187,1],[188,0,188,1],[148,0,149,1],[211,0,214,0],[215,0,220,0],[137,0,140,0],[135,0,136,1],[104,0,104,1]]}
["SERVICIO DE SALUD"]
[{"$f":"CONCATENATE(\"COMUNA: \",NOMBRE!B2,\" - \",\"( \",NOMBRE!C2,NOMBRE!D2,NOMBRE!E2,NOMBRE!F2,NOMBRE!G2,\" )\")","v":"COMUNA:  - (  )"}]
[{"$f":"CONCATENATE(\"ESTABLECIMIENTO/ESTRATEGIA: \",NOMBRE!B3,\" - \",\"( \",NOMBRE!C3,NOMBRE!D3,NOMBRE!E3,NOMBRE!F3,NOMBRE!G3,NOMBRE!H3,\" )\")","v":"ESTABLECIMIENTO/ESTRATEGIA:  - (  )"}]
[{"$f":"CONCATENATE(\"MES: \",NOMBRE!B6,\" - \",\"( \",NOMBRE!C6,NOMBRE!D6,\" )\")","v":"MES:  - (  )"}]
[{"$f":"CONCATENATE(\"AÑO: \",NOMBRE!B7)","v":"AÑO: 2020"}]
["REM-A05.   INGRESOS Y EGRESOS POR CONDICIÓN Y PROBLEMAS DE SALUD"]
[]
["SECCIÓN A: INGRESOS DE GESTANTES A PROGRAMA PRENATAL"]
["CONDICIÓN",null,"TOTAL      ","POR DE EDAD (en años)",null,null,null,null,null,null,null,null,null,"Victima de violencia de genero","Pueblos Originarios","Migrantes"]
[null,null,null,"Menor \nde 15","15 - 19 ","20 - 24","25 - 29","30 - 34","35 - 39","40 - 44","45 - 49","50 - 54","55 y más"]
["GESTANTES INGRESADAS",null,{"$f":"SUM(D11:M11)","v":0},null,null,null,null,null,null,null,null,null,null,null,null,null,{"$f":"CA11&CB11&CC11&CD11","v":""},null,null,null,null,null,null,null,null,null,null,null,null,null,null,null,null,null,null,null,null,null,null,null,null,null,null,null,null,null,null,null,null,null,null,null,null,null,null,null,null,null,null,null,null,null,null,null,null,null,null,null,null,null,null,null,null,null,null,null,null,null,{"$f":"IF(CH11=1,\"* El número de víctima de Violencia de Género NO DEBE ser diferente al Total. \",\"\")","v":""},{"$f":"IF(AND(C11<>0,OR(O11=\"\",P11=\"\")),\"* No olvide digitar los campos Pueblo Originario y/o Migrantes (Digite CEROS si no tiene). \",\"\")","v":""},{"$f":"IF(CJ11=1,\"* Pueblo Originario y/o Migrantes NO DEBEN ser Mayor al Total. \",\"\")","v":""},{"$f":"IF(CK11=1,\"* Total Gestantes Ingresadas a control prenatal debe ser Mayor o Igual que el Total de Evaluaciones a Gestantes de REM A03 Sección B2. \",\"\")","v":""},null,null,null,{"$f":"IF(C11<N11,1,0)","v":0},null,{"$f":"IF(OR(C11<O11,C11<P11),1,0)","v":0},{"$f":"IF(C11<'A03'!C75,1,0)","v":0}]
["PRIMIGESTAS INGRESADAS",null,{"$f":"SUM(D12:M12)","v":0},null,null,null,null,null,null,null,null,null,null,null,null,null,{"$f":"CA12&CB12&CC12&CD12","v":""},null,null,null,null,null,null,null,null,null,null,null,null,null,null,null,null,null,null,null,null,null,null,null,null,null,null,null,null,null,null,null,null,null,null,null,null,null,null,null,null,null,null,null,null,null,null,null,null,null,null,null,null,null,null,null,null,null,null,null,null,null,{"$f":"IF(CH12=1,\"* El número de víctima de Violencia de Género NO DEBE ser diferente al Total. \",\"\")","v":""},{"$f":"IF(AND(C12<>0,OR(O12=\"\",P12=\"\")),\"* No olvide digitar los campos Pueblo Originario y/o Migrantes (Digite CEROS si no tiene). \",\"\")","v":""},{"$f":"IF(CJ12=1,\"* Pueblo Originario y/o Migrantes NO DEBEN ser Mayor al Total. \",\"\")","v":""},{"$f":"IF(CK12=1,\"* Total Gestantes debe ser Mayor o Igual a \"&A12&\".\",\"\")","v":""},null,null,null,{"$f":"IF(C12<N12,1,0)","v":0},null,{"$f":"IF(OR(C12<O12,C12<P12),1,0)","v":0},{"$f":"IF($C$11<C12,1,0)","v":0}]
["GESTANTES INGRESADAS ANTES DE LAS 14 SEMANAS",null,{"$f":"SUM(D13:M13)","v":0},null,null,null,null,null,null,null,null,null,null,null,null,null,{"$f":"CA13&CB13&CC13&CD13","v":""},null,null,null,null,null,null,null,null,null,null,null,null,null,null,null,null,null,null,null,null,null,null,null,null,null,null,null,null,null,null,null,null,null,null,null,null,null,null,null,null,null,null,null,null,null,null,null,null,null,null,null,null,null,null,null,null,null,null,null,null,null,{"$f":"IF(CH13=1,\"* El número de víctima de Violencia de Género NO DEBE ser diferente al Total. \",\"\")","v":""},{"$f":"IF(AND(C13<>0,OR(O13=\"\",P13=\"\")),\"* No olvide digitar los campos Pueblo Originario y/o Migrantes (Digite CEROS si no tiene). \",\"\")","v":""},{"$f":"IF(CJ13=1,\"* Pueblo Originario y/o Migrantes NO DEBEN ser Mayor al Total. \",\"\")","v":""},{"$f":"IF(CK13=1,\"* Total Gestantes debe ser Mayor o Igual a \"&A13&\".\",\"\")","v":""},null,null,null,{"$f":"IF(C13<N13,1,0)","v":0},null,{"$f":"IF(OR(C13<O13,C13<P13),1,0)","v":0},{"$f":"IF($C$11<C13,1,0)","v":0}]
["GESTANTES CON EMBARAZO NO PLANIFICADO",null,{"$f":"SUM(D14:M14)","v":0},null,null,null,null,null,null,null,null,null,null,null,null,null,{"$f":"CA14&CB14&CC14&CD14","v":""},null,null,null,null,null,null,null,null,null,null,null,null,null,null,null,null,null,null,null,null,null,null,null,null,null,null,null,null,null,null,null,null,null,null,null,null,null,null,null,null,null,null,null,null,null,null,null,null,null,null,null,null,null,null,null,null,null,null,null,null,null,{"$f":"IF(CH14=1,\"* El número de víctima de Violencia de Género NO DEBE ser diferente al Total. \",\"\")","v":""},{"$f":"IF(AND(C14<>0,OR(O14=\"\",P14=\"\")),\"* No olvide digitar los campos Pueblo Originario y/o Migrantes (Digite CEROS si no tiene). \",\"\")","v":""},{"$f":"IF(CJ14=1,\"* Pueblo Originario y/o Migrantes NO DEBEN ser Mayor al Total. \",\"\")","v":""},{"$f":"IF(CK14=1,\"* Total Gestantes debe ser Mayor o Igual a \"&A14&\".\",\"\")","v":""},null,null,null,{"$f":"IF(C14<N14,1,0)","v":0},null,{"$f":"IF(OR(C14<O14,C14<P14),1,0)","v":0},{"$f":"IF($C$11<C14,1,0)","v":0}]
["GESTANTES CON EXAMEN DE CHAGAS INFORMADO",null,{"$f":"SUM(D15:M15)","v":0},null,null,null,null,null,null,null,null,null,null,null,null,null,{"$f":"CA15&CB15&CC15&CD15","v":""},null,null,null,null,null,null,null,null,null,null,null,null,null,null,null,null,null,null,null,null,null,null,null,null,null,null,null,null,null,null,null,null,null,null,null,null,null,null,null,null,null,null,null,null,null,null,null,null,null,null,null,null,null,null,null,null,null,null,null,null,null,{"$f":"IF(CH15=1,\"* El número de víctima de Violencia de Género NO DEBE ser diferente al Total. \",\"\")","v":""},{"$f":"IF(AND(C15<>0,OR(O15=\"\",P15=\"\")),\"* No olvide digitar los campos Pueblo Originario y/o Migrantes (Digite CEROS si no tiene). \",\"\")","v":""},{"$f":"IF(CJ15=1,\"* Pueblo Originario y/o Migrantes NO DEBEN ser Mayor al Total. \",\"\")","v":""},{"$f":"IF(CK15=1,\"* Total Gestantes debe ser Mayor o Igual a \"&A15&\".\",\"\")","v":""},null,null,null,{"$f":"IF(C15<N15,1,0)","v":0},null,{"$f":"IF(OR(C15<O15,C15<P15),1,0)","v":0},{"$f":"IF($C$11<C15,1,0)","v":0}]
["SECCIÓN B: INGRESO DE GESTANTES CON PATOLOGÍA DE ALTO RIESGO OBSTÉTRICO A LA UNIDAD DE ARO  (Nivel Secundario)"]
["PATOLOGÍA",null,"Nº de Ingreso a ARO","Victima de violencia de género","Pueblos Originarios","Migrantes"]
[]
["Nº DE GESTANTES INGRESADAS",null,null,null,null,null,{"$f":"CA19&CB19&CC19&CD19","v":""},null,null,null,null,null,null,null,null,null,null,null,null,null,null,null,null,null,null,null,null,null,null,null,null,null,null,null,null,null,null,null,null,null,null,null,null,null,null,null,null,null,null,null,null,null,null,null,null,null,null,null,null,null,null,null,null,null,null,null,null,null,null,null,null,null,null,null,null,null,null,null,null,null,null,{"$f":"IF(AND(SUM(C20:C29)<>0,C19=0),\"* No olvide registrar número de gestantes ingresadas. \",\"\")","v":""},null,null,0,null,0]
["PREECLAMPSIA (PE)",null,null,null,null,null,"",null,null,null,null,null,null,null,null,null,null,null,null,null,null,null,null,null,null,null,null,null,null,null,null,null,null,null,null,null,null,null,null,null,null,null,null,null,null,null,null,null,null,null,null,null,null,null,null,null,null,null,null,null,null,null,null,null,null,null,null,null,null,null,null,null,null,null,null,null,null,null,null,null,null,null,null,null,0,null,0]
["SÍNDROME HIPERTENSIVO DEL EMBARAZO (SHE)",null,null,null,null,null,"",null,null,null,null,null,null,null,null,null,null,null,null,null,null,null,null,null,null,null,null,null,null,null,null,null,null,null,null,null,null,null,null,null,null,null,null,null,null,null,null,null,null,null,null,null,null,null,null,null,null,null,null,null,null,null,null,null,null,null,null,null,null,null,null,null,null,null,null,null,null,null,null,null,null,null,null,null,0,null,0]
["FACTORES DE RIESGO Y CONDICIONANTES DE PARTO PREMATURO",null,null,null,null,null,"",null,null,null,null,null,null,null,null,null,null,null,null,null,null,null,null,null,null,null,null,null,null,null,null,null,null,null,null,null,null,null,null,null,null,null,null,null,null,null,null,null,null,null,null,null,null,null,null,null,null,null,null,null,null,null,null,null,null,null,null,null,null,null,null,null,null,null,null,null,null,null,null,null,null,null,null,null,0,null,0]
["RETARDO CRECIMIENTO INTRAUTERINO (RCIU)",null,null,null,null,null,"",null,null,null,null,null,null,null,null,null,null,null,null,null,null,null,null,null,null,null,null,null,null,null,null,null,null,null,null,null,null,null,null,null,null,null,null,null,null,null,null,null,null,null,null,null,null,null,null,null,null,null,null,null,null,null,null,null,null,null,null,null,null,null,null,null,null,null,null,null,null,null,null,null,null,null,null,null,0,null,0]
["SÍFILIS",null,null,null,null,null,"",null,null,null,null,null,null,null,null,null,null,null,null,null,null,null,null,null,null,null,null,null,null,null,null,null,null,null,null,null,null,null,null,null,null,null,null,null,null,null,null,null,null,null,null,null,null,null,null,null,null,null,null,null,null,null,null,null,null,null,null,null,null,null,null,null,null,null,null,null,null,null,null,null,null,null,null,null,0,null,0]
["VIH",null,null,null,null,null,"",null,null,null,null,null,null,null,null,null,null,null,null,null,null,null,null,null,null,null,null,null,null,null,null,null,null,null,null,null,null,null,null,null,null,null,null,null,null,null,null,null,null,null,null,null,null,null,null,null,null,null,null,null,null,null,null,null,null,null,null,null,null,null,null,null,null,null,null,null,null,null,null,null,null,null,null,null,0,null,0]
["DIABETES",null,null,null,null,null,"",null,null,null,null,null,null,null,null,null,null,null,null,null,null,null,null,null,null,null,null,null,null,null,null,null,null,null,null,null,null,null,null,null,null,null,null,null,null,null,null,null,null,null,null,null,null,null,null,null,null,null,null,null,null,null,null,null,null,null,null,null,null,null,null,null,null,null,null,null,null,null,null,null,null,null,null,null,0,null,0]
["CESÁREA ANTERIOR",null,null,null,null,null,"",null,null,null,null,null,null,null,null,null,null,null,null,null,null,null,null,null,null,null,null,null,null,null,null,null,null,null,null,null,null,null,null,null,null,null,null,null,null,null,null,null,null,null,null,null,null,null,null,null,null,null,null,null,null,null,null,null,null,null,null,null,null,null,null,null,null,null,null,null,null,null,null,null,null,null,null,null,0,null,0]
["MALFORMACIÓN CONGÉNITA",null,null,null,null,null,"",null,null,null,null,null,null,null,null,null,null,null,null,null,null,null,null,null,null,null,null,null,null,null,null,null,null,null,null,null,null,null,null,null,null,null,null,null,null,null,null,null,null,null,null,null,null,null,null,null,null,null,null,null,null,null,null,null,null,null,null,null,null,null,null,null,null,null,null,null,null,null,null,null,null,null,null,null,0,null,0]
["OTRAS PATOLOGÍAS DEL EMBARAZO",null,null,null,null,null,"",null,null,null,null,null,null,null,null,null,null,null,null,null,null,null,null,null,null,null,null,null,null,null,null,null,null,null,null,null,null,null,null,null,null,null,null,null,null,null,null,null,null,null,null,null,null,null,null,null,null,null,null,null,null,null,null,null,null,null,null,null,null,null,null,null,null,null,null,null,null,null,null,null,null,null,null,null,0,null,0]
["SECCIÓN C: INGRESOS A PROGRAMA DE REGULACIÓN DE FERTILIDAD Y SALUD SEXUAL."]
["MÉTODOS",null,"TOTAL      ","POR DE EDAD (en años)"]
[null,null,null,"Menor \nde 15","15 - 19 ","20 - 24","25 - 29","30 - 34","35 - 39","40 - 44","45 - 49","50 - 54","55 y más","Espacios Amigables"]
["TOTAL REGULACIÓN DE FERTILIDAD",null,{"$f":"SUM(D33:M33)","v":0},{"$f":"SUM(D34:D45,D48:D49,D52)","v":0},0,0,0,0,0,0,0,0,0,0]
["D . I . U T con Cobre",null,0,null,null,null,null,null,null,null,null,null,null,null,{"$f":"CA34","v":""},null,null,null,null,null,null,null,null,null,null,null,null,null,null,null,null,null,null,null,null,null,null,null,null,null,null,null,null,null,null,null,null,null,null,null,null,null,null,null,null,null,null,null,null,null,null,null,null,null,null,null,null,null,null,null,null,null,null,null,null,null,null,null,{"$f":"IF(CG34=1,\"* No olvide digitar la columna Espacios Amigables (Digite Cero si no tiene). \",\"\")","v":""},null,null,null,null,null,{"$f":"IF(AND(C34<>0,N34=\"\"),1,0)","v":0}]
["D . I . U con Levonorgestrel",null,0,null,null,null,null,null,null,null,null,null,null,null,"",null,null,null,null,null,null,null,null,null,null,null,null,null,null,null,null,null,null,null,null,null,null,null,null,null,null,null,null,null,null,null,null,null,null,null,null,null,null,null,null,null,null,null,null,null,null,null,null,null,null,null,null,null,null,null,null,null,null,null,null,null,null,null,"",null,null,null,null,null,0]
["HORMONAL","Oral Combinado",0,null,null,null,null,null,null,null,null,null,null,null,"",null,null,null,null,null,null,null,null,null,null,null,null,null,null,null,null,null,null,null,null,null,null,null,null,null,null,null,null,null,null,null,null,null,null,null,null,null,null,null,null,null,null,null,null,null,null,null,null,null,null,null,null,null,null,null,null,null,null,null,null,null,null,null,"",null,null,null,null,null,0]
[null,"Oral Progestágeno",0,null,null,null,null,null,null,null,null,null,null,null,"",null,null,null,null,null,null,null,null,null,null,null,null,null,null,null,null,null,null,null,null,null,null,null,null,null,null,null,null,null,null,null,null,null,null,null,null,null,null,null,null,null,null,null,null,null,null,null,null,null,null,null,null,null,null,null,null,null,null,null,null,null,null,null,"",null,null,null,null,null,0]
[null,"Inyectable Combinado",0,null,null,null,null,null,null,null,null,null,null,null,"",null,null,null,null,null,null,null,null,null,null,null,null,null,null,null,null,null,null,null,null,null,null,null,null,null,null,null,null,null,null,null,null,null,null,null,null,null,null,null,null,null,null,null,null,null,null,null,null,null,null,null,null,null,null,null,null,null,null,null,null,null,null,null,"",null,null,null,null,null,0]
[null,"Inyectable Progestágeno",0,null,null,null,null,null,null,null,null,null,null,null,"",null,null,null,null,null,null,null,null,null,null,null,null,null,null,null,null,null,null,null,null,null,null,null,null,null,null,null,null,null,null,null,null,null,null,null,null,null,null,null,null,null,null,null,null,null,null,null,null,null,null,null,null,null,null,null,null,null,null,null,null,null,null,null,"",null,null,null,null,null,0]
[null,"Implante Etonogestrel (3 años)",0,null,null,null,null,null,null,null,null,null,null,null,"",null,null,null,null,null,null,null,null,null,null,null,null,null,null,null,null,null,null,null,null,null,null,null,null,null,null,null,null,null,null,null,null,null,null,null,null,null,null,null,null,null,null,null,null,null,null,null,null,null,null,null,null,null,null,null,null,null,null,null,null,null,null,null,"",null,null,null,null,null,0]
[null,"Implante Levonorgestrel (5 años)",0,null,null,null,null,null,null,null,null,null,null,null,"",null,null,null,null,null,null,null,null,null,null,null,null,null,null,null,null,null,null,null,null,null,null,null,null,null,null,null,null,null,null,null,null,null,null,null,null,null,null,null,null,null,null,null,null,null,null,null,null,null,null,null,null,null,null,null,null,null,null,null,null,null,null,null,"",null,null,null,null,null,0]
[" SÓLO PRESERVATIVO MAC                                                                                                                                                                                                                                                 ","Mujer",0,null,null,null,null,null,null,null,null,null,null,null,"",null,null,null,null,null,null,null,null,null,null,null,null,null,null,null,null,null,null,null,null,null,null,null,null,null,null,null,null,null,null,null,null,null,null,null,null,null,null,null,null,null,null,null,null,null,null,null,null,null,null,null,null,null,null,null,null,null,null,null,null,null,null,null,"",null,null,null,null,null,0]
[null,"Hombres",0,null,null,null,null,null,null,null,null,null,null,null,"",null,null,null,null,null,null,null,null,null,null,null,null,null,null,null,null,null,null,null,null,null,null,null,null,null,null,null,null,null,null,null,null,null,null,null,null,null,null,null,null,null,null,null,null,null,null,null,null,null,null,null,null,null,null,null,null,null,null,null,null,null,null,null,"",null,null,null,null,null,0]
["ESTERILIZACIÓN QUIRÚRGICA","Mujer",0,null,null,null,null,null,null,null,null,null,null,null,"",null,null,null,null,null,null,null,null,null,null,null,null,null,null,null,null,null,null,null,null,null,null,null,null,null,null,null,null,null,null,null,null,null,null,null,null,null,null,null,null,null,null,null,null,null,null,null,null,null,null,null,null,null,null,null,null,null,null,null,null,null,null,null,"",null,null,null,null,null,0]
[null,"Hombres",0,null,null,null,null,null,null,null,null,null,null,null,"",null,null,null,null,null,null,null,null,null,null,null,null,null,null,null,null,null,null,null,null,null,null,null,null,null,null,null,null,null,null,null,null,null,null,null,null,null,null,null,null,null,null,null,null,null,null,null,null,null,null,null,null,null,null,null,null,null,null,null,null,null,null,null,"",null,null,null,null,null,0]
[" Método de Regulación de Fertilidad más Preservativos",null,0,null,null,null,null,null,null,null,null,null,null,null,"",null,null,null,null,null,null,null,null,null,null,null,null,null,null,null,null,null,null,null,null,null,null,null,null,null,null,null,null,null,null,null,null,null,null,null,null,null,null,null,null,null,null,null,null,null,null,null,null,null,null,null,null,null,null,null,null,null,null,null,null,null,null,null,"",null,null,null,null,null,0]
["Gestantes que reciben preservativo",null,0,null,null,null,null,null,null,null,null,null,null,null,"",null,null,null,null,null,null,null,null,null,null,null,null,null,null,null,null,null,null,null,null,null,null,null,null,null,null,null,null,null,null,null,null,null,null,null,null,null,null,null,null,null,null,null,null,null,null,null,null,null,null,null,null,null,null,null,null,null,null,null,null,null,null,null,"",null,null,null,null,null,0]
["PRESERVATIVO/PRACTICA SEXUAL SEGURA","Mujer",0,null,null,null,null,null,null,null,null,null,null,null,"",null,null,null,null,null,null,null,null,null,null,null,null,null,null,null,null,null,null,null,null,null,null,null,null,null,null,null,null,null,null,null,null,null,null,null,null,null,null,null,null,null,null,null,null,null,null,null,null,null,null,null,null,null,null,null,null,null,null,null,null,null,null,null,"",null,null,null,null,null,0]
[null,"Hombres",0,null,null,null,null,null,null,null,null,null,null,null,"",null,null,null,null,null,null,null,null,null,null,null,null,null,null,null,null,null,null,null,null,null,null,null,null,null,null,null,null,null,null,null,null,null,null,null,null,null,null,null,null,null,null,null,null,null,null,null,null,null,null,null,null,null,null,null,null,null,null,null,null,null,null,null,"",null,null,null,null,null,0]
["LUBRICANTES","Mujer",0,null,null,null,null,null,null,null,null,null,null,null,"",null,null,null,null,null,null,null,null,null,null,null,null,null,null,null,null,null,null,null,null,null,null,null,null,null,null,null,null,null,null,null,null,null,null,null,null,null,null,null,null,null,null,null,null,null,null,null,null,null,null,null,null,null,null,null,null,null,null,null,null,null,null,null,"",null,null,null,null,null,0]
[null,"Hombres",0,null,null,null,null,null,null,null,null,null,null,null,"",null,null,null,null,null,null,null,null,null,null,null,null,null,null,null,null,null,null,null,null,null,null,null,null,null,null,null,null,null,null,null,null,null,null,null,null,null,null,null,null,null,null,null,null,null,null,null,null,null,null,null,null,null,null,null,null,null,null,null,null,null,null,null,"",null,null,null,null,null,0]
["CONDÓN FEMENINO",null,0,null,null,null,null,null,null,null,null,null,null,null,"",null,null,null,null,null,null,null,null,null,null,null,null,null,null,null,null,null,null,null,null,null,null,null,null,null,null,null,null,null,null,null,null,null,null,null,null,null,null,null,null,null,null,null,null,null,null,null,null,null,null,null,null,null,null,null,null,null,null,null,null,null,null,null,"",null,null,null,null,null,0]
["SECCIÓN D: INGRESOS A PROGRAMA CONTROL DE CLIMATERIO ",null,null,null,null,null,null,null,null,null,null,null,null,null,null,null,null,null,null,null,null,null,null,null,null,null,null,null,null,null,null,null,null,null,null,null,null,null,null,null,null,null,null,null,null,null,null,null,null,null,null,null,null,null,null,null,null,null,null,null,null,null,null,null,null,null,null,null,null,null,null,null,null,null,null,null,null,null,{"$f":"IF(AND(('A01'!$C18+'A01'!$C19+'A01'!$C20+'A01'!$C21+'A01'!$F31+'A01'!$F32+'A01'!$F33)<>0,D53=0,E53=\"\"),\"* Observacion : En A01 existen contoles no ingresados, Revisar. \",\"\")","v":""}]
["CONCEPTO","TOTAL",null,null,null,null,null,null,null,null,null,null,null,null,null,null,null,null,null,null,null,null,null,null,null,null,null,null,null,null,null,null,null,null,null,null,null,null,null,null,null,null,null,null,null,null,null,null,null,null,null,null,null,null,null,null,null,null,null,null,null,null,null,null,null,null,null,null,null,null,null,null,null,null,null,null,null,null,null,null,null,null,null,null,0,0]
["INGRESOS",null,null,null,null,null,null,null,null,null,null,null,null,null,null,null,null,null,null,null,null,null,null,null,null,null,null,null,null,null,null,null,null,null,null,null,null,null,null,null,null,null,null,null,null,null,null,null,null,null,null,null,null,null,null,null,null,null,null,null,null,null,null,null,null,null,null,null,null,null,null,null,null,null,null,null,null,null,null,null,null,null,null,null,0,0]
["SECCIÓN E:  INGRESOS  A CONTROL DE SALUD DE RECIÉN NACIDOS",null,null,null,null,null,null,null,null,null,null,null,null,null,null,null,null,null,null,null,null,null,null,null,null,null,null,null,null,null,null,null,null,null,null,null,null,null,null,null,null,null,null,null,null,null,null,null,null,null,null,null,null,null,null,null,null,null,null,null,null,null,null,null,null,null,null,null,null,null,null,null,null,null,null,null,null,null,null,null,null,null,null,null,0,0]
["EDAD",null,"TOTAL","NIÑOS","NIÑAS",null,null,null,null,null,null,null,null,null,null,null,null,null,null,null,null,null,null,null,null,null,null,null,null,null,null,null,null,null,null,null,null,null,null,null,null,null,null,null,null,null,null,null,null,null,null,null,null,null,null,null,null,null,null,null,null,null,null,null,null,null,null,null,null,null,null,null,null,null,null,null,null,null,null,null,null,null,null,null,0,0]
["MENORES DE 28 DÍAS",null,{"$f":"SUM(D58:E58)","v":0},null,null,null,null,null,null,null,null,null,null,null,null,null,null,null,null,null,null,null,null,null,null,null,null,null,null,null,null,null,null,null,null,null,null,null,null,null,null,null,null,null,null,null,null,null,null,null,null,null,null,null,null,null,null,null,null,null,null,null,null,null,null,null,null,null,null,null,null,null,null,null,null,null,null,null,{"$f":"IF(AND(('A01'!$C18+'A01'!$C19+'A01'!$C20+'A01'!$C21+'A01'!$F31+'A01'!$F32+'A01'!$F33)<>0,D58=0,E58=\"\"),\"* Observacion : En A01 existen controles no ingresados, Revisar. \",\"\")","v":""},null,null,null,null,null,0,0]
["SECCIÓN F:  INGRESOS Y EGRESOS A SALA DE ESTIMULACIÓN SERVICIO ITINERANTE Y ATENCIÓN DOMICILIARIA ",null,null,null,null,null,null,null,null,null,null,null,null,null,null,null,null,null,null,null,null,null,null,null,null,null,null,null,null,null,null,null,null,null,null,null,null,null,null,null,null,null,null,null,null,null,null,null,null,null,null,null,null,null,null,null,null,null,null,null,null,null,null,null,null,null,null,null,null,null,null,null,null,null,null,null,null,null,{"$f":"IF(AND(('A01'!$C18+'A01'!$C19+'A01'!$C20+'A01'!$C21+'A01'!$F31+'A01'!$F32+'A01'!$F33)<>0,D59=0,E59=\"\"),\"* Observacion : En A01 existen controles no ingresados, Revisar. \",\"\")","v":""}]
["NIÑO / A (CON) ",null,"TOTAL    ",null,null,"INGRESOS SALA DE ESTIMULACIÓN  ",null,null,null,null,null,null,null,null,null,null,null,"SERVICIO ITINERANTE EN CENTRO DE SALUD",null,"ATENCIÓN DOMICILIARIA ",null,"EGRESOS",null,"INASISTENTE","RESULTADOS DE LA REEVALUACIÓN POST EGRESO "]
[null,null,null,null,null,"Menor 7 meses",null," 7 - 11 meses",null,"12 - 17 meses",null,"18 - 23 meses",null,"24 - 47 meses",null,"48 - 59 meses",null," 7 a 59 meses",null,"7 a 59 meses",null,"MOTIVO EGRESO"]
[null,null,"Ambos Sexos","Hombres","Mujeres","Hombres","Mujeres","Hombres","Mujeres","Hombres","Mujeres","Hombres","Mujeres","Hombres","Mujeres","Hombres","Mujeres","Hombres","Mujeres","Hombres","Mujeres","Cumplimiento de tratamiento","Otros",null,"Recuperado","No Recuperado"]
["NORMAL CON REZAGO",null,{"$f":"SUM(D63:E63)","v":0},{"$f":"SUM(F63+H63+J63+L63+N63+P63)","v":0},0,null,null,null,null,null,null,null,null,null,null,null,null,null,null,null,null,null,null,null,null,null,null,null,null,null,null,null,null,null,null,null,null,null,null,null,null,null,null,null,null,null,null,null,null,null,null,null,null,null,null,null,null,null,null,null,null,null,null,null,null,null,null,null,null,null,null,null,null,null,null,null,null,null,null,null,null,null,null,null,0,0]
["RIESGO",null,{"$f":"SUM(D64:E64)","v":0},0,0]
["RETRASO",null,{"$f":"SUM(D65:E65)","v":0},0,0]
["OTRA VULNERABILIDAD",null,{"$f":"SUM(D66:E66)","v":0},0,0]
["SECCIÓN F.1: REINGRESOS Y EGRESOS POR SEGUNDA VEZ A MODALIDAD DE ESTIMULACIÓN EN EL CENTRO DE SALUD"]
["NIÑO / A (CON) ",null,"TOTAL    ",null,null,"REINGRESOS A MODALIDAD DE ESTIMULACIÓN  EN CENTRO DE SALUD",null,null,null,null,null,null,null,null,null,null,null," EGRESOS POR SEGUNDA VEZ Y RESULTADOS DE LA REEVALUACIÓN POST EGRESO "]
[null,null,null,null,null,"Menor 7 meses",null," 7 - 11 meses",null,"12 - 17 meses",null,"18 - 23 meses",null,"24 - 47 meses",null,"48 - 59 meses",null,"MOTIVO EGRESO",null,"INASISTENTE","RESULTADO DE REEVALUACIÓN"]
[null,null,"Ambos Sexos","Hombres","Mujeres","Hombres","Mujeres","Hombres","Mujeres","Hombres","Mujeres","Hombres","Mujeres","Hombres","Mujeres","Hombres","Mujeres","Cumplimiento de tratamiento","Otros",null,"Recuperado","No Recuperado"]
["NORMAL CON REZAGO",null,{"$f":"SUM(D71:E71)","v":0},{"$f":"SUM(F71+H71+J71+L71+N71+P71)","v":0},0]
["RIESGO",null,{"$f":"SUM(D72:E72)","v":0},0,0]
["RETRASO",null,{"$f":"SUM(D73:E73)","v":0},0,0]
["OTRA VULNERABILIDAD",null,{"$f":"SUM(D74:E74)","v":0},0,0]
["SECCIÓN G: INGRESOS DE NIÑOS Y NIÑAS CON NECESIDADES ESPECIALES DE BAJA COMPLEJIDAD A CONTROL DE SALUD INFANTIL EN APS"]
["NANEAS",null,"TOTAL",null,null,"POR EDAD "]
[null,null,null,null,null," 0  -  4",null," 5  -  9",null," 10 - 14  ",null,"15 a 19",null,"20 - 24"]
[null,null,"Ambos Sexos","Hombres","Mujeres","Hombres","Mujeres","Hombres","Mujeres","Hombres","Mujeres","Hombres","Mujeres","Hombres","Mujeres"]
["INGRESOS",null,{"$f":"SUM(D79:E79)","v":0},{"$f":"SUM(F79+H79+J79+L79+N79)","v":0},{"$f":"SUM(G79+I79+K79+M79+O79)","v":0}]
["SECCIÓN H: INGRESOS AL PSCV"]
["CONCEPTO",null,"TOTAL",null,null,"INGRESOS"]
[null,null,null,null,null,"15 - 19",null,"20-24",null,"25 a 29",null,"30 a 34",null,"35 a 39",null,"40 a 44",null,"45 a 49",null,"50 a 54",null,"55 a 59",null,"60 a 64",null,"65 a 69",null,"70 a 74",null,"75 a 79",null,"80 y más"]
[null,null,"Ambos Sexos","Hombres","Mujeres","Hombres","Mujeres","Hombres","Mujeres","Hombres","Mujeres","Hombres","Mujeres","Hombres","Mujeres","Hombres","Mujeres","Hombres","Mujeres","Hombres","Mujeres","Hombres","Mujeres","Hombres","Mujeres","Hombres","Mujeres","Hombres","Mujeres","Hombres","Mujeres","Hombres","Mujeres"]
["INGRESOS AL PSCV",null,{"$f":"SUM(D84:E84)","v":0},{"$f":"SUM(F84+H84+J84+L84+N84+P84+R84+T84+V84+X84+Z84+AB84+AD84+AF84)","v":0},0]
["PROGRAMA DE SALUD CARDIOVASCULAR","HIPERTENSIÓN ARTERIAL",0,0,0,null,null,null,null,null,null,null,null,null,null,null,null,null,null,null,null,null,null,null,null,null,null,null,null,null,null,null,null,null,null,null,null,null,null,null,null,null,null,null,null,null,null,null,null,null,null,null,null,null,null,null,null,null,null,null,null,null,null,null,null,null,null,null,null,null,null,null,null,null,null,null,null,null,null,null,null,null,null,null,0]
[null,"DIABETES MELLITUS",0,0,0,null,null,null,null,null,null,null,null,null,null,null,null,null,null,null,null,null,null,null,null,null,null,null,null,null,null,null,null,null,null,null,null,null,null,null,null,null,null,null,null,null,null,null,null,null,null,null,null,null,null,null,null,null,null,null,null,null,null,null,null,null,null,null,null,null,null,null,null,null,null,null,null,null,null,null,null,null,null,null,0]
[null,"DISLIPIDEMIA",0,0,0,null,null,null,null,null,null,null,null,null,null,null,null,null,null,null,null,null,null,null,null,null,null,null,null,null,null,null,null,null,null,null,null,null,null,null,null,null,null,null,null,null,null,null,null,null,null,null,null,null,null,null,null,null,null,null,null,null,null,null,null,null,null,null,null,null,null,null,null,null,null,null,null,null,null,null,null,null,null,null,0]
[null,"ANTECEDENTES ENF. CARDIOVASCULAR ATEROSCLERÓTICA",0,0,0,null,null,null,null,null,null,null,null,null,null,null,null,null,null,null,null,null,null,null,null,null,null,null,null,null,null,null,null,null,null,null,null,null,null,null,null,null,null,null,null,null,null,null,null,null,null,null,null,null,null,null,null,null,null,null,null,null,null,null,null,null,null,null,null,null,null,null,null,null,null,null,null,null,null,null,null,null,null,null,0]
[null,"TABAQUISMO",0,0,0,null,null,null,null,null,null,null,null,null,null,null,null,null,null,null,null,null,null,null,null,null,null,null,null,null,null,null,null,null,null,null,null,null,null,null,null,null,null,null,null,null,null,null,null,null,null,null,null,null,null,null,null,null,null,null,null,null,null,null,null,null,null,null,null,null,null,null,null,null,null,null,null,null,null,null,null,null,null,null,0]
["SECCIÓN I: EGRESOS  DEL PSCV",null,null,null,null,null,null,null,null,null,null,null,null,null,null,null,null,null,null,null,null,null,null,null,null,null,null,null,null,null,null,null,null,null,null,null,null,null,null,null,null,null,null,null,null,null,null,null,null,null,null,null,null,null,null,null,null,null,null,null,null,null,null,null,null,null,null,null,null,null,null,null,null,null,null,null,null,null,null,null,null,null,null,null,0]
["CONCEPTO",null,"TOTAL",null,null,"EGRESOS",null,null,null,null,null,null,null,null,null,null,null,null,null,null,null,null,null,null,null,null,null,null,null,null,null,null,null,"CAUSAL DE EGRESO",null,null,null,null,null,null,null,null,null,null,null,null,null,null,null,null,null,null,null,null,null,null,null,null,null,null,null,null,null,null,null,null,null,null,null,null,null,null,null,null,null,null,null,null,null,null,null,null,null,null,0]
[null,null,null,null,null,"15 - 19",null,"20-24",null,"25 a 29",null,"30 a 34",null,"35 a 39",null,"40 a 44",null,"45 a 49",null,"50 a 54",null,"55 a 59",null,"60 a 64",null,"65 a 69",null,"70 a 74",null,"75 a 79",null,"80 y más",null,"Abandono","Traslado","Fallecimiento","No cumple criterio",null,null,null,null,null,null,null,null,null,null,null,null,null,null,null,null,null,null,null,null,null,null,null,null,null,null,null,null,null,null,null,null,null,null,null,null,null,null,null,null,null,null,null,null,null,null,null,0]
[null,null,"Ambos Sexos","Hombres","Mujeres","Hombres","Mujeres","Hombres","Mujeres","Hombres","Mujeres","Hombres","Mujeres","Hombres","Mujeres","Hombres","Mujeres","Hombres","Mujeres","Hombres","Mujeres","Hombres","Mujeres","Hombres","Mujeres","Hombres","Mujeres","Hombres","Mujeres","Hombres","Mujeres","Hombres","Mujeres",null,null,null,null,null,null,null,null,null,null,null,null,null,null,null,null,null,null,null,null,null,null,null,null,null,null,null,null,null,null,null,null,null,null,null,null,null,null,null,null,null,null,null,null,null,null,null,null,null,null,null,0]
["EGRESOS DEL PSCV",null,{"$f":"SUM(D94:E94)","v":0},{"$f":"SUM(F94+H94+J94+L94+N94+P94+R94+T94+V94+X94+Z94+AB94+AD94+AF94)","v":0},0,null,null,null,null,null,null,null,null,null,null,null,null,null,null,null,null,null,null,null,null,null,null,null,null,null,null,null,null,null,null,null,null,null,null,null,null,null,null,null,null,null,null,null,null,null,null,null,null,null,null,null,null,null,null,null,null,null,null,null,null,null,null,null,null,null,null,null,null,null,null,null,null,null,null,null,null,null,null,null,0]
["PROGRAMA DE SALUD CARDIOVASCULAR","HIPERTENSIÓN ARTERIAL",0,0,0,null,null,null,null,null,null,null,null,null,null,null,null,null,null,null,null,null,null,null,null,null,null,null,null,null,null,null,null,null,null,null,null,null,null,null,null,null,null,null,null,null,null,null,null,null,null,null,null,null,null,null,null,null,null,null,null,null,null,null,null,null,null,null,null,null,null,null,null,null,null,null,null,null,null,null,null,null,null,null,0]
[null,"DIABETES MELLITUS",0,0,0,null,null,null,null,null,null,null,null,null,null,null,null,null,null,null,null,null,null,null,null,null,null,null,null,null,null,null,null,null,null,null,null,null,null,null,null,null,null,null,null,null,null,null,null,null,null,null,null,null,null,null,null,null,null,null,null,null,null,null,null,null,null,null,null,null,null,null,null,null,null,null,null,null,null,null,null,null,null,null,0]
[null,"DISLIPIDEMIA",0,0,0]
[null,"ANTECEDENTES ENF. CARDIOVASCULAR ATEROSCLERÓTICA",0,0,0]
[null,"TABAQUISMO",0,0,0,null,null,null,null,null,null,null,null,null,null,null,null,null,null,null,null,null,null,null,null,null,null,null,null,null,null,null,null,null,null,null,null,null,null,null,null,null,null,null,null,null,null,null,null,null,null,null,null,null,null,null,null,null,null,null,null,null,null,null,null,null,null,null,null,null,null,null,null,null,null,null,null,null,{"$f":"IF(C99>C98+C97,\"* Los Ingresos de pacientes dependientes severos con escaras DEBEN estar incluidos en los Ingresos de pacientes dependientes severos Oncológicos o No Oncológicos. \",\"\")","v":""}]
["SECCIÓN J: INGRESOS Y EGRESOS AL PROGRAMA DE PACIENTES CON DEPENDENCIA LEVE, MODERADA Y SEVERA"]
["CONCEPTO",null,"TOTAL",null,null,"INGRESOS",null,null,null,null,null,null,null,null,null,null,null,null,null,null,null,null,null,null,null,null,null,null,null,null,null,null,null,"CAUSAL DE EGRESO"]
[null,null,null,null,null,"< 20 años",null,"20-24",null,"25 a 29",null,"30 a 34",null,"35 a 39",null,"40 a 44",null,"45 a 49",null,"50 a 54",null,"55 a 59",null,"60 a 64",null,"65 a 69",null,"70 a 74",null,"75 a 79",null,"80 y más",null,"Altas","Abandono/\nTraslado","Fallecimiento"]
[null,null,"Ambos Sexos","Hombres","Mujeres","Hombres","Mujeres","Hombres","Mujeres","Hombres","Mujeres","Hombres","Mujeres","Hombres","Mujeres","Hombres","Mujeres","Hombres","Mujeres","Hombres","Mujeres","Hombres","Mujeres","Hombres","Mujeres","Hombres","Mujeres","Hombres","Mujeres","Hombres","Mujeres","Hombres","Mujeres"]
["DEPENDENCIA LEVE",null,{"$f":"SUM(D104:E104)","v":0},{"$f":"SUM(F104+H104+J104+L104+N104+P104+R104+T104+V104+X104+Z104+AB104+AD104+AF104)","v":0},0]
["DEPENDENCIA MODERADA",null,{"$f":"SUM(D105:E105)","v":0},0,0,null,null,null,null,null,null,null,null,null,null,null,null,null,null,null,null,null,null,null,null,null,null,null,null,null,null,null,null,null,null,null,null,null,null,null,null,null,null,null,null,null,null,null,null,null,null,null,null,null,null,null,null,null,null,null,null,null,null,null,null,null,null,null,null,null,null,null,null,null,null,null,null,null,{"$f":"IF(C108>C107+C106,\"* Los Ingresos de pacientes dependientes severos con escaras DEBEN estar incluidos en los Ingresos de pacientes dependientes severos Oncológicos o No Oncológicos. \",\"\")","v":""}]
["DEPENDENCIA GRAVE Y TOTAL","ONCOLÓGICO",{"$f":"SUM(D106:E106)","v":0},0,0]
[null,"NO ONCOLÓGICO",{"$f":"SUM(D107:E107)","v":0},0,0]
["DEPENDENCIA SEVERA CON  ESCARAS ",null,{"$f":"SUM(D108:E108)","v":0},0,0]
["SECCIÓN K: INGRESOS AL PROGRAMA DEL ADULTO MAYOR SEGÚN CONDICIÓN DE FUNCIONALIDAD Y DEPENDENCIA"]
["CONDICIÓN",null,"TOTAL",null,null,"65 a 69",null,"70 a 74",null,"75 a 79",null,"80 y más"]
[null,null,"Ambos Sexos","Hombres","Mujeres","Hombres","Mujeres","Hombres","Mujeres","Hombres","Mujeres","Hombres","Mujeres"]
["EFAM","AUTOVALENTE SIN RIESGO",{"$f":"SUM(D112:E112)","v":0},{"$f":"SUM(F112+H112+J112+L112)","v":0},0]
[null,"AUTOVALENTE CON RIESGO",{"$f":"SUM(D113:E113)","v":0},0,0]
[null,"RIESGO DE DEPENDENCIA ",{"$f":"SUM(D114:E114)","v":0},0,0]
["SUBTOTAL",null,{"$f":"SUM(C112:C114)","v":0},0,0,0,0,0,0,0,0,0,0]
["BARTHEL","DEPENDIENTE LEVE",{"$f":"SUM(D116:E116)","v":0},{"$f":"SUM(F116+H116+J116+L116)","v":0},0]
[null,"DEPENDIENTE MODERADO",{"$f":"SUM(D117:E117)","v":0},0,0]
[null,"DEPENDIENTE GRAVE ",{"$f":"SUM(D118:E118)","v":0},0,0]
[null,"DEPENDIENTE TOTAL",{"$f":"SUM(D119:E119)","v":0},0,0,null,null,null,null,null,null,null,null,null,null,null,null,null,null,null,null,null,null,null,null,null,null,null,null,null,null,null,null,null,null,null,null,null,null,null,null,null,null,null,null,null,null,null,null,null,null,null,null,null,null,null,null,null,null,null,null,null,null,null,null,null,null,null,null,null,null,null,null,null,null,null,null,null,null,null,null,null,null,null,0]
["SUBTOTAL",null,{"$f":"SUM(C116:C119)","v":0},0,0,0,0,0,0,0,0,0,0]
["TOTAL  ",null,{"$f":"SUM(C115+C120)","v":0},0,0,0,0,0,0,0,0,0,0]
["SECCIÓN L: EGRESOS DEL PROGRAMA DEL ADULTO MAYOR SEGÚN CONDICIÓN DE FUNCIONALIDAD Y DEPENDENCIA"]
["CONDICIÓN",null,"TOTAL",null,null,"65 a 69",null,"70 a 74",null,"75 a 79",null,"80 y más",null,"CAUSAL DE EGRESO"]
[null,null,"Ambos Sexos","Hombres","Mujeres","Hombres","Mujeres","Hombres","Mujeres","Hombres","Mujeres","Hombres","Mujeres","Abandono","Traslado","Fallecimiento",null,null,null,null,null,null,null,null,null,null,null,null,null,null,null,null,null,null,null,null,null,null,null,null,null,null,null,null,null,null,null,null,null,null,null,null,null,null,null,null,null,null,null,null,null,null,null,null,null,null,null,null,null,null,null,null,null,null,null,null,null,null,null,null,null,null,null,null,0]
["EFAM","AUTOVALENTE SIN RIESGO",{"$f":"SUM(D125:E125)","v":0},{"$f":"SUM(F125+H125+J125+L125)","v":0},0,null,null,null,null,null,null,null,null,null,null,null,null,null,null,null,null,null,null,null,null,null,null,null,null,null,null,null,null,null,null,null,null,null,null,null,null,null,null,null,null,null,null,null,null,null,null,null,null,null,null,null,null,null,null,null,null,null,null,null,null,null,null,null,null,null,null,null,null,null,null,null,null,null,null,null,null,null,null,null,0]
[null,"AUTOVALENTE CON RIESGO",{"$f":"SUM(D126:E126)","v":0},0,0]
[null,"RIESGO DE DEPENDENCIA ",{"$f":"SUM(D127:E127)","v":0},0,0]
["SUBTOTAL",null,{"$f":"SUM(C125:C127)","v":0},0,0,0,0,0,0,0,0,0,0,0,0,0]
["BARTHEL","DEPENDIENTE LEVE",{"$f":"SUM(D129:E129)","v":0},{"$f":"SUM(F129+H129+J129+L129)","v":0},0]
[null,"DEPENDIENTE MODERADO",{"$f":"SUM(D130:E130)","v":0},0,0,null,null,null,null,null,null,null,null,null,null,null,null,null,null,null,null,null,null,null,null,null,null,null,null,null,null,null,null,null,null,null,null,null,null,null,null,null,null,null,null,null,null,null,null,null,null,null,null,null,null,null,null,null,null,null,null,null,null,null,null,null,null,null,null,null,null,null,null,null,null,null,null,null,null,null,null,null,null,null,0]
[null,"DEPENDIENTE GRAVE ",{"$f":"SUM(D131:E131)","v":0},0,0]
[null,"DEPENDIENTE TOTAL",{"$f":"SUM(D132:E132)","v":0},0,0]
["SUBTOTAL",null,{"$f":"SUM(C129:C132)","v":0},0,0,0,0,0,0,0,0,0,0,0,0,0]
["TOTAL  ",null,{"$f":"SUM(C128+C133)","v":0},0,0,0,0,0,0,0,0,0,0,0,0,0]
["SECCIÓN M: INGRESOS Y EGRESOS DEL  PROGRAMA MÁS ADULTOS MAYORES AUTOVALENTES",null,null,null,null,null,null,null,null,null,null,null,null,null,null,null,null,null,null,null,null,null,null,null,null,null,null,null,null,null,null,null,null,null,null,null,null,null,null,null,null,null,null,null,null,null,null,null,null,null,null,null,null,null,null,null,null,null,null,null,null,null,null,null,null,null,null,null,null,null,null,null,null,null,null,null,null,null,null,null,null,null,null,null,0]
["CONDICIÓN",null,"TOTAL",null,null,"60 a 64",null,"65 a 69",null,"70 a 74",null,"75 a 79",null,"80 y más"]
[null,null,"Ambos Sexos","Hombres","Mujeres","Hombres","Mujeres","Hombres","Mujeres","Hombres","Mujeres","Hombres","Mujeres","Hombres","Mujeres"]
["INGRESO","AUTOVALENTE SIN RIESGO",{"$f":"SUM(D138+E138)","v":0},{"$f":"SUM(F138+H138+J138+L138+N138)","v":0},{"$f":"SUM(G138+I138+K138+M138+O138)","v":0}]
[null,"AUTOVALENTE CON RIESGO",{"$f":"SUM(D139+E139)","v":0},{"$f":"SUM(H139+J139+L139+N139)","v":0},{"$f":"SUM(I139+K139+M139+O139)","v":0}]
[null,"RIESGO DE DEPENDENCIA ",{"$f":"SUM(D140+E140)","v":0},{"$f":"SUM(H140+J140+L140+N140)","v":0},{"$f":"SUM(I140+K140+M140+O140)","v":0}]
[null,"TOTAL INGRESOS",{"$f":"SUM(C138:C140)","v":0},0,0,0,0,0,0,0,0,0,0,0,0]
["EGRESO","COMPLETA CICLO",{"$f":"SUM(D142+E142)","v":0},{"$f":"SUM(F142+H142+J142+L142+N142)","v":0},0]
[null,"ABANDONO",{"$f":"SUM(D143+E143)","v":0},0,0]
[null,"TRASLADO ",{"$f":"SUM(D144+E144)","v":0},0,0]
[null,"FALLECIMIENTO",{"$f":"SUM(D145+E145)","v":0},0,0]
["* Los pacientes de 60 a 64 años, no debe desagregarse por condición de funcionalidad, por ello sólo se registran en la primera fila (Autovalente sin riesgo)."]
["** Para la desagregación por funcionalidad se contabiliza desde 65 y mas años.Sólo para el cálculo del total de los ingresos se contabiliza el rango de 60 - 64 años."]
["SECCIÓN N: INGRESOS AL PROGRAMA DE SALUD  MENTAL EN APS /ESPECIALIDAD",null,null,null,null,null,null,null,null,null,null,null,null,null,null,null,null,null,null,null,null,null,null,null,null,null,null,null,null,null,null,null,null,null,null,null,null,null,null,null,null,null,null,null,null,null,null,null,null,null,null,null,null,null,null,null,null,null,null,null,null,null,null,null,null,null,null,null,null,null,null,null,null,null,null,null,null,null,null,null,null,null,null,null,null,null,null,null,null,null,null,{"$f":"IF(AND(C151=0,OR(C153>0,C154>0,C155>0,C156>0,C157>0)),\"* No olvide registrar al menos un ingreso y una persona con diagnóstico. \",\"\")","v":""}]
["MOTIVO DE INGRESO",null,"TOTAL",null,null,"0 - 4",null,"5 - 9",null,"10 - 14",null,"15 - 19",null,"20 - 24",null,"25 a 29",null,"30 a 34",null,"35 a 39",null,"40 a 44",null,"45 a 49",null,"50 a 54",null,"55 a 59",null,"60 a 64",null,"65 a 69",null,"70 a 74",null,"75 a 79",null,"80 y más",null,"GESTANTES","MADRE DE HIJO MENOR DE 5 AÑOS","PUEBLOS ORIGINARIOS",null,"Niños, Niñas, Adolescentes y Jóvenes Población SENAME","MIGRANTES"]
[null,null,"Ambos Sexos","Hombres","Mujeres","Hombres","Mujeres","Hombres","Mujeres","Hombres","Mujeres","Hombres","Mujeres","Hombres","Mujeres","Hombres","Mujeres","Hombres","Mujeres","Hombres","Mujeres","Hombres","Mujeres","Hombres","Mujeres","Hombres","Mujeres","Hombres","Mujeres","Hombres","Mujeres","Hombres","Mujeres","Hombres","Mujeres","Hombres","Mujeres","Hombres","Mujeres",null,null,"Hombres","Mujeres"]
["INGRESOS AL PROGRAMA",null,{"$f":"SUM(D151+E151)","v":0},{"$f":"SUM(F151+H151+J151+L151+N151+P151+R151+T151+V151+X151+Z151+AB151+AD151+AF151+AH151+AJ151+AL151)","v":0},{"$f":"SUM(G151+I151+K151+M151+O151+Q151+S151+U151+W151+Y151+AA151+AC151+AE151+AG151+AI151+AK151+AM151)","v":0},null,null,null,null,null,null,null,null,null,null,null,null,null,null,null,null,null,null,null,null,null,null,null,null,null,null,null,null,null,null,null,null,null,null,null,null,null,null,null,null,{"$f":"BZ151&CA151&CB151&CC151&CD151&CE151&CN148","v":""},null,null,null,null,null,null,null,null,null,null,null,null,null,null,null,null,null,null,null,null,null,null,null,null,null,null,null,null,null,null,null,{"$f":"IF(CF151=0,\"\",\"* Las gestantes ingresadas al Programa NO debe ser mayor al Total de Mujeres ingresadas. \")","v":""},{"$f":"IF(CG151=0,\"\",\"* Las madres de hijos menor de 5 años NO DEBE ser mayor al Total de Mujeres ingresadas al Programa. \")","v":""},{"$f":"IF(CH151=0,\"\",\"* Los ingresos de Pueblos Originarios NO DEBE ser mayor al Total de ingresos del Programa.\")","v":""},{"$f":"IF(CI151=0,\"\",\"* Los Niños, Niñas, Adolescentes y Jóvenes de Programas SENAME NO DEBE ser mayor al Total de ingresos del Programa. \")","v":""},{"$f":"IF(CJ151=0,\"\",\"* Los Migrantes NO DEBEN ser mayor al Total de ingresos del Programa. \")","v":""},{"$f":"IF(CK151=0,\"\",\"* No olvide escribir los campos Gestante y/o Madre de Hijo menor de 5 años y/o Pueblos Originarios y/o Niños, Niñas, Adolescentes y Jóvenes de Programas SENAME y/o Migrante (Digite CERO si no tiene). \")","v":""},{"$f":"IF(E151<AN151,1,0)","v":0},{"$f":"IF(C151<AO151,1,0)","v":0},{"$f":"IF(C151<SUM(AP151,AQ151),1,0)","v":0},{"$f":"IF(C151<AR151,1,0)","v":0},{"$f":"IF(C151<AS151,1,0)","v":0},{"$f":"IF(AND(C151<>0,OR(AN151=\"\",AO151=\"\",AP151=\"\",AQ151=\"\",AR151=\"\",AS151=\"\")),1,0)","v":0},{"$f":"IF(AND(C151=0,OR(C153>0,C154>0,C155>0,C156>0,C157>0)),1,0)","v":0}]
["FACTORES DE RIESGO Y CONDICIONANTES DE LA SALUD MENTAL"]
["VIOLENCIA","VICTIMA",{"$f":"SUM(D153+E153)","v":0},{"$f":"SUM(F153+H153+J153+L153+N153+P153+R153+T153+V153+X153+Z153+AB153+AD153+AF153+AH153+AJ153+AL153)","v":0},{"$f":"SUM(G153+I153+K153+M153+O153+Q153+S153+U153+W153+Y153+AA153+AC153+AE153+AG153+AI153+AK153+AM153)","v":0},null,null,null,null,null,null,null,null,null,null,null,null,null,null,null,null,null,null,null,null,null,null,null,null,null,null,null,null,null,null,null,null,null,null,null,null,null,null,null,null,{"$f":"BZ153&CA153&CB153&CC153&CD153&CE153","v":""},null,null,null,null,null,null,null,null,null,null,null,null,null,null,null,null,null,null,null,null,null,null,null,null,null,null,null,null,null,null,null,{"$f":"IF(CF153=0,\"\",\"* Las gestantes ingresadas al Programa NO debe ser mayor al Total de Mujeres ingresadas. \")","v":""},{"$f":"IF(CG153=0,\"\",\"* Las madres de hijos menor de 5 años NO DEBE ser mayor al Total de Mujeres ingresadas al Programa. \")","v":""},{"$f":"IF(CH153=0,\"\",\"* Los ingresos de Pueblos Originarios NO DEBE ser mayor al Total de ingresos del Programa.\")","v":""},{"$f":"IF(CI153=0,\"\",\"* Los Niños, Niñas, Adolescentes y Jóvenes de Programas SENAME NO DEBE ser mayor al Total de ingresos del Programa. \")","v":""},{"$f":"IF(CJ153=0,\"\",\"* Los Migrantes NO DEBEN ser mayor al Total de ingresos del Programa. \")","v":""},{"$f":"IF(CK153=0,\"\",\"* No olvide escribir los campos Gestante y/o Madre de Hijo menor de 5 años y/o Pueblos Originarios y/o Niños, Niñas, Adolescentes y Jóvenes de Programas SENAME y/o Migrante (Digite CERO si no tiene). \")","v":""},{"$f":"IF(E153<AN153,1,0)","v":0},{"$f":"IF(C153<AO153,1,0)","v":0},{"$f":"IF(C153<SUM(AP153,AQ153),1,0)","v":0},{"$f":"IF(C153<AR153,1,0)","v":0},{"$f":"IF(C153<AS153,1,0)","v":0},{"$f":"IF(AND(C153<>0,OR(AN153=\"\",AO153=\"\",AP153=\"\",AQ153=\"\",AR153=\"\",AS153=\"\")),1,0)","v":0}]
[null,"AGRESOR / A",{"$f":"SUM(D154+E154)","v":0},0,0,null,null,null,null,null,null,null,null,null,null,null,null,null,null,null,null,null,null,null,null,null,null,null,null,null,null,null,null,null,null,null,null,null,null,null,null,null,null,null,null,{"$f":"BZ154&CA154&CB154&CC154&CD154&CE154","v":""},null,null,null,null,null,null,null,null,null,null,null,null,null,null,null,null,null,null,null,null,null,null,null,null,null,null,null,null,null,null,null,"","","","","","",0,0,0,0,0,0]
["ABUSO SEXUAL",null,{"$f":"SUM(D155+E155)","v":0},0,0,null,null,null,null,null,null,null,null,null,null,null,null,null,null,null,null,null,null,null,null,null,null,null,null,null,null,null,null,null,null,null,null,null,null,null,null,null,null,null,null,{"$f":"BZ155&CA155&CB155&CC155&CD155&CE155","v":""},null,null,null,null,null,null,null,null,null,null,null,null,null,null,null,null,null,null,null,null,null,null,null,null,null,null,null,null,null,null,null,"","","","","","",0,0,0,0,0,0]
["SUICIDIO","IDEACIÓN",{"$f":"+D156+E156","v":0},0,0,null,null,null,null,null,null,null,null,null,null,null,null,null,null,null,null,null,null,null,null,null,null,null,null,null,null,null,null,null,null,null,null,null,null,null,null,null,null,null,null,{"$f":"BZ156&CA156&CB156&CC156&CD156&CE156","v":""},null,null,null,null,null,null,null,null,null,null,null,null,null,null,null,null,null,null,null,null,null,null,null,null,null,null,null,null,null,null,null,"","","","","","",0,0,0,0,0,0]
[null,"INTENTO",{"$f":"+D157+E157","v":0},0,0,null,null,null,null,null,null,null,null,null,null,null,null,null,null,null,null,null,null,null,null,null,null,null,null,null,null,null,null,null,null,null,null,null,null,null,null,null,null,null,null,{"$f":"BZ157&CA157&CB157&CC157&CD157&CE157","v":""},null,null,null,null,null,null,null,null,null,null,null,null,null,null,null,null,null,null,null,null,null,null,null,null,null,null,null,null,null,null,null,"","","","","","",0,0,0,0,0,0]
["PERSONAS CON DIAGNÓSTICOS DE TRASTORNOS MENTALES ",null,{"$f":"SUM(D158+E158)","v":0},0,0,null,null,null,null,null,null,null,null,null,null,null,null,null,null,null,null,null,null,null,null,null,null,null,null,null,null,null,null,null,null,null,null,null,null,null,null,null,null,null,null,{"$f":"BZ158&CA158&CB158&CC158&CD158&CE158&CN155","v":""},null,null,null,null,null,null,null,null,null,null,null,null,null,null,null,null,null,null,null,null,null,null,null,null,null,null,null,null,null,null,null,"","","","","","",0,0,0,0,0,0,0,0]
["TRASTORNOS DEL HUMOR\n(AFECTIVOS)","DEPRESIÓN LEVE",0,0,0,null,null,null,null,null,null,null,null,null,null,null,null,null,null,null,null,null,null,null,null,null,null,null,null,null,null,null,null,null,null,null,null,null,null,null,null,null,null,null,null,{"$f":"BZ159&CA159&CB159&CC159&CD159&CE159","v":""},null,null,null,null,null,null,null,null,null,null,null,null,null,null,null,null,null,null,null,null,null,null,null,null,null,null,null,null,null,null,null,"","","","","","",0,0,0,0,0,0]
[null,"DEPRESIÓN MODERADA",0,0,0,null,null,null,null,null,null,null,null,null,null,null,null,null,null,null,null,null,null,null,null,null,null,null,null,null,null,null,null,null,null,null,null,null,null,null,null,null,null,null,null,"",null,null,null,null,null,null,null,null,null,null,null,null,null,null,null,null,null,null,null,null,null,null,null,null,null,null,null,null,null,null,null,"","","","","","",0,0,0,0,0,0]
[null,"DEPRESIÓN GRAVE",0,0,0,null,null,null,null,null,null,null,null,null,null,null,null,null,null,null,null,null,null,null,null,null,null,null,null,null,null,null,null,null,null,null,null,null,null,null,null,null,null,null,null,"",null,null,null,null,null,null,null,null,null,null,null,null,null,null,null,null,null,null,null,null,null,null,null,null,null,null,null,null,null,null,null,"","","","","","",0,0,0,0,0,0]
[null,"DEPRESIÓN POST PARTO",0,null,{"$f":"SUM(K162+M162+O162+Q162+S162+U162+W162+Y162+AA162+AC162+AE162+AG162+AI162+AK162+AM162)","v":0},null,null,null,null,null,null,null,null,null,null,null,null,null,null,null,null,null,null,null,null,null,null,null,null,null,null,null,null,null,null,null,null,null,null,null,null,null,null,null,null,"",null,null,null,null,null,null,null,null,null,null,null,null,null,null,null,null,null,null,null,null,null,null,null,null,null,null,null,null,null,null,null,"","","","","","",0,0,0,0,0,0]
[null,"TRASTORNO BIPOLAR",0,{"$f":"SUM(F163+H163+J163+L163+N163+P163+R163+T163+V163+X163+Z163+AB163+AD163+AF163+AH163+AJ163+AL163)","v":0},0,null,null,null,null,null,null,null,null,null,null,null,null,null,null,null,null,null,null,null,null,null,null,null,null,null,null,null,null,null,null,null,null,null,null,null,null,null,null,null,null,"",null,null,null,null,null,null,null,null,null,null,null,null,null,null,null,null,null,null,null,null,null,null,null,null,null,null,null,null,null,null,null,"","","","","","",0,0,0,0,0,0]
[null,"DEPRESIÓN REFRACTARIA",0,0,0,null,null,null,null,null,null,null,null,null,null,null,null,null,null,null,null,null,null,null,null,null,null,null,null,null,null,null,null,null,null,null,null,null,null,null,null,null,null,null,null,"",null,null,null,null,null,null,null,null,null,null,null,null,null,null,null,null,null,null,null,null,null,null,null,null,null,null,null,null,null,null,null,"","","","","","",0,0,0,0,0,0]
[null,"DEPRESIÓN GRAVE CON PSICOSIS",0,0,0,null,null,null,null,null,null,null,null,null,null,null,null,null,null,null,null,null,null,null,null,null,null,null,null,null,null,null,null,null,null,null,null,null,null,null,null,null,null,null,null,"",null,null,null,null,null,null,null,null,null,null,null,null,null,null,null,null,null,null,null,null,null,null,null,null,null,null,null,null,null,null,null,"","","","","","",0,0,0,0,0,0]
[null,"DEPRESIÓN  CON ALTO RIESGO SUICIDA",0,0,0,null,null,null,null,null,null,null,null,null,null,null,null,null,null,null,null,null,null,null,null,null,null,null,null,null,null,null,null,null,null,null,null,null,null,null,null,null,null,null,null,"",null,null,null,null,null,null,null,null,null,null,null,null,null,null,null,null,null,null,null,null,null,null,null,null,null,null,null,null,null,null,null,"","","","","","",0,0,0,0,0,0]
["TRASTORNOS MENTALES Y DEL COMPORTAMIENTO DEBIDO A CONSUMO SUSTANCIAS PSICOTRÓPICAS","CONSUMO PERJUDICIAL O DEPENDENCIA DE ALCOHOL",0,0,0,null,null,null,null,null,null,null,null,null,null,null,null,null,null,null,null,null,null,null,null,null,null,null,null,null,null,null,null,null,null,null,null,null,null,null,null,null,null,null,null,"",null,null,null,null,null,null,null,null,null,null,null,null,null,null,null,null,null,null,null,null,null,null,null,null,null,null,null,null,null,null,null,"","","","","","",0,0,0,0,0,0]
[null,"CONSUMO PERJUDICIAL O DEPENDENCIA COMO DROGA PRINCIPAL",0,0,0,null,null,null,null,null,null,null,null,null,null,null,null,null,null,null,null,null,null,null,null,null,null,null,null,null,null,null,null,null,null,null,null,null,null,null,null,null,null,null,null,"",null,null,null,null,null,null,null,null,null,null,null,null,null,null,null,null,null,null,null,null,null,null,null,null,null,null,null,null,null,null,null,"","","","","","",0,0,0,0,0,0]
[null,"POLICONSUMO",0,0,0,null,null,null,null,null,null,null,null,null,null,null,null,null,null,null,null,null,null,null,null,null,null,null,null,null,null,null,null,null,null,null,null,null,null,null,null,null,null,null,null,"",null,null,null,null,null,null,null,null,null,null,null,null,null,null,null,null,null,null,null,null,null,null,null,null,null,null,null,null,null,null,null,"","","","","","",0,0,0,0,0,0]
["TRASTORNOS DEL COMPORTAMIENTO Y DE LAS EMOCIONES DE COMIENZO HABITUAL EN LA INFANCIA Y ADOLESCENCIA","TRASTORNO HIPERCINÉTICOS",0,{"$f":"SUM(F170+H170+J170+L170+N170)","v":0},0,null,null,null,null,null,null,null,null,null,null,null,null,null,null,null,null,null,null,null,null,null,null,null,null,null,null,null,null,null,null,null,null,null,null,null,null,null,null,null,null,"",null,null,null,null,null,null,null,null,null,null,null,null,null,null,null,null,null,null,null,null,null,null,null,null,null,null,null,null,null,null,null,"",null,"","","","",0,null,0,0,0,{"$f":"IF(AND(C170<>0,OR(AN170=\"\",AP170=\"\",AQ170=\"\",AR170=\"\",AS170=\"\")),1,0)","v":0}]
[null,"TRASTORNO DISOCIAL DESAFIANTE Y OPOSICIONISTA",0,0,0,null,null,null,null,null,null,null,null,null,null,null,null,null,null,null,null,null,null,null,null,null,null,null,null,null,null,null,null,null,null,null,null,null,null,null,null,null,null,null,null,"",null,null,null,null,null,null,null,null,null,null,null,null,null,null,null,null,null,null,null,null,null,null,null,null,null,null,null,null,null,null,null,"",null,"","","","",0,null,0,0,0,{"$f":"IF(AND(C171<>0,OR(AN171=\"\",AP171=\"\",AQ171=\"\",AR171=\"\",AS171=\"\")),1,0)","v":0}]
[null,"TRASTORNO DE ANSIEDAD DE SEPARACIÓN EN LA INFANCIA",0,0,0,null,null,null,null,null,null,null,null,null,null,null,null,null,null,null,null,null,null,null,null,null,null,null,null,null,null,null,null,null,null,null,null,null,null,null,null,null,null,null,null,"",null,null,null,null,null,null,null,null,null,null,null,null,null,null,null,null,null,null,null,null,null,null,null,null,null,null,null,null,null,null,null,"",null,"","","","",0,null,0,0,0,{"$f":"IF(AND(C172<>0,OR(AN172=\"\",AP172=\"\",AQ172=\"\",AR172=\"\",AS172=\"\")),1,0)","v":0}]
[null,"OTROS TRASTORNOS DEL COMPORTAMIENTO Y DE LAS EMOCIONES DE COMIENZO HABITUAL EN LA INFANCIA Y ADOLESCENCIA",0,0,0,null,null,null,null,null,null,null,null,null,null,null,null,null,null,null,null,null,null,null,null,null,null,null,null,null,null,null,null,null,null,null,null,null,null,null,null,null,null,null,null,"",null,null,null,null,null,null,null,null,null,null,null,null,null,null,null,null,null,null,null,null,null,null,null,null,null,null,null,null,null,null,null,"",null,"","","","",0,null,0,0,0,{"$f":"IF(AND(C173<>0,OR(AN173=\"\",AP173=\"\",AQ173=\"\",AR173=\"\",AS173=\"\")),1,0)","v":0}]
["TRASTORNOS DE ANSIEDAD","TRASTORNO DE ESTRÉS POST TRAUMATICO",0,{"$f":"SUM(F174+H174+J174+L174+N174+P174+R174+T174+V174+X174+Z174+AB174+AD174+AF174+AH174+AJ174+AL174)","v":0},{"$f":"SUM(G174+I174+K174+M174+O174+Q174+S174+U174+W174+Y174+AA174+AC174+AE174+AG174+AI174+AK174+AM174)","v":0},null,null,null,null,null,null,null,null,null,null,null,null,null,null,null,null,null,null,null,null,null,null,null,null,null,null,null,null,null,null,null,null,null,null,null,null,null,null,null,null,"",null,null,null,null,null,null,null,null,null,null,null,null,null,null,null,null,null,null,null,null,null,null,null,null,null,null,null,null,null,null,null,"",{"$f":"IF(CG174=0,\"\",\"* Las madres de hijos menor de 5 años NO DEBE ser mayor al Total de Mujeres ingresadas al Programa. \")","v":""},"","","","",0,{"$f":"IF(C174<AO174,1,0)","v":0},0,0,0,{"$f":"IF(AND(C174<>0,OR(AN174=\"\",AO174=\"\",AP174=\"\",AQ174=\"\",AR174=\"\",AS174=\"\")),1,0)","v":0}]
[null,"TRASTORNO DE PÁNICO CON AGOROFOBIA ",0,0,0,null,null,null,null,null,null,null,null,null,null,null,null,null,null,null,null,null,null,null,null,null,null,null,null,null,null,null,null,null,null,null,null,null,null,null,null,null,null,null,null,"",null,null,null,null,null,null,null,null,null,null,null,null,null,null,null,null,null,null,null,null,null,null,null,null,null,null,null,null,null,null,null,"","","","","","",0,0,0,0,0,0]
[null,"TRASTORNO DE PÁNICO SIN AGOROFOBIA ",0,0,0,null,null,null,null,null,null,null,null,null,null,null,null,null,null,null,null,null,null,null,null,null,null,null,null,null,null,null,null,null,null,null,null,null,null,null,null,null,null,null,null,"",null,null,null,null,null,null,null,null,null,null,null,null,null,null,null,null,null,null,null,null,null,null,null,null,null,null,null,null,null,null,null,"","","","","","",0,0,0,0,0,0]
[null,"FOBIAS SOCIALES",0,0,0,null,null,null,null,null,null,null,null,null,null,null,null,null,null,null,null,null,null,null,null,null,null,null,null,null,null,null,null,null,null,null,null,null,null,null,null,null,null,null,null,"",null,null,null,null,null,null,null,null,null,null,null,null,null,null,null,null,null,null,null,null,null,null,null,null,null,null,null,null,null,null,null,"","","","","","",0,0,0,0,0,0]
[null,"TRASTORNOS DE ANSIEDAD GENERALIZADA",0,0,0,null,null,null,null,null,null,null,null,null,null,null,null,null,null,null,null,null,null,null,null,null,null,null,null,null,null,null,null,null,null,null,null,null,null,null,null,null,null,null,null,"",null,null,null,null,null,null,null,null,null,null,null,null,null,null,null,null,null,null,null,null,null,null,null,null,null,null,null,null,null,null,null,"","","","","","",0,0,0,0,0,0]
[null,"OTROS TRASTORNOS DE ANSIEDAD",0,0,0,null,null,null,null,null,null,null,null,null,null,null,null,null,null,null,null,null,null,null,null,null,null,null,null,null,null,null,null,null,null,null,null,null,null,null,null,null,null,null,null,"",null,null,null,null,null,null,null,null,null,null,null,null,null,null,null,null,null,null,null,null,null,null,null,null,null,null,null,null,null,null,null,"","","","","","",0,0,0,0,0,0]
["DEMENCIAS (INCLUYE ALZHEIMER)","LEVE",0,0,0,null,null,null,null,null,null,null,null,null,null,null,null,null,null,null,null,null,null,null,null,null,null,null,null,null,null,null,null,null,null,null,null,null,null,null,null,null,null,null,null,"",null,null,null,null,null,null,null,null,null,null,null,null,null,null,null,null,null,null,null,null,null,null,null,null,null,null,null,null,null,null,null,null,null,"","","","",null,null,0,0,0,{"$f":"IF(AND(C180<>0,OR(AP180=\"\",AQ180=\"\",AR180=\"\",AS180=\"\")),1,0)","v":0}]
[null,"MODERADO",0,0,0,null,null,null,null,null,null,null,null,null,null,null,null,null,null,null,null,null,null,null,null,null,null,null,null,null,null,null,null,null,null,null,null,null,null,null,null,null,null,null,null,"",null,null,null,null,null,null,null,null,null,null,null,null,null,null,null,null,null,null,null,null,null,null,null,null,null,null,null,null,null,null,null,null,null,"","","","",null,null,0,0,0,{"$f":"IF(AND(C181<>0,OR(AP181=\"\",AQ181=\"\",AR181=\"\",AS181=\"\")),1,0)","v":0}]
[null,"AVANZADO",0,0,0,null,null,null,null,null,null,null,null,null,null,null,null,null,null,null,null,null,null,null,null,null,null,null,null,null,null,null,null,null,null,null,null,null,null,null,null,null,null,null,null,"",null,null,null,null,null,null,null,null,null,null,null,null,null,null,null,null,null,null,null,null,null,null,null,null,null,null,null,null,null,null,null,null,null,"","","","",null,null,0,0,0,{"$f":"IF(AND(C182<>0,OR(AP182=\"\",AQ182=\"\",AR182=\"\",AS182=\"\")),1,0)","v":0}]
["ESQUIZOFRENIA",null,0,0,0,null,null,null,null,null,null,null,null,null,null,null,null,null,null,null,null,null,null,null,null,null,null,null,null,null,null,null,null,null,null,null,null,null,null,null,null,null,null,null,null,"",null,null,null,null,null,null,null,null,null,null,null,null,null,null,null,null,null,null,null,null,null,null,null,null,null,null,null,null,null,null,null,{"$f":"IF(CF183=0,\"\",\"* Las gestantes ingresadas al Programa NO debe ser mayor al Total de Mujeres ingresadas. \")","v":""},{"$f":"IF(CG183=0,\"\",\"* Las madres de hijos menor de 5 años NO DEBE ser mayor al Total de Mujeres ingresadas al Programa. \")","v":""},"","","","",{"$f":"IF(E183<AN183,1,0)","v":0},{"$f":"IF(C183<AO183,1,0)","v":0},0,0,0,{"$f":"IF(AND(C183<>0,OR(AN183=\"\",AO183=\"\",AP183=\"\",AQ183=\"\",AR183=\"\",AS183=\"\")),1,0)","v":0}]
["TRASTORNOS DE LA CONDUCTA ALIMENTARIA",null,0,0,0,null,null,null,null,null,null,null,null,null,null,null,null,null,null,null,null,null,null,null,null,null,null,null,null,null,null,null,null,null,null,null,null,null,null,null,null,null,null,null,null,"",null,null,null,null,null,null,null,null,null,null,null,null,null,null,null,null,null,null,null,null,null,null,null,null,null,null,null,null,null,null,null,"","","","","","",0,0,0,0,0,0]
["RETRASO MENTAL",null,0,0,0,null,null,null,null,null,null,null,null,null,null,null,null,null,null,null,null,null,null,null,null,null,null,null,null,null,null,null,null,null,null,null,null,null,null,null,null,null,null,null,null,"",null,null,null,null,null,null,null,null,null,null,null,null,null,null,null,null,null,null,null,null,null,null,null,null,null,null,null,null,null,null,null,"","","","","","",0,0,0,0,0,0]
["TRASTORNO DE PERSONALIDAD",null,0,0,0,null,null,null,null,null,null,null,null,null,null,null,null,null,null,null,null,null,null,null,null,null,null,null,null,null,null,null,null,null,null,null,null,null,null,null,null,null,null,null,null,"",null,null,null,null,null,null,null,null,null,null,null,null,null,null,null,null,null,null,null,null,null,null,null,null,null,null,null,null,null,null,null,"","","","","","",0,0,0,0,0,0]
["TRASTORNO GENERALIZADOS DEL DESARROLLO",null,0,0,0,null,null,null,null,null,null,null,null,null,null,null,null,null,null,null,null,null,null,null,null,null,null,null,null,null,null,null,null,null,null,null,null,null,null,null,null,null,null,null,null,"",null,null,null,null,null,null,null,null,null,null,null,null,null,null,null,null,null,null,null,null,null,null,null,null,null,null,null,null,null,null,null,"","","","","","",0,0,0,0,0,0]
["EPILEPSIA",null,0,0,0,null,null,null,null,null,null,null,null,null,null,null,null,null,null,null,null,null,null,null,null,null,null,null,null,null,null,null,null,null,null,null,null,null,null,null,null,null,null,null,null,"",null,null,null,null,null,null,null,null,null,null,null,null,null,null,null,null,null,null,null,null,null,null,null,null,null,null,null,null,null,null,null,"","","","","","",0,0,0,0,0,0]
["OTRAS",null,0,0,0,null,null,null,null,null,null,null,null,null,null,null,null,null,null,null,null,null,null,null,null,null,null,null,null,null,null,null,null,null,null,null,null,null,null,null,null,null,null,null,null,"",null,null,null,null,null,null,null,null,null,null,null,null,null,null,null,null,null,null,null,null,null,null,null,null,null,null,null,null,null,null,null,"","","","","","",0,0,0,0,0,0]
["SECCIÓN O: EGRESOS DEL PROGRAMA DE SALUD  MENTAL POR ALTAS CLÍNICAS EN APS /ESPECIALIDAD",null,null,null,null,null,null,null,null,null,null,null,null,null,null,null,null,null,null,null,null,null,null,null,null,null,null,null,null,null,null,null,null,null,null,null,null,null,null,null,null,null,null,null,null,null,null,null,null,null,null,null,null,null,null,null,null,null,null,null,null,null,null,null,null,null,null,null,null,null,null,null,null,null,null,null,null,null,{"$f":"IF(CG190=0,\"\",\"* Las gestantes egresadas del Programa NO debe ser mayor al Total de Mujeres egresadas. \")","v":""},{"$f":"IF(CH190=0,\"\",\"* Las madres de hijos menor de 5 años NO DEBE ser mayor al Total de Mujeres Egresadas al Programa. \")","v":""},{"$f":"IF(CI190=0,\"\",\"* Los egresos de Pueblos Originarios NO DEBE ser mayor al Total de egresos del Programa.\")","v":""},{"$f":"IF(CJ190=0,\"\",\"* Los Niños, Niñas, Adolescentes y Jóvenes de Programas SENAME NO DEBE ser mayor al Total de egresos del Programa. \")","v":""},{"$f":"IF(CK190=0,\"\",\"* Los Migrantes NO DEBEN ser mayor al Total de ingresos del Programa. \")","v":""},{"$f":"IF(CL190=0,\"\",\"* No olvide escribir los campos Gestante y/o Madre de Hijo menor de 5 años y/o Pueblos Originarios y/o Niños, Niñas, Adolescentes y Jóvenes de Programas SENAME (Digite CERO si no tiene). \")","v":""},{"$f":"IF(E193<AQ193,1,0)","v":0},{"$f":"IF(E193<AR193,1,0)","v":0},{"$f":"IF(C193<SUM(AS193,AT193),1,0)","v":0},{"$f":"IF(C193<AU193,1,0)","v":0},{"$f":"IF(C193<AV193,1,0)","v":0},{"$f":"IF(AND(C193<>0,OR(AQ193=\"\",AR193=\"\",AS193=\"\",AT193=\"\",AU193=\"\",AV193=\"\")),1,0)","v":0},{"$f":"IF(AND(C193=0,OR(C195>0,C196>0,C197>0,C198>0,C199>0)),1,0)","v":0},null,{"$f":"IF(CM190=0,\"\",\"* No olvide registrar al menos un egreso y una persona con diagnóstico. \")","v":""}]
["MOTIVO DE EGRESO",null,"TOTAL",null,null,"0 - 4",null,"5 - 9",null,"10 - 14",null,"15 - 19",null,"20 - 24",null,"25 a 29",null,"30 a 34",null,"35 a 39",null,"40 a 44",null,"45 a 49",null,"50 a 54",null,"55 a 59",null,"60 a 64",null,"65 a 69",null,"70 a 74",null,"75 a 79",null,"80 y más",null,"EGRESOS",null,null,"GESTANTES","MADRE DE NIÑO MENOR DE 5 AÑOS","PUEBLOS ORIGINARIOS",null,"Niños, Niñas, Adolescentes y Jóvenes Población  SENAME","MIGRANTES"]
[null,null,"Ambos Sexos","Hombres","Mujeres","Hombres","Mujeres","Hombres","Mujeres","Hombres","Mujeres","Hombres","Mujeres","Hombres","Mujeres","Hombres","Mujeres","Hombres","Mujeres","Hombres","Mujeres","Hombres","Mujeres","Hombres","Mujeres","Hombres","Mujeres","Hombres","Mujeres","Hombres","Mujeres","Hombres","Mujeres","Hombres","Mujeres","Hombres","Mujeres","Hombres","Mujeres","Abandono","Fallecimiento","Traslado",null,null,"Hombres","Mujeres",null,null,null,null,null,null,null,null,null,null,null,null,null,null,null,null,null,null,null,null,null,null,null,null,null,null,null,null,null,null,null,null,{"$f":"IF(CG192=0,\"\",\"* Las gestantes egresadas del Programa NO debe ser mayor al Total de Mujeres egresadas. \")","v":""},{"$f":"IF(CH192=0,\"\",\"* Las madres de hijos menor de 5 años NO DEBE ser mayor al Total de Mujeres Egresadas al Programa. \")","v":""},{"$f":"IF(CI192=0,\"\",\"* Los egresos de Pueblos Originarios NO DEBE ser mayor al Total de egresos del Programa.\")","v":""},{"$f":"IF(CJ192=0,\"\",\"* Los Niños, Niñas, Adolescentes y Jóvenes de Programas SENAME NO DEBE ser mayor al Total de egresos del Programa. \")","v":""},{"$f":"IF(CK192=0,\"\",\"* Los Migrantes NO DEBEN ser mayor al Total de ingresos del Programa. \")","v":""},{"$f":"IF(CL192=0,\"\",\"* No olvide escribir los campos Gestante y/o Madre de Hijo menor de 5 años y/o Pueblos Originarios y/o Niños, Niñas, Adolescentes y Jóvenes de Programas SENAME (Digite CERO si no tiene). \")","v":""},{"$f":"IF(E195<AQ195,1,0)","v":0},{"$f":"IF(E195<AR195,1,0)","v":0},{"$f":"IF(C195<SUM(AS195,AT195),1,0)","v":0},{"$f":"IF(C195<AU195,1,0)","v":0},{"$f":"IF(C195<AV195,1,0)","v":0},{"$f":"IF(AND(C195<>0,OR(AQ195=\"\",AR195=\"\",AS195=\"\",AT195=\"\",AU195=\"\",AV195=\"\")),1,0)","v":0}]
["EGRESOS DEL PROGRAMA",null,{"$f":"SUM(D193+E193)","v":0},{"$f":"SUM(F193+H193+J193+L193+N193+P193+R193+T193+V193+X193+Z193+AB193+AD193+AF193+AH193+AJ193+AL193)","v":0},{"$f":"SUM(G193+I193+K193+M193+O193+Q193+S193+U193+W193+Y193+AA193+AC193+AE193+AG193+AI193+AK193+AM193)","v":0},null,null,null,null,null,null,null,null,null,null,null,null,null,null,null,null,null,null,null,null,null,null,null,null,null,null,null,null,null,null,null,null,null,null,null,null,null,null,null,null,null,null,null,{"$f":"CA190&CB190&CC190&CD190&CE190&CF190&CO190","v":""},null,null,null,null,null,null,null,null,null,null,null,null,null,null,null,null,null,null,null,null,null,null,null,null,null,null,null,null,null,"","","","","","",0,0,0,0,0,0]
["FACTORES DE RIESGO Y CONDICIONANTES DE LA SALUD MENTAL",null,null,null,null,null,null,null,null,null,null,null,null,null,null,null,null,null,null,null,null,null,null,null,null,null,null,null,null,null,null,null,null,null,null,null,null,null,null,null,null,null,null,null,null,null,null,null,null,null,null,null,null,null,null,null,null,null,null,null,null,null,null,null,null,null,null,null,null,null,null,null,null,null,null,null,null,null,"","","","","","",0,0,0,0,0,0]
["VIOLENCIA ","VÍCTIMA",{"$f":"SUM(D195+E195)","v":0},{"$f":"SUM(F195+H195+J195+L195+N195+P195+R195+T195+V195+X195+Z195+AB195+AD195+AF195+AH195+AJ195+AL195)","v":0},{"$f":"SUM(G195+I195+K195+M195+O195+Q195+S195+U195+W195+Y195+AA195+AC195+AE195+AG195+AI195+AK195+AM195)","v":0},null,null,null,null,null,null,null,null,null,null,null,null,null,null,null,null,null,null,null,null,null,null,null,null,null,null,null,null,null,null,null,null,null,null,null,null,null,null,null,null,null,null,null,{"$f":"CA192&CB192&CC192&CD192&CE192&CF192","v":""},null,null,null,null,null,null,null,null,null,null,null,null,null,null,null,null,null,null,null,null,null,null,null,null,null,null,null,null,null,"","","","","","",0,0,0,0,0,0]
[null,"AGRESOR / A",{"$f":"SUM(D196+E196)","v":0},0,0,null,null,null,null,null,null,null,null,null,null,null,null,null,null,null,null,null,null,null,null,null,null,null,null,null,null,null,null,null,null,null,null,null,null,null,null,null,null,null,null,null,null,null,{"$f":"CA193&CB193&CC193&CD193&CE193&CF193","v":""},null,null,null,null,null,null,null,null,null,null,null,null,null,null,null,null,null,null,null,null,null,null,null,null,null,null,null,null,null,"","","","","","",0,0,0,0,0,0]
["ABUSO SEXUAL",null,{"$f":"SUM(D197+E197)","v":0},0,0,null,null,null,null,null,null,null,null,null,null,null,null,null,null,null,null,null,null,null,null,null,null,null,null,null,null,null,null,null,null,null,null,null,null,null,null,null,null,null,null,null,null,null,{"$f":"CA194&CB194&CC194&CD194&CE194&CF194","v":""},null,null,null,null,null,null,null,null,null,null,null,null,null,null,null,null,null,null,null,null,null,null,null,null,null,null,null,null,null,"","","","","","",0,0,0,0,0,0]
["SUICIDIO","IDEACIÓN",{"$f":"+D198+E198","v":0},0,0,null,null,null,null,null,null,null,null,null,null,null,null,null,null,null,null,null,null,null,null,null,null,null,null,null,null,null,null,null,null,null,null,null,null,null,null,null,null,null,null,null,null,null,{"$f":"CA195&CB195&CC195&CD195&CE195&CF195","v":""},null,null,null,null,null,null,null,null,null,null,null,null,null,null,null,null,null,null,null,null,null,null,null,null,null,null,null,null,null,"","","","","","",0,0,0,0,0,0]
[null,"INTENTO",{"$f":"+D199+E199","v":0},0,0,null,null,null,null,null,null,null,null,null,null,null,null,null,null,null,null,null,null,null,null,null,null,null,null,null,null,null,null,null,null,null,null,null,null,null,null,null,null,null,null,null,null,null,{"$f":"CA196&CB196&CC196&CD196&CE196&CF196","v":""},null,null,null,null,null,null,null,null,null,null,null,null,null,null,null,null,null,null,null,null,null,null,null,null,null,null,null,null,null,"","","","","","",0,0,0,0,0,0]
["PERSONAS CON DIAGNÓSTICOS DE TRASTORNOS MENTALES ",null,{"$f":"SUM(D200+E200)","v":0},0,0,null,null,null,null,null,null,null,null,null,null,null,null,null,null,null,null,null,null,null,null,null,null,null,null,null,null,null,null,null,null,null,null,null,null,null,null,null,null,null,null,null,null,null,{"$f":"CA197&CB197&CC197&CD197&CE197&CF197&CN197","v":""},null,null,null,null,null,null,null,null,null,null,null,null,null,null,null,null,null,null,null,null,null,null,null,null,null,null,null,null,null,"","","","","","",0,0,0,0,0,0,0]
["TRASTORNOS DEL HUMOR\n(AFECTIVOS)","DEPRESIÓN LEVE",0,0,0,null,null,null,null,null,null,null,null,null,null,null,null,null,null,null,null,null,null,null,null,null,null,null,null,null,null,null,null,null,null,null,null,null,null,null,null,null,null,null,null,null,null,null,{"$f":"CA198&CB198&CC198&CD198&CE198&CF198","v":""},null,null,null,null,null,null,null,null,null,null,null,null,null,null,null,null,null,null,null,null,null,null,null,null,null,null,null,null,null,"","","","","","",0,0,0,0,0,0]
[null,"DEPRESIÓN MODERADA",0,0,0,null,null,null,null,null,null,null,null,null,null,null,null,null,null,null,null,null,null,null,null,null,null,null,null,null,null,null,null,null,null,null,null,null,null,null,null,null,null,null,null,null,null,null,"",null,null,null,null,null,null,null,null,null,null,null,null,null,null,null,null,null,null,null,null,null,null,null,null,null,null,null,null,null,"","","","","","",0,0,0,0,0,0]
[null,"DEPRESIÓN GRAVE",0,0,0,null,null,null,null,null,null,null,null,null,null,null,null,null,null,null,null,null,null,null,null,null,null,null,null,null,null,null,null,null,null,null,null,null,null,null,null,null,null,null,null,null,null,null,"",null,null,null,null,null,null,null,null,null,null,null,null,null,null,null,null,null,null,null,null,null,null,null,null,null,null,null,null,null,"","","","","","",0,0,0,0,0,0]
[null,"DEPRESIÓN POST PARTO",0,null,{"$f":"SUM(K204+M204+O204+Q204+S204+U204+W204+Y204+AA204+AC204+AE204+AG204+AI204+AK204+AM204)","v":0},null,null,null,null,null,null,null,null,null,null,null,null,null,null,null,null,null,null,null,null,null,null,null,null,null,null,null,null,null,null,null,null,null,null,null,null,null,null,null,null,null,null,null,"",null,null,null,null,null,null,null,null,null,null,null,null,null,null,null,null,null,null,null,null,null,null,null,null,null,null,null,null,null,"","","","","","",0,0,0,0,0,0]
[null,"TRASTORNO BIPOLAR",0,{"$f":"SUM(F205+H205+J205+L205+N205+P205+R205+T205+V205+X205+Z205+AB205+AD205+AF205+AH205+AJ205+AL205)","v":0},0,null,null,null,null,null,null,null,null,null,null,null,null,null,null,null,null,null,null,null,null,null,null,null,null,null,null,null,null,null,null,null,null,null,null,null,null,null,null,null,null,null,null,null,"",null,null,null,null,null,null,null,null,null,null,null,null,null,null,null,null,null,null,null,null,null,null,null,null,null,null,null,null,null,"","","","","","",0,0,0,0,0,0]
[null,"DEPRESIÓN REFRACTARIA",0,0,0,null,null,null,null,null,null,null,null,null,null,null,null,null,null,null,null,null,null,null,null,null,null,null,null,null,null,null,null,null,null,null,null,null,null,null,null,null,null,null,null,null,null,null,"",null,null,null,null,null,null,null,null,null,null,null,null,null,null,null,null,null,null,null,null,null,null,null,null,null,null,null,null,null,"","","","","","",0,0,0,0,0,0]
[null,"DEPRESIÓN GRAVE CON PSICOSIS",0,0,0,null,null,null,null,null,null,null,null,null,null,null,null,null,null,null,null,null,null,null,null,null,null,null,null,null,null,null,null,null,null,null,null,null,null,null,null,null,null,null,null,null,null,null,"",null,null,null,null,null,null,null,null,null,null,null,null,null,null,null,null,null,null,null,null,null,null,null,null,null,null,null,null,null,"","","","","","",0,0,0,0,0,0]
[null,"DEPRESIÓN  CON ALTO RIESGO SUICIDA",0,0,0,null,null,null,null,null,null,null,null,null,null,null,null,null,null,null,null,null,null,null,null,null,null,null,null,null,null,null,null,null,null,null,null,null,null,null,null,null,null,null,null,null,null,null,"",null,null,null,null,null,null,null,null,null,null,null,null,null,null,null,null,null,null,null,null,null,null,null,null,null,null,null,null,null,"","","","","","",0,0,0,0,0,0]
["TRASTORNOS MENTALES Y DEL COMPORTAMIENTO DEBIDO A CONSUMO SUSTANCIAS PSICOTRÓPICAS","CONSUMO PERJUDICIAL O DEPENDENCIA DE ALCOHOL",0,0,0,null,null,null,null,null,null,null,null,null,null,null,null,null,null,null,null,null,null,null,null,null,null,null,null,null,null,null,null,null,null,null,null,null,null,null,null,null,null,null,null,null,null,null,"",null,null,null,null,null,null,null,null,null,null,null,null,null,null,null,null,null,null,null,null,null,null,null,null,null,null,null,null,null,"","","","","","",0,0,0,0,0,0]
[null,"CONSUMO PERJUDICIAL O DEPENDENCIA COMO DROGA PRINCIPAL",0,0,0,null,null,null,null,null,null,null,null,null,null,null,null,null,null,null,null,null,null,null,null,null,null,null,null,null,null,null,null,null,null,null,null,null,null,null,null,null,null,null,null,null,null,null,"",null,null,null,null,null,null,null,null,null,null,null,null,null,null,null,null,null,null,null,null,null,null,null,null,null,null,null,null,null,"","","","","","",0,0,0,0,0,0]
[null,"POLICONSUMO",0,0,0,null,null,null,null,null,null,null,null,null,null,null,null,null,null,null,null,null,null,null,null,null,null,null,null,null,null,null,null,null,null,null,null,null,null,null,null,null,null,null,null,null,null,null,"",null,null,null,null,null,null,null,null,null,null,null,null,null,null,null,null,null,null,null,null,null,null,null,null,null,null,null,null,null,"","","","","","",0,0,0,0,0,0]
["TRASTORNOS DEL COMPORTAMIENTO Y DE LAS EMOCIONES DE COMIENZO HABITUAL EN LA INFANCIA Y ADOLESCENCIA","TRASTORNO HIPERCINÉTICOS",0,{"$f":"SUM(F212+H212+J212+L212+N212)","v":0},0,null,null,null,null,null,null,null,null,null,null,null,null,null,null,null,null,null,null,null,null,null,null,null,null,null,null,null,null,null,null,null,null,null,null,null,null,null,null,null,null,null,null,null,"",null,null,null,null,null,null,null,null,null,null,null,null,null,null,null,null,null,null,null,null,null,null,null,null,null,null,null,null,null,"","","","","","",0,0,0,0,0,0]
[null,"TRASTORNO DISOCIAL DESAFIANTE Y OPOSICIONISTA",0,0,0,null,null,null,null,null,null,null,null,null,null,null,null,null,null,null,null,null,null,null,null,null,null,null,null,null,null,null,null,null,null,null,null,null,null,null,null,null,null,null,null,null,null,null,"",null,null,null,null,null,null,null,null,null,null,null,null,null,null,null,null,null,null,null,null,null,null,null,null,null,null,null,null,null,"","","","","","",0,0,0,0,0,0]
[null,"TRASTORNO DE ANSIEDAD DE SEPARACIÓN EN LA INFANCIA",0,0,0,null,null,null,null,null,null,null,null,null,null,null,null,null,null,null,null,null,null,null,null,null,null,null,null,null,null,null,null,null,null,null,null,null,null,null,null,null,null,null,null,null,null,null,"",null,null,null,null,null,null,null,null,null,null,null,null,null,null,null,null,null,null,null,null,null,null,null,null,null,null,null,null,null,"","","","","","",0,0,0,0,0,0]
[null,"OTROS TRASTORNOS DEL COMPORTAMIENTO Y DE LAS EMOCIONES DE COMIENZO HABITUAL EN LA INFANCIA Y ADOLESCENCIA",0,0,0,null,null,null,null,null,null,null,null,null,null,null,null,null,null,null,null,null,null,null,null,null,null,null,null,null,null,null,null,null,null,null,null,null,null,null,null,null,null,null,null,null,null,null,"",null,null,null,null,null,null,null,null,null,null,null,null,null,null,null,null,null,null,null,null,null,null,null,null,null,null,null,null,null,"","","","","","",0,0,0,0,0,0]
["TRASTORNOS DE ANSIEDAD","TRASTORNO DE ESTRÉS POST TRAUMÁTICO",{"$f":"+D216+E216","v":0},{"$f":"SUM(F216+H216+J216+L216+N216+P216+R216+T216+V216+X216+Z216+AB216+AD216+AF216+AH216+AJ216+AL216)","v":0},{"$f":"SUM(G216+I216+K216+M216+O216+Q216+S216+U216+W216+Y216+AA216+AC216+AE216+AG216+AI216+AK216+AM216)","v":0},null,null,null,null,null,null,null,null,null,null,null,null,null,null,null,null,null,null,null,null,null,null,null,null,null,null,null,null,null,null,null,null,null,null,null,null,null,null,null,null,null,null,null,"",null,null,null,null,null,null,null,null,null,null,null,null,null,null,null,null,null,null,null,null,null,null,null,null,null,null,null,null,null,"","","","","","",0,0,0,0,0,0]
[null,"TRASTORNO DE PÁNICO CON AGOROFOBIA ",0,0,0,null,null,null,null,null,null,null,null,null,null,null,null,null,null,null,null,null,null,null,null,null,null,null,null,null,null,null,null,null,null,null,null,null,null,null,null,null,null,null,null,null,null,null,"",null,null,null,null,null,null,null,null,null,null,null,null,null,null,null,null,null,null,null,null,null,null,null,null,null,null,null,null,null,"","","","","","",0,0,0,0,0,0]
[null,"TRASTORNO DE PÁNICO SIN AGOROFOBIA ",0,0,0,null,null,null,null,null,null,null,null,null,null,null,null,null,null,null,null,null,null,null,null,null,null,null,null,null,null,null,null,null,null,null,null,null,null,null,null,null,null,null,null,null,null,null,"",null,null,null,null,null,null,null,null,null,null,null,null,null,null,null,null,null,null,null,null,null,null,null,null,null,null,null,null,null,"","","","","","",0,0,0,0,0,0]
[null,"FOBIAS SOCIALES",0,0,0,null,null,null,null,null,null,null,null,null,null,null,null,null,null,null,null,null,null,null,null,null,null,null,null,null,null,null,null,null,null,null,null,null,null,null,null,null,null,null,null,null,null,null,"",null,null,null,null,null,null,null,null,null,null,null,null,null,null,null,null,null,null,null,null,null,null,null,null,null,null,null,null,null,"","","","","","",0,0,0,0,0,0]
[null,"TRASTORNOS DE ANSIEDAD GENERALIZADA",0,0,0,null,null,null,null,null,null,null,null,null,null,null,null,null,null,null,null,null,null,null,null,null,null,null,null,null,null,null,null,null,null,null,null,null,null,null,null,null,null,null,null,null,null,null,"",null,null,null,null,null,null,null,null,null,null,null,null,null,null,null,null,null,null,null,null,null,null,null,null,null,null,null,null,null,"","","","","","",0,0,0,0,0,0]
[null,"OTROS TRASTORNOS DE ANSIEDAD",0,0,0,null,null,null,null,null,null,null,null,null,null,null,null,null,null,null,null,null,null,null,null,null,null,null,null,null,null,null,null,null,null,null,null,null,null,null,null,null,null,null,null,null,null,null,"",null,null,null,null,null,null,null,null,null,null,null,null,null,null,null,null,null,null,null,null,null,null,null,null,null,null,null,null,null,"","","","","","",0,0,0,0,0,0]
["DEMENCIAS (INCLUYE ALZHEIMER)","LEVE",{"$f":"SUM(D222+E222)","v":0},0,0,null,null,null,null,null,null,null,null,null,null,null,null,null,null,null,null,null,null,null,null,null,null,null,null,null,null,null,null,null,null,null,null,null,null,null,null,null,null,null,null,null,null,null,"",null,null,null,null,null,null,null,null,null,null,null,null,null,null,null,null,null,null,null,null,null,null,null,null,null,null,null,null,null,"","","","","","",0,0,0,0,0,0]
[null,"MODERADO",0,0,0,null,null,null,null,null,null,null,null,null,null,null,null,null,null,null,null,null,null,null,null,null,null,null,null,null,null,null,null,null,null,null,null,null,null,null,null,null,null,null,null,null,null,null,"",null,null,null,null,null,null,null,null,null,null,null,null,null,null,null,null,null,null,null,null,null,null,null,null,null,null,null,null,null,"","","","","","",0,0,0,0,0,0]
[null,"AVANZADO",0,0,0,null,null,null,null,null,null,null,null,null,null,null,null,null,null,null,null,null,null,null,null,null,null,null,null,null,null,null,null,null,null,null,null,null,null,null,null,null,null,null,null,null,null,null,"",null,null,null,null,null,null,null,null,null,null,null,null,null,null,null,null,null,null,null,null,null,null,null,null,null,null,null,null,null,"","","","","","",0,0,0,0,0,0]
["ESQUIZOFRENIA",null,0,0,0,null,null,null,null,null,null,null,null,null,null,null,null,null,null,null,null,null,null,null,null,null,null,null,null,null,null,null,null,null,null,null,null,null,null,null,null,null,null,null,null,null,null,null,"",null,null,null,null,null,null,null,null,null,null,null,null,null,null,null,null,null,null,null,null,null,null,null,null,null,null,null,null,null,"","","","","","",0,0,0,0,0,0]
["TRASTORNOS DE LA CONDUCTA ALIMENTARIA",null,0,0,0,null,null,null,null,null,null,null,null,null,null,null,null,null,null,null,null,null,null,null,null,null,null,null,null,null,null,null,null,null,null,null,null,null,null,null,null,null,null,null,null,null,null,null,"",null,null,null,null,null,null,null,null,null,null,null,null,null,null,null,null,null,null,null,null,null,null,null,null,null,null,null,null,null,"","","","","","",0,0,0,0,0,0]
["RETRASO MENTAL",null,0,0,0,null,null,null,null,null,null,null,null,null,null,null,null,null,null,null,null,null,null,null,null,null,null,null,null,null,null,null,null,null,null,null,null,null,null,null,null,null,null,null,null,null,null,null,"",null,null,null,null,null,null,null,null,null,null,null,null,null,null,null,null,null,null,null,null,null,null,null,null,null,null,null,null,null,"","","","","","",0,0,0,0,0,0]
["TRASTORNO DE PERSONALIDAD",null,0,0,0,null,null,null,null,null,null,null,null,null,null,null,null,null,null,null,null,null,null,null,null,null,null,null,null,null,null,null,null,null,null,null,null,null,null,null,null,null,null,null,null,null,null,null,"",null,null,null,null,null,null,null,null,null,null,null,null,null,null,null,null,null,null,null,null,null,null,null,null,null,null,null,null,null,"","","","","","",0,0,0,0,0,0]
["TRASTORNO GENERALIZADOS DEL DESARROLLO",null,0,0,0,null,null,null,null,null,null,null,null,null,null,null,null,null,null,null,null,null,null,null,null,null,null,null,null,null,null,null,null,null,null,null,null,null,null,null,null,null,null,null,null,null,null,null,""]
["EPILEPSIA",null,0,0,0,null,null,null,null,null,null,null,null,null,null,null,null,null,null,null,null,null,null,null,null,null,null,null,null,null,null,null,null,null,null,null,null,null,null,null,null,null,null,null,null,null,null,null,""]
["OTRAS",null,0,0,0,null,null,null,null,null,null,null,null,null,null,null,null,null,null,null,null,null,null,null,null,null,null,null,null,null,null,null,null,null,null,null,null,null,null,null,null,null,null,null,null,null,null,null,""]
["SECCIÓN P:  INGRESOS Y EGRESOS AL COMPONENTE ALCOHOL Y DROGA EN APS/ESPECIALIDAD"]
["CONCEPTO",null,"TOTAL",null,null,"5 - 9 años",null,"10 - 14 años",null,"15 - 19 años",null,"20 - 24 años",null,"25 - 29 años",null,"30 - 34 años",null,"35 -39 años",null,"40 -44 años",null,"45 -49 años",null,"50 -54 años",null,"55 -59 años",null,"60 -64 años",null,"65 -69 años",null,"70 -74 años",null,"75 -79 años",null,"80 años y más"]
[null,null,"Ambos Sexos","Hombres","Mujeres","Hombres","Mujeres","Hombres","Mujeres","Hombres","Mujeres","Hombres","Mujeres","Hombres","Mujeres","Hombres","Mujeres","Hombres","Mujeres","Hombres","Mujeres","Hombres","Mujeres","Hombres","Mujeres","Hombres","Mujeres","Hombres","Mujeres","Hombres","Mujeres","Hombres","Mujeres","Hombres","Mujeres","Hombres","Mujeres"]
["PLAN AMBULATORIO BÁSICO ","INGRESO",{"$f":"SUM(D235+E235)","v":0},{"$f":"SUM(F235+H235+J235+L235+N235+P235+R235+T235+V235+X235+Z235+AB235+AD235+AF235+AH235+AJ235)","v":0},0,null,null,null,null,null,null,null,null,null,null,null,null,null,null,null,null,null,null,null,null,null,null,null,null,null,null,null,null,null,null,null,null,null,null,null,null,null,null,null,null,null,null,null,null,null,null,null,null,null,null,null,null,null,null,null,null,null,null,null,null,null,null,null,null,null,null,null,null,null,null,null,null,null,null,null,null,null,null,null,0,0]
[null,"EGRESOS",{"$f":"SUM(D236+E236)","v":0},0,0,null,null,null,null,null,null,null,null,null,null,null,null,null,null,null,null,null,null,null,null,null,null,null,null,null,null,null,null,null,null,null,null,null,null,null,null,null,null,null,null,null,null,null,null,null,null,null,null,null,null,null,null,null,null,null,null,null,null,null,null,null,null,null,null,null,null,null,null,null,null,null,null,null,null,null,null,null,null,null,0,0]
["PLAN AMBULATORIO INTENSIVO","INGRESO",{"$f":"SUM(D237+E237)","v":0},0,0,null,null,null,null,null,null,null,null,null,null,null,null,null,null,null,null,null,null,null,null,null,null,null,null,null,null,null,null,null,null,null,null,null,null,null,null,null,null,null,null,null,null,null,null,null,null,null,null,null,null,null,null,null,null,null,null,null,null,null,null,null,null,null,null,null,null,null,null,null,null,null,null,null,null,null,null,null,null,null,0,0]
[null,"EGRESOS",{"$f":"SUM(D238+E238)","v":0},0,0]
["SECCIÓN Q:  PROGRAMA DE REHABILITACIÓN (PERSONAS CON TRASTORNOS PSIQUIÁTRICOS)"]
["TIPO DE PROGRAMA","RUBRO","TOTAL      ",null,null,"GRUPOS DE EDAD (en años)",null,null,null,null,null,null,null,null,null,null,null,null,null,null,null,null,null,null,null,null,null,null,null,null,null,null,null,null,null,null,null,"Beneficiarios",null,null,null,null,null,null,null,null,null,null,null,null,null,null,null,null,null,null,null,null,null,null,null,null,null,null,null,null,null,null,null,null,null,null,null,null,null,null,null,null,null,null,null,null,null,null,0,0]
[null,null,null,null,null,"5 - 9",null,"10 - 14",null,"15 - 19",null,"20 - 24",null,"25 - 29",null,"30 - 34",null,"35 - 39",null,"40 - 44",null,"45 - 49",null,"50 - 54",null,"55 - 59",null,"60 - 64",null,"65 - 69",null,"70 - 74",null,"75 - 79",null,"80 y mas",null,null,null,null,null,null,null,null,null,null,null,null,null,null,null,null,null,null,null,null,null,null,null,null,null,null,null,null,null,null,null,null,null,null,null,null,null,null,null,null,null,null,null,null,null,null,null,null,0,0]
[null,null,"Ambos Sexos","Hombres","Mujeres","Hombres","Mujeres","Hombres","Mujeres","Hombres","Mujeres","Hombres","Mujeres","Hombres","Mujeres","Hombres","Mujeres","Hombres","Mujeres","Hombres","Mujeres","Hombres","Mujeres","Hombres","Mujeres","Hombres","Mujeres","Hombres","Mujeres","Hombres","Mujeres","Hombres","Mujeres","Hombres","Mujeres","Hombres","Mujeres",null,null,null,null,null,null,null,null,null,null,null,null,null,null,null,null,null,null,null,null,null,null,null,null,null,null,null,null,null,null,null,null,null,null,null,null,null,null,null,null,null,null,null,null,null,null,null,0,0]
["PROGRAMA DE REHABILITACIÓN TIPO I","INGRESOS",{"$f":"SUM(D243+E243)","v":0},{"$f":"SUM(F243+H243+J243+L243+N243+P243+R243+T243+V243+X243+Z243+AB243+AD243+AF243+AH243+AJ243)","v":0},0,null,null,null,null,null,null,null,null,null,null,null,null,null,null,null,null,null,null,null,null,null,null,null,null,null,null,null,null,null,null,null,null,null,null,null,null,null,null,null,null,null,null,null,null,null,null,null,null,null,null,null,null,null,null,null,null,null,null,null,null,null,null,null,null,null,null,null,null,null,null,null,null,null,null,null,null,null,null,null,0,0]
[null,"EGRESOS",{"$f":"SUM(D244+E244)","v":0},0,0,null,null,null,null,null,null,null,null,null,null,null,null,null,null,null,null,null,null,null,null,null,null,null,null,null,null,null,null,null,null,null,null,null,null,null,null,null,null,null,null,null,null,null,null,null,null,null,null,null,null,null,null,null,null,null,null,null,null,null,null,null,null,null,null,null,null,null,null,null,null,null,null,null,null,null,null,null,null,null,0,0]
["PROGRAMA DE REHABILITACIÓN TIPO II","INGRESOS",{"$f":"SUM(D245+E245)","v":0},0,0,null,null,null,null,null,null,null,null,null,null,null,null,null,null,null,null,null,null,null,null,null,null,null,null,null,null,null,null,null,null,null,null,null,null,null,null,null,null,null,null,null,null,null,null,null,null,null,null,null,null,null,null,null,null,null,null,null,null,null,null,null,null,null,null,null,null,null,null,null,null,null,null,null,null,null,null,null,null,null,0,0]
[null,"EGRESOS",{"$f":"SUM(D246+E246)","v":0},0,0,null,null,null,null,null,null,null,null,null,null,null,null,null,null,null,null,null,null,null,null,null,null,null,null,null,null,null,null,null,null,null,null,null,null,null,null,null,null,null,null,null,null,null,null,null,null,null,null,null,null,null,null,null,null,null,null,null,null,null,null,null,null,null,null,null,null,null,null,null,null,null,null,null,null,null,null,null,null,null,0,0]
["SECCIÓN R: INGRESOS Y EGRESOS A PROGRAMA INFECCIÓN POR TRANSMISIÓN SEXUAL (Uso de establecimientos que realizan atención de ITS)"]
["PATOLOGÍAS",null,"TOTAL ",null,null,"INGRESOS POR EDAD",null,null,null,null,null,null,null,null,null,null,null,null,null,null,null,null,null,null,null,null,null,null,null,null,null,null,null,null,null,null,null,null,null,"EGRESOS",null,null,"TRANS",null,"Pueblos Originarios","Migrantes","Niños, Niñas, Adolescentes y Jóvenes Población  SENAME"]
[null,null,null,null,null,"0 a 4",null,"5 - 9",null,"10 - 14",null,"15 - 19",null,"20 - 24",null,"25 a 29",null,"30 a 34",null,"35 a 39",null,"40 a 44",null,"45 a 49",null,"50 a 54",null,"55 a 59",null,"60 a 64",null,"65 a 69",null,"70 a 74",null,"75 a 79",null,"80 y más",null,"Total","Por alta","Por abandono"]
[null,null,"Ambos Sexos","Hombres","Mujeres","Hombres ","Mujeres","Hombres ","Mujeres","Hombres ","Mujeres","Hombres ","Mujeres","Hombres ","Mujeres","Hombres ","Mujeres","Hombres ","Mujeres","Hombres ","Mujeres","Hombres ","Mujeres","Hombres ","Mujeres","Hombres ","Mujeres","Hombres ","Mujeres","Hombres ","Mujeres","Hombres ","Mujeres","Hombres ","Mujeres","Hombres ","Mujeres","Hombres ","Mujeres",null,null,null,"Masculino","Femenino"]
["TOTAL DE INGRESOS",null,{"$f":"SUM(D251+E251)","v":0},{"$f":"SUM(F251+H251+J251+L251+N251+P251+R251+T251+V251+X251+Z251+AB251+AD251+AF251+AH251+AJ251+AL251)","v":0},{"$f":"SUM(G251+I251+K251+M251+O251+Q251+S251+U251+W251+Y251+AA251+AC251+AE251+AG251+AI251+AK251+AM251)","v":0},{"$f":"SUM(F261:F269)","v":0},{"$f":"SUM(G253:G269)","v":0},{"$f":"SUM(H261:H269)","v":0},{"$f":"SUM(I253:I269)","v":0},{"$f":"SUM(J261:J269)","v":0},{"$f":"SUM(K252:K269)","v":0},{"$f":"SUM(L261:L269)","v":0},{"$f":"SUM(M252:M269)","v":0},{"$f":"SUM(N261:N269)","v":0},{"$f":"SUM(O252:O269)","v":0},{"$f":"SUM(P261:P269)","v":0},{"$f":"SUM(Q252:Q269)","v":0},{"$f":"SUM(R261:R269)","v":0},{"$f":"SUM(S252:S269)","v":0},{"$f":"SUM(T261:T269)","v":0},{"$f":"SUM(U252:U269)","v":0},{"$f":"SUM(V261:V269)","v":0},{"$f":"SUM(W252:W269)","v":0},{"$f":"SUM(X261:X269)","v":0},{"$f":"SUM(Y252:Y269)","v":0},{"$f":"SUM(Z261:Z269)","v":0},{"$f":"SUM(AA252:AA269)","v":0},{"$f":"SUM(AB261:AB269)","v":0},0,0,0,0,0,0,0,0,0,0,0,{"$f":"SUM(AN252:AN269)","v":0},0,0,0,0,0,0,0]
["GESTANTES","SÍFILIS",0,null,{"$f":"SUM(K252+M252+O252+Q252+S252+U252+W252+Y252+AA252+AC252)","v":0},null,null,null,null,null,null,null,null,null,null,null,null,null,null,null,null,null,null,null,null,null,null,null,null,null,null,null,null,null,null,null,null,null,null,null,null,null,null,null,null,null,null,{"$f":"CA252&CB252&CC252","v":""},null,null,null,null,null,null,null,null,null,null,null,null,null,null,null,null,null,null,null,null,null,null,null,null,null,null,null,null,null,null,{"$f":"IF(CG252=0,\"\",\"* Egresos por Alta + Abandono NO DEBE ser mayor que Total Egresos. \")","v":""},{"$f":"IF(CH252=0,\"\",\"* No olvide digitar los campos Trans y/o Pueblo Originario y/o Migrantes y/o Niños, Niñas, Adolescentes y Jóvenes Población SENAME (Digite CERO si no tiene).\")","v":""},{"$f":"IF(CI252=0,\"\",\"* Trans y/o Pueblo Originario y/o Migrantes y/o Niños, Niñas, Adolescentesy Jóvenes Población SENAME NO DEBEN ser Mayor al Total. \")","v":""},null,null,null,{"$f":"IF(AN252<SUM(AO252+AP252),1,0)","v":0},{"$f":"IF(AND(C252<>0,OR(AQ252=\"\",AR252=\"\",AS252=\"\",AT252=\"\",AU252=\"\")),1,0)","v":0},{"$f":"IF(OR(C252<SUM(AQ252,AR252),C252<AS252,C252<AT252,C252<AU252),1,0)","v":0}]
[null,"GONORREA",0,null,{"$f":"SUM(G253+I253+K253+M253+O253+Q253+S253+U253+W253+Y253+AA253+AC253)","v":0},null,null,null,null,null,null,null,null,null,null,null,null,null,null,null,null,null,null,null,null,null,null,null,null,null,null,null,null,null,null,null,null,null,null,null,null,null,null,null,null,null,null,"",null,null,null,null,null,null,null,null,null,null,null,null,null,null,null,null,null,null,null,null,null,null,null,null,null,null,null,null,null,null,"","","",null,null,null,0,0,0]
[null,"CONDILOMA",0,null,0,null,null,null,null,null,null,null,null,null,null,null,null,null,null,null,null,null,null,null,null,null,null,null,null,null,null,null,null,null,null,null,null,null,null,null,null,null,null,null,null,null,null,"",null,null,null,null,null,null,null,null,null,null,null,null,null,null,null,null,null,null,null,null,null,null,null,null,null,null,null,null,null,null,"","","",null,null,null,0,0,0]
[null,"HERPES",0,null,0,null,null,null,null,null,null,null,null,null,null,null,null,null,null,null,null,null,null,null,null,null,null,null,null,null,null,null,null,null,null,null,null,null,null,null,null,null,null,null,null,null,null,"",null,null,null,null,null,null,null,null,null,null,null,null,null,null,null,null,null,null,null,null,null,null,null,null,null,null,null,null,null,null,"","","",null,null,null,0,0,0]
[null,"CHLAMYDIAS",0,null,0,null,null,null,null,null,null,null,null,null,null,null,null,null,null,null,null,null,null,null,null,null,null,null,null,null,null,null,null,null,null,null,null,null,null,null,null,null,null,null,null,null,null,"",null,null,null,null,null,null,null,null,null,null,null,null,null,null,null,null,null,null,null,null,null,null,null,null,null,null,null,null,null,null,"","","",null,null,null,0,0,0]
[null,"URETRITIS NO GONOCÓCICA",0,null,0,null,null,null,null,null,null,null,null,null,null,null,null,null,null,null,null,null,null,null,null,null,null,null,null,null,null,null,null,null,null,null,null,null,null,null,null,null,null,null,null,null,null,"",null,null,null,null,null,null,null,null,null,null,null,null,null,null,null,null,null,null,null,null,null,null,null,null,null,null,null,null,null,null,"","","",null,null,null,0,0,0]
[null,"LINFOGRANULOMA",0,null,0,null,null,null,null,null,null,null,null,null,null,null,null,null,null,null,null,null,null,null,null,null,null,null,null,null,null,null,null,null,null,null,null,null,null,null,null,null,null,null,null,null,null,"",null,null,null,null,null,null,null,null,null,null,null,null,null,null,null,null,null,null,null,null,null,null,null,null,null,null,null,null,null,null,"","","",null,null,null,0,0,0]
[null,"CHANCROIDE",0,null,0,null,null,null,null,null,null,null,null,null,null,null,null,null,null,null,null,null,null,null,null,null,null,null,null,null,null,null,null,null,null,null,null,null,null,null,null,null,null,null,null,null,null,"",null,null,null,null,null,null,null,null,null,null,null,null,null,null,null,null,null,null,null,null,null,null,null,null,null,null,null,null,null,null,"","","",null,null,null,0,0,0]
[null,"OTRAS ITS",0,null,0,null,null,null,null,null,null,null,null,null,null,null,null,null,null,null,null,null,null,null,null,null,null,null,null,null,null,null,null,null,null,null,null,null,null,null,null,null,null,null,null,null,null,"",null,null,null,null,null,null,null,null,null,null,null,null,null,null,null,null,null,null,null,null,null,null,null,null,null,null,null,null,null,null,"","","",null,null,null,0,0,0]
["NO GESTANTES","SÍFILIS",0,{"$f":"SUM(F261+H261+J261+L261+N261+P261+R261+T261+V261+X261+Z261+AB261+AD261+AF261+AH261+AJ261+AL261)","v":0},{"$f":"SUM(G261+I261+K261+M261+O261+Q261+S261+U261+W261+Y261+AA261+AC261+AE261+AG261+AI261+AK261+AM261)","v":0},null,null,null,null,null,null,null,null,null,null,null,null,null,null,null,null,null,null,null,null,null,null,null,null,null,null,null,null,null,null,null,null,null,null,null,null,null,null,null,null,null,null,"",null,null,null,null,null,null,null,null,null,null,null,null,null,null,null,null,null,null,null,null,null,null,null,null,null,null,null,null,null,null,"","","",null,null,null,0,0,0]
[null,"GONORREA",0,0,0,null,null,null,null,null,null,null,null,null,null,null,null,null,null,null,null,null,null,null,null,null,null,null,null,null,null,null,null,null,null,null,null,null,null,null,null,null,null,null,null,null,null,"",null,null,null,null,null,null,null,null,null,null,null,null,null,null,null,null,null,null,null,null,null,null,null,null,null,null,null,null,null,null,"","","",null,null,null,0,0,0]
[null,"CONDILOMA",0,0,0,null,null,null,null,null,null,null,null,null,null,null,null,null,null,null,null,null,null,null,null,null,null,null,null,null,null,null,null,null,null,null,null,null,null,null,null,null,null,null,null,null,null,"",null,null,null,null,null,null,null,null,null,null,null,null,null,null,null,null,null,null,null,null,null,null,null,null,null,null,null,null,null,null,"","","",null,null,null,0,0,0]
[null,"HERPES",0,0,0,null,null,null,null,null,null,null,null,null,null,null,null,null,null,null,null,null,null,null,null,null,null,null,null,null,null,null,null,null,null,null,null,null,null,null,null,null,null,null,null,null,null,"",null,null,null,null,null,null,null,null,null,null,null,null,null,null,null,null,null,null,null,null,null,null,null,null,null,null,null,null,null,null,"","","",null,null,null,0,0,0]
[null,"CHLAMYDIAS",0,0,0,null,null,null,null,null,null,null,null,null,null,null,null,null,null,null,null,null,null,null,null,null,null,null,null,null,null,null,null,null,null,null,null,null,null,null,null,null,null,null,null,null,null,"",null,null,null,null,null,null,null,null,null,null,null,null,null,null,null,null,null,null,null,null,null,null,null,null,null,null,null,null,null,null,"","","",null,null,null,0,0,0]
[null,"URETRITIS NO GONOCÓCICA",0,0,0,null,null,null,null,null,null,null,null,null,null,null,null,null,null,null,null,null,null,null,null,null,null,null,null,null,null,null,null,null,null,null,null,null,null,null,null,null,null,null,null,null,null,"",null,null,null,null,null,null,null,null,null,null,null,null,null,null,null,null,null,null,null,null,null,null,null,null,null,null,null,null,null,null,"","","",null,null,null,0,0,0]
[null,"LINFOGRANULOMA",0,0,0,null,null,null,null,null,null,null,null,null,null,null,null,null,null,null,null,null,null,null,null,null,null,null,null,null,null,null,null,null,null,null,null,null,null,null,null,null,null,null,null,null,null,"",null,null,null,null,null,null,null,null,null,null,null,null,null,null,null,null,null,null,null,null,null,null,null,null,null,null,null,null,null,null,"","","",null,null,null,0,0,0]
[null,"CHANCROIDE",0,0,0,null,null,null,null,null,null,null,null,null,null,null,null,null,null,null,null,null,null,null,null,null,null,null,null,null,null,null,null,null,null,null,null,null,null,null,null,null,null,null,null,null,null,"",null,null,null,null,null,null,null,null,null,null,null,null,null,null,null,null,null,null,null,null,null,null,null,null,null,null,null,null,null,null,"","","",null,null,null,0,0,0]
[null,"OTRAS ITS",0,0,0,null,null,null,null,null,null,null,null,null,null,null,null,null,null,null,null,null,null,null,null,null,null,null,null,null,null,null,null,null,null,null,null,null,null,null,null,null,null,null,null,null,null,"",null,null,null,null,null,null,null,null,null,null,null,null,null,null,null,null,null,null,null,null,null,null,null,null,null,null,null,null,null,null,"","","",null,null,null,0,0,0]
["SECCIÓN S: INGRESOS Y EGRESOS DEL PROGRAMA DE VIH/SIDA (Uso exclusivo Centros de Atención VIH-SIDA)"]
["CONCEPTO",null,"TOTAL ",null,null,"POR EDAD (en meses - años)",null,null,null,null,null,null,null,null,null,null,null,null,null,null,null,null,null,null,null,null,null,null,null,null,null,null,null,null,null,null,null,null,null,null,null,null,null,null,null,"TRANS",null,"Pueblos Originarios","Migrantes","Niños, Niñas, Adolescentes y Jóvenes Población  SENAME"]
[null,null,null,null,null,"Menor de 6 meses",null,"6 a 11 meses",null,"12-24 meses",null,"3 a 4",null,"5 a 9",null,"10 - 14",null,"15 - 19",null,"20 - 24",null,"25 a 29",null,"30 a 34",null,"35 a 39",null,"40 a 44",null,"45 a 49",null,"50 a 54",null,"55 a 59",null,"60 a 64",null,"65 a 69",null,"70 a 74",null,"75 a 79",null,"80 y más",null,"Masculino","Femenino"]
[null,null,"Ambos Sexos","Hombres","Mujeres","Hombres ","Mujeres","Hombres ","Mujeres","Hombres ","Mujeres","Hombres ","Mujeres","Hombres ","Mujeres","Hombres ","Mujeres","Hombres ","Mujeres","Hombres ","Mujeres","Hombres ","Mujeres","Hombres ","Mujeres","Hombres ","Mujeres","Hombres ","Mujeres","Hombres ","Mujeres","Hombres ","Mujeres","Hombres ","Mujeres","Hombres ","Mujeres","Hombres ","Mujeres","Hombres ","Mujeres","Hombres ","Mujeres","Hombres ","Mujeres"]
["INGRESOS AL PROGRAMA","GESTANTES",{"$f":"SUM(D274+E274)","v":0},null,{"$f":"+Q274+S274+U274+W274+Y274+AA274+AC274+AE274+AG274","v":0},null,null,null,null,null,null,null,null,null,null,null,null,null,null,null,null,null,null,null,null,null,null,null,null,null,null,null,null,null,null,null,null,null,null,null,null,null,null,null,null,null,null,null,null,null,null,null,null,null,null,null,null,null,null,null,null,null,null,null,null,null,null,null,null,null,null,null,null,null,null,null,null,null,{"$f":"IF(CG274=0,\"\",\"* La suma de Ingresos de pacientes TRANS NO DEBE superar el total de mujeres ingresadas. \")","v":""},{"$f":"IF(CH274=0,\"\",\"* El Total de Pueblo Originario Ingresado NO DEBE superar el total de mujeres ingresadas. \")","v":""},{"$f":"IF(CI274=0,\"\",\"* El total de Migrantes Ingresado NO DEBE superar el total de mujeres ingresadas. \")","v":""},{"$f":"IF(CJ274=0,\"\",\"* No olvide digitar los campos Trans y/o Pueblo Originario y/o Migrantes (Digite CERO si no tiene). \")","v":""},null,null,{"$f":"IF(SUM(AT274,AU274)>E274,1,0)","v":0},{"$f":"IF(E274<AV274,1,0)","v":0},{"$f":"IF(E274<AW274,1,0)","v":0},{"$f":"IF(AND(E274<>0,OR(AT274=\"\",AU274=\"\",AV274=\"\",AW274=\"\")),1,0)","v":0}]
[null,"NO GESTANTES",0,{"$f":"SUM(F275+H275+J275+L275+N275+P275+R275+T275+V275+X275+Z275+AB275+AD275+AF275+AH275+AJ275+AL275+AN275+AP275+AR275)","v":0},0,null,null,null,null,null,null,null,null,null,null,null,null,null,null,null,null,null,null,null,null,null,null,null,null,null,null,null,null,null,null,null,null,null,null,null,null,null,null,null,null,null,null,null,null,null,null,null,null,null,null,null,null,null,null,null,null,null,null,null,null,null,null,null,null,null,null,null,null,null,null,null,null,null,{"$f":"IF(CG275=0,\"\",\"* La suma de Ingresos de pacientes Trans NO DEBE superar el total de pacientes ingresados. \")","v":""},{"$f":"IF(CH275=0,\"\",\"* El Total de Pueblo Originario Ingresado NO DEBE superar el total de pacientes ingresados. \")","v":""},{"$f":"IF(CI275=0,\"\",\"* El total de Migrantes Ingresado NO DEBE superar el total de pacientes ingresados. \")","v":""},{"$f":"IF(CJ275=0,\"\",\"* No olvide digitar los campos Trans y/o Pueblo Originario y/o Migrantes (Digite CERO si no tiene). \")","v":""},null,null,{"$f":"IF(SUM(AT275,AU275)>C275,1,0)","v":0},{"$f":"IF(C275<AV275,1,0)","v":0},{"$f":"IF(C275<AW275,1,0)","v":0},{"$f":"IF(AND(C275<>0,OR(AT275=\"\",AU275=\"\",AV275=\"\",AW275=\"\")),1,0)","v":0}]
["TOTAL EGRESOS",null,0,0,0,null,null,null,null,null,null,null,null,null,null,null,null,null,null,null,null,null,null,null,null,null,null,null,null,null,null,null,null,null,null,null,null,null,null,null,null,null,null,null,null,null,null,null,null,null,null,null,null,null,null,null,null,null,null,null,null,null,null,null,null,null,null,null,null,null,null,null,null,null,null,null,null,null,{"$f":"IF(CG276=0,\"\",\"* La suma de Egresos de pacientes Trans NO DEBE superar el total de pacientes egresados. \")","v":""},{"$f":"IF(CH276=0,\"\",\"* El Total de Pueblo Originario Egresado NO DEBE superar el total de pacientes egresados. \")","v":""},{"$f":"IF(CI276=0,\"\",\"* El total de Migrantes Egresado NO DEBE superar el total de pacientes egresados. \")","v":""},{"$f":"IF(CJ276=0,\"\",\"* No olvide digitar los campos Trans y/o Pueblo Originario y/o Migrantes (Digite CERO si no tiene). \")","v":""},null,null,0,0,0,{"$f":"IF(AND(C276<>0,OR(AT276=\"\",AU276=\"\",AV276=\"\",AW276=\"\")),1,0)","v":0}]
["EGRESOS POR FALLECIMIENTO (INCLUÍDO EN TOTAL EGRESOS)",null,0,0,0,null,null,null,null,null,null,null,null,null,null,null,null,null,null,null,null,null,null,null,null,null,null,null,null,null,null,null,null,null,null,null,null,null,null,null,null,null,null,null,null,null,null,null,null,null,null,null,null,null,null,null,null,null,null,null,null,null,null,null,null,null,null,null,null,null,null,null,null,null,null,null,null,null,"",{"$f":"IF(CH277=0,\"\",\"* El Total de Pueblo Originario Egresado NO DEBE superar el total de pacientes egresados. \")","v":""},{"$f":"IF(CI277=0,\"\",\"* El total de Migrantes Egresado NO DEBE superar el total de pacientes egresados. \")","v":""},{"$f":"IF(CJ277=0,\"\",\"* No olvide digitar los campos Trans y/o Pueblo Originario y/o Migrantes (Digite CERO si no tiene). \")","v":""},{"$f":"IF(CK277=0,\"\",\"* El Total de egresos por fallecimiento NO DEBE superar el total de Egresos. \")","v":""},null,0,0,0,{"$f":"IF(AND(C277<>0,OR(AT277=\"\",AU277=\"\",AV277=\"\",AW277=\"\")),1,0)","v":0},{"$f":"IF(C277>C276,1,0)","v":0}]
["EGRESOS POR ALTA HIJO VIH (-) DE MADRE VIH +INCLUÍDO EN TOTAL EGRESOS",null,0,{"$f":"SUM(F278+H278+J278+L278)","v":0},{"$f":"SUM(G278+I278+K278+M278)","v":0},null,null,null,null,null,null,null,null,null,null,null,null,null,null,null,null,null,null,null,null,null,null,null,null,null,null,null,null,null,null,null,null,null,null,null,null,null,null,null,null,null,null,null,null,null,null,null,null,null,null,null,null,null,null,null,null,null,null,null,null,null,null,null,null,null,null,null,null,null,null,null,null,null,"",{"$f":"IF(CH278=0,\"\",\"* El Total de Pueblo Originario Egresado NO DEBE superar el total de pacientes egresados. \")","v":""},{"$f":"IF(CI278=0,\"\",\"* El total de Migrantes Egresado NO DEBE superar el total de pacientes egresados. \")","v":""},{"$f":"IF(CJ278=0,\"\",\"* No olvide digitar los campos Pueblo Originario y/o Migrantes (Digite CERO si no tiene). \")","v":""},{"$f":"IF(CK278=0,\"\",\"* El total de Egresos por Alta Hijo VIH NO DEBE superar el Total de Egresos. \")","v":""},null,0,0,0,{"$f":"IF(AND(C278<>0,OR(AV278=\"\",AW278=\"\")),1,0)","v":0},{"$f":"IF(C278>C276,1,0)","v":0}]
["EVALUACIÓN MOVILIDAD PROGRAMA","ABANDONO CONTROLES",0,{"$f":"SUM(F279+H279+J279+L279+N279+P279+R279+T279+V279+X279+Z279+AB279+AD279+AF279+AH279+AJ279+AL279+AN279+AP279+AR279)","v":0},0,null,null,null,null,null,null,null,null,null,null,null,null,null,null,null,null,null,null,null,null,null,null,null,null,null,null,null,null,null,null,null,null,null,null,null,null,null,null,null,null,null,null,null,null,null,null,null,null,null,null,null,null,null,null,null,null,null,null,null,null,null,null,null,null,null,null,null,null,null,null,null,null,null,"",{"$f":"IF(CH279=0,\"\",\"* El Total de Pueblo Originario Egresado NO DEBE superar el total de pacientes egresados. \")","v":""},{"$f":"IF(CI279=0,\"\",\"* El total de Migrantes Egresado NO DEBE superar el total de pacientes egresados. \")","v":""},{"$f":"IF(CJ279=0,\"\",\"* No olvide digitar los campos Trans y/o Pueblo Originario y/o Migrantes (Digite CERO si no tiene). \")","v":""},null,null,0,0,0,{"$f":"IF(AND(C279<>0,OR(AT279=\"\",AU279=\"\",AV279=\"\",AW279=\"\")),1,0)","v":0}]
[null,"ABANDONO TRATAMIENTO",0,0,0,null,null,null,null,null,null,null,null,null,null,null,null,null,null,null,null,null,null,null,null,null,null,null,null,null,null,null,null,null,null,null,null,null,null,null,null,null,null,null,null,null,null,null,null,null,null,null,null,null,null,null,null,null,null,null,null,null,null,null,null,null,null,null,null,null,null,null,null,null,null,null,null,null,"",null,null,{"$f":"IF(CJ280=0,\"\",\"* No olvide digitar los campos Trans y/o Pueblo Originario y/o Migrantes (Digite CERO si no tiene). \")","v":""},null,null,0,0,0,0]
[null,"ABANDONO DE LA ATENCION",0,0,0,null,null,null,null,null,null,null,null,null,null,null,null,null,null,null,null,null,null,null,null,null,null,null,null,null,null,null,null,null,null,null,null,null,null,null,null,null,null,null,null,null,null,null,null,null,null,null,null,null,null,null,null,null,null,null,null,null,null,null,null,null,null,null,null,null,null,null,null,null,null,null,null,null,"",null,null,{"$f":"IF(CJ281=0,\"\",\"* No olvide digitar los campos Trans y/o Pueblo Originario y/o Migrantes (Digite CERO si no tiene). \")","v":""},null,null,0,0,0,0]
["SECCIÓN T: INGRESOS Y EGRESOS POR COMERCIO SEXUAL (Uso exclusivo de Unidades Control Comercio Sexual)"]
["CONCEPTO",null,"TOTAL ",null,null,"GRUPOS DE EDAD (en años)",null,null,null,null,null,null,null,null,null,null,null,null,null,null,null,null,null,null,null,null,null,null,null,null,null,null,null,"TRANS",null,"Pueblos Originarios","Migrantes"]
[null,null,null,null,null,"15 - 19",null,"20 - 24",null,"25 a 29",null,"30 a 34",null,"35 a 39",null,"40 a 44",null,"45 a 49",null,"50 a 54",null,"55 a 59",null,"60 a 64",null,"65 a 69",null,"70 a 74",null,"75 a 79",null,"80 y más"]
[null,null,"Ambos Sexos","Hombres","Mujeres","Hombres ","Mujeres","Hombres ","Mujeres","Hombres ","Mujeres","Hombres ","Mujeres","Hombres ","Mujeres","Hombres ","Mujeres","Hombres ","Mujeres","Hombres ","Mujeres","Hombres ","Mujeres","Hombres ","Mujeres","Hombres ","Mujeres","Hombres ","Mujeres","Hombres ","Mujeres","Hombres ","Mujeres","Masculino","Femenino"]
["INGRESOS AL PROGRAMA",null,{"$f":"SUM(D286+E286)","v":0},{"$f":"SUM(F286+H286+J286+L286+N286+P286+R286+T286+V286+X286+Z286+AB286+AD286+AF286)","v":0},0,null,null,null,null,null,null,null,null,null,null,null,null,null,null,null,null,null,null,null,null,null,null,null,null,null,null,null,null,null,null,null,null,null,null,null,null,null,null,null,null,null,null,null,null,null,null,null,null,null,null,null,null,null,null,null,null,null,null,null,null,null,null,null,null,null,null,null,null,null,null,null,null,null,null,null,null,null,null,null,null,null,null,0]
["TOTAL EGRESOS",null,{"$f":"SUM(D287+E287)","v":0},0,0]
["INASISTENTES",null,{"$f":"SUM(D288+E288)","v":0},0,0]
["SECCIÓN U. INGRESOS Y EGRESOS PROGRAMA DE ACOMPAÑAMIENTO PSICOSOCIAL EN ATENCIÓN PRIMARIA"]
["ACTIVIDAD","TOTAL               ",null,null,"GRUPOS DE EDAD  (en años)"]
[null,null,null,null,"0 - 4",null,"5 - 9",null,"10 - 14",null,"15 - 19",null,"20 - 24"]
[null,"Ambos Sexos","Hombres","Mujeres","Hombres","Mujeres","Hombres","Mujeres","Hombres","Mujeres","Hombres","Mujeres","Hombres","Mujeres"]
["INGRESOS",{"$f":"SUM(C293+D293)","v":0},{"$f":"SUM(E293+G293+I293+K293+M293)","v":0},{"$f":"SUM(F293+H293+J293+L293+N293)","v":0}]
["EGRESOS",{"$f":"SUM(C294+D294)","v":0},{"$f":"SUM(E294+G294+I294+K294+M294)","v":0},{"$f":"SUM(F294+H294+J294+L294+N294)","v":0}]
["SECCIÓN V. INGRESOS  INTEGRALES DE PERSONAS CON CONDICIONES CRÓNICAS EN ATENCIÓN PRIMARIA"]
["ACTIVIDAD","RIESGO","TOTAL               ",null,null,"GRUPOS DE EDAD  (en años)",null,null,null,null,null,null,null,null,null,null,null,null,null,null,null,null,null,null,null,null,null,null,null,null,null,null,null,"Beneficiarios","Migrantes","Pueblos Originarios"]
[null,null,null,null,null,"15 - 19",null,"20 - 24",null,"25 a 29",null,"30 a 34",null,"35 a 39",null,"40 a 44",null,"45 a 49",null,"50 a 54",null,"55 a 59",null,"60 a 64",null,"65 a 69",null,"70 a 74",null,"75 a 79",null,"80 y más"]
[null,null,"Ambos Sexos","Hombres","Mujeres","Hombres","Mujeres","Hombres","Mujeres","Hombres ","Mujeres","Hombres ","Mujeres","Hombres ","Mujeres","Hombres ","Mujeres","Hombres ","Mujeres","Hombres ","Mujeres","Hombres ","Mujeres","Hombres ","Mujeres","Hombres ","Mujeres","Hombres ","Mujeres","Hombres ","Mujeres","Hombres ","Mujeres"]
["INGRESOS","RIESGO LEVE (G1)",{"$f":"SUM(D299+E299)","v":0},{"$f":"SUM(F299+H299+J299+L299+N299+P299+R299+T299+V299+X299+Z299+AB299+AD299+AF299)","v":0},{"$f":"SUM(G299+I299+K299+M299+O299+Q299+S299+U299+W299+Y299+AA299+AC299+AE299+AG299)","v":0},null,null,null,null,null,null,null,null,null,null,null,null,null,null,null,null,null,null,null,null,null,null,null,null,null,null,null,null,null,null,null,null,null,null,null,null,null,null,null,null,null,null,null,null,null,null,null,null,null,null,null,null,null,null,null,null,null,null,null,null,null,null,null,null,null,null,null,null,null,null,null,null,null,null,null,null,null,null,null,null,null,null,0]
[null,"RIESGO MODERADO (G2)",0,0,0,null,null,null,null,null,null,null,null,null,null,null,null,null,null,null,null,null,null,null,null,null,null,null,null,null,null,null,null,null,null,null,null,null,null,null,null,null,null,null,null,null,null,null,null,null,null,null,null,null,null,null,null,null,null,null,null,null,null,null,null,null,null,null,null,null,null,null,null,null,null,null,null,null,null,null,null,null,null,null,null,null,null,0]
[null,"RIESGO ALTO (G3)",0,0,0,null,null,null,null,null,null,null,null,null,null,null,null,null,null,null,null,null,null,null,null,null,null,null,null,null,null,null,null,null,null,null,null,null,null,null,null,null,null,null,null,null,null,null,null,null,null,null,null,null,null,null,null,null,null,null,null,null,null,null,null,null,null,null,null,null,null,null,null,null,null,null,null,null,null,null,null,null,null,null,null,null,null,0]
["PLAN DE CUIDADO ELABORADO","RIESGO LEVE (G1)",0,0,0,null,null,null,null,null,null,null,null,null,null,null,null,null,null,null,null,null,null,null,null,null,null,null,null,null,null,null,null,null,null,null,null,null,null,null,null,null,null,null,null,null,null,null,null,null,null,null,null,null,null,null,null,null,null,null,null,null,null,null,null,null,null,null,null,null,null,null,null,null,null,null,null,null,null,null,null,null,null,null,null,null,null,0]
[null,"RIESGO MODERADO (G2)",0,0,{"$f":"SUM(G303+I303+K303+M303+O303+Q303+S303+U303+W303+Y303+AA303+AC303+AE303+AG303)","v":0},null,null,null,null,null,null,null,null,null,null,null,null,null,null,null,null,null,null,null,null,null,null,null,null,null,null,null,null,null,null,null,null,null,null,null,null,null,null,null,null,null,null,null,null,null,null,null,null,null,null,null,null,null,null,null,null,null,null,null,null,null,null,null,null,null,null,null,null,null,null,null,null,null,null,null,null,null,null,null,null,null,null,0]
[null,"RIESGO ALTO (G3)",0,0,0,null,null,null,null,null,null,null,null,null,null,null,null,null,null,null,null,null,null,null,null,null,null,null,null,null,null,null,null,null,null,null,null,null,null,null,null,null,null,null,null,null,null,null,null,null,null,null,null,null,null,null,null,null,null,null,null,null,null,null,null,null,null,null,null,null,null,null,null,null,null,null,null,null,null,null,null,null,null,null,null,null,null,0]
[]
[]
[]
[]
[]
[]
[]
[]
[]
[]
[{"$f":"SUM(C11:C15,C19:C29,C33:C52,B55,C58,C63:C66,C71:C74,C79,C84:C89,C94:C99,C104:C108,C115,C120,C121,C128,C133,C134,C141,C142:C145,C151,C153:C189,C193,C195:C231,C235:C238,C243:C246,C251:C269,C274:C281,C286:C288,B293:B294)","v":0},{"$f":"SUM(CF8:CN294)","v":0}]

{"sheet":"A06","index":6,"n_rows":172,"n_cols":90,"rows_kept":172,"cut":false,"hidden":false,"merged":[[145,23,145,24],[145,25,145,26],[9,43,11,43],[28,2,28,3],[28,1,29,1],[142,0,142,1],[9,40,11,40],[92,0,93,0],[92,2,92,3],[82,0,83,0],[101,0,103,0],[101,1,102,3],[123,6,123,8],[123,2,123,3],[123,1,124,1],[123,0,124,0],[128,33,128,34],[128,35,128,36],[128,5,128,6],[128,7,128,8],[101,4,101,12],[102,4,102,5],[102,6,102,7],[102,8,102,9],[147,0,150,0],[144,0,146,0],[144,1,146,1],[144,2,145,4],[144,5,144,38],[144,39,146,39],[144,40,146,40],[144,41,146,41],[144,42,146,42],[145,5,145,6],[145,7,145,8],[145,9,145,10],[145,11,145,12],[145,13,145,14],[145,15,145,16],[145,17,145,18],[145,19,145,20],[145,33,145,34],[145,27,145,28],[145,29,145,30],[145,31,145,32],[145,35,145,36],[145,37,145,38],[145,21,145,22],[102,10,102,11],[102,12,102,13],[128,37,128,38],[128,25,128,26],[128,27,128,28],[128,29,128,30],[128,31,128,32],[107,38,109,38],[112,4,113,4],[108,36,108,37],[108,22,108,23],[108,24,108,25],[108,26,108,27],[108,28,108,29],[108,30,108,31],[108,32,108,33],[107,4,107,37],[108,4,108,5],[128,13,128,14],[128,15,128,16],[128,17,128,18],[128,19,128,20],[128,21,128,22],[128,23,128,24],[130,0,140,0],[141,0,141,1],[92,1,93,1],[66,0,67,0],[68,0,73,0],[82,1,83,1],[82,2,83,2],[78,0,78,1],[79,0,79,1],[80,0,80,1],[75,0,76,1],[77,0,77,1],[112,0,113,0],[112,1,112,3],[107,0,109,0],[116,0,118,0],[44,5,44,6],[50,35,50,36],[82,3,83,3],[75,4,75,5],[75,6,75,7],[75,8,75,9],[50,13,50,14],[50,15,50,16],[50,17,50,18],[75,2,75,3],[50,27,50,28],[40,0,41,0],[43,0,45,1],[43,2,44,4],[43,5,43,38],[49,5,49,38],[50,23,50,24],[50,25,50,26],[49,39,51,39],[50,5,50,6],[50,7,50,8],[50,9,50,10],[50,11,50,12],[44,33,44,34],[43,39,45,39],[44,15,44,16],[44,17,44,18],[44,19,44,20],[50,29,50,30],[44,31,44,32],[50,19,50,20],[50,21,50,22],[48,0,48,12],[44,7,44,8],[44,21,44,22],[52,0,57,0],[58,0,59,0],[60,0,63,0],[64,0,65,0],[49,0,51,1],[49,2,50,4],[50,37,50,38],[50,31,50,32],[50,33,50,34],[44,37,44,38],[44,9,44,10],[44,11,44,12],[44,13,44,14],[44,35,44,36],[44,23,44,24],[44,25,44,26],[44,27,44,28],[44,29,44,30],[36,0,37,0],[36,1,37,1],[36,2,37,2],[38,0,39,0],[28,35,28,36],[28,37,28,38],[28,21,28,22],[32,0,33,0],[32,1,33,1],[32,2,32,4],[32,5,32,9],[28,39,28,40],[28,23,28,24],[28,25,28,26],[28,27,28,28],[28,29,28,30],[28,11,28,12],[28,13,28,14],[28,15,28,16],[28,17,28,18],[28,19,28,20],[10,33,10,34],[10,35,10,36],[28,31,28,32],[28,33,28,34],[23,0,23,1],[5,0,5,22],[9,0,11,0],[9,1,11,1],[9,2,10,4],[9,5,9,38],[10,17,10,18],[10,19,10,20],[12,0,22,0],[25,0,26,0],[28,0,29,0],[28,4,28,6],[28,7,28,8],[28,9,28,10],[9,41,11,41],[9,42,11,42],[127,0,129,0],[127,1,129,1],[127,2,128,4],[127,5,127,38],[127,39,129,39],[127,40,129,40],[127,41,129,41],[127,42,129,42],[10,5,10,6],[10,7,10,8],[10,9,10,10],[10,11,10,12],[10,13,10,14],[10,15,10,16],[9,39,11,39],[10,21,10,22],[10,23,10,24],[10,25,10,26],[10,27,10,28],[10,37,10,38],[10,29,10,30],[10,31,10,32],[128,9,128,10],[128,11,128,12],[108,34,108,35],[116,1,117,3],[116,4,116,9],[117,4,117,5],[117,6,117,7],[117,8,117,9],[123,4,123,5],[108,6,108,7],[108,8,108,9],[108,10,108,11],[108,12,108,13],[108,14,108,15],[108,16,108,17],[108,18,108,19],[108,20,108,21],[107,1,108,3]]}
["SERVICIO DE SALUD"]
[{"$f":"CONCATENATE(\"COMUNA: \",NOMBRE!B2,\" - \",\"( \",NOMBRE!C2,NOMBRE!D2,NOMBRE!E2,NOMBRE!F2,NOMBRE!G2,\" )\")","v":"COMUNA:  - (  )"}]
[{"$f":"CONCATENATE(\"ESTABLECIMIENTO/ESTRATEGIA: \",NOMBRE!B3,\" - \",\"( \",NOMBRE!C3,NOMBRE!D3,NOMBRE!E3,NOMBRE!F3,NOMBRE!G3,NOMBRE!H3,\" )\")","v":"ESTABLECIMIENTO/ESTRATEGIA:  - (  )"}]
[{"$f":"CONCATENATE(\"MES: \",NOMBRE!B6,\" - \",\"( \",NOMBRE!C6,NOMBRE!D6,\" )\")","v":"MES:  - (  )"}]
[{"$f":"CONCATENATE(\"AÑO: \",NOMBRE!B7)","v":"AÑO: 2020"}]
["REM-06.   PROGRAMA DE SALUD MENTAL ATENCIÓN PRIMARIA Y ESPECIALIDADES"]
[]
[]
["SECCIÓN A.1: CONTROLES DE ATENCIÓN PRIMARIA / ESPECIALIDADES"]
["ACTIVIDAD","PROFESIONAL","TOTAL               ",null,null,"GRUPOS DE EDAD  (en años)",null,null,null,null,null,null,null,null,null,null,null,null,null,null,null,null,null,null,null,null,null,null,null,null,null,null,null,null,null,null,null,null,null,"Beneficiarios","Niños, Niñas, Adolescentes y Jóvenes Población SENAME","Pueblos Originarios","Migrantes","Demencia"]
[null,null,null,null,null,"0 - 4",null,"5 - 9",null,"10 - 14",null,"15 - 19",null,"20 - 24",null,"25 - 29",null,"30 - 34",null,"35 - 39",null,"40 - 44",null,"45 - 49",null,"50 - 54",null,"55 - 59",null,"60 - 64",null,"65 - 69",null,"70 - 74",null,"75 - 79",null,"80 y mas"]
[null,null,"Ambos Sexos","Hombres","Mujeres","Hombres","Mujeres","Hombres","Mujeres","Hombres","Mujeres","Hombres","Mujeres","Hombres","Mujeres","Hombres","Mujeres","Hombres","Mujeres","Hombres","Mujeres","Hombres","Mujeres","Hombres","Mujeres","Hombres","Mujeres","Hombres","Mujeres","Hombres","Mujeres","Hombres","Mujeres","Hombres","Mujeres","Hombres","Mujeres","Hombres","Mujeres"]
["CONTROLES SALUD MENTAL","MÉDICO",{"$f":"SUM(D13+E13)","v":0},{"$f":"SUM(F13+H13+J13+L13+N13+P13+R13+T13+V13+X13+Z13+AB13+AD13+AF13+AH13+AJ13+AL13)","v":0},{"$f":"SUM(G13+I13+K13+M13+O13+Q13+S13+U13+W13+Y13+AA13+AC13+AE13+AG13+AI13+AK13+AM13)","v":0},null,null,null,null,null,null,null,null,null,null,null,null,null,null,null,null,null,null,null,null,null,null,null,null,null,null,null,null,null,null,null,null,null,null,null,null,null,null,null,{"$f":"CONCATENATE(CA13,CB13,CC13,CD13,CE13,CF13)","v":""},null,null,null,null,null,null,null,null,null,null,null,null,null,null,null,null,null,null,null,null,null,null,null,null,null,null,null,null,null,null,null,null,null,{"$f":"IF(CG13=1,\"* El número de Beneficiarios NO DEBE ser mayor que el Total. \",\"\")","v":""},{"$f":"IF(CH13=1,\"* Los Niños, Niñas, Adolescentes y Jóvenes de Programa SENAME NO DEBE ser mayor que el Total. \",\"\")","v":""},{"$f":"IF(CI13=1,\"* El número de personas pertenecientes a Pueblos Originarios NO DEBE ser mayor que el Total. \",\"\")","v":""},{"$f":"IF(CJ13=1,\"* El número de personas Migrantes NO DEBE ser mayor que el Total. \",\"\")","v":""},{"$f":"IF(CK13=1,\"* El número de personas con Demencia NO DEBE ser mayor que el Total. \",\"\")","v":""},{"$f":"IF(CL13=1,\"* No olvide digitar la columna Beneficiarios y/o Niños, Niñas, Adolescentes y Jóvenes de Programa SENAME y/o Pueblos Originarios y/o Migrantes y/o Demencia (Digite CEROS si no tiene). \",\"\")","v":""},{"$f":"IF($C13<AN13,1,0)","v":0},{"$f":"IF($C13<AO13,1,0)","v":0},{"$f":"IF($C13<AP13,1,0)","v":0},{"$f":"IF($C13<AQ13,1,0)","v":0},{"$f":"IF($C13<AR13,1,0)","v":0},{"$f":"IF(AND(C13<>0,OR(AN13=\"\",AO13=\"\",AP13=\"\",AQ13=\"\",AR13=\"\")),1,0)","v":0}]
[null,"PSICÓLOGO/A",0,0,0,null,null,null,null,null,null,null,null,null,null,null,null,null,null,null,null,null,null,null,null,null,null,null,null,null,null,null,null,null,null,null,null,null,null,null,null,null,null,null,"",null,null,null,null,null,null,null,null,null,null,null,null,null,null,null,null,null,null,null,null,null,null,null,null,null,null,null,null,null,null,null,null,null,"","",{"$f":"IF(CI14=1,\"* El total de personas pertenecientes a Pueblos Originarios NO DEBE ser mayor que el Total. \",\"\")","v":""},"","","",0,0,0,0,0,0]
[null,"ENFERMERA /O",0,0,0,null,null,null,null,null,null,null,null,null,null,null,null,null,null,null,null,null,null,null,null,null,null,null,null,null,null,null,null,null,null,null,null,null,null,null,null,null,null,null,"",null,null,null,null,null,null,null,null,null,null,null,null,null,null,null,null,null,null,null,null,null,null,null,null,null,null,null,null,null,null,null,null,null,"","","","","","",0,0,0,0,0,0]
[null,"MATRONA /ÓN",0,0,0,null,null,null,null,null,null,null,null,null,null,null,null,null,null,null,null,null,null,null,null,null,null,null,null,null,null,null,null,null,null,null,null,null,null,null,null,null,null,null,"",null,null,null,null,null,null,null,null,null,null,null,null,null,null,null,null,null,null,null,null,null,null,null,null,null,null,null,null,null,null,null,null,null,"","","","","","",0,0,0,0,0,0]
[null,"ASISTENTE SOCIAL",0,0,0,null,null,null,null,null,null,null,null,null,null,null,null,null,null,null,null,null,null,null,null,null,null,null,null,null,null,null,null,null,null,null,null,null,null,null,null,null,null,null,"",null,null,null,null,null,null,null,null,null,null,null,null,null,null,null,null,null,null,null,null,null,null,null,null,null,null,null,null,null,null,null,null,null,"","","","","","",0,0,0,0,0,0]
[null,"OTROS PROFESIONALES",0,0,0,null,null,null,null,null,null,null,null,null,null,null,null,null,null,null,null,null,null,null,null,null,null,null,null,null,null,null,null,null,null,null,null,null,null,null,null,null,null,null,"",null,null,null,null,null,null,null,null,null,null,null,null,null,null,null,null,null,null,null,null,null,null,null,null,null,null,null,null,null,null,null,null,null,"","","","","","",0,0,0,0,0,0]
[null,"TERAPEUTA OCUPACIONAL",0,0,0,null,null,null,null,null,null,null,null,null,null,null,null,null,null,null,null,null,null,null,null,null,null,null,null,null,null,null,null,null,null,null,null,null,null,null,null,null,null,null,"",null,null,null,null,null,null,null,null,null,null,null,null,null,null,null,null,null,null,null,null,null,null,null,null,null,null,null,null,null,null,null,null,null,"","","","","","",0,0,0,0,0,0]
[null,"TÉCNICO PARAMÉDICO y EN SALUD MENTAL",0,0,0,null,null,null,null,null,null,null,null,null,null,null,null,null,null,null,null,null,null,null,null,null,null,null,null,null,null,null,null,null,null,null,null,null,null,null,null,null,null,null,"",null,null,null,null,null,null,null,null,null,null,null,null,null,null,null,null,null,null,null,null,null,null,null,null,null,null,null,null,null,null,null,null,null,"","","","","","",0,0,0,0,0,0]
[null,"GESTOR COMUNITARIO",0,0,0,null,null,null,null,null,null,null,null,null,null,null,null,null,null,null,null,null,null,null,null,null,null,null,null,null,null,null,null,null,null,null,null,null,null,null,null,null,null,null,"",null,null,null,null,null,null,null,null,null,null,null,null,null,null,null,null,null,null,null,null,null,null,null,null,null,null,null,null,null,null,null,null,null,"","","","","","",0,0,0,0,0,0]
[null,"TÉCNICO REHABILITACIÓN ALCOHOL Y DROGAS",0,0,0,null,null,null,null,null,null,null,null,null,null,null,null,null,null,null,null,null,null,null,null,null,null,null,null,null,null,null,null,null,null,null,null,null,null,null,null,null,null,null,"",null,null,null,null,null,null,null,null,null,null,null,null,null,null,null,null,null,null,null,null,null,null,null,null,null,null,null,null,null,null,null,null,null,"","","","","","",0,0,0,0,0,0]
[null,"TOTAL",0,0,0,{"$f":"SUM(F13:F22)","v":0},0,0,0,0,0,0,0,0,0,0,0,0,0,0,0,0,0,0,0,0,0,0,0,0,0,0,0,0,0,0,0,0,0,0,0,0,0,0,null,null,null,null,null,null,null,null,null,null,null,null,null,null,null,null,null,null,null,null,null,null,null,null,null,null,null,null,null,null,null,null,null,null,null,null,"","","","",0,0,0,0,0,0]
["INTERVENCIÓN PSICOSOCIAL GRUPAL",null,0,0,0,null,null,null,null,null,null,null,null,null,null,null,null,null,null,null,null,null,null,null,null,null,null,null,null,null,null,null,null,null,null,null,null,null,null,null,null,null,null,null,{"$f":"CONCATENATE(CA24,CB24,CC24,CD24,CE24,CF24)","v":""},null,null,null,null,null,null,null,null,null,null,null,null,null,null,null,null,null,null,null,null,null,null,null,null,null,null,null,null,null,null,null,null,null,{"$f":"IF(CG24=1,\"* El número de Beneficiarios NO DEBE ser mayor que el Total. \",\"\")","v":""},{"$f":"IF(CH24=1,\"* Los Niños, Niñas, Adolescentes y Jóvenes de Programa SENAME NO DEBE ser mayor que el Total. \",\"\")","v":""},"","","","",0,0,0,0,0,0]
["PSICODIAGNOSTICO","PSICÓLOGO/A",0,0,0,null,null,null,null,null,null,null,null,null,null,null,null,null,null,null,null,null,null,null,null,null,null,null,null,null,null,null,null,null,null,null,null,null,null,null,null,null,null,null,{"$f":"CONCATENATE(CA25,CB25,CC25,CD25,CE25,CF25)","v":""},null,null,null,null,null,null,null,null,null,null,null,null,null,null,null,null,null,null,null,null,null,null,null,null,null,null,null,null,null,null,null,null,null,{"$f":"IF(CG25=1,\"* El número de Beneficiarios NO DEBE ser mayor que el Total. \",\"\")","v":""},{"$f":"IF(CH25=1,\"* Los Niños, Niñas, Adolescentes y Jóvenes de Programa SENAME NO DEBE ser mayor que el Total. \",\"\")","v":""},"","","","",0,0,0,0,0,0]
["PSICOTERAPIA INDIVIDUAL","PSICÓLOGO/A",0,0,0,null,null,null,null,null,null,null,null,null,null,null,null,null,null,null,null,null,null,null,null,null,null,null,null,null,null,null,null,null,null,null,null,null,null,null,null,null,null,null,{"$f":"CONCATENATE(CA26,CB26,CC26,CD26,CE26,CF26)","v":""},null,null,null,null,null,null,null,null,null,null,null,null,null,null,null,null,null,null,null,null,null,null,null,null,null,null,null,null,null,null,null,null,null,{"$f":"IF(CG26=1,\"* El número de Beneficiarios NO DEBE ser mayor que el Total. \",\"\")","v":""},{"$f":"IF(CH26=1,\"* Los Niños, Niñas, Adolescentes y Jóvenes de Programa SENAME NO DEBE ser mayor que el Total. \",\"\")","v":""},"","","","",0,0,0,0,0,0]
[null,"MÉDICO PSIQUIATRA",0,0,0,null,null,null,null,null,null,null,null,null,null,null,null,null,null,null,null,null,null,null,null,null,null,null,null,null,null,null,null,null,null,null,null,null,null,null,null,null,null,null,{"$f":"CONCATENATE(CA27,CB27,CC27,CD27,CE27,CF27)","v":""},null,null,null,null,null,null,null,null,null,null,null,null,null,null,null,null,null,null,null,null,null,null,null,null,null,null,null,null,null,null,null,null,null,{"$f":"IF(CG27=1,\"* El número de Beneficiarios NO DEBE ser mayor que el Total. \",\"\")","v":""},{"$f":"IF(CH27=1,\"* Los Niños, Niñas, Adolescentes y Jóvenes de Programa SENAME NO DEBE ser mayor que el Total. \",\"\")","v":""},"","","","",0,0,0,0,0,0]
["SECCIÓN A.2: CONSULTORÍAS DE SALUD MENTAL EN APS"]
["ACTIVIDAD","TOTAL CONSULTORÍAS RECIBIDAS","CONSULTORÍAS RECIBIDAS",null,"TOTAL Nº DE CASOS REVISADOS",null,null,"0 - 4",null,"5 - 9",null,"10 - 14",null,"15 - 19",null,"20 - 24",null,"25 - 29",null,"30 - 34",null,"35 - 39",null,"40 - 44",null,"45 - 49",null,"50 - 54",null,"55 - 59",null,"60 - 64",null,"65 - 69",null,"70 - 74",null,"75 - 79",null,"80 y mas"]
[null,null,"CONSULTORÍAS DE SALUD MENTAL INFANTO ADOLESCENTE","CONSULTORÍAS DE SALUD MENTAL ADULTO","Ambos Sexos","Hombres","Mujeres","Hombres","Mujeres","Hombres","Mujeres","Hombres","Mujeres","Hombres","Mujeres","Hombres","Mujeres","Hombres","Mujeres","Hombres","Mujeres","Hombres","Mujeres","Hombres","Mujeres","Hombres","Mujeres","Hombres","Mujeres","Hombres","Mujeres","Hombres","Mujeres","Hombres","Mujeres","Hombres","Mujeres","Hombres","Mujeres","Hombres","Mujeres"]
["CONSULTORÍAS DE SALUD MENTAL",{"$f":"SUM(C31:D31)","v":0},null,null,{"$f":"SUM(F31+G31)","v":0},{"$f":"SUM(H31+J31+L31+N31+P31+R31+T31+V31+X31+Z31+AB31+AD31+AF31+AH31+AJ31+AL31+AN31)","v":0},{"$f":"SUM(I31+K31+M31+O31+Q31+S31+U31+W31+Y31+AA31+AC31+AE31+AG31+AI31+AK31+AM31+AO31)","v":0}]
["SECCIÓN A.3: CONSULTORÍAS DE SALUD MENTAL OTORGADA POR EL NIVEL DE ESPECIALIDAD"]
["ACTIVIDAD","TOTAL CONSULTORÍAS OTORGADAS","TOTAL Nº DE CASOS REVISADOS",null,null,"PARTICIPANTES"]
[null,null,"Ambos Sexos","Hombres","Mujeres","Médico Psiquiatría más un profesional","Médico Psiquiatría más dos Profesionales","Uniprofesional","Dos profesionales","Dos o más profesionales"]
["CONSULTORÍAS DE SALUD MENTAL",null,{"$f":"SUM(D35+E35)","v":0}]
["SECCIÓN B.1: ACTIVIDADES GRUPALES (NÚMERO DE SESIONES)"]
["ACTIVIDAD","PROFESIONAL","TOTAL               "]
[]
["PSICOTERAPIA  GRUPAL","MÉDICO PSIQUIATRA"]
[null,"PSICÓLOGO"]
["PSICOTERAPIA FAMILIAR","MÉDICO PSIQUIATRA"]
[null,"PSICÓLOGO"]
["SECCIÓN B.2:  PROGRAMA DE REHABILITACIÓN (PERSONAS CON TRASTORNOS PSIQUIÁTRICOS)"]
["TIPO",null,"TOTAL               ",null,null,"GRUPOS DE EDAD (en años)",null,null,null,null,null,null,null,null,null,null,null,null,null,null,null,null,null,null,null,null,null,null,null,null,null,null,null,null,null,null,null,null,null,"Beneficiarios"]
[null,null,null,null,null,"0 - 4",null,"5 - 9",null,"10 - 14",null,"15 - 19",null,"20 - 24",null,"25 - 29",null,"30 - 34",null,"35 - 39",null,"40 - 44",null,"45 - 49",null,"50 - 54",null,"55 - 59",null,"60 - 64",null,"65 - 69",null,"70 - 74",null,"75 - 79",null,"80 y mas"]
[null,null,"Ambos Sexos","Hombres","Mujeres","Hombres","Mujeres","Hombres","Mujeres","Hombres","Mujeres","Hombres","Mujeres","Hombres","Mujeres","Hombres","Mujeres","Hombres","Mujeres","Hombres","Mujeres","Hombres","Mujeres","Hombres","Mujeres","Hombres","Mujeres","Hombres","Mujeres","Hombres","Mujeres","Hombres","Mujeres","Hombres","Mujeres","Hombres","Mujeres","Hombres","Mujeres"]
["PROGRAMA DE REHABILITACIÓN TIPO I","DÍAS PERSONA",{"$f":"SUM(D47+E47)","v":0},{"$f":"SUM(F47+H47+J47+L47+N47+P47+R47+T47+V47+X47+Z47+AB47+AD47+AF47+AH47+AJ47+AL47)","v":0},{"$f":"SUM(G47+I47+K47+M47+O47+Q47+S47+U47+W47+Y47+AA47+AC47+AE47+AG47+AI47+AK47+AM47)","v":0},null,null,null,null,null,null,null,null,null,null,null,null,null,null,null,null,null,null,null,null,null,null,null,null,null,null,null,null,null,null,null,null,null,null,null,{"$f":"CA47&CB47","v":""},null,null,null,null,null,null,null,null,null,null,null,null,null,null,null,null,null,null,null,null,null,null,null,null,null,null,null,null,null,null,null,null,null,null,null,null,null,{"$f":"IF(CG47=1,\"* El número de Beneficiarios NO DEBE ser mayor que el total. \",\"\")","v":""},{"$f":"IF(CH47=1,\"* No olvide digitar la columna Beneficiarios. \",\"\")","v":""},null,null,null,null,{"$f":"IF(C47<AN47,1,0)","v":0},{"$f":"IF(AND(C47<>0,AN47=\"\"),1,0)","v":0}]
["PROGRAMA DE REHABILITACIÓN TIPO II","DÍAS PERSONA",{"$f":"SUM(D48+E48)","v":0},{"$f":"SUM(F48+H48+J48+L48+N48+P48+R48+T48+V48+X48+Z48+AB48+AD48+AF48+AH48+AJ48+AL48)","v":0},{"$f":"SUM(G48+I48+K48+M48+O48+Q48+S48+U48+W48+Y48+AA48+AC48+AE48+AG48+AI48+AK48+AM48)","v":0},null,null,null,null,null,null,null,null,null,null,null,null,null,null,null,null,null,null,null,null,null,null,null,null,null,null,null,null,null,null,null,null,null,null,null,{"$f":"CA48&CB48","v":""},null,null,null,null,null,null,null,null,null,null,null,null,null,null,null,null,null,null,null,null,null,null,null,null,null,null,null,null,null,null,null,null,null,null,null,null,null,{"$f":"IF(CG48=1,\"* El número de Beneficiarios NO DEBE ser mayor que el total. \",\"\")","v":""},{"$f":"IF(CH48=1,\"* No olvide digitar la columna Beneficiarios. \",\"\")","v":""},null,null,null,null,{"$f":"IF(C48<AN48,1,0)","v":0},{"$f":"IF(AND(C48<>0,AN48=\"\"),1,0)","v":0}]
["SECCIÓN B.3: ACTIVIDADES DE PSIQUIATRÍA FORENSE PARA PERSONAS EN CONFLICTO CON LA JUSTICIA (En lo Penal, Civil, Familiar, etc.)"]
["ACTIVIDAD",null,"TOTAL               ",null,null,"GRUPOS DE EDAD (en años)",null,null,null,null,null,null,null,null,null,null,null,null,null,null,null,null,null,null,null,null,null,null,null,null,null,null,null,null,null,null,null,null,null,"Beneficiarios"]
[null,null,null,null,null,"0 - 4",null,"5 - 9",null,"10 - 14",null,"15 - 19",null,"20 - 24",null,"25 - 29",null,"30 - 34",null,"35 - 39",null,"40 - 44",null,"45 - 49",null,"50 - 54",null,"55 - 59",null,"60 - 64",null,"65 - 69",null,"70 - 74",null,"75 - 79",null,"80 y mas"]
[null,null,"Ambos Sexos","Hombres","Mujeres","Hombres","Mujeres","Hombres","Mujeres","Hombres","Mujeres","Hombres","Mujeres","Hombres","Mujeres","Hombres","Mujeres","Hombres","Mujeres","Hombres","Mujeres","Hombres","Mujeres","Hombres","Mujeres","Hombres","Mujeres","Hombres","Mujeres","Hombres","Mujeres","Hombres","Mujeres","Hombres","Mujeres","Hombres","Mujeres","Hombres","Mujeres"]
["PERITAJE PSIQUIÁTRICO JUDICIAL","MÉDICO",{"$f":"SUM(D53+E53)","v":0},{"$f":"SUM(H53+J53+L53+N53+P53+R53+T53+V53+X53+Z53+AB53+AD53+AF53+AH53+AJ53+AL53)","v":0},0,null,null,null,null,null,null,null,null,null,null,null,null,null,null,null,null,null,null,null,null,null,null,null,null,null,null,null,null,null,null,null,null,null,null,null,{"$f":"CA53&CB53","v":""},null,null,null,null,null,null,null,null,null,null,null,null,null,null,null,null,null,null,null,null,null,null,null,null,null,null,null,null,null,null,null,null,null,null,null,null,null,{"$f":"IF(CG53=1,\"* El número de Beneficiarios NO DEBE ser mayor que el total. \",\"\")","v":""},{"$f":"IF(CH53=1,\"* No olvide digitar la columna Beneficiarios. \",\"\")","v":""},null,null,null,null,{"$f":"IF(C53<AN53,1,0)","v":0},{"$f":"IF(AND(C53<>0,AN53=\"\"),1,0)","v":0}]
[null,"MÉDICO PSIQUIATRA",0,0,0,null,null,null,null,null,null,null,null,null,null,null,null,null,null,null,null,null,null,null,null,null,null,null,null,null,null,null,null,null,null,null,null,null,null,null,"",null,null,null,null,null,null,null,null,null,null,null,null,null,null,null,null,null,null,null,null,null,null,null,null,null,null,null,null,null,null,null,null,null,null,null,null,null,"","",null,null,null,null,0,0]
[null,"PSICÓLOGO/A",0,0,0,null,null,null,null,null,null,null,null,null,null,null,null,null,null,null,null,null,null,null,null,null,null,null,null,null,null,null,null,null,null,null,null,null,null,null,"",null,null,null,null,null,null,null,null,null,null,null,null,null,null,null,null,null,null,null,null,null,null,null,null,null,null,null,null,null,null,null,null,null,null,null,null,null,"","",null,null,null,null,0,0]
[null,"ENFERMERO/A",0,0,0,null,null,null,null,null,null,null,null,null,null,null,null,null,null,null,null,null,null,null,null,null,null,null,null,null,null,null,null,null,null,null,null,null,null,null,"",null,null,null,null,null,null,null,null,null,null,null,null,null,null,null,null,null,null,null,null,null,null,null,null,null,null,null,null,null,null,null,null,null,null,null,null,null,"","",null,null,null,null,0,0]
[null,"ASISTENTE SOCIAL",0,0,0,null,null,null,null,null,null,null,null,null,null,null,null,null,null,null,null,null,null,null,null,null,null,null,null,null,null,null,null,null,null,null,null,null,null,null,"",null,null,null,null,null,null,null,null,null,null,null,null,null,null,null,null,null,null,null,null,null,null,null,null,null,null,null,null,null,null,null,null,null,null,null,null,null,"","",null,null,null,null,0,0]
[null,"OTROS PROFESIONALES",0,0,0,null,null,null,null,null,null,null,null,null,null,null,null,null,null,null,null,null,null,null,null,null,null,null,null,null,null,null,null,null,null,null,null,null,null,null,"",null,null,null,null,null,null,null,null,null,null,null,null,null,null,null,null,null,null,null,null,null,null,null,null,null,null,null,null,null,null,null,null,null,null,null,null,null,"","",null,null,null,null,0,0]
["EXAMEN PRELIMINAR EN DROGAS PARA ADOLESCENTES IMPUTADOS / CONDENADOS ","PSICÓLOGO/A",0,{"$f":"SUM(J59+L59+N59)","v":0},0,null,null,null,null,null,null,null,null,null,null,null,null,null,null,null,null,null,null,null,null,null,null,null,null,null,null,null,null,null,null,null,null,null,null,null,"",null,null,null,null,null,null,null,null,null,null,null,null,null,null,null,null,null,null,null,null,null,null,null,null,null,null,null,null,null,null,null,null,null,null,null,null,null,"","",null,null,null,null,0,0]
[null,"ASISTENTE SOCIAL",0,0,0,null,null,null,null,null,null,null,null,null,null,null,null,null,null,null,null,null,null,null,null,null,null,null,null,null,null,null,null,null,null,null,null,null,null,null,"",null,null,null,null,null,null,null,null,null,null,null,null,null,null,null,null,null,null,null,null,null,null,null,null,null,null,null,null,null,null,null,null,null,null,null,null,null,"","",null,null,null,null,0,0]
["EVALUACIÓN CLÍNICA PARA ADOLESCENTES IMPUTADOS CON CONSUMO DE DROGAS","MÉDICO",0,0,0,null,null,null,null,null,null,null,null,null,null,null,null,null,null,null,null,null,null,null,null,null,null,null,null,null,null,null,null,null,null,null,null,null,null,null,"",null,null,null,null,null,null,null,null,null,null,null,null,null,null,null,null,null,null,null,null,null,null,null,null,null,null,null,null,null,null,null,null,null,null,null,null,null,"","",null,null,null,null,0,0]
[null,"MÉDICO PSIQUIATRA",0,0,0,null,null,null,null,null,null,null,null,null,null,null,null,null,null,null,null,null,null,null,null,null,null,null,null,null,null,null,null,null,null,null,null,null,null,null,"",null,null,null,null,null,null,null,null,null,null,null,null,null,null,null,null,null,null,null,null,null,null,null,null,null,null,null,null,null,null,null,null,null,null,null,null,null,"","",null,null,null,null,0,0]
[null,"PSICÓLOGO/A",0,0,0,null,null,null,null,null,null,null,null,null,null,null,null,null,null,null,null,null,null,null,null,null,null,null,null,null,null,null,null,null,null,null,null,null,null,null,"",null,null,null,null,null,null,null,null,null,null,null,null,null,null,null,null,null,null,null,null,null,null,null,null,null,null,null,null,null,null,null,null,null,null,null,null,null,"","",null,null,null,null,0,0]
[null,"ASISTENTE SOCIAL",0,0,0,null,null,null,null,null,null,null,null,null,null,null,null,null,null,null,null,null,null,null,null,null,null,null,null,null,null,null,null,null,null,null,null,null,null,null,"",null,null,null,null,null,null,null,null,null,null,null,null,null,null,null,null,null,null,null,null,null,null,null,null,null,null,null,null,null,null,null,null,null,null,null,null,null,"","",null,null,null,null,0,0]
["EXAMEN MENTAL PRELIMINAR A PERSONAS IMPUTADAS","MÉDICO",0,{"$f":"SUM(J65+L65+N65+P65+R65+T65+V65+X65+Z65+AB65+AD65+AF65+AH65+AJ65+AL65)","v":0},{"$f":"SUM(K65+M65+O65+Q65+S65+U65+W65+Y65+AA65+AC65+AE65+AG65+AI65+AK65+AM65)","v":0},null,null,null,null,null,null,null,null,null,null,null,null,null,null,null,null,null,null,null,null,null,null,null,null,null,null,null,null,null,null,null,null,null,null,null,"",null,null,null,null,null,null,null,null,null,null,null,null,null,null,null,null,null,null,null,null,null,null,null,null,null,null,null,null,null,null,null,null,null,null,null,null,null,"","",null,null,null,null,0,0]
[null,"MÉDICO PSIQUIATRA",0,0,0,null,null,null,null,null,null,null,null,null,null,null,null,null,null,null,null,null,null,null,null,null,null,null,null,null,null,null,null,null,null,null,null,null,null,null,"",null,null,null,null,null,null,null,null,null,null,null,null,null,null,null,null,null,null,null,null,null,null,null,null,null,null,null,null,null,null,null,null,null,null,null,null,null,"","",null,null,null,null,0,0]
["PERITAJE DROGAS","MÉDICO",0,0,0,null,null,null,null,null,null,null,null,null,null,null,null,null,null,null,null,null,null,null,null,null,null,null,null,null,null,null,null,null,null,null,null,null,null,null,"",null,null,null,null,null,null,null,null,null,null,null,null,null,null,null,null,null,null,null,null,null,null,null,null,null,null,null,null,null,null,null,null,null,null,null,null,null,"","",null,null,null,null,0,0]
[null,"MÉDICO PSIQUIATRA",0,0,0,null,null,null,null,null,null,null,null,null,null,null,null,null,null,null,null,null,null,null,null,null,null,null,null,null,null,null,null,null,null,null,null,null,null,null,"",null,null,null,null,null,null,null,null,null,null,null,null,null,null,null,null,null,null,null,null,null,null,null,null,null,null,null,null,null,null,null,null,null,null,null,null,null,"","",null,null,null,null,0,0]
["ATENCIÓN A AGRESORES DERIVADOS DE TRIBUNALES (LEY DE VIOLENCIA INTRAFAMILIAR","MÉDICO",0,0,0,null,null,null,null,null,null,null,null,null,null,null,null,null,null,null,null,null,null,null,null,null,null,null,null,null,null,null,null,null,null,null,null,null,null,null,"",null,null,null,null,null,null,null,null,null,null,null,null,null,null,null,null,null,null,null,null,null,null,null,null,null,null,null,null,null,null,null,null,null,null,null,null,null,"","",null,null,null,null,0,0]
[null,"MÉDICO PSIQUIATRA",0,0,0,null,null,null,null,null,null,null,null,null,null,null,null,null,null,null,null,null,null,null,null,null,null,null,null,null,null,null,null,null,null,null,null,null,null,null,"",null,null,null,null,null,null,null,null,null,null,null,null,null,null,null,null,null,null,null,null,null,null,null,null,null,null,null,null,null,null,null,null,null,null,null,null,null,"","",null,null,null,null,0,0]
[null,"PSICÓLOGO/A",0,0,0,null,null,null,null,null,null,null,null,null,null,null,null,null,null,null,null,null,null,null,null,null,null,null,null,null,null,null,null,null,null,null,null,null,null,null,"",null,null,null,null,null,null,null,null,null,null,null,null,null,null,null,null,null,null,null,null,null,null,null,null,null,null,null,null,null,null,null,null,null,null,null,null,null,"","",null,null,null,null,0,0]
[null,"ENFERMERO/A",0,0,0,null,null,null,null,null,null,null,null,null,null,null,null,null,null,null,null,null,null,null,null,null,null,null,null,null,null,null,null,null,null,null,null,null,null,null,"",null,null,null,null,null,null,null,null,null,null,null,null,null,null,null,null,null,null,null,null,null,null,null,null,null,null,null,null,null,null,null,null,null,null,null,null,null,"","",null,null,null,null,0,0]
[null,"ASISTENTE SOCIAL",0,0,0,null,null,null,null,null,null,null,null,null,null,null,null,null,null,null,null,null,null,null,null,null,null,null,null,null,null,null,null,null,null,null,null,null,null,null,"",null,null,null,null,null,null,null,null,null,null,null,null,null,null,null,null,null,null,null,null,null,null,null,null,null,null,null,null,null,null,null,null,null,null,null,null,null,"","",null,null,null,null,0,0]
[null,"OTROS PROFESIONALES",0,0,0,null,null,null,null,null,null,null,null,null,null,null,null,null,null,null,null,null,null,null,null,null,null,null,null,null,null,null,null,null,null,null,null,null,null,null,"",null,null,null,null,null,null,null,null,null,null,null,null,null,null,null,null,null,null,null,null,null,null,null,null,null,null,null,null,null,null,null,null,null,null,null,null,null,"","",null,null,null,null,0,0]
["SECCIÓN B.4: DISPOSITIVOS DE SALUD MENTAL"]
["TIPO DE DISPOSITIVO",null,"Nº DE PERSONAS ATENDIDAS",null,"DÍAS DE ESTADA DE PERSONAS ATENDIDAS EN EL MES",null,"Nº DE EGRESOS",null,"Nº DE PERSONAS EN LISTA DE ESPERA"]
[null,null,"Menos de 20 años","20 y más años","Menos de 20 años","20 y más años","Menos de 20 años","20 y más años","Menos de 20 años","20 y más años"]
["HOGAR PROTEGIDO  "]
["RESIDENCIA PROTEGIDA"]
["HOSPITAL PSIQUIÁTRICO DIURNO"]
["CENTRO PRIVATIVO DE LIBERTAD (SENAME)"]
["SECCIÓN C.1: ACTIVIDADES DE COORDINACION SECTORIAL, INTERSECTORIAL Y COMUNITARIA"]
["ACTIVIDADES","TOTAL DE PARTICIPANTES","Nº REUNIONES / SESIONES","Nº INSTITUCIONES,  ORGANIZACIONES  PARTICIPANTES"]
[]
["TRABAJO INTERSECTORIAL"]
["TRABAJO CON ORGANIZACIONES COMUNITARIAS DE BASE"]
["TRABAJO CON ORGANIZACIONES DE USUARIOS Y FAMILIARES"]
["COLABORACIÓN CON GRUPO DE AUTOAYUDA"]
["REUNIONES CON INSTITUCIONES DEL SECTOR SALUD PROGRAMA ACOMPAÑAMIENTO PSICOSOCIAL"]
["REUNIONES CON INSTITUCIONES DEL INTERSECTOR ACOMPAÑAMIENTO PSICOSOCIAL"]
["REUNIONES CON ORGANIZACIONES COMUNITARIAS ACOMPAÑAMIENTO PSICOSOCIAL"]
["SECCIÓN C.2: INFORMES A TRIBUNALES"]
["TRIBUNALES","Nº INFORMES","ASISTENCIA A TRIBUNALES"]
[null,null,"Nº de profesionales","Nº de veces"]
["DE FAMILIA"]
["PENALES"]
["CIVILES"]
["POLICÍA LOCAL"]
["LABORALES"]
["TOTAL",{"$f":"SUM(B95:B99)","v":0},{"$f":"SUM(C95:C99)","v":0},{"$f":"SUM(D95:D99)","v":0}]
["SECCIÓN D: PLANES Y EVALUACIONES PROGRAMA DE ACOMPAÑAMIENTO PSICOSOCIAL EN ATENCIÓN PRIMARIA"]
["ACTIVIDAD","TOTAL               ",null,null,"GRUPOS DE EDAD  (en años)"]
[null,null,null,null,"0 - 4",null,"5 - 9",null,"10 - 14",null,"15 - 19",null,"20 - 24"]
[null,"Ambos Sexos","Hombres","Mujeres","Hombres","Mujeres","Hombres","Mujeres","Hombres","Mujeres","Hombres","Mujeres","Hombres","Mujeres"]
["PLAN DE ACOMPAÑAMIENTO ELABORADOS",{"$f":"SUM(C105:D105)","v":0},{"$f":"SUM(E105+G105+I105+K105+M105)","v":0},{"$f":"SUM(F105+H105+J105+L105+N105)","v":0}]
["EVALUACIONES PARTICIPATIVAS REALIZADAS AL EGRESO DEL PROGRAMA",{"$f":"SUM(C106:D106)","v":0},{"$f":"SUM(E106+G106+I106+K106+M106)","v":0},{"$f":"SUM(F106+H106+J106+L106+N106)","v":0}]
["SECCIÓN E: PLANES DE CUIDADO INTEGRAL (PCI)"]
["ACTIVIDAD","TOTAL               ",null,null,"GRUPOS DE EDAD  (en años)",null,null,null,null,null,null,null,null,null,null,null,null,null,null,null,null,null,null,null,null,null,null,null,null,null,null,null,null,null,null,null,null,null,"Niños, Niñas, Adolescentes y Jóvenes Población SENAME"]
[null,null,null,null,"0 - 4",null,"5 - 9",null,"10 - 14",null,"15 - 19",null,"20 - 24",null,"25 - 29",null,"30 - 34",null,"35 - 39",null,"40 - 44",null,"45 - 49",null,"50 - 54",null,"55 - 59",null,"60 - 64",null,"65 - 69",null,"70 - 74",null,"75 - 79",null,"80 y mas"]
[null,"Ambos Sexos","Hombres","Mujeres","Hombres","Mujeres","Hombres","Mujeres","Hombres","Mujeres","Hombres","Mujeres","Hombres","Mujeres","Hombres","Mujeres","Hombres","Mujeres","Hombres","Mujeres","Hombres","Mujeres","Hombres","Mujeres","Hombres","Mujeres","Hombres","Mujeres","Hombres","Mujeres","Hombres","Mujeres","Hombres","Mujeres","Hombres","Mujeres","Hombres","Mujeres"]
["PLAN DE CUIDADO INTEGRAL (PCI) ELABORADOS",{"$f":"SUM(C111:D111)","v":0},{"$f":"+E111+G111+I111+K111+M111+O111+Q111+S111+U111+W111+Y111+AA111+AC111+AE111+AG111+AI111+AK111","v":0},{"$f":"+F111+H111+J111+L111+N111+P111+R111+T111+V111+X111+Z111+AB111+AD111+AF111+AH111+AJ111+AL111","v":0}]
["SECCIÓN F: PERSONAS CON EVALUACIÓN Y CONFIRMACIÓN DIAGNOSTICA EN APS"]
["N° DE EVALUACIONES DIAGNÓSTICAS","REALIZADA POR",null,null,"N° CONFIRMACIONES DIAGNÓSTICAS"]
[null,"1 PROFESIONAL","2 PROFESIONALES","3 PROFESIONALES"]
["TOTAL"]
["SECCIÓN G: EVALUACIONES PROGRAMA PLAN NACIONAL DE DEMENCIA"]
["ACTIVIDAD","TOTAL               "]
[null,null,null,null,"AUMENTO",null,"MANTENCIÓN",null,"DISMINUCIÓN"]
[null,"Ambos Sexos","Hombres","Mujeres","Hombres","Mujeres","Hombres","Mujeres","Hombres","Mujeres"]
["PERSONAS CON DEMENCIA CON  REEVALUACIÓN DETERIORO GLOGAL GDS REISBERG",{"$f":"SUM(C120:D120)","v":0},{"$f":"+E120+G120+I120","v":0},0]
["CUIDADORES PERSONAS CON DEMENCIA CON REEVALUACIÓN SOBRECARGA DEL CUIDADO",{"$f":"SUM(C121:D121)","v":0},0,0]
["CUIDADORES DE PERSONAS CON DEMENCIA CON EVALUACIÓN DE SATISFACCIÓN USARIA DEL PROCESO DE INTERVENCIÓN",{"$f":"SUM(C122:D122)","v":0},0,0]
["SECCIÓN H: EVALUACIÓN PROGRAMA DE APOYO A LA SALUD MENTAL INFANTIL (PASMI)"]
["ACTIVIDAD","TOTAL","GRUPOS DE EDAD 5 A 9 AÑOS",null,"Evaluadores",null,"Cumplimiento de criterios diagnósticos según  Evaluación Diagnóstica Integral (EDI)"]
[null,null,"Hombres","Mujeres","Equipo biopsicosocial","Equipo psicosocial","Requiere tratamiento en APS","Requiere tratamiento en nivel secundario","No Requiere tratamiento"]
["Evaluación Diagnostica Integral (EDI)",{"$f":"SUM(C126:D126)","v":0}]
["SECCIÓN I : SALUD MENTAL EN SITUACIONES DE EMERGENCIA O DESASTRE"]
["ACTIVIDAD","PROFESIONAL","TOTAL               ",null,null,"GRUPOS DE EDAD  (en años)",null,null,null,null,null,null,null,null,null,null,null,null,null,null,null,null,null,null,null,null,null,null,null,null,null,null,null,null,null,null,null,null,null,"Beneficiarios","Niños, Niñas, Adolescentes y Jóvenes Población SENAME","Pueblos Originarios","Migrantes"]
[null,null,null,null,null,"0 - 4",null,"5 - 9",null,"10 - 14",null,"15 - 19",null,"20 - 24",null,"25 - 29",null,"30 - 34",null,"35 - 39",null,"40 - 44",null,"45 - 49",null,"50 - 54",null,"55 - 59",null,"60 - 64",null,"65 - 69",null,"70 - 74",null,"75 - 79",null,"80 y mas"]
[null,null,"Ambos Sexos","Hombres","Mujeres","Hombres","Mujeres","Hombres","Mujeres","Hombres","Mujeres","Hombres","Mujeres","Hombres","Mujeres","Hombres","Mujeres","Hombres","Mujeres","Hombres","Mujeres","Hombres","Mujeres","Hombres","Mujeres","Hombres","Mujeres","Hombres","Mujeres","Hombres","Mujeres","Hombres","Mujeres","Hombres","Mujeres","Hombres","Mujeres","Hombres","Mujeres"]
["CONSULTA DE SALUD MENTAL ASOCIADA A EMERGENCIA O DESASTRE","MÉDICO",{"$f":"SUM(D131+E131)","v":0},{"$f":"SUM(F131+H131+J131+L131+N131+P131+R131+T131+V131+X131+Z131+AB131+AD131+AF131+AH131+AJ131+AL131)","v":0},{"$f":"SUM(G131+I131+K131+M131+O131+Q131+S131+U131+W131+Y131+AA131+AC131+AE131+AG131+AI131+AK131+AM131)","v":0},null,null,null,null,null,null,null,null,null,null,null,null,null,null,null,null,null,null,null,null,null,null,null,null,null,null,null,null,null,null,null,null,null,null,null,null,null,null,{"$f":"CONCATENATE(CF131,CA131,CB131,CC131,CD131,CE131)","v":""},null,null,null,null,null,null,null,null,null,null,null,null,null,null,null,null,null,null,null,null,null,null,null,null,null,null,null,null,null,null,null,null,null,null,{"$f":"IF(CG131=1,\"* El número de Beneficiarios NO DEBE ser mayor que el Total. \",\"\")","v":""},{"$f":"IF(CH131=1,\"* Los Niños, Niñas, Adolescentes y Jóvenes de Programa SENAME NO DEBE ser mayor que el Total. \",\"\")","v":""},{"$f":"IF(CI131=1,\"* El número de personas pertenecientes a Pueblos Originarios NO DEBE ser mayor que el Total. \",\"\")","v":""},{"$f":"IF(CJ131=1,\"* El número de personas Migrantes NO DEBE ser mayor que el Total. \",\"\")","v":""},null,{"$f":"IF(CL131=1,\"* No olvide digitar la columna Beneficiarios y/o Niños, Niñas, Adolescentes y Jóvenes de Programa SENAME y/o Pueblos Originarios y/o Migrantes y/o Demencia (Digite CEROS si no tiene). \",\"\")","v":""},{"$f":"IF($C131<AN131,1,0)","v":0},{"$f":"IF($C131<AO131,1,0)","v":0},{"$f":"IF($C131<AP131,1,0)","v":0},{"$f":"IF($C131<AQ131,1,0)","v":0},null,{"$f":"IF(AND(C131<>0,OR(AN131=\"\",AO131=\"\",AP131=\"\",AQ131=\"\")),1,0)","v":0}]
[null,"PSICÓLOGO/A",0,0,0,null,null,null,null,null,null,null,null,null,null,null,null,null,null,null,null,null,null,null,null,null,null,null,null,null,null,null,null,null,null,null,null,null,null,null,null,null,null,"",null,null,null,null,null,null,null,null,null,null,null,null,null,null,null,null,null,null,null,null,null,null,null,null,null,null,null,null,null,null,null,null,null,null,"","","","",null,"",0,0,0,0,null,0]
[null,"ENFERMERA /O",0,0,0,null,null,null,null,null,null,null,null,null,null,null,null,null,null,null,null,null,null,null,null,null,null,null,null,null,null,null,null,null,null,null,null,null,null,null,null,null,null,"",null,null,null,null,null,null,null,null,null,null,null,null,null,null,null,null,null,null,null,null,null,null,null,null,null,null,null,null,null,null,null,null,null,null,"","","","",null,"",0,0,0,0,null,0]
[null,"MATRONA /ÓN",0,0,0,null,null,null,null,null,null,null,null,null,null,null,null,null,null,null,null,null,null,null,null,null,null,null,null,null,null,null,null,null,null,null,null,null,null,null,null,null,null,"",null,null,null,null,null,null,null,null,null,null,null,null,null,null,null,null,null,null,null,null,null,null,null,null,null,null,null,null,null,null,null,null,null,null,"","","","",null,"",0,0,0,0,null,0]
[null,"ASISTENTE SOCIAL",0,0,0,null,null,null,null,null,null,null,null,null,null,null,null,null,null,null,null,null,null,null,null,null,null,null,null,null,null,null,null,null,null,null,null,null,null,null,null,null,null,"",null,null,null,null,null,null,null,null,null,null,null,null,null,null,null,null,null,null,null,null,null,null,null,null,null,null,null,null,null,null,null,null,null,null,"","","","",null,"",0,0,0,0,null,0]
[null,"OTROS PROFESIONALES",0,0,0,null,null,null,null,null,null,null,null,null,null,null,null,null,null,null,null,null,null,null,null,null,null,null,null,null,null,null,null,null,null,null,null,null,null,null,null,null,null,"",null,null,null,null,null,null,null,null,null,null,null,null,null,null,null,null,null,null,null,null,null,null,null,null,null,null,null,null,null,null,null,null,null,null,"","","","",null,"",0,0,0,0,null,0]
[null,"TERAPEUTA OCUPACIONAL",0,0,0,null,null,null,null,null,null,null,null,null,null,null,null,null,null,null,null,null,null,null,null,null,null,null,null,null,null,null,null,null,null,null,null,null,null,null,null,null,null,"",null,null,null,null,null,null,null,null,null,null,null,null,null,null,null,null,null,null,null,null,null,null,null,null,null,null,null,null,null,null,null,null,null,null,"","","","",null,"",0,0,0,0,null,0]
[null,"TÉCNICO PARAMÉDICO y EN SALUD MENTAL",0,0,0,null,null,null,null,null,null,null,null,null,null,null,null,null,null,null,null,null,null,null,null,null,null,null,null,null,null,null,null,null,null,null,null,null,null,null,null,null,null,"",null,null,null,null,null,null,null,null,null,null,null,null,null,null,null,null,null,null,null,null,null,null,null,null,null,null,null,null,null,null,null,null,null,null,"","","","",null,"",0,0,0,0,null,0]
[null,"GESTOR COMUNITARIO",0,0,0,null,null,null,null,null,null,null,null,null,null,null,null,null,null,null,null,null,null,null,null,null,null,null,null,null,null,null,null,null,null,null,null,null,null,null,null,null,null,"",null,null,null,null,null,null,null,null,null,null,null,null,null,null,null,null,null,null,null,null,null,null,null,null,null,null,null,null,null,null,null,null,null,null,"","","","",null,"",0,0,0,0,null,0]
[null,"TÉCNICO REHABILITACIÓN ALCOHOL Y DROGAS",0,0,0,null,null,null,null,null,null,null,null,null,null,null,null,null,null,null,null,null,null,null,null,null,null,null,null,null,null,null,null,null,null,null,null,null,null,null,null,null,null,"",null,null,null,null,null,null,null,null,null,null,null,null,null,null,null,null,null,null,null,null,null,null,null,null,null,null,null,null,null,null,null,null,null,null,"","","","",null,"",0,0,0,0,null,0]
[null,"TOTAL",0,0,0,{"$f":"SUM(F131:F140)","v":0},{"$f":"SUM(G131:G140)","v":0},0,0,0,0,0,0,0,0,0,0,0,0,0,0,0,0,0,0,0,0,0,0,0,0,0,0,0,0,0,0,0,0,0,0,0,0,null,null,null,null,null,null,null,null,null,null,null,null,null,null,null,null,null,null,null,null,null,null,null,null,null,null,null,null,null,null,null,null,null,null,null,"","","","",null,"",0,0,0,0,null,0]
["INTERVENCIÓN PSICOSOCIAL GRUPAL",null,0,0,0,null,null,null,null,null,null,null,null,null,null,null,null,null,null,null,null,null,null,null,null,null,null,null,null,null,null,null,null,null,null,null,null,null,null,null,null,null,null,{"$f":"CONCATENATE(CF142,CA142,CB142,CC142,CD142,CE142)","v":""},null,null,null,null,null,null,null,null,null,null,null,null,null,null,null,null,null,null,null,null,null,null,null,null,null,null,null,null,null,null,null,null,null,null,"","","","",null,"",0,0,0,0,null,0]
["PRIMERA AYUDA PSICOLÓGICA",null,0,0,0,null,null,null,null,null,null,null,null,null,null,null,null,null,null,null,null,null,null,null,null,null,null,null,null,null,null,null,null,null,null,null,null,null,null,null,null,null,null,{"$f":"CONCATENATE(CF143,CA143,CB143,CC143,CD143,CE143)","v":""},null,null,null,null,null,null,null,null,null,null,null,null,null,null,null,null,null,null,null,null,null,null,null,null,null,null,null,null,null,null,null,null,null,null,"","","","",null,"",0,0,0,0,null,0]
["SECCIÓN J: CONSULTA DE SALUD MENTAL POR EL NIVEL DE ESPECIALIDAD"]
["ACTIVIDAD","PROFESIONAL","TOTAL               ",null,null,"GRUPOS DE EDAD  (en años)",null,null,null,null,null,null,null,null,null,null,null,null,null,null,null,null,null,null,null,null,null,null,null,null,null,null,null,null,null,null,null,null,null,"Beneficiarios","Niños, Niñas, Adolescentes y Jóvenes Población SENAME","Pueblos Originarios","Migrantes"]
[null,null,null,null,null,"0 - 4",null,"5 - 9",null,"10 - 14",null,"15 - 19",null,"20 - 24",null,"25 - 29",null,"30 - 34",null,"35 - 39",null,"40 - 44",null,"45 - 49",null,"50 - 54",null,"55 - 59",null,"60 - 64",null,"65 - 69",null,"70 - 74",null,"75 - 79",null,"80 y mas"]
[null,null,"Ambos Sexos","Hombres","Mujeres","Hombres","Mujeres","Hombres","Mujeres","Hombres","Mujeres","Hombres","Mujeres","Hombres","Mujeres","Hombres","Mujeres","Hombres","Mujeres","Hombres","Mujeres","Hombres","Mujeres","Hombres","Mujeres","Hombres","Mujeres","Hombres","Mujeres","Hombres","Mujeres","Hombres","Mujeres","Hombres","Mujeres","Hombres","Mujeres","Hombres","Mujeres"]
["CONSULTA NUEVA SALUD MENTAL (INGRESO)","UNIPROFESIONAL",{"$f":"SUM(D148+E148)","v":0},{"$f":"SUM(F148+H148+J148+L148+N148+P148+R148+T148+V148+X148+Z148+AB148+AD148+AF148+AH148+AJ148+AL148)","v":0},0,null,null,null,null,null,null,null,null,null,null,null,null,null,null,null,null,null,null,null,null,null,null,null,null,null,null,null,null,null,null,null,null,null,null,null,null,null,null,{"$f":"CONCATENATE(CF148,CA148,CB148,CC148,CD148,CE148)","v":""},null,null,null,null,null,null,null,null,null,null,null,null,null,null,null,null,null,null,null,null,null,null,null,null,null,null,null,null,null,null,null,null,null,null,{"$f":"IF(CG148=1,\"* El número de Beneficiarios NO DEBE ser mayor que el Total. \",\"\")","v":""},{"$f":"IF(CH148=1,\"* Los Niños, Niñas, Adolescentes y Jóvenes de Programa SENAME NO DEBE ser mayor que el Total. \",\"\")","v":""},{"$f":"IF(CI148=1,\"* El número de personas pertenecientes a Pueblos Originarios NO DEBE ser mayor que el Total. \",\"\")","v":""},{"$f":"IF(CJ148=1,\"* El número de personas Migrantes NO DEBE ser mayor que el Total. \",\"\")","v":""},null,{"$f":"IF(CL148=1,\"* No olvide digitar la columna Beneficiarios y/o Niños, Niñas, Adolescentes y Jóvenes de Programa SENAME y/o Pueblos Originarios y/o Migrantes y/o Demencia (Digite CEROS si no tiene). \",\"\")","v":""},{"$f":"IF($C148<AN148,1,0)","v":0},0,0,0,null,{"$f":"IF(AND(C148<>0,OR(AN148=\"\",AO148=\"\",AP148=\"\",AQ148=\"\")),1,0)","v":0}]
[null,"DOS PROFESIONALES",{"$f":"SUM(D149+E149)","v":0},0,0,null,null,null,null,null,null,null,null,null,null,null,null,null,null,null,null,null,null,null,null,null,null,null,null,null,null,null,null,null,null,null,null,null,null,null,null,null,null,{"$f":"CONCATENATE(CF149,CA149,CB149,CC149,CD149,CE149)","v":""},null,null,null,null,null,null,null,null,null,null,null,null,null,null,null,null,null,null,null,null,null,null,null,null,null,null,null,null,null,null,null,null,null,null,{"$f":"IF(CG149=1,\"* El número de Beneficiarios NO DEBE ser mayor que el Total. \",\"\")","v":""},{"$f":"IF(CH149=1,\"* Los Niños, Niñas, Adolescentes y Jóvenes de Programa SENAME NO DEBE ser mayor que el Total. \",\"\")","v":""},{"$f":"IF(CI149=1,\"* El número de personas pertenecientes a Pueblos Originarios NO DEBE ser mayor que el Total. \",\"\")","v":""},{"$f":"IF(CJ149=1,\"* El número de personas Migrantes NO DEBE ser mayor que el Total. \",\"\")","v":""},null,{"$f":"IF(CL149=1,\"* No olvide digitar la columna Beneficiarios y/o Niños, Niñas, Adolescentes y Jóvenes de Programa SENAME y/o Pueblos Originarios y/o Migrantes y/o Demencia (Digite CEROS si no tiene). \",\"\")","v":""},0,0,0,0,null,{"$f":"IF(AND(C149<>0,OR(AN149=\"\",AO149=\"\",AP149=\"\",AQ149=\"\")),1,0)","v":0}]
[null,"MULTIPROFESIONAL",{"$f":"SUM(D150+E150)","v":0},0,0,null,null,null,null,null,null,null,null,null,null,null,null,null,null,null,null,null,null,null,null,null,null,null,null,null,null,null,null,null,null,null,null,null,null,null,null,null,null,{"$f":"CONCATENATE(CF150,CA150,CB150,CC150,CD150,CE150)","v":""},null,null,null,null,null,null,null,null,null,null,null,null,null,null,null,null,null,null,null,null,null,null,null,null,null,null,null,null,null,null,null,null,null,null,{"$f":"IF(CG150=1,\"* El número de Beneficiarios NO DEBE ser mayor que el Total. \",\"\")","v":""},{"$f":"IF(CH150=1,\"* Los Niños, Niñas, Adolescentes y Jóvenes de Programa SENAME NO DEBE ser mayor que el Total. \",\"\")","v":""},{"$f":"IF(CI150=1,\"* El número de personas pertenecientes a Pueblos Originarios NO DEBE ser mayor que el Total. \",\"\")","v":""},{"$f":"IF(CJ150=1,\"* El número de personas Migrantes NO DEBE ser mayor que el Total. \",\"\")","v":""},null,{"$f":"IF(CL150=1,\"* No olvide digitar la columna Beneficiarios y/o Niños, Niñas, Adolescentes y Jóvenes de Programa SENAME y/o Pueblos Originarios y/o Migrantes y/o Demencia (Digite CEROS si no tiene). \",\"\")","v":""},0,0,0,0,null,{"$f":"IF(AND(C150<>0,OR(AN150=\"\",AO150=\"\",AP150=\"\",AQ150=\"\")),1,0)","v":0}]
[null,"TOTAL",{"$f":"SUM(D151+E151)","v":0},0,0,{"$f":"SUM(F148:F150)","v":0},0,0,0,0,0,0,0,0,0,0,0,0,0,0,0,0,0,0,0,0,0,0,0,0,0,0,0,0,0,0,0,0,0,0,0,0,0]
[]
[]
[]
[]
[]
[]
[]
[]
[]
[]
[]
[]
[]
[]
[]
[]
[]
[]
[]
[]
[{"$f":"SUM(C23,C25:C27,E31,C47:C48,C53:C74,B105:B106,B85:D91,B100,C39:C42,C78:J81)","v":0},{"$f":"SUM(CG8:CL106)","v":0}]

{"sheet":"A07","index":7,"n_rows":193,"n_cols":90,"rows_kept":193,"cut":false,"hidden":false,"merged":[[113,0,114,0],[115,0,116,0],[108,0,110,0],[103,0,105,0],[103,1,105,1],[104,37,104,38],[106,0,107,0],[104,27,104,28],[111,0,112,0],[104,15,104,16],[101,0,101,1],[104,31,104,32],[103,2,104,4],[103,5,103,38],[104,17,104,18],[104,19,104,20],[104,33,104,34],[104,5,104,6],[104,7,104,8],[104,9,104,10],[104,11,104,12],[104,13,104,14],[104,29,104,30],[104,21,104,22],[104,23,104,24],[104,35,104,36],[93,0,95,0],[89,0,91,1],[89,2,90,4],[89,5,89,38],[90,37,90,38],[90,31,90,32],[90,33,90,34],[90,35,90,36],[90,15,90,16],[90,17,90,18],[90,19,90,20],[90,5,90,6],[90,7,90,8],[90,9,90,10],[90,11,90,12],[92,0,92,1],[103,39,105,39],[7,37,8,38],[7,30,8,31],[8,22,8,25],[8,1,9,1],[8,2,8,18],[8,26,8,29],[90,13,90,14],[7,35,8,36],[7,32,8,33],[96,0,96,1],[104,25,104,26],[97,0,97,1],[98,0,98,1],[99,0,99,1],[100,0,100,1],[90,25,90,26],[90,27,90,28],[90,29,90,30],[5,0,5,29],[7,0,9,0],[7,22,7,29],[6,44,6,46],[4,41,6,41],[4,42,6,43],[7,42,9,42],[7,45,8,47],[7,41,9,41],[7,43,8,44],[7,48,8,49],[8,19,9,19],[8,20,8,21],[7,1,7,21],[103,42,105,42],[103,43,105,43],[89,42,91,42],[7,39,8,40],[103,40,104,41],[89,41,91,41],[89,40,91,40],[103,44,105,44],[7,34,9,34],[89,39,91,39],[90,21,90,22],[90,23,90,24]]}
["SERVICIO DE SALUD"]
[{"$f":"CONCATENATE(\"COMUNA: \",NOMBRE!B2,\" - \",\"( \",NOMBRE!C2,NOMBRE!D2,NOMBRE!E2,NOMBRE!F2,NOMBRE!G2,\" )\")","v":"COMUNA:  - (  )"}]
[{"$f":"CONCATENATE(\"ESTABLECIMIENTO/ESTRATEGIA: \",NOMBRE!B3,\" - \",\"( \",NOMBRE!C3,NOMBRE!D3,NOMBRE!E3,NOMBRE!F3,NOMBRE!G3,NOMBRE!H3,\" )\")","v":"ESTABLECIMIENTO/ESTRATEGIA:  - (  )"}]
[{"$f":"CONCATENATE(\"MES: \",NOMBRE!B6,\" - \",\"( \",NOMBRE!C6,NOMBRE!D6,\" )\")","v":"MES:  - (  )"}]
[{"$f":"CONCATENATE(\"AÑO: \",NOMBRE!B7)","v":"AÑO: 2020"}]
["REM-07.  ATENCIÓN  DE ESPECIALIDADES "]
["SECCIÓN A : CONSULTAS MÉDICAS"]
["ESPECIALIDADES   Y  SUB-ESPECIALIDADES","CONSULTAS MÉDICAS",null,null,null,null,null,null,null,null,null,null,null,null,null,null,null,null,null,null,null,null,"CONSULTAS NUEVAS SEGÚN ORIGEN(*)",null,null,null,null,null,null,null,"CONSULTAS PERTINENTES (Nuevas originadas en APS)",null,"INASISTENTE A CONSULTA MÉDICA (NSP)",null,"CONSULTA ABREVIADA (Confección de recetas o lectura de exámenes)","INTERCONSULTAS A HOSPITALIZADOS (EN SALA)",null,"ALTA DE CONSULTA DE ESPECIALIDAD AMBULATORIA",null,"CONSULTAS REALIZADAS EN APS E INFORMADAS EN SECCIÓN A",null,"COMPRA DE SERVICIO","CONSULTAS MÉDICAS POR OPERATIVOS (no incluidas en produccion)","TOTAL INTERCONSULTAS GENERADAS EN APS PARA DERIVACION ESPECIALIDAD",null,"CONSULTORÍAS DE MEDICOS ESPECIALISTAS OTORGADAS",null,null,"CONSULTA DE ESPECIALIDAD RESUELTA POR MÉDICO GENERAL"]
[null,"TOTAL               ","GRUPOS DE EDAD (en años)",null,null,null,null,null,null,null,null,null,null,null,null,null,null,null,null,"A BENEFICIARIOS","POR SEXO",null,"Menos 15 años",null,null,null,"De 15 y más años"]
[null,null,"0 - 4","5 - 9","10 - 14","15 - 19","20 - 24","25 - 29","30 - 34","35 - 39","40 - 44","45 - 49","50 - 54","55 - 59","60 - 64","65 - 69","70 - 74","75 - 79","80 y mas",null,"Hombres","Mujeres","TOTAL","APS","CAE/CDT/CRS","URGENCIA","TOTAL","APS","CAE/CDT/CRS","URGENCIA","Según protocolo de referencia","Según tiempo establecido","NUEVAS","CONTROLES",null,"Menos \n15 años","15 y más \naños","Menos \n15 años","15 y más \naños","CONTRATADOS POR EL ESTABLECIMIENTO O DIRECCIÓN DEL SERVICIO","ESPECIALISTAS DE  HOSPITALES",null,null,"Menos 15 años","15 y más años","Nº Consultorías","Nº de casos revisados por el equipo","Nº de casos atendidos","Menos \n15 años","15 y más \naños"]
["PEDIATRÍA",{"$f":"SUM(C11+D11+E11+F11+G11+H11+I11+J11+K11)","v":0},null,null,null,null,null,null,null,null,null,null,null,null,null,null,null,null,null,null,null,null,{"$f":"SUM(X11+Y11+Z11)","v":0},null,null,null,{"$f":"SUM(AB11+AC11+AD11)","v":0},null,null,null,null,null,null,null,null,null,null,null,null,null,null,null,null,null,null,null,null,null,null,null,{"$f":"CA11&CB11&CC11&CD11&CE11","v":""},null,null,null,null,null,null,null,null,null,null,null,null,null,null,null,null,null,null,null,null,null,null,null,null,null,null,null,{"$f":"IF(CG11=1,\"* El número de consultas según sexo NO DEBE ser diferente al Total. \",\"\")","v":""},{"$f":"IF(CH11=1,\"* No olvide digitar la columna Beneficiarios (Digite CEROS si no tiene). \",\"\")","v":""},{"$f":"IF(CI11=1,\"* El número de Beneficiarios NO DEBE ser mayor que el Total. \",\"\")","v":""},{"$f":"IF(CJ11=1,\"* El total de Consultas Nuevas NO DEBE ser MAYOR que el total de las Consultas Médicas. \",\"\")","v":""},{"$f":"IF(CK11=1,\"* No olvide registrar datos en Pertinencia (Digite CEROS si no tiene). \",\"\")","v":""},null,{"$f":"IF(B11<(U11+V11),1,0)","v":0},{"$f":"IF(AND(B11<>0,T11=0),1,0)","v":0},{"$f":"IF(B11<(T11),1,0)","v":0},{"$f":"IF(B11<(W11+AA11),1,0)","v":0},{"$f":"IF(AND((X11+AB11)<>0,OR(AE11=\"\",AF11=\"\")),1,0)","v":0}]
["MEDICINA INTERNA",{"$f":"SUM(C12+D12+E12+F12+G12+H12+I12+J12+K12+L12+M12+N12+O12+P12+Q12+R12+S12)","v":0},null,null,null,null,null,null,null,null,null,null,null,null,null,null,null,null,null,null,null,null,0,null,null,null,0,null,null,null,null,null,null,null,null,null,null,null,null,null,null,null,null,null,null,null,null,null,null,null,{"$f":"CA12&CB12&CC12&CD12&CE12","v":""},null,null,null,null,null,null,null,null,null,null,null,null,null,null,null,null,null,null,null,null,null,null,null,null,null,null,null,{"$f":"IF(CG12=1,\"* El número de consultas según sexo NO DEBE ser diferente al Total. \",\"\")","v":""},{"$f":"IF(CH12=1,\"* No olvide digitar la columna Beneficiarios (Digite CEROS si no tiene). \",\"\")","v":""},{"$f":"IF(CI12=1,\"* El número de Beneficiarios NO DEBE ser mayor que el Total. \",\"\")","v":""},{"$f":"IF(CJ12=1,\"* El total de Consultas Nuevas NO DEBE ser MAYOR que el total de las Consultas Médicas. \",\"\")","v":""},{"$f":"IF(CK12=1,\"* No olvide registrar datos en Pertinencia (Digite CEROS si no tiene). \",\"\")","v":""},null,0,0,0,0,0]
["NEONATOLOGÍA",{"$f":"SUM(C13)","v":0},null,null,null,null,null,null,null,null,null,null,null,null,null,null,null,null,null,null,null,null,0,null,null,null,0,null,null,null,null,null,null,null,null,null,null,null,null,null,null,null,null,null,null,null,null,null,null,null,"",null,null,null,null,null,null,null,null,null,null,null,null,null,null,null,null,null,null,null,null,null,null,null,null,null,null,null,"","","","","",null,0,0,0,0,0]
["ENFERMEDAD RESPIRATORIA PEDIÁTRICA (BRONCOPULMONAR INFANTIL)",{"$f":"SUM(C14+D14+E14+F14+G14+H14+I14+J14+K14)","v":0},null,null,null,null,null,null,null,null,null,null,null,null,null,null,null,null,null,null,null,null,0,null,null,null,0,null,null,null,null,null,null,null,null,null,null,null,null,null,null,null,null,null,null,null,null,null,null,null,"",null,null,null,null,null,null,null,null,null,null,null,null,null,null,null,null,null,null,null,null,null,null,null,null,null,null,null,{"$f":"IF(CG14=1,\"* El número de consultas según sexo NO DEBE ser diferente al Total. \",\"\")","v":""},{"$f":"IF(CH14=1,\"* No olvide digitar la columna Beneficiarios (Digite CEROS si no tiene). \",\"\")","v":""},{"$f":"IF(CI14=1,\"* El número de Beneficiarios NO DEBE ser mayor que el Total. \",\"\")","v":""},{"$f":"IF(CJ14=1,\"* El total de Consultas Nuevas NO DEBE ser MAYOR que el total de las Consultas Médicas. \",\"\")","v":""},{"$f":"IF(CK14=1,\"* No olvide registrar datos en Pertinencia (Digite CEROS si no tiene). \",\"\")","v":""},null,0,0,0,0,0]
["ENFERMEDAD RESPIRATORIA DE ADULTO (BRONCOPULMONAR)",{"$f":"SUM(C15+D15+E15+F15+G15+H15+I15+J15+K15+L15+M15+N15+O15+P15+Q15+R15+S15)","v":0},null,null,null,null,null,null,null,null,null,null,null,null,null,null,null,null,null,null,null,null,0,null,null,null,0,null,null,null,null,null,null,null,null,null,null,null,null,null,null,null,null,null,null,null,null,null,null,null,"",null,null,null,null,null,null,null,null,null,null,null,null,null,null,null,null,null,null,null,null,null,null,null,null,null,null,null,"","","","","",null,0,0,0,0,0]
["CARDIOLOGÍA PEDIÁTRICA",{"$f":"SUM(C16+D16+E16+F16+G16+H16+I16+J16+K16)","v":0},null,null,null,null,null,null,null,null,null,null,null,null,null,null,null,null,null,null,null,null,0,null,null,null,0,null,null,null,null,null,null,null,null,null,null,null,null,null,null,null,null,null,null,null,null,null,null,null,"",null,null,null,null,null,null,null,null,null,null,null,null,null,null,null,null,null,null,null,null,null,null,null,null,null,null,null,"","","","","",null,0,0,0,0,0]
["CARDIOLOGÍA ADULTO",{"$f":"SUM(C17+D17+E17+F17+G17+H17+I17+J17+K17+L17+M17+N17+O17+P17+Q17+R17+S17)","v":0},null,null,null,null,null,null,null,null,null,null,null,null,null,null,null,null,null,null,null,null,0,null,null,null,0,null,null,null,null,null,null,null,null,null,null,null,null,null,null,null,null,null,null,null,null,null,null,null,"",null,null,null,null,null,null,null,null,null,null,null,null,null,null,null,null,null,null,null,null,null,null,null,null,null,null,null,"","","","","",null,0,0,0,0,0]
["ENDOCRINOLOGÍA PEDIÁTRICA",{"$f":"SUM(C18+D18+E18+F18+G18+H18+I18+J18+K18)","v":0},null,null,null,null,null,null,null,null,null,null,null,null,null,null,null,null,null,null,null,null,0,null,null,null,0,null,null,null,null,null,null,null,null,null,null,null,null,null,null,null,null,null,null,null,null,null,null,null,"",null,null,null,null,null,null,null,null,null,null,null,null,null,null,null,null,null,null,null,null,null,null,null,null,null,null,null,"","","","","",null,0,0,0,0,0]
["ENDOCRINOLOGÍA ADULTO",{"$f":"SUM(C19+D19+E19+F19+G19+H19+I19+J19+K19+L19+M19+N19+O19+P19+Q19+R19+S19)","v":0},null,null,null,null,null,null,null,null,null,null,null,null,null,null,null,null,null,null,null,null,0,null,null,null,0,null,null,null,null,null,null,null,null,null,null,null,null,null,null,null,null,null,null,null,null,null,null,null,"",null,null,null,null,null,null,null,null,null,null,null,null,null,null,null,null,null,null,null,null,null,null,null,null,null,null,null,"","","","","",null,0,0,0,0,0]
["GASTROENTEROLOGÍA PEDIÁTRICA",{"$f":"SUM(C20+D20+E20+F20+G20+H20+I20+J20+K20)","v":0},null,null,null,null,null,null,null,null,null,null,null,null,null,null,null,null,null,null,null,null,0,null,null,null,0,null,null,null,null,null,null,null,null,null,null,null,null,null,null,null,null,null,null,null,null,null,null,null,"",null,null,null,null,null,null,null,null,null,null,null,null,null,null,null,null,null,null,null,null,null,null,null,null,null,null,null,"","","","","",null,0,0,0,0,0]
["GASTROENTEROLOGÍA ADULTO",{"$f":"SUM(C21+D21+E21+F21+G21+H21+I21+J21+K21+L21+M21+N21+O21+P21+Q21+R21+S21)","v":0},null,null,null,null,null,null,null,null,null,null,null,null,null,null,null,null,null,null,null,null,0,null,null,null,0,null,null,null,null,null,null,null,null,null,null,null,null,null,null,null,null,null,null,null,null,null,null,null,"",null,null,null,null,null,null,null,null,null,null,null,null,null,null,null,null,null,null,null,null,null,null,null,null,null,null,null,"","","","","",null,0,0,0,0,0]
["GENÉTICA CLÍNICA",{"$f":"SUM(C22+D22+E22+F22+G22+H22+I22+J22+K22+L22+M22+N22+O22+P22+Q22+R22+S22)","v":0},null,null,null,null,null,null,null,null,null,null,null,null,null,null,null,null,null,null,null,null,0,null,null,null,0,null,null,null,null,null,null,null,null,null,null,null,null,null,null,null,null,null,null,null,null,null,null,null,"",null,null,null,null,null,null,null,null,null,null,null,null,null,null,null,null,null,null,null,null,null,null,null,null,null,null,null,"","","","","",null,0,0,0,0,0]
["HEMATO-ONCOLOGÍA INFANTIL",{"$f":"SUM(C23+D23+E23+F23+G23+H23+I23+J23+K23)","v":0},null,null,null,null,null,null,null,null,null,null,null,null,null,null,null,null,null,null,null,null,0,null,null,null,0,null,null,null,null,null,null,null,null,null,null,null,null,null,null,null,null,null,null,null,null,null,null,null,"",null,null,null,null,null,null,null,null,null,null,null,null,null,null,null,null,null,null,null,null,null,null,null,null,null,null,null,"","","","","",null,0,0,0,0,0]
["HEMATOLOGÍA ADULTO",{"$f":"SUM(C24+D24+E24+F24+G24+H24+I24+J24+K24+L24+M24+N24+O24+P24+Q24+R24+S24)","v":0},null,null,null,null,null,null,null,null,null,null,null,null,null,null,null,null,null,null,null,null,0,null,null,null,0,null,null,null,null,null,null,null,null,null,null,null,null,null,null,null,null,null,null,null,null,null,null,null,"",null,null,null,null,null,null,null,null,null,null,null,null,null,null,null,null,null,null,null,null,null,null,null,null,null,null,null,"","","","","",null,0,0,0,0,0]
["NEFROLOGÍA PEDIÁTRICA",{"$f":"SUM(C25+D25+E25+F25+G25+H25+I25+J25+K25)","v":0},null,null,null,null,null,null,null,null,null,null,null,null,null,null,null,null,null,null,null,null,0,null,null,null,0,null,null,null,null,null,null,null,null,null,null,null,null,null,null,null,null,null,null,null,null,null,null,null,"",null,null,null,null,null,null,null,null,null,null,null,null,null,null,null,null,null,null,null,null,null,null,null,null,null,null,null,"","","","","",null,0,0,0,0,0]
["NEFROLOGÍA ADULTO",{"$f":"SUM(C26+D26+E26+F26+G26+H26+I26+J26+K26+L26+M26+N26+O26+P26+Q26+R26+S26)","v":0},null,null,null,null,null,null,null,null,null,null,null,null,null,null,null,null,null,null,null,null,0,null,null,null,0,null,null,null,null,null,null,null,null,null,null,null,null,null,null,null,null,null,null,null,null,null,null,null,"",null,null,null,null,null,null,null,null,null,null,null,null,null,null,null,null,null,null,null,null,null,null,null,null,null,null,null,"","","","","",null,0,0,0,0,0]
["NUTRIÓLOGO PEDIÁTRICO",{"$f":"SUM(C27+D27+E27+F27+G27+H27+I27+J27+K27)","v":0},null,null,null,null,null,null,null,null,null,null,null,null,null,null,null,null,null,null,null,null,0,null,null,null,0,null,null,null,null,null,null,null,null,null,null,null,null,null,null,null,null,null,null,null,null,null,null,null,"",null,null,null,null,null,null,null,null,null,null,null,null,null,null,null,null,null,null,null,null,null,null,null,null,null,null,null,"","","","","",null,0,0,0,0,0]
["NUTRIÓLOGO ADULTO",{"$f":"SUM(C28+D28+E28+F28+G28+H28+I28+J28+K28+L28+M28+N28+O28+P28+Q28+R28+S28)","v":0},null,null,null,null,null,null,null,null,null,null,null,null,null,null,null,null,null,null,null,null,0,null,null,null,0,null,null,null,null,null,null,null,null,null,null,null,null,null,null,null,null,null,null,null,null,null,null,null,"",null,null,null,null,null,null,null,null,null,null,null,null,null,null,null,null,null,null,null,null,null,null,null,null,null,null,null,"","","","","",null,0,0,0,0,0]
["REUMATOLOGÍA PEDIÁTRICA",{"$f":"SUM(C29+D29+E29+F29+G29+H29+I29+J29+K29)","v":0},null,null,null,null,null,null,null,null,null,null,null,null,null,null,null,null,null,null,null,null,0,null,null,null,0,null,null,null,null,null,null,null,null,null,null,null,null,null,null,null,null,null,null,null,null,null,null,null,"",null,null,null,null,null,null,null,null,null,null,null,null,null,null,null,null,null,null,null,null,null,null,null,null,null,null,null,"","","","","",null,0,0,0,0,0]
["REUMATOLOGÍA ADULTO",{"$f":"SUM(C30+D30+E30+F30+G30+H30+I30+J30+K30+L30+M30+N30+O30+P30+Q30+R30+S30)","v":0},null,null,null,null,null,null,null,null,null,null,null,null,null,null,null,null,null,null,null,null,0,null,null,null,0,null,null,null,null,null,null,null,null,null,null,null,null,null,null,null,null,null,null,null,null,null,null,null,"",null,null,null,null,null,null,null,null,null,null,null,null,null,null,null,null,null,null,null,null,null,null,null,null,null,null,null,"","","","","",null,0,0,0,0,0]
["DERMATOLOGÍA",{"$f":"SUM(C31+D31+E31+F31+G31+H31+I31+J31+K31+L31+M31+N31+O31+P31+Q31+R31+S31)","v":0},null,null,null,null,null,null,null,null,null,null,null,null,null,null,null,null,null,null,null,null,0,null,null,null,0,null,null,null,null,null,null,null,null,null,null,null,null,null,null,null,null,null,null,null,null,null,null,null,"",null,null,null,null,null,null,null,null,null,null,null,null,null,null,null,null,null,null,null,null,null,null,null,null,null,null,null,"","","","","",null,0,0,0,0,0]
["INFECTOLOGÍA PEDIÁTRICA",{"$f":"SUM(C32+D32+E32+F32+G32+H32+I32+J32+K32)","v":0},null,null,null,null,null,null,null,null,null,null,null,null,null,null,null,null,null,null,null,null,0,null,null,null,0,null,null,null,null,null,null,null,null,null,null,null,null,null,null,null,null,null,null,null,null,null,null,null,"",null,null,null,null,null,null,null,null,null,null,null,null,null,null,null,null,null,null,null,null,null,null,null,null,null,null,null,"","","","","",null,0,0,0,0,0]
["INFECTOLOGÍA ADULTO",{"$f":"SUM(C33+D33+E33+F33+G33+H33+I33+J33+K33+L33+M33+N33+O33+P33+Q33+R33+S33)","v":0},null,null,null,null,null,null,null,null,null,null,null,null,null,null,null,null,null,null,null,null,0,null,null,null,0,null,null,null,null,null,null,null,null,null,null,null,null,null,null,null,null,null,null,null,null,null,null,null,"",null,null,null,null,null,null,null,null,null,null,null,null,null,null,null,null,null,null,null,null,null,null,null,null,null,null,null,"","","","","",null,0,0,0,0,0]
["INMUNOLOGÍA",{"$f":"SUM(C34+D34+E34+F34+G34+H34+I34+J34+K34+L34+M34+N34+O34+P34+Q34+R34+S34)","v":0},null,null,null,null,null,null,null,null,null,null,null,null,null,null,null,null,null,null,null,null,0,null,null,null,0,null,null,null,null,null,null,null,null,null,null,null,null,null,null,null,null,null,null,null,null,null,null,null,"",null,null,null,null,null,null,null,null,null,null,null,null,null,null,null,null,null,null,null,null,null,null,null,null,null,null,null,"","","","","",null,0,0,0,0,0]
["GERIATRÍA",{"$f":"SUM(O35+P35+Q35+R35+S35)","v":0},null,null,null,null,null,null,null,null,null,null,null,null,null,null,null,null,null,null,null,null,{"$f":"SUM(X35+Y35+Z35)","v":0},null,null,null,0,null,null,null,null,null,null,null,null,null,null,null,null,null,null,null,null,null,null,null,null,null,null,null,"",null,null,null,null,null,null,null,null,null,null,null,null,null,null,null,null,null,null,null,null,null,null,null,null,null,null,null,"","","","","",null,0,0,0,0,0]
["MEDICINA FÍSICA Y REHABILITACIÓN PEDIÁTRICA (FISIATRÍA PEDIÁTRICA)",{"$f":"SUM(C36+D36+E36+F36+G36+H36+I36+J36+K36)","v":0},null,null,null,null,null,null,null,null,null,null,null,null,null,null,null,null,null,null,null,null,0,null,null,null,0,null,null,null,null,null,null,null,null,null,null,null,null,null,null,null,null,null,null,null,null,null,null,null,"",null,null,null,null,null,null,null,null,null,null,null,null,null,null,null,null,null,null,null,null,null,null,null,null,null,null,null,"","","","","",null,0,0,0,0,0]
["MEDICINA FÍSICA Y REHABILITACIÓN ADULTO (FISIATRÍA ADULTO)",{"$f":"SUM(C37+D37+E37+F37+G37+H37+I37+J37+K37+L37+M37+N37+O37+P37+Q37+R37+S37)","v":0},null,null,null,null,null,null,null,null,null,null,null,null,null,null,null,null,null,null,null,null,{"$f":"SUM(X37+Y37+Z37)","v":0},null,null,null,0,null,null,null,null,null,null,null,null,null,null,null,null,null,null,null,null,null,null,null,null,null,null,null,"",null,null,null,null,null,null,null,null,null,null,null,null,null,null,null,null,null,null,null,null,null,null,null,null,null,null,null,"","","","","",null,0,0,0,0,0]
["NEUROLOGÍA PEDIÁTRICA",{"$f":"SUM(C38+D38+E38+F38+G38+H38+I38+J38+K38)","v":0},null,null,null,null,null,null,null,null,null,null,null,null,null,null,null,null,null,null,null,null,{"$f":"SUM(X38+Y38+Z38)","v":0},null,null,null,{"$f":"SUM(AB38+AC38+AD38)","v":0},null,null,null,null,null,null,null,null,null,null,null,null,null,null,null,null,null,null,null,null,null,null,null,"",null,null,null,null,null,null,null,null,null,null,null,null,null,null,null,null,null,null,null,null,null,null,null,null,null,null,null,"","","","","",null,0,0,0,0,0]
["NEUROLOGÍA ADULTO",{"$f":"SUM(C39+D39+E39+F39+G39+H39+I39+J39+K39+L39+M39+N39+O39+P39+Q39+R39+S39)","v":0},null,null,null,null,null,null,null,null,null,null,null,null,null,null,null,null,null,null,null,null,{"$f":"SUM(X39+Y39+Z39)","v":0},null,null,null,{"$f":"SUM(AB39+AC39+AD39)","v":0},null,null,null,null,null,null,null,null,null,null,null,null,null,null,null,null,null,null,null,null,null,null,null,"",null,null,null,null,null,null,null,null,null,null,null,null,null,null,null,null,null,null,null,null,null,null,null,null,null,null,null,"","","","","",null,0,0,0,0,0]
["ONCOLOGÍA MÉDICA",{"$f":"SUM(C40+D40+E40+F40+G40+H40+I40+J40+K40+L40+M40+N40+O40+P40+Q40+R40+S40)","v":0},null,null,null,null,null,null,null,null,null,null,null,null,null,null,null,null,null,null,null,null,{"$f":"SUM(X40+Y40+Z40)","v":0},null,null,null,{"$f":"SUM(AB40+AC40+AD40)","v":0},null,null,null,null,null,null,null,null,null,null,null,null,null,null,null,null,null,null,null,null,null,null,null,"",null,null,null,null,null,null,null,null,null,null,null,null,null,null,null,null,null,null,null,null,null,null,null,null,null,null,null,"","","","","",null,0,0,0,0,0]
["PSIQUIATRÍA PEDIÁTRICA Y DE LA ADOLESCENCIA",{"$f":"SUM(C41+D41+E41+F41+G41+H41+I41+J41+K41)","v":0},null,null,null,null,null,null,null,null,null,null,null,null,null,null,null,null,null,null,null,null,{"$f":"SUM(X41+Y41+Z41)","v":0},null,null,null,{"$f":"SUM(AB41+AC41+AD41)","v":0},null,null,null,null,null,null,null,null,null,null,null,null,null,null,null,null,null,null,null,null,null,null,null,"",null,null,null,null,null,null,null,null,null,null,null,null,null,null,null,null,null,null,null,null,null,null,null,null,null,null,null,"","","","","",null,0,0,0,0,0]
["PSIQUIATRÍA ADULTO",{"$f":"SUM(C42+D42+E42+F42+G42+H42+I42+J42+K42+L42+M42+N42+O42+P42+Q42+R42+S42)","v":0},null,null,null,null,null,null,null,null,null,null,null,null,null,null,null,null,null,null,null,null,{"$f":"SUM(X42+Y42+Z42)","v":0},null,null,null,{"$f":"SUM(AB42+AC42+AD42)","v":0},null,null,null,null,null,null,null,null,null,null,null,null,null,null,null,null,null,null,null,null,null,null,null,"",null,null,null,null,null,null,null,null,null,null,null,null,null,null,null,null,null,null,null,null,null,null,null,null,null,null,null,"","","","","",null,0,0,0,0,0]
["CIRUGÍA PEDIÁTRICA",{"$f":"SUM(C43+D43+E43+F43+G43+H43+I43+J43+K43)","v":0},null,null,null,null,null,null,null,null,null,null,null,null,null,null,null,null,null,null,null,null,0,null,null,null,{"$f":"SUM(AB43+AC43+AD43)","v":0},null,null,null,null,null,null,null,null,null,null,null,null,null,null,null,null,null,null,null,null,null,null,null,"",null,null,null,null,null,null,null,null,null,null,null,null,null,null,null,null,null,null,null,null,null,null,null,null,null,null,null,"","","","","",null,{"$f":"IF(B43<(U43+V43),1,0)","v":0},{"$f":"IF(AND(B43<>0,T43=0),1,0)","v":0},{"$f":"IF(B43<(T43),1,0)","v":0},{"$f":"IF(B43<(W43+AA43),1,0)","v":0},{"$f":"IF(AND((X43+AB43)<>0,OR(AE43=\"\",AF43=\"\")),1,0)","v":0}]
["CIRUGÍA GENERAL ADULTO",{"$f":"SUM(C44+D44+E44+F44+G44+H44+I44+J44+K44+L44+M44+N44+O44+P44+Q44+R44+S44)","v":0},null,null,null,null,null,null,null,null,null,null,null,null,null,null,null,null,null,null,null,null,0,null,null,null,0,null,null,null,null,null,null,null,null,null,null,null,null,null,null,null,null,null,null,null,null,null,null,null,"",null,null,null,null,null,null,null,null,null,null,null,null,null,null,null,null,null,null,null,null,null,null,null,null,null,null,null,"","","","","",null,0,0,0,0,0]
["CIRUGÍA DIGESTIVA (ALTA)",{"$f":"SUM(C45+D45+E45+F45+G45+H45+I45+J45+K45+L45+M45+N45+O45+P45+Q45+R45+S45)","v":0},null,null,null,null,null,null,null,null,null,null,null,null,null,null,null,null,null,null,null,null,0,null,null,null,0,null,null,null,null,null,null,null,null,null,null,null,null,null,null,null,null,null,null,null,null,null,null,null,"",null,null,null,null,null,null,null,null,null,null,null,null,null,null,null,null,null,null,null,null,null,null,null,null,null,null,null,"","","","","",null,0,0,0,0,0]
["CIRUGÍA DE CABEZA, CUELLO Y MAXILOFACIAL",{"$f":"SUM(C46+D46+E46+F46+G46+H46+I46+J46+K46+L46+M46+N46+O46+P46+Q46+R46+S46)","v":0},null,null,null,null,null,null,null,null,null,null,null,null,null,null,null,null,null,null,null,null,0,null,null,null,0,null,null,null,null,null,null,null,null,null,null,null,null,null,null,null,null,null,null,null,null,null,null,null,"",null,null,null,null,null,null,null,null,null,null,null,null,null,null,null,null,null,null,null,null,null,null,null,null,null,null,null,"","","","","",null,0,0,0,0,0]
["CIRUGÍA PLÁSTICA Y REPARADORA PEDIÁTRICA",{"$f":"SUM(C47+D47+E47+F47+G47+H47+I47+J47+K47)","v":0},null,null,null,null,null,null,null,null,null,null,null,null,null,null,null,null,null,null,null,null,0,null,null,null,0,null,null,null,null,null,null,null,null,null,null,null,null,null,null,null,null,null,null,null,null,null,null,null,"",null,null,null,null,null,null,null,null,null,null,null,null,null,null,null,null,null,null,null,null,null,null,null,null,null,null,null,"","","","","",null,0,0,0,0,0]
["CIRUGÍA PLÁSTICA Y REPARADORA ADULTO",{"$f":"SUM(C48+D48+E48+F48+G48+H48+I48+J48+K48+L48+M48+N48+O48+P48+Q48+R48+S48)","v":0},null,null,null,null,null,null,null,null,null,null,null,null,null,null,null,null,null,null,null,null,0,null,null,null,0,null,null,null,null,null,null,null,null,null,null,null,null,null,null,null,null,null,null,null,null,null,null,null,"",null,null,null,null,null,null,null,null,null,null,null,null,null,null,null,null,null,null,null,null,null,null,null,null,null,null,null,"","","","","",null,0,0,0,0,0]
["COLOPROCTOLOGÍA (CIRUGIA DIGESTIVA BAJA)",0,null,null,null,null,null,null,null,null,null,null,null,null,null,null,null,null,null,null,null,null,0,null,null,null,0,null,null,null,null,null,null,null,null,null,null,null,null,null,null,null,null,null,null,null,null,null,null,null,"",null,null,null,null,null,null,null,null,null,null,null,null,null,null,null,null,null,null,null,null,null,null,null,null,null,null,null,"","","","","",null,0,0,0,0,0]
["CIRUGÍA TÓRAX",0,null,null,null,null,null,null,null,null,null,null,null,null,null,null,null,null,null,null,null,null,0,null,null,null,0,null,null,null,null,null,null,null,null,null,null,null,null,null,null,null,null,null,null,null,null,null,null,null,"",null,null,null,null,null,null,null,null,null,null,null,null,null,null,null,null,null,null,null,null,null,null,null,null,null,null,null,"","","","","",null,0,0,0,0,0]
["CIRUGÍA VASCULAR PERIFÉRICA",0,null,null,null,null,null,null,null,null,null,null,null,null,null,null,null,null,null,null,null,null,0,null,null,null,0,null,null,null,null,null,null,null,null,null,null,null,null,null,null,null,null,null,null,null,null,null,null,null,"",null,null,null,null,null,null,null,null,null,null,null,null,null,null,null,null,null,null,null,null,null,null,null,null,null,null,null,"","","","","",null,0,0,0,0,0]
["NEUROCIRUGÍA",0,null,null,null,null,null,null,null,null,null,null,null,null,null,null,null,null,null,null,null,null,0,null,null,null,0,null,null,null,null,null,null,null,null,null,null,null,null,null,null,null,null,null,null,null,null,null,null,null,"",null,null,null,null,null,null,null,null,null,null,null,null,null,null,null,null,null,null,null,null,null,null,null,null,null,null,null,"","","","","",null,0,0,0,0,0]
["CIRUGÍA CARDIOVASCULAR",0,null,null,null,null,null,null,null,null,null,null,null,null,null,null,null,null,null,null,null,null,0,null,null,null,0,null,null,null,null,null,null,null,null,null,null,null,null,null,null,null,null,null,null,null,null,null,null,null,"",null,null,null,null,null,null,null,null,null,null,null,null,null,null,null,null,null,null,null,null,null,null,null,null,null,null,null,"","","","","",null,0,0,0,0,0]
["ANESTESIOLOGÍA",0,null,null,null,null,null,null,null,null,null,null,null,null,null,null,null,null,null,null,null,null,0,null,null,null,0,null,null,null,null,null,null,null,null,null,null,null,null,null,null,null,null,null,null,null,null,null,null,null,"",null,null,null,null,null,null,null,null,null,null,null,null,null,null,null,null,null,null,null,null,null,null,null,null,null,null,null,"","","","","",null,0,0,0,0,0]
["OBSTETRICIA",0,null,null,null,null,null,null,null,null,null,null,null,null,null,null,null,null,null,null,null,null,0,null,null,null,0,null,null,null,null,null,null,null,null,null,null,null,null,null,null,null,null,null,null,null,null,null,null,null,"",null,null,null,null,null,null,null,null,null,null,null,null,null,null,null,null,null,null,null,null,null,null,null,null,null,null,null,"","","","","",null,0,0,0,0,0]
["GINECOLOGÍA PEDIÁTRICA Y DE LA ADOLESCENCIA",{"$f":"SUM(C56+D56+E56+F56+G56+H56+I56+J56+K56)","v":0},null,null,null,null,null,null,null,null,null,null,null,null,null,null,null,null,null,null,null,null,0,null,null,null,0,null,null,null,null,null,null,null,null,null,null,null,null,null,null,null,null,null,null,null,null,null,null,null,"",null,null,null,null,null,null,null,null,null,null,null,null,null,null,null,null,null,null,null,null,null,null,null,null,null,null,null,"","","","","",null,0,0,0,0,0]
["GINECOLOGÍA ADULTO",{"$f":"SUM(C57+D57+E57+F57+G57+H57+I57+J57+K57+L57+M57+N57+O57+P57+Q57+R57+S57)","v":0},null,null,null,null,null,null,null,null,null,null,null,null,null,null,null,null,null,null,null,null,0,null,null,null,0,null,null,null,null,null,null,null,null,null,null,null,null,null,null,null,null,null,null,null,null,null,null,null,"",null,null,null,null,null,null,null,null,null,null,null,null,null,null,null,null,null,null,null,null,null,null,null,null,null,null,null,"","","","","",null,0,0,0,0,0]
["OFTALMOLOGÍA",{"$f":"SUM(C58+D58+E58+F58+G58+H58+I58+J58+K58+L58+M58+N58+O58+P58+Q58+R58+S58)","v":0},null,null,null,null,null,null,null,null,null,null,null,null,null,null,null,null,null,null,null,null,0,null,null,null,0,null,null,null,null,null,null,null,null,null,null,null,null,null,null,null,null,null,null,null,null,null,null,null,"",null,null,null,null,null,null,null,null,null,null,null,null,null,null,null,null,null,null,null,null,null,null,null,null,null,null,null,"","","","","",null,0,0,0,0,0]
["OTORRINOLARINGOLOGÍA",{"$f":"SUM(C59+D59+E59+F59+G59+H59+I59+J59+K59+L59+M59+N59+O59+P59+Q59+R59+S59)","v":0},null,null,null,null,null,null,null,null,null,null,null,null,null,null,null,null,null,null,null,null,0,null,null,null,0,null,null,null,null,null,null,null,null,null,null,null,null,null,null,null,null,null,null,null,null,null,null,null,"",null,null,null,null,null,null,null,null,null,null,null,null,null,null,null,null,null,null,null,null,null,null,null,null,null,null,null,"","","","","",null,0,0,0,0,0]
["TRAUMATOLOGÍA Y ORTOPEDIA PEDIÁTRICA",{"$f":"SUM(C60+D60+E60+F60+G60+H60+I60+J60+K60)","v":0},null,null,null,null,null,null,null,null,null,null,null,null,null,null,null,null,null,null,null,null,0,null,null,null,0,null,null,null,null,null,null,null,null,null,null,null,null,null,null,null,null,null,null,null,null,null,null,null,"",null,null,null,null,null,null,null,null,null,null,null,null,null,null,null,null,null,null,null,null,null,null,null,null,null,null,null,"","","","","",null,0,0,0,0,0]
["TRAUMATOLOGÍA Y ORTOPEDIA ADULTO",{"$f":"SUM(C61+D61+E61+F61+G61+H61+I61+J61+K61+L61+M61+N61+O61+P61+Q61+R61+S61)","v":0},null,null,null,null,null,null,null,null,null,null,null,null,null,null,null,null,null,null,null,null,0,null,null,null,0,null,null,null,null,null,null,null,null,null,null,null,null,null,null,null,null,null,null,null,null,null,null,null,"",null,null,null,null,null,null,null,null,null,null,null,null,null,null,null,null,null,null,null,null,null,null,null,null,null,null,null,"","","","","",null,0,0,0,0,0]
["UROLOGÍA PEDIÁTRICA",{"$f":"SUM(C62+D62+E62+F62+G62+H62+I62+J62+K62)","v":0},null,null,null,null,null,null,null,null,null,null,null,null,null,null,null,null,null,null,null,null,0,null,null,null,0,null,null,null,null,null,null,null,null,null,null,null,null,null,null,null,null,null,null,null,null,null,null,null,"",null,null,null,null,null,null,null,null,null,null,null,null,null,null,null,null,null,null,null,null,null,null,null,null,null,null,null,"","","","","",null,0,0,0,0,0]
["UROLOGÍA ADULTO",{"$f":"SUM(C63+D63+E63+F63+G63+H63+I63+J63+K63+L63+M63+N63+O63+P63+Q63+R63+S63)","v":0},null,null,null,null,null,null,null,null,null,null,null,null,null,null,null,null,null,null,null,null,0,null,null,null,0,null,null,null,null,null,null,null,null,null,null,null,null,null,null,null,null,null,null,null,null,null,null,null,"",null,null,null,null,null,null,null,null,null,null,null,null,null,null,null,null,null,null,null,null,null,null,null,null,null,null,null,"","","","","",null,0,0,0,0,0]
["MEDICINA FAMILIAR DEL NIÑO",{"$f":"SUM(C64+D64+E64+F64+G64+H64+I64+J64+K64)","v":0},null,null,null,null,null,null,null,null,null,null,null,null,null,null,null,null,null,null,null,null,0,null,null,null,0,null,null,null,null,null,null,null,null,null,null,null,null,null,null,null,null,null,null,null,null,null,null,null,"",null,null,null,null,null,null,null,null,null,null,null,null,null,null,null,null,null,null,null,null,null,null,null,null,null,null,null,"","","","","",null,0,0,0,0,0]
["MEDICINA FAMILIAR",{"$f":"SUM(C65+D65+E65+F65+G65+H65+I65+J65+K65+L65+M65+N65+O65+P65+Q65+R65+S65)","v":0},null,null,null,null,null,null,null,null,null,null,null,null,null,null,null,null,null,null,null,null,0,null,null,null,0,null,null,null,null,null,null,null,null,null,null,null,null,null,null,null,null,null,null,null,null,null,null,null,"",null,null,null,null,null,null,null,null,null,null,null,null,null,null,null,null,null,null,null,null,null,null,null,null,null,null,null,"","","","","",null,0,0,0,0,0]
["MEDICINA FAMILIAR ADULTO",{"$f":"SUM(L66+M66+N66+O66+P66+Q66+R66+S66)","v":0},null,null,null,null,null,null,null,null,null,null,null,null,null,null,null,null,null,null,null,null,0,null,null,null,0,null,null,null,null,null,null,null,null,null,null,null,null,null,null,null,null,null,null,null,null,null,null,null,"",null,null,null,null,null,null,null,null,null,null,null,null,null,null,null,null,null,null,null,null,null,null,null,null,null,null,null,"","","","","",null,0,0,0,0,0]
["DIABETOLOGÍA",0,null,null,null,null,null,null,null,null,null,null,null,null,null,null,null,null,null,null,null,null,0,null,null,null,0,null,null,null,null,null,null,null,null,null,null,null,null,null,null,null,null,null,null,null,null,null,null,null,"",null,null,null,null,null,null,null,null,null,null,null,null,null,null,null,null,null,null,null,null,null,null,null,null,null,null,null,"","","","","",null,0,0,0,0,0]
["MEDICINA NUCLEAR (EXCLUYE INFORMES)",0,null,null,null,null,null,null,null,null,null,null,null,null,null,null,null,null,null,null,null,null,{"$f":"SUM(X68+Y68+Z68)","v":0},null,null,null,0,null,null,null,null,null,null,null,null,null,null,null,null,null,null,null,null,null,null,null,null,null,null,null,"",null,null,null,null,null,null,null,null,null,null,null,null,null,null,null,null,null,null,null,null,null,null,null,null,null,null,null,"","","","","",null,0,0,0,0,0]
["IMAGENOLOGÍA",0,null,null,null,null,null,null,null,null,null,null,null,null,null,null,null,null,null,null,null,null,{"$f":"SUM(X69+Y69+Z69)","v":0},null,null,null,0,null,null,null,null,null,null,null,null,null,null,null,null,null,null,null,null,null,null,null,null,null,null,null,"",null,null,null,null,null,null,null,null,null,null,null,null,null,null,null,null,null,null,null,null,null,null,null,null,null,null,null,"","","","","",null,0,0,0,0,0]
["RADIOTERAPIA ONCOLÓGICA",0,null,null,null,null,null,null,null,null,null,null,null,null,null,null,null,null,null,null,null,null,0,null,null,null,0,null,null,null,null,null,null,null,null,null,null,null,null,null,null,null,null,null,null,null,null,null,null,null,"",null,null,null,null,null,null,null,null,null,null,null,null,null,null,null,null,null,null,null,null,null,null,null,null,null,null,null,"","","","","",null,0,0,0,0,0]
["TOTAL",{"$f":"SUM(B11:B70)","v":0},{"$f":"SUM(C11:C70)","v":0},{"$f":"SUM(D11:D70)","v":0},{"$f":"SUM(E11:E70)","v":0},{"$f":"SUM(F11:F70)","v":0},{"$f":"SUM(G11:G70)","v":0},{"$f":"SUM(H11:H70)","v":0},{"$f":"SUM(I11:I70)","v":0},{"$f":"SUM(J11:J70)","v":0},{"$f":"SUM(K11:K70)","v":0},{"$f":"SUM(L11:L70)","v":0},{"$f":"SUM(M11:M70)","v":0},{"$f":"SUM(N11:N70)","v":0},{"$f":"SUM(O11:O70)","v":0},{"$f":"SUM(P11:P70)","v":0},{"$f":"SUM(Q11:Q70)","v":0},{"$f":"SUM(R11:R70)","v":0},{"$f":"SUM(S11:S70)","v":0},{"$f":"SUM(T11:T70)","v":0},{"$f":"SUM(U11:U70)","v":0},{"$f":"SUM(V11:V70)","v":0},{"$f":"SUM(W11:W70)","v":0},{"$f":"SUM(X11:X70)","v":0},{"$f":"SUM(Y11:Y70)","v":0},{"$f":"SUM(Z11:Z70)","v":0},{"$f":"SUM(AA11:AA70)","v":0},{"$f":"SUM(AB11:AB70)","v":0},0,0,0,0,0,0,0,0,0,0,0,0,0,0,0,{"$f":"SUM(AR11:AR70)","v":0},{"$f":"SUM(AS11:AS70)","v":0},{"$f":"SUM(AT11:AT70)","v":0},0,{"$f":"SUM(AV11:AV70)","v":0},{"$f":"SUM(AW11:AW70)","v":0},{"$f":"SUM(AX11:AX70)","v":0}]
["SECCIÓN B: ATENCIONES MEDICAS POR PROGRAMAS Y POLICLÍNICOS  (INCLUIDAS EN SECCION A)"]
["ATENCIONES","TOTAL","0 - 4 años","5 - 9 años","10 - 14 años","15 - 19 años","20 - 24 años","25 - 29 años","30 - 34 años","35 - 39 años","40 - 44 años","45 - 49 años","50 - 54 años","55 - 59 años","60 - 64 años","65 - 69 años","70 - 74 años","75 - 79 años","80  años y mas"]
["ARRITMIAS",{"$f":"SUM(C74:S74)","v":0}]
["DIABETES",0]
["CIRUGÍA DE MAMAS",0]
["ALTO RIESGO OBSTÉTRICO",0]
["TRATAMIENTO ANTICOAGULANTE",0]
["CUIDADOS PALIATIVOS",0]
["INFERTILIDAD",0]
["PATOLOGÍA CERVICAL",0]
["PATOLOGÍA DE MAMAS",0]
["ADOLESCENCIA",0]
["NANEAS",0]
["ITS",0]
["VIH/SIDA",0]
["MEDICINAL OCUPACIONAL (SALUD DEL PERSONAL)",0]
["TOTAL ",{"$f":"SUM(B74:B87)","v":0},0,0,0,0,0,0,0,0,0,0,0,0,0,0,0,0,0]
["SECCIÓN C: CONSULTAS Y CONTROLES POR OTROS PROFESIONALES EN ESPECIALIDAD (NIVEL SECUNDARIO)"]
["PROFESIONAL",null,"TOTAL ",null,null,"POR EDAD (en años)",null,null,null,null,null,null,null,null,null,null,null,null,null,null,null,null,null,null,null,null,null,null,null,null,null,null,null,null,null,null,null,null,null,"Beneficiarios","Total Controles (incluidos en grupo de edad)","Pueblos Originarios","Migrantes"]
[null,null,null,null,null,"0 - 4",null,"5 - 9",null,"10 - 14",null,"15 - 19",null,"20 - 24",null,"25 - 29",null,"30 - 34",null,"35 - 39",null,"40 - 44",null,"45 - 49",null,"50 - 54",null,"55 - 59",null,"60 - 64",null,"65 - 69",null,"70 - 74",null,"75 - 79",null,"80 y mas"]
[null,null,"Ambos Sexos","Hombres","Mujeres","Hombres","Mujeres","Hombres","Mujeres","Hombres","Mujeres","Hombres","Mujeres","Hombres","Mujeres","Hombres","Mujeres","Hombres","Mujeres","Hombres","Mujeres","Hombres","Mujeres","Hombres","Mujeres","Hombres","Mujeres","Hombres","Mujeres","Hombres","Mujeres","Hombres","Mujeres","Hombres","Mujeres","Hombres","Mujeres","Hombres","Mujeres"]
["ENFERMERA",null,{"$f":"SUM(D93+E93)","v":0},{"$f":"SUM(F93+H93+J93+L93+N93+P93+R93+T93+V93+X93+Z93+AB93+AD93+AF93+AH93+AJ93+AL93)","v":0},{"$f":"SUM(G93+I93+K93+M93+O93+Q93+S93+U93+W93+Y93+AA93+AC93+AE93+AG93+AI93+AK93+AM93)","v":0},null,null,null,null,null,null,null,null,null,null,null,null,null,null,null,null,null,null,null,null,null,null,null,null,null,null,null,null,null,null,null,null,null,null,null,null,null,null,{"$f":"CA93&CB93&CC93&CD93","v":""},null,null,null,null,null,null,null,null,null,null,null,null,null,null,null,null,null,null,null,null,null,null,null,null,null,null,null,null,null,null,null,null,null,null,{"$f":"IF(CG93=1,\"* El número de Beneficiarios NO DEBE ser mayor que el Total. \",\"\")","v":""},{"$f":"IF(CH93=1,\"* No olvide digitar la columna Beneficiarios y/o Pueblos Originarios y/o Migrantes (Digite CEROS si no tiene.). \",\"\")","v":""},{"$f":"IF(CI93=1,\"* El número de Pueblos Originarios y/o Migrantes NO DEBE ser mayor que el Total. \",\"\")","v":""},{"$f":"IF(CJ93=1,\"* El número de Controles NO DEBE ser mayor que el Total. \",\"\")","v":""},null,null,{"$f":"IF(C93<AN93,1,0)","v":0},{"$f":"IF(AND(C93<>0,OR(AN93=\"\",AP93=\"\",AQ93=\"\")),1,0)","v":0},{"$f":"IF(OR(C93<AP93,C93<AQ93),1,0)","v":0},{"$f":"IF(C93<AO93,1,0)","v":0}]
["MATRONA","ARO",{"$f":"SUM(D94:E94)","v":0},null,{"$f":"SUM(K94+M94+O94+Q94+S94+U94+W94+Y94+AA94+AC94+AE94+AG94+AI94+AK94+AM94)","v":0},null,null,null,null,null,null,null,null,null,null,null,null,null,null,null,null,null,null,null,null,null,null,null,null,null,null,null,null,null,null,null,null,null,null,null,null,null,null,{"$f":"CA94&CB94&CC94&CD94","v":""},null,null,null,null,null,null,null,null,null,null,null,null,null,null,null,null,null,null,null,null,null,null,null,null,null,null,null,null,null,null,null,null,null,null,{"$f":"IF(CG94=1,\"* El número de Beneficiarios NO DEBE ser mayor que el Total. \",\"\")","v":""},{"$f":"IF(CH94=1,\"* No olvide digitar la columna Beneficiarios y/o Pueblos Originarios y/o Migrantes (Digite CEROS si no tiene.). \",\"\")","v":""},{"$f":"IF(CI94=1,\"* El número de Pueblos Originarios y/o Migrantes NO DEBE ser mayor que el Total. \",\"\")","v":""},{"$f":"IF(CJ94=1,\"* El número de Controles NO DEBE ser mayor que el Total. \",\"\")","v":""},null,null,{"$f":"IF(E94<AN94,1,0)","v":0},{"$f":"IF(AND(E94<>0,OR(AN94=\"\",AP94=\"\",AQ94=\"\")),1,0)","v":0},{"$f":"IF(OR(E94<AP94,E94<AQ94),1,0)","v":0},{"$f":"IF(E94<AO94,1,0)","v":0}]
[null,"GINECOLOGÍA Y OTROS",{"$f":"SUM(D95+E95)","v":0},{"$f":"SUM(F95+H95+J95+L95+N95+P95+R95+T95+V95+X95+Z95+AB95+AD95+AF95+AH95+AJ95+AL95)","v":0},{"$f":"SUM(G95+I95+K95+M95+O95+Q95+S95+U95+W95+Y95+AA95+AC95+AE95+AG95+AI95+AK95+AM95)","v":0},null,null,null,null,null,null,null,null,null,null,null,null,null,null,null,null,null,null,null,null,null,null,null,null,null,null,null,null,null,null,null,null,null,null,null,null,null,null,"",null,null,null,null,null,null,null,null,null,null,null,null,null,null,null,null,null,null,null,null,null,null,null,null,null,null,null,null,null,null,null,null,null,null,"","","","",null,null,{"$f":"IF(C95<AN95,1,0)","v":0},{"$f":"IF(AND(C95<>0,OR(AN95=\"\",AP95=\"\",AQ95=\"\")),1,0)","v":0},{"$f":"IF(OR(C95<AP95,C95<AQ95),1,0)","v":0},{"$f":"IF(C95<AO95,1,0)","v":0}]
[null,"INFERTILIDAD",{"$f":"SUM(D96+E96)","v":0},{"$f":"SUM(N96+P96+R96+T96+V96+X96+Z96)","v":0},{"$f":"SUM(O96+Q96+S96+U96+W96+Y96+AA96)","v":0},null,null,null,null,null,null,null,null,null,null,null,null,null,null,null,null,null,null,null,null,null,null,null,null,null,null,null,null,null,null,null,null,null,null,null,null,null,null,"",null,null,null,null,null,null,null,null,null,null,null,null,null,null,null,null,null,null,null,null,null,null,null,null,null,null,null,null,null,null,null,null,null,null,"","","","",null,null,0,0,0,0]
["NUTRICIONISTA",null,0,{"$f":"SUM(F97+H97+J97+L97+N97+P97+R97+T97+V97+X97+Z97+AB97+AD97+AF97+AH97+AJ97+AL97)","v":0},0,null,null,null,null,null,null,null,null,null,null,null,null,null,null,null,null,null,null,null,null,null,null,null,null,null,null,null,null,null,null,null,null,null,null,null,null,null,null,"",null,null,null,null,null,null,null,null,null,null,null,null,null,null,null,null,null,null,null,null,null,null,null,null,null,null,null,null,null,null,null,null,null,null,"","","","",null,null,0,0,0,0]
["PSICÓLOGO (EXCLUYE SM)",null,0,0,0,null,null,null,null,null,null,null,null,null,null,null,null,null,null,null,null,null,null,null,null,null,null,null,null,null,null,null,null,null,null,null,null,null,null,null,null,null,null,"",null,null,null,null,null,null,null,null,null,null,null,null,null,null,null,null,null,null,null,null,null,null,null,null,null,null,null,null,null,null,null,null,null,null,"","","","",null,null,0,0,0,0]
["FONOAUDIÓLOGO",null,0,0,0,null,null,null,null,null,null,null,null,null,null,null,null,null,null,null,null,null,null,null,null,null,null,null,null,null,null,null,null,null,null,null,null,null,null,null,null,null,null,"",null,null,null,null,null,null,null,null,null,null,null,null,null,null,null,null,null,null,null,null,null,null,null,null,null,null,null,null,null,null,null,null,null,null,"","","","",null,null,0,0,0,0]
["TECNÓLOGO MÉDICO",null,0,0,0,null,null,null,null,null,null,null,null,null,null,null,null,null,null,null,null,null,null,null,null,null,null,null,null,null,null,null,null,null,null,null,null,null,null,null,null,null,null,"",null,null,null,null,null,null,null,null,null,null,null,null,null,null,null,null,null,null,null,null,null,null,null,null,null,null,null,null,null,null,null,null,null,null,"","","","",null,null,0,0,0,0]
["ASISTENTE  SOCIAL",null,0,0,0,null,null,null,null,null,null,null,null,null,null,null,null,null,null,null,null,null,null,null,null,null,null,null,null,null,null,null,null,null,null,null,null,null,null,null,null,null,null,"",null,null,null,null,null,null,null,null,null,null,null,null,null,null,null,null,null,null,null,null,null,null,null,null,null,null,null,null,null,null,null,null,null,null,{"$f":"IF(CG101=1,\"* El número de Beneficiarios NO DEBE ser mayor que el Total. \",\"\")","v":""},{"$f":"IF(CH101=1,\"* No olvide digitar la columna Beneficiarios y/o Pueblos Originarios y/o Migrantes (Digite CEROS si no tiene.). \",\"\")","v":""},{"$f":"IF(CI101=1,\"* El número de Pueblos Originarios y/o Migrantes NO DEBE ser mayor que el Total. \",\"\")","v":""},{"$f":"IF(CJ101=1,\"* El número de Controles NO DEBE ser mayor que el Total. \",\"\")","v":""},null,null,{"$f":"IF(C101<AN101,1,0)","v":0},{"$f":"IF(AND(C101<>0,OR(AN101=\"\",AP101=\"\",AQ101=\"\")),1,0)","v":0},{"$f":"IF(OR(C101<AP101,C101<AQ101),1,0)","v":0},{"$f":"IF(C101<AO101,1,0)","v":0}]
["TOTAL",null,{"$f":"SUM(C93:C101)","v":0},0,0,0,0,0,0,0,0,0,0,0,0,0,0,0,0,0,0,0,0,0,0,0,0,0,0,0,0,0,0,0,0,0,0,0,0,0,0,0,0,"   "]
["SECCIÓN D: CONSULTAS INFECCIÓN TRANSMISIÓN SEXUAL (ITS) Y CONTROLES DE SALUD SEXUAL EN EL NIVEL SECUNDARIO (Incluidas en Sección C)"]
["ACTIVIDAD","PROFESIONAL","TOTAL ",null,null,"POR EDAD (en años)",null,null,null,null,null,null,null,null,null,null,null,null,null,null,null,null,null,null,null,null,null,null,null,null,null,null,null,null,null,null,null,null,null,"Beneficiarios","Trans",null,"Pueblos Originarios","Migrantes","Niños, Niñas, Adolescentes y Jóvenes Población SENAME"]
[null,null,null,null,null,"0 - 4",null,"5 - 9",null,"10 - 14",null,"15 - 19",null,"20 - 24",null,"25 - 29",null,"30 - 34",null,"35 - 39",null,"40 - 44",null,"45 - 49",null,"50 - 54",null,"55 - 59",null,"60 - 64",null,"65 - 69",null,"70 - 74",null,"75 - 79",null,"80 y mas"]
[null,null,"Ambos Sexos","Hombre","Mujer","Hombre","Mujer","Hombre","Mujer","Hombre","Mujer","Hombre","Mujer","Hombre","Mujer","Hombre","Mujer","Hombre","Mujer","Hombre","Mujer","Hombre","Mujer","Hombre","Mujer","Hombre","Mujer","Hombre","Mujer","Hombre","Mujer","Hombre","Mujer","Hombre","Mujer","Hombre","Mujer","Hombre","Mujer",null,"Masculino","Femenino"]
["CONSULTAS  INFECCIÓN TRANSMISIÓN SEXUAL  (ITS) (excluir VIH/SIDA)","ENFERMERA",{"$f":"SUM(D107+E107)","v":0},{"$f":"SUM(F107+H107+J107+L107+N107+P107+R107+T107+V107+X107+Z107+AB107+AD107+AF107+AH107+AJ107+AL107)","v":0},{"$f":"SUM(G107+I107+K107+M107+O107+Q107+S107+U107+W107+Y107+AA107+AC107+AE107+AG107+AI107+AK107+AM107)","v":0},null,null,null,null,null,null,null,null,null,null,null,null,null,null,null,null,null,null,null,null,null,null,null,null,null,null,null,null,null,null,null,null,null,null,null,null,null,null,null,null,{"$f":"CA107&CB107&CC107&CD107&CE107&CF107","v":""},null,null,null,null,null,null,null,null,null,null,null,null,null,null,null,null,null,null,null,null,null,null,null,null,null,null,null,null,null,null,null,null,{"$f":"IF(CG107=1,\"* El número de Beneficiarios NO DEBE ser mayor que el Total \",\"\")","v":""},{"$f":"IF(CH107=1,\"* No olvide digitar las columnas Beneficiarios y/o Trans y/o Pueblos Originarios y/o Migrantes y/o Niños, Niñas, Adolescentes y Jóvenes Población SENAME (Digite CEROS si no tiene.). \",\"\")","v":""},{"$f":"IF(CI107=1,\"* El número de Trans NO DEBE ser mayor que el Total. \",\"\")","v":""},{"$f":"IF(CJ107=1,\"* El número de Pueblos Originarios NO DEBE ser mayor que el Total. \",\"\")","v":""},{"$f":"IF(CK107=1,\"* El número de Migrantes NO DEBE ser mayor que el Total. \",\"\")","v":""},{"$f":"IF(CL107=1,\"* El número de Niños, Niñas, Adolescentes y Jóvenes Población SENAME NO DEBE ser mayor que el Total. \",\"\")","v":""},{"$f":"IF(C107<AN107,1,0)","v":0},{"$f":"IF(AND(C107<>0,OR(AN107=\"\",AO107=\"\",AP107=\"\",AQ107=\"\",AR107=\"\",AS107=\"\")),1,0)","v":0},{"$f":"IF(C107<(AO107+AP107),1,0)","v":0},{"$f":"IF(C107<AQ107,1,0)","v":0},{"$f":"IF(C107<AR107,1,0)","v":0},{"$f":"IF(C107<AS107,1,0)","v":0}]
[null,"MATRONA",0,0,0,null,null,null,null,null,null,null,null,null,null,null,null,null,null,null,null,null,null,null,null,null,null,null,null,null,null,null,null,null,null,null,null,null,null,null,null,null,null,null,null,{"$f":"CA108&CB108&CC108&CD108&CE108&CF108","v":""},null,null,null,null,null,null,null,null,null,null,null,null,null,null,null,null,null,null,null,null,null,null,null,null,null,null,null,null,null,null,null,null,{"$f":"IF(CG108=1,\"* El número de Beneficiarios NO DEBE ser mayor que el Total \",\"\")","v":""},{"$f":"IF(CH108=1,\"* No olvide digitar las columnas Beneficiarios y/o Trans y/o Pueblos Originarios y/o Migrantes y/o Niños, Niñas, Adolescentes y Jóvenes Población SENAME (Digite CEROS si no tiene.). \",\"\")","v":""},{"$f":"IF(CI108=1,\"* El número de Trans NO DEBE ser mayor que el Total. \",\"\")","v":""},{"$f":"IF(CJ108=1,\"* El número de Pueblos Originarios NO DEBE ser mayor que el Total. \",\"\")","v":""},{"$f":"IF(CK108=1,\"* El número de Migrantes NO DEBE ser mayor que el Total. \",\"\")","v":""},{"$f":"IF(CL108=1,\"* El número de Niños, Niñas, Adolescentes y Jóvenes Población SENAME NO DEBE ser mayor que el Total. \",\"\")","v":""},{"$f":"IF(C108<AN108,1,0)","v":0},{"$f":"IF(AND(C108<>0,OR(AN108=\"\",AO108=\"\",AP108=\"\",AQ108=\"\",AR108=\"\",AS108=\"\")),1,0)","v":0},{"$f":"IF(C108<(AO108+AP108),1,0)","v":0},{"$f":"IF(C108<AQ108,1,0)","v":0},{"$f":"IF(C108<AR108,1,0)","v":0},{"$f":"IF(C108<AS108,1,0)","v":0}]
["CONSULTAS VIH/SIDA","ENFERMERA",0,0,{"$f":"SUM(G109+I109+K109+M109+O109+Q109+S109+U109+W109+Y109+AA109+AC109+AE109+AG109+AI109+AK109+AM109)","v":0},null,null,null,null,null,null,null,null,null,null,null,null,null,null,null,null,null,null,null,null,null,null,null,null,null,null,null,null,null,null,null,null,null,null,null,null,null,null,null,null,"",null,null,null,null,null,null,null,null,null,null,null,null,null,null,null,null,null,null,null,null,null,null,null,null,null,null,null,null,null,null,null,null,"","","","","","",0,0,0,0,0,0]
[null,"MATRONA",0,0,0,null,null,null,null,null,null,null,null,null,null,null,null,null,null,null,null,null,null,null,null,null,null,null,null,null,null,null,null,null,null,null,null,null,null,null,null,null,null,null,null,"",null,null,null,null,null,null,null,null,null,null,null,null,null,null,null,null,null,null,null,null,null,null,null,null,null,null,null,null,null,null,null,null,"","","","","","",0,0,0,0,0,0]
[null,"PSICÓLOGO",0,0,0,null,null,null,null,null,null,null,null,null,null,null,null,null,null,null,null,null,null,null,null,null,null,null,null,null,null,null,null,null,null,null,null,null,null,null,null,null,null,null,null,"",null,null,null,null,null,null,null,null,null,null,null,null,null,null,null,null,null,null,null,null,null,null,null,null,null,null,null,null,null,null,null,null,"","","","","","",0,0,0,0,0,0]
["CONTROL VIH CON TAR","ENFERMERA",0,0,0,null,null,null,null,null,null,null,null,null,null,null,null,null,null,null,null,null,null,null,null,null,null,null,null,null,null,null,null,null,null,null,null,null,null,null,null,null,null,null,null,"",null,null,null,null,null,null,null,null,null,null,null,null,null,null,null,null,null,null,null,null,null,null,null,null,null,null,null,null,null,null,null,null,"","","","","","",0,0,0,0,0,0]
[null,"MATRONA",0,0,0,null,null,null,null,null,null,null,null,null,null,null,null,null,null,null,null,null,null,null,null,null,null,null,null,null,null,null,null,null,null,null,null,null,null,null,null,null,null,null,null,"",null,null,null,null,null,null,null,null,null,null,null,null,null,null,null,null,null,null,null,null,null,null,null,null,null,null,null,null,null,null,null,null,"","","","","","",0,0,0,0,0,0]
["CONTROL VIH SIN TAR","ENFERMERA",0,0,0,null,null,null,null,null,null,null,null,null,null,null,null,null,null,null,null,null,null,null,null,null,null,null,null,null,null,null,null,null,null,null,null,null,null,null,null,null,null,null,null,"",null,null,null,null,null,null,null,null,null,null,null,null,null,null,null,null,null,null,null,null,null,null,null,null,null,null,null,null,null,null,null,null,"","","","","","",0,0,0,0,0,0]
[null,"MATRONA",0,0,0,null,null,null,null,null,null,null,null,null,null,null,null,null,null,null,null,null,null,null,null,null,null,null,null,null,null,null,null,null,null,null,null,null,null,null,null,null,null,null,null,"",null,null,null,null,null,null,null,null,null,null,null,null,null,null,null,null,null,null,null,null,null,null,null,null,null,null,null,null,null,null,null,null,"","","","","","",0,0,0,0,0,0]
["CONTROLES DE SALUD A PERSONAS QUE EJERCEN COMERCIO SEXUAL","ENFERMERA",0,{"$f":"SUM(L116+N116+P116+R116+T116+V116+X116+Z116+AB116+AD116+AF116+AH116+AJ116+AL116)","v":0},{"$f":"SUM(M116+O116+Q116+S116+U116+W116+Y116+AA116+AC116+AE116+AG116+AI116+AK116+AM116)","v":0},null,null,null,null,null,null,null,null,null,null,null,null,null,null,null,null,null,null,null,null,null,null,null,null,null,null,null,null,null,null,null,null,null,null,null,null,null,null,null,null,"",null,null,null,null,null,null,null,null,null,null,null,null,null,null,null,null,null,null,null,null,null,null,null,null,null,null,null,null,null,null,null,null,"","","","","","",{"$f":"IF(C116<AN116,1,0)","v":0},0,0,0,0,0]
[null,"MATRONA",0,{"$f":"SUM(L117+N117+P117+R117+T117+V117+X117+Z117+AB117+AD117+AF117+AH117+AJ117+AL117)","v":0},{"$f":"SUM(M117+O117+Q117+S117+U117+W117+Y117+AA117+AC117+AE117+AG117+AI117+AK117+AM117)","v":0},null,null,null,null,null,null,null,null,null,null,null,null,null,null,null,null,null,null,null,null,null,null,null,null,null,null,null,null,null,null,null,null,null,null,null,null,null,null,null,null,"",null,null,null,null,null,null,null,null,null,null,null,null,null,null,null,null,null,null,null,null,null,null,null,null,null,null,null,null,null,null,null,null,"","","","","","",0,0,0,0,0,0]
[null,null,null,null,null,null,null,null,null,null,null,null,null,null,null,null,null,null,null,null,null,null,null,null,null,null,null,null,null,null,null,null,null,null,null,null,null,null,null,null,null,null,null,"   "]
[]
[]
[]
[]
[]
[]
[]
[]
[]
[]
[]
[]
[]
[]
[]
[]
[]
[]
[]
[]
[]
[]
[]
[]
[]
[]
[]
[]
[]
[]
[]
[]
[]
[]
[]
[]
[]
[]
[]
[]
[]
[]
[]
[]
[]
[]
[]
[]
[]
[]
[]
[]
[]
[]
[]
[]
[]
[]
[]
[]
[]
[]
[]
[]
[]
[]
[]
[]
[]
[]
[]
[]
[]
[]
[{"$f":"SUM(B71,B88,C102,C107:C117,AV71,AR71:AS71,W71:AV71)","v":0},{"$f":"SUM(CG7:CK119)","v":0}]

{"sheet":"A08","index":8,"n_rows":199,"n_cols":88,"rows_kept":199,"cut":false,"hidden":false,"merged":[[181,16,181,17],[181,18,181,19],[181,20,181,21],[181,8,181,9],[181,10,181,11],[181,12,181,13],[86,40,88,40],[175,0,176,0],[175,2,176,2],[172,0,173,0],[180,0,182,0],[180,1,181,3],[180,4,180,21],[181,4,181,5],[181,6,181,7],[181,14,181,15],[103,2,104,4],[104,13,104,14],[87,19,87,20],[87,37,87,38],[87,33,87,34],[87,35,87,36],[104,27,104,28],[110,28,110,29],[43,1,44,3],[87,21,87,22],[87,13,87,14],[86,0,88,1],[86,5,86,38],[8,44,10,44],[15,39,17,39],[23,39,25,39],[33,39,35,39],[43,39,45,39],[44,22,44,23],[9,40,10,40],[9,41,10,41],[9,42,10,42],[8,43,10,43],[15,38,17,38],[23,38,25,38],[8,39,8,42],[9,39,10,39],[34,24,34,25],[33,0,35,0],[33,1,34,3],[33,4,33,37],[34,4,34,5],[53,0,55,0],[95,0,95,1],[93,0,93,1],[94,0,94,1],[90,0,92,0],[89,0,89,1],[54,4,54,5],[103,5,103,38],[104,15,104,16],[104,23,104,24],[104,7,104,8],[104,9,104,10],[104,11,104,12],[87,5,87,6],[16,34,16,35],[16,26,16,27],[16,28,16,29],[16,30,16,31],[113,0,113,1],[98,0,98,2],[108,0,108,1],[99,0,101,1],[106,0,106,1],[103,0,105,1],[110,0,111,1],[107,0,107,1],[112,0,112,1],[110,13,110,14],[110,5,110,6],[110,11,110,12],[110,2,110,4],[96,0,96,1],[54,8,54,9],[54,10,54,11],[53,1,54,3],[87,7,87,8],[87,9,87,10],[86,2,87,4],[24,18,24,19],[24,20,24,21],[34,16,34,17],[34,18,34,19],[15,0,17,0],[16,4,16,5],[34,22,34,23],[8,38,10,38],[14,0,14,12],[15,1,16,3],[15,4,15,37],[16,20,16,21],[16,22,16,23],[16,24,16,25],[16,16,16,17],[16,18,16,19],[9,36,9,37],[34,12,34,13],[34,6,34,7],[34,8,34,9],[34,10,34,11],[16,12,16,13],[16,36,16,37],[16,14,16,15],[44,6,44,7],[44,8,44,9],[44,10,44,11],[44,12,44,13],[44,14,44,15],[44,16,44,17],[44,18,44,19],[44,20,44,21],[44,24,44,25],[43,0,45,0],[24,8,24,9],[24,10,24,11],[24,12,24,13],[24,30,24,31],[24,4,24,5],[23,1,24,3],[23,4,23,37],[16,6,16,7],[16,8,16,9],[16,10,16,11],[24,6,24,7],[16,32,16,33],[24,32,24,33],[24,24,24,25],[24,28,24,29],[24,26,24,27],[24,34,24,35],[34,14,34,15],[24,16,24,17],[23,0,25,0],[24,22,24,23],[24,36,24,37],[24,14,24,15],[5,0,5,14],[8,0,10,0],[8,1,9,3],[8,4,8,37],[9,30,9,31],[9,32,9,33],[9,22,9,23],[9,4,9,5],[9,6,9,7],[9,16,9,17],[9,18,9,19],[9,20,9,21],[9,28,9,29],[9,34,9,35],[9,8,9,9],[9,10,9,11],[9,12,9,13],[9,14,9,15],[9,24,9,25],[9,26,9,27],[103,39,105,39],[104,35,104,36],[104,33,104,34],[110,34,111,34],[110,30,110,33],[86,39,88,39],[104,37,104,38],[87,29,87,30],[34,34,34,35],[53,4,53,37],[54,12,54,13],[54,14,54,15],[54,36,54,37],[34,20,34,21],[43,4,43,37],[44,4,44,5],[54,18,54,19],[54,20,54,21],[54,22,54,23],[54,30,54,31],[54,28,54,29],[54,6,54,7],[54,32,54,33],[54,24,54,25],[43,38,45,38],[44,32,44,33],[33,38,35,38],[34,30,34,31],[34,32,34,33],[87,31,87,32],[87,11,87,12],[54,34,54,35],[54,26,54,27],[44,34,44,35],[44,36,44,37],[34,36,34,37],[53,38,54,39],[87,23,87,24],[54,16,54,17],[44,26,44,27],[44,28,44,29],[44,30,44,31],[34,26,34,27],[34,28,34,29],[87,15,87,16],[87,17,87,18],[87,25,87,26],[87,27,87,28],[166,0,166,1],[169,5,169,20],[115,15,116,15],[110,15,110,16],[139,6,140,6],[115,0,116,1],[115,2,116,2],[117,0,118,0],[139,0,140,2],[110,17,110,18],[110,19,110,20],[110,9,110,10],[110,7,110,8],[120,0,121,0],[120,1,121,1],[164,0,164,1],[161,2,162,4],[148,0,150,0],[161,0,163,1],[157,0,159,0],[159,1,159,2],[152,8,153,8],[110,24,110,27],[104,29,104,30],[104,5,104,6],[104,25,104,26],[104,31,104,32],[162,17,162,18],[162,19,162,20],[162,29,162,30],[104,21,104,22],[115,3,115,12],[115,13,115,14],[136,0,136,3],[144,0,144,1],[137,1,137,3],[141,0,142,0],[162,25,162,26],[162,27,162,28],[145,0,146,0],[156,1,156,2],[155,1,155,2],[157,1,157,2],[158,1,158,2],[104,17,104,18],[104,19,104,20],[110,21,110,22],[110,23,111,23],[154,1,154,2],[152,0,153,2],[170,5,170,6],[152,3,152,5],[152,7,153,7],[169,24,171,24],[170,32,171,32],[139,10,139,12],[170,15,170,16],[170,19,170,20],[170,9,170,10],[170,28,171,28],[169,21,171,21],[169,23,171,23],[170,17,170,18],[152,6,153,6],[169,2,170,4],[139,7,139,9],[139,3,139,5],[141,1,141,2],[169,31,169,32],[162,9,162,10],[162,31,162,32],[162,13,162,14],[170,11,170,12],[169,22,171,22],[169,27,169,30],[169,25,171,25],[170,30,171,30],[170,29,171,29],[170,27,171,27],[162,21,162,22],[162,23,162,24],[169,26,171,26],[162,11,162,12],[162,15,162,16],[185,4,185,11],[185,12,186,13],[185,14,187,14],[186,4,186,5],[186,6,186,7],[186,8,186,9],[186,10,186,11],[154,0,156,0],[169,0,171,1],[185,0,188,0],[185,1,186,3],[165,0,165,1],[170,13,170,14],[162,7,162,8],[175,3,176,3],[175,1,176,1],[162,5,162,6],[161,5,161,38],[162,37,162,38],[167,0,167,1],[162,33,162,34],[162,35,162,36],[170,7,170,8],[170,31,171,31]]}
["SERVICIO DE SALUD"]
[{"$f":"CONCATENATE(\"COMUNA: \",NOMBRE!B2,\" - \",\"( \",NOMBRE!C2,NOMBRE!D2,NOMBRE!E2,NOMBRE!F2,NOMBRE!G2,\" )\")","v":"COMUNA:  - (  )"}]
[{"$f":"CONCATENATE(\"ESTABLECIMIENTO/ESTRATEGIA: \",NOMBRE!B3,\" - \",\"( \",NOMBRE!C3,NOMBRE!D3,NOMBRE!E3,NOMBRE!F3,NOMBRE!G3,NOMBRE!H3,\" )\")","v":"ESTABLECIMIENTO/ESTRATEGIA:  - (  )"}]
[{"$f":"CONCATENATE(\"MES: \",NOMBRE!B6,\" - \",\"( \",NOMBRE!C6,NOMBRE!D6,\" )\")","v":"MES:  - (  )"}]
[{"$f":"CONCATENATE(\"AÑO: \",NOMBRE!B7)","v":"AÑO: 2020"}]
["REM-A08.  ATENCIÓN DE URGENCIA"]
["SECCIÓN A: ATENCIONES REALIZADAS EN UNIDADES DE URGENCIA DE LA RED"]
["SECCIÓN A.1: ATENCIONES REALIZADAS EN UNIDADES DE EMERGENCIA HOSPITALARIA DE ALTA Y MEDIANA COMPLEJIDAD (UEH)"]
["TIPO DE ATENCIÓN","TOTAL        ",null,null,"GRUPOS DE EDAD (en años)",null,null,null,null,null,null,null,null,null,null,null,null,null,null,null,null,null,null,null,null,null,null,null,null,null,null,null,null,null,null,null,null,null,"Beneficiarios","ORIGEN DE LA PROCEDENCIA (Sólo pacientes derivados de establecimientos de la Red)",null,null,null,"Establecimientos de otra Red","Demanda de Urgencia"]
[null,null,null,null,"0 - 4",null,"5 - 9",null,"10 - 14",null,"15 - 19",null,"20 - 24",null,"25 - 29",null,"30 - 34",null,"35 - 39",null,"40 - 44",null,"45 - 49",null,"50 - 54",null,"55 - 59",null,"60 - 64",null,"65 - 69",null,"70 - 74",null,"75 - 79",null,"80 y mas",null,null,"SAPU/ SAR / SUR","Hospital Baja Complejidad","Hospital Mediana/Alta Complejidad","Otros Establecimientos de la  Red"]
[null,"Ambos Sexos","Hombres","Mujeres","Hombres","Mujeres","Hombres","Mujeres","Hombres","Mujeres","Hombres","Mujeres","Hombres","Mujeres","Hombres","Mujeres","Hombres","Mujeres","Hombres","Mujeres","Hombres","Mujeres","Hombres","Mujeres","Hombres","Mujeres","Hombres","Mujeres","Hombres","Mujeres","Hombres","Mujeres","Hombres","Mujeres","Hombres","Mujeres","Hombres","Mujeres"]
["ATENCIÓN MÉDICA NIÑO Y ADULTO",{"$f":"SUM(C12+D12)","v":0},{"$f":"SUM(E12+G12+I12+K12+M12+O12+Q12+S12+U12+W12+Y12+AA12+AC12+AE12+AG12+AI12+AK12)","v":0},0,null,null,null,null,null,null,null,null,null,null,null,null,null,null,null,null,null,null,null,null,null,null,null,null,null,null,null,null,null,null,null,null,null,null,null,null,null,null,null,null,null,null,null,null,null,null,null,null,null,null,null,null,null,null,null,null,null,null,null,null,null,null,null,null,null,null,null,null,null,null,null,null,null,null,null,null,null,null,null,null,0,0,0,0]
["ATENCIÓN MÉDICA GINECO-OBSTETRA",{"$f":"SUM(C13+D13)","v":0},0,0,null,null,null,null,null,null,null,null,null,null,null,null,null,null,null,null,null,null,null,null,null,null,null,null,null,null,null,null,null,null,null,null,null,null,null,null,null,null,null,null,null,null,null,null,null,null,null,null,null,null,null,null,null,null,null,null,null,null,null,null,null,null,null,null,null,null,null,null,null,null,null,null,null,null,null,null,null,null,null,null,0,0,0,0]
["ATENCIÓN POR MATRONA",{"$f":"SUM(C14+D14)","v":0},0,0,null,null,null,null,null,null,null,null,null,null,null,null,null,null,null,null,null,null,null,null,null,null,null,null,null,null,null,null,null,null,null,null,null,null,null,null,null,null,null,null,null,null,null,null,null,null,null,null,null,null,null,null,null,null,null,null,null,null,null,null,null,null,null,null,null,null,null,null,null,null,null,null,null,null,null,null,null,null,null,null,0,0]
["SECCIÓN A.2: ATENCIONES DE URGENCIA REALIZADAS EN SAPU Y SAR"]
["PROFESIONAL","TOTAL        ",null,null,"GRUPOS DE EDAD (en años)",null,null,null,null,null,null,null,null,null,null,null,null,null,null,null,null,null,null,null,null,null,null,null,null,null,null,null,null,null,null,null,null,null,"Beneficiarios","Demanda de Urgencia"]
[null,null,null,null,"0 - 4",null,"5 - 9",null,"10 - 14",null,"15 - 19",null,"20 - 24",null,"25 - 29",null,"30 - 34",null,"35 - 39",null,"40 - 44",null,"45 - 49",null,"50 - 54",null,"55 - 59",null,"60 - 64",null,"65 - 69",null,"70 - 74",null,"75 - 79",null,"80 y mas"]
[null,"Ambos Sexos","Hombres ","Mujeres","Hombres ","Mujeres","Hombres ","Mujeres","Hombres ","Mujeres","Hombres ","Mujeres","Hombres ","Mujeres","Hombres ","Mujeres","Hombres ","Mujeres","Hombres ","Mujeres","Hombres ","Mujeres","Hombres ","Mujeres","Hombres ","Mujeres","Hombres ","Mujeres","Hombres ","Mujeres","Hombres ","Mujeres","Hombres ","Mujeres","Hombres ","Mujeres","Hombres ","Mujeres"]
["MÉDICO",{"$f":"SUM(C19+D19)","v":0},{"$f":"SUM(E19+G19+I19+K19+M19+O19+Q19+S19+U19+W19+Y19+AA19+AC19+AE19+AG19+AI19+AK19)","v":0},0,null,null,null,null,null,null,null,null,null,null,null,null,null,null,null,null,null,null,null,null,null,null,null,null,null,null,null,null,null,null,null,null,null,null,null,null,null,null,null,null,null,null,null,null,null,null,null,null,null,null,null,null,null,null,null,null,null,null,null,null,null,null,null,null,null,null,null,null,null,null,null,null,null,null,null,null,null,null,null,null,0,0]
["ENFERMERA /O",{"$f":"SUM(C20+D20)","v":0},0,0,null,null,null,null,null,null,null,null,null,null,null,null,null,null,null,null,null,null,null,null,null,null,null,null,null,null,null,null,null,null,null,null,null,null,null,null,null,null,null,null,null,null,null,null,null,null,null,null,null,null,null,null,null,null,null,null,null,null,null,null,null,null,null,null,null,null,null,null,null,null,null,null,null,null,null,null,null,null,null,null,0,0]
["MATRONA /ÓN",{"$f":"SUM(C21+D21)","v":0},0,0,null,null,null,null,null,null,null,null,null,null,null,null,null,null,null,null,null,null,null,null,null,null,null,null,null,null,null,null,null,null,null,null,null,null,null,null,null,null,null,null,null,null,null,null,null,null,null,null,null,null,null,null,null,null,null,null,null,null,null,null,null,null,null,null,null,null,null,null,null,null,null,null,null,null,null,null,null,null,null,null,0,0]
["KINESIÓLOGO/ A",{"$f":"SUM(C22+D22)","v":0},0,0,null,null,null,null,null,null,null,null,null,null,null,null,null,null,null,null,null,null,null,null,null,null,null,null,null,null,null,null,null,null,null,null,null,null,null,null,null,null,null,null,null,null,null,null,null,null,null,null,null,null,null,null,null,null,null,null,null,null,null,null,null,null,null,null,null,null,null,null,null,null,null,null,null,null,null,null,null,null,null,null,0,0]
["SECCIÓN A.3: ATENCIONES DE URGENCIA REALIZADAS EN ESTABLECIMIENTOS DE BAJA COMPLEJIDAD"]
["PROFESIONAL","TOTAL        ",null,null,"GRUPOS DE EDAD (en años)",null,null,null,null,null,null,null,null,null,null,null,null,null,null,null,null,null,null,null,null,null,null,null,null,null,null,null,null,null,null,null,null,null,"Beneficiarios","Demanda de Urgencia"]
[null,null,null,null,"0 - 4",null,"5 - 9",null,"10 - 14",null,"15 - 19",null,"20 - 24",null,"25 - 29",null,"30 - 34",null,"35 - 39",null,"40 - 44",null,"45 - 49",null,"50 - 54",null,"55 - 59",null,"60 - 64",null,"65 - 69",null,"70 - 74",null,"75 - 79",null,"80 y mas"]
[null,"Ambos Sexos","Hombres ","Mujeres","Hombres ","Mujeres","Hombres ","Mujeres","Hombres ","Mujeres","Hombres ","Mujeres","Hombres ","Mujeres","Hombres ","Mujeres","Hombres ","Mujeres","Hombres ","Mujeres","Hombres ","Mujeres","Hombres ","Mujeres","Hombres ","Mujeres","Hombres ","Mujeres","Hombres ","Mujeres","Hombres ","Mujeres","Hombres ","Mujeres","Hombres ","Mujeres","Hombres ","Mujeres"]
["MÉDICO",{"$f":"SUM(C27+D27)","v":0},{"$f":"SUM(E27+G27+I27+K27+M27+O27+Q27+S27+U27+W27+Y27+AA27+AC27+AE27+AG27+AI27+AK27)","v":0},0,null,null,null,null,null,null,null,null,null,null,null,null,null,null,null,null,null,null,null,null,null,null,null,null,null,null,null,null,null,null,null,null,null,null,null,null,null,null,null,null,null,null,null,null,null,null,null,null,null,null,null,null,null,null,null,null,null,null,null,null,null,null,null,null,null,null,null,null,null,null,null,null,null,null,null,null,null,null,null,null,0,0]
["ENFERMERA /O",0,0,0,null,null,null,null,null,null,null,null,null,null,null,null,null,null,null,null,null,null,null,null,null,null,null,null,null,null,null,null,null,null,null,null,null,null,null,null,null,null,null,null,null,null,null,null,null,null,null,null,null,null,null,null,null,null,null,null,null,null,null,null,null,null,null,null,null,null,null,null,null,null,null,null,null,null,null,null,null,null,null,null,0,0]
["MATRONA /ÓN",0,0,0,null,null,null,null,null,null,null,null,null,null,null,null,null,null,null,null,null,null,null,null,null,null,null,null,null,null,null,null,null,null,null,null,null,null,null,null,null,null,null,null,null,null,null,null,null,null,null,null,null,null,null,null,null,null,null,null,null,null,null,null,null,null,null,null,null,null,null,null,null,null,null,null,null,null,null,null,null,null,null,null,0,0]
["KINESIÓLOGO/A",0,0,0,null,null,null,null,null,null,null,null,null,null,null,null,null,null,null,null,null,null,null,null,null,null,null,null,null,null,null,null,null,null,null,null,null,null,null,null,null,null,null,null,null,null,null,null,null,null,null,null,null,null,null,null,null,null,null,null,null,null,null,null,null,null,null,null,null,null,null,null,null,null,null,null,null,null,null,null,null,null,null,null,0,0]
["TÉCNICO PARAMÉDICO",0,0,0,null,null,null,null,null,null,null,null,null,null,null,null,null,null,null,null,null,null,null,null,null,null,null,null,null,null,null,null,null,null,null,null,null,null,null,null,null,null,null,null,null,null,null,null,null,null,null,null,null,null,null,null,null,null,null,null,null,null,null,null,null,null,null,null,null,null,null,null,null,null,null,null,null,null,null,null,null,null,null,null,0,0]
["OTROS PROFESIONALES",0,0,0,null,null,null,null,null,null,null,null,null,null,null,null,null,null,null,null,null,null,null,null,null,null,null,null,null,null,null,null,null,null,null,null,null,null,null,null,null,null,null,null,null,null,null,null,null,null,null,null,null,null,null,null,null,null,null,null,null,null,null,null,null,null,null,null,null,null,null,null,null,null,null,null,null,null,null,null,null,null,null,null,0,0]
["SECCIÓN A.4: ATENCIONES DE URGENCIA REALIZADAS EN ESTABLECIMIENTOS  ATENCIÓN PRIMARIA NO SAPU"]
["PROFESIONAL","TOTAL        ",null,null,"GRUPOS DE EDAD (en años)",null,null,null,null,null,null,null,null,null,null,null,null,null,null,null,null,null,null,null,null,null,null,null,null,null,null,null,null,null,null,null,null,null,"Beneficiarios","Demanda de Urgencia"]
[null,null,null,null,"0 - 4",null,"5 - 9",null,"10 - 14",null,"15 - 19",null,"20 - 24",null,"25 - 29",null,"30 - 34",null,"35 - 39",null,"40 - 44",null,"45 - 49",null,"50 - 54",null,"55 - 59",null,"60 - 64",null,"65 - 69",null,"70 - 74",null,"75 - 79",null,"80 y mas"]
[null,"Ambos Sexos","Hombres ","Mujeres","Hombres ","Mujeres","Hombres ","Mujeres","Hombres ","Mujeres","Hombres ","Mujeres","Hombres ","Mujeres","Hombres ","Mujeres","Hombres ","Mujeres","Hombres ","Mujeres","Hombres ","Mujeres","Hombres ","Mujeres","Hombres ","Mujeres","Hombres ","Mujeres","Hombres ","Mujeres","Hombres ","Mujeres","Hombres ","Mujeres","Hombres ","Mujeres","Hombres ","Mujeres"]
["MÉDICO",{"$f":"SUM(C37+D37)","v":0},{"$f":"SUM(E37+G37+I37+K37+M37+O37+Q37+S37+U37+W37+Y37+AA37+AC37+AE37+AG37+AI37+AK37)","v":0},0,null,null,null,null,null,null,null,null,null,null,null,null,null,null,null,null,null,null,null,null,null,null,null,null,null,null,null,null,null,null,null,null,null,null,null,null,null,null,null,null,null,null,null,null,null,null,null,null,null,null,null,null,null,null,null,null,null,null,null,null,null,null,null,null,null,null,null,null,null,null,null,null,null,null,null,null,null,null,null,null,0,0]
["ENFERMERA /O",0,0,0,null,null,null,null,null,null,null,null,null,null,null,null,null,null,null,null,null,null,null,null,null,null,null,null,null,null,null,null,null,null,null,null,null,null,null,null,null,null,null,null,null,null,null,null,null,null,null,null,null,null,null,null,null,null,null,null,null,null,null,null,null,null,null,null,null,null,null,null,null,null,null,null,null,null,null,null,null,null,null,null,0,0]
["MATRONA /ÓN",0,0,0,null,null,null,null,null,null,null,null,null,null,null,null,null,null,null,null,null,null,null,null,null,null,null,null,null,null,null,null,null,null,null,null,null,null,null,null,null,null,null,null,null,null,null,null,null,null,null,null,null,null,null,null,null,null,null,null,null,null,null,null,null,null,null,null,null,null,null,null,null,null,null,null,null,null,null,null,null,null,null,null,0,0]
["KINESIÓLOGO/A",0,0,0,null,null,null,null,null,null,null,null,null,null,null,null,null,null,null,null,null,null,null,null,null,null,null,null,null,null,null,null,null,null,null,null,null,null,null,null,null,null,null,null,null,null,null,null,null,null,null,null,null,null,null,null,null,null,null,null,null,null,null,null,null,null,null,null,null,null,null,null,null,null,null,null,null,null,null,null,null,null,null,null,0,0]
["TÉCNICO PARAMÉDICO",0,0,0,null,null,null,null,null,null,null,null,null,null,null,null,null,null,null,null,null,null,null,null,null,null,null,null,null,null,null,null,null,null,null,null,null,null,null,null,null,null,null,null,null,null,null,null,null,null,null,null,null,null,null,null,null,null,null,null,null,null,null,null,null,null,null,null,null,null,null,null,null,null,null,null,null,null,null,null,null,null,null,null,0,0]
["OTROS PROFESIONALES",0,0,0,null,null,null,null,null,null,null,null,null,null,null,null,null,null,null,null,null,null,null,null,null,null,null,null,null,null,null,null,null,null,null,null,null,null,null,null,null,null,null,null,null,null,null,null,null,null,null,null,null,null,null,null,null,null,null,null,null,null,null,null,null,null,null,null,null,null,null,null,null,null,null,null,null,null,null,null,null,null,null,null,0,0]
["SECCIÓN A.5:  CONSULTAS EN SISTEMA DE ATENCIÓN DE URGENCIA EN CENTROS DE SALUD RURAL (SUR) Y POSTAS RURALES"]
["PROFESIONAL","TOTAL        ",null,null,"GRUPOS DE EDAD (en años)",null,null,null,null,null,null,null,null,null,null,null,null,null,null,null,null,null,null,null,null,null,null,null,null,null,null,null,null,null,null,null,null,null,"Beneficiarios","Demanda de Urgencia"]
[null,null,null,null,"0 - 4",null,"5 - 9",null,"10 - 14",null,"15 - 19",null,"20 - 24",null,"25 - 29",null,"30 - 34",null,"35 - 39",null,"40 - 44",null,"45 - 49",null,"50 - 54",null,"55 - 59",null,"60 - 64",null,"65 - 69",null,"70 - 74",null,"75 - 79",null,"80 y mas"]
[null,"Ambos Sexos","Hombres ","Mujeres","Hombres ","Mujeres","Hombres ","Mujeres","Hombres ","Mujeres","Hombres ","Mujeres","Hombres ","Mujeres","Hombres ","Mujeres","Hombres ","Mujeres","Hombres ","Mujeres","Hombres ","Mujeres","Hombres ","Mujeres","Hombres ","Mujeres","Hombres ","Mujeres","Hombres ","Mujeres","Hombres ","Mujeres","Hombres ","Mujeres","Hombres ","Mujeres","Hombres ","Mujeres"]
["MÉDICO",{"$f":"SUM(C47+D47)","v":0},{"$f":"SUM(E47+G47+I47+K47+M47+O47+Q47+S47+U47+W47+Y47+AA47+AC47+AE47+AG47+AI47+AK47)","v":0},0,null,null,null,null,null,null,null,null,null,null,null,null,null,null,null,null,null,null,null,null,null,null,null,null,null,null,null,null,null,null,null,null,null,null,null,null,null,null,null,null,null,null,null,null,null,null,null,null,null,null,null,null,null,null,null,null,null,null,null,null,null,null,null,null,null,null,null,null,null,null,null,null,null,null,null,null,null,null,null,null,0,0]
["ENFERMERA /O",0,0,0,null,null,null,null,null,null,null,null,null,null,null,null,null,null,null,null,null,null,null,null,null,null,null,null,null,null,null,null,null,null,null,null,null,null,null,null,null,null,null,null,null,null,null,null,null,null,null,null,null,null,null,null,null,null,null,null,null,null,null,null,null,null,null,null,null,null,null,null,null,null,null,null,null,null,null,null,null,null,null,null,0,0]
["MATRONA /ÓN",0,0,0,null,null,null,null,null,null,null,null,null,null,null,null,null,null,null,null,null,null,null,null,null,null,null,null,null,null,null,null,null,null,null,null,null,null,null,null,null,null,null,null,null,null,null,null,null,null,null,null,null,null,null,null,null,null,null,null,null,null,null,null,null,null,null,null,null,null,null,null,null,null,null,null,null,null,null,null,null,null,null,null,0,0]
["KINESIÓLOGO/A",0,0,0,null,null,null,null,null,null,null,null,null,null,null,null,null,null,null,null,null,null,null,null,null,null,null,null,null,null,null,null,null,null,null,null,null,null,null,null,null,null,null,null,null,null,null,null,null,null,null,null,null,null,null,null,null,null,null,null,null,null,null,null,null,null,null,null,null,null,null,null,null,null,null,null,null,null,null,null,null,null,null,null,0,0]
["TÉCNICO PARAMÉDICO",0,0,0,null,null,null,null,null,null,null,null,null,null,null,null,null,null,null,null,null,null,null,null,null,null,null,null,null,null,null,null,null,null,null,null,null,null,null,null,null,null,null,null,null,null,null,null,null,null,null,null,null,null,null,null,null,null,null,null,null,null,null,null,null,null,null,null,null,null,null,null,null,null,null,null,null,null,null,null,null,null,null,null,0,0]
["OTROS PROFESIONALES",0,0,0,null,null,null,null,null,null,null,null,null,null,null,null,null,null,null,null,null,null,null,null,null,null,null,null,null,null,null,null,null,null,null,null,null,null,null,null,null,null,null,null,null,null,null,null,null,null,null,null,null,null,null,null,null,null,null,null,null,null,null,null,null,null,null,null,null,null,null,null,null,null,null,null,null,null,null,null,null,null,null,null,0,0]
["SECCIÓN B: CATEGORIZACIÓN DE PACIENTES, PREVIA A LA ATENCIÓN MÉDICA (Establecimientos Alta, Mediana o Baja Complejidad y SAR)."]
["CATEGORÍAS","TOTAL",null,null,"GRUPOS DE EDAD (en años)",null,null,null,null,null,null,null,null,null,null,null,null,null,null,null,null,null,null,null,null,null,null,null,null,null,null,null,null,null,null,null,null,null,"Herramientas de Categorización"]
[null,null,null,null,"0 - 4",null,"5 - 9",null,"10 - 14",null,"15 - 19",null,"20 - 24",null,"25 - 29",null,"30 - 34",null,"35 - 39",null,"40 - 44",null,"45 - 49",null,"50 - 54",null,"55 - 59",null,"60 - 64",null,"65 - 69",null,"70 - 74",null,"75 - 79",null,"80 y mas"]
[null,"Ambos Sexos","Hombres","Mujeres","Hombres","Mujeres","Hombres","Mujeres","Hombres","Mujeres","Hombres","Mujeres","Hombres","Mujeres","Hombres","Mujeres","Hombres","Mujeres","Hombres","Mujeres","Hombres","Mujeres","Hombres","Mujeres","Hombres","Mujeres","Hombres","Mujeres","Hombres","Mujeres","Hombres","Mujeres","Hombres","Mujeres","Hombres","Mujeres","Hombres","Mujeres","Discrecional","Estructurado (ESI)"]
["C1",{"$f":"SUM(C57+D57)","v":0},{"$f":"SUM(E57+G57+I57+K57+M57+O57+Q57+S57+U57+W57+Y57+AA57+AC57+AE57+AG57+AI57+AK57)","v":0},0,null,null,null,null,null,null,null,null,null,null,null,null,null,null,null,null,null,null,null,null,null,null,null,null,null,null,null,null,null,null,null,null,null,null,null,null,null,null,null,null,null,null,null,null,null,null,null,null,null,null,null,null,null,null,null,null,null,null,null,null,null,null,null,null,null,null,null,null,null,null,null,null,null,null,null,null,null,null,null,null,0]
["C2",0,0,0,null,null,null,null,null,null,null,null,null,null,null,null,null,null,null,null,null,null,null,null,null,null,null,null,null,null,null,null,null,null,null,null,null,null,null,null,null,null,null,null,null,null,null,null,null,null,null,null,null,null,null,null,null,null,null,null,null,null,null,null,null,null,null,null,null,null,null,null,null,null,null,null,null,null,null,null,null,null,null,null,0]
["C3",0,0,0,null,null,null,null,null,null,null,null,null,null,null,null,null,null,null,null,null,null,null,null,null,null,null,null,null,null,null,null,null,null,null,null,null,null,null,null,null,null,null,null,null,null,null,null,null,null,null,null,null,null,null,null,null,null,null,null,null,null,null,null,null,null,null,null,null,null,null,null,null,null,null,null,null,null,null,null,null,null,null,null,0]
["C4",0,0,0,null,null,null,null,null,null,null,null,null,null,null,null,null,null,null,null,null,null,null,null,null,null,null,null,null,null,null,null,null,null,null,null,null,null,null,null,null,null,null,null,null,null,null,null,null,null,null,null,null,null,null,null,null,null,null,null,null,null,null,null,null,null,null,null,null,null,null,null,null,null,null,null,null,null,null,null,null,null,null,null,0]
["C5",0,0,0,null,null,null,null,null,null,null,null,null,null,null,null,null,null,null,null,null,null,null,null,null,null,null,null,null,null,null,null,null,null,null,null,null,null,null,null,null,null,null,null,null,null,null,null,null,null,null,null,null,null,null,null,null,null,null,null,null,null,null,null,null,null,null,null,null,null,null,null,null,null,null,null,null,null,null,null,null,null,null,null,0]
["SIN CATEGORIZACIÓN",0,0,0,null,null,null,null,null,null,null,null,null,null,null,null,null,null,null,null,null,null,null,null,null,null,null,null,null,null,null,null,null,null,null,null,null,null,null,null,null,null,null,null,null,null,null,null,null,null,null,null,null,null,null,null,null,null,null,null,null,null,null,null,null,null,null,null,null,null,null,null,null,null,null,null,null,null,null,null,null,null,null,null,0]
["TOTAL",{"$f":"SUM(B57:B62)","v":0},0,0,0,0,0,0,0,0,0,0,0,0,0,0,0,0,0,0,0,0,0,0,0,0,0,0,0,0,0,0,0,0,0,0,0,0,{"$f":"SUM(AM57:AM61)","v":0},{"$f":"SUM(AN57:AN61)","v":0}]
["SECCIÓN C: ATENCIONES REALIZADAS POR MÉDICOS ESPECIALISTAS EN LAS UNIDADES DE URGENCIA HOSPITALARIA"]
["ESPECIALIDADES","TOTAL        ","DE TURNO","CONSULTOR LLAMADA","OTROS",null,null,null,null,null,null,null,null," "]
["MEDICINA INTERNA",{"$f":"SUM(C66:E66)","v":0}]
["NEUROLOGÍA ADULTOS",0]
["NEUROLOGÍA PEDIÁTRICA",0]
["OBSTETRICIA Y GINECOLOGÍA",0]
["OFTALMOLOGÍA",0]
["OTORRINOLARINGOLOGÍA",0]
["PEDIATRÍA",0]
["TRAUMATOLOGÍA Y ORTOPEDIA",0]
["NEUROCIRUGÍA",0]
["PSIQUIATRÍA ADULTOS",0]
["PSIQUIATRÍA PEDIÁTRICA  Y ADOLESCENTES",0]
["UROLOGÍA",0]
["URGENCIÓLOGO",0]
["CIRUGÍA VASCULAR PERIFÉRICA",0]
["CIRUGÍA GENERAL",0]
["CIRUGÍA PEDIÁTRICA",0]
["CARDIOLOGÍA",0]
["ANESTESIOLOGÍA",0]
["CIRUGÍA DE CABEZA, CUELLO Y MAXILOFACIAL",0]
["TOTAL",{"$f":"SUM(B66:B84)","v":0},{"$f":"SUM(C66:C84)","v":0},{"$f":"SUM(D66:D84)","v":0},{"$f":"SUM(E66:E84)","v":0}]
["SECCIÓN D: PACIENTES CON INDICACIÓN DE HOSPITALIZACIÓN EN ESPERA DE CAMAS EN UEH"]
["TIPO DE PACIENTES",null,"TOTAL        ",null,null,"GRUPOS DE EDAD (en años)",null,null,null,null,null,null,null,null,null,null,null,null,null,null,null,null,null,null,null,null,null,null,null,null,null,null,null,null,null,null,null,null,null,"Beneficiarios","Hospitalización Domiciliaria"]
[null,null,null,null,null,"0 - 4",null,"5 - 9",null,"10 - 14",null,"15 - 19",null,"20 - 24",null,"25 - 29",null,"30 - 34",null,"35 - 39",null,"40 - 44",null,"45 - 49",null,"50 - 54",null,"55 - 59",null,"60 - 64",null,"65 - 69",null,"70 - 74",null,"75 - 79",null,"80 y mas"]
[null,null,"Ambos Sexos","Hombres ","Mujeres","Hombres ","Mujeres","Hombres ","Mujeres","Hombres ","Mujeres","Hombres ","Mujeres","Hombres ","Mujeres","Hombres ","Mujeres","Hombres ","Mujeres","Hombres ","Mujeres","Hombres ","Mujeres","Hombres ","Mujeres","Hombres ","Mujeres","Hombres ","Mujeres","Hombres ","Mujeres","Hombres ","Mujeres","Hombres ","Mujeres","Hombres ","Mujeres","Hombres ","Mujeres"]
["TOTAL DE PACIENTES CON INDICACIÓN DE HOSPITALIZACIÓN",null,{"$f":"SUM(C91:C97)","v":0},{"$f":"SUM(D91:D97)","v":0},{"$f":"SUM(E91:E97)","v":0},0,0,0,0,0,0,0,0,0,0,0,0,0,0,0,0,0,0,0,0,0,0,0,0,0,0,0,0,0,0,0,0,0,0,0,{"$f":"SUM(AO91:AO93)","v":0},null,null,null,null,null,null,null,null,null,null,null,null,null,null,null,null,null,null,null,null,null,null,null,null,null,null,null,null,null,null,null,null,null,null,null,null,null,null,null,null,null,null,null,0,0]
["PACIENTES QUE INGRESAN A CAMA HOSPITALARIA SEGÚN TIEMPO DE DEMORA AL INGRESO                               ","MENOS DE 12 HORAS",{"$f":"SUM(D91+E91)","v":0},{"$f":"SUM(F91+H91+J91+L91+N91+P91+R91+T91+V91+X91+Z91+AB91+AD91+AF91+AH91+AJ91+AL91)","v":0},{"$f":"SUM(G91+I91+K91+M91+O91+Q91+S91+U91+W91+Y91+AA91+AC91+AE91+AG91+AI91+AK91+AM91)","v":0},null,null,null,null,null,null,null,null,null,null,null,null,null,null,null,null,null,null,null,null,null,null,null,null,null,null,null,null,null,null,null,null,null,null,null,null,null,null,null,null,null,null,null,null,null,null,null,null,null,null,null,null,null,null,null,null,null,null,null,null,null,null,null,null,null,null,null,null,null,null,null,null,null,null,null,null,null,null,null,0,0,0,0]
[null,"12-24 HORAS",0,{"$f":"SUM(F92+H92+J92+L92+N92+P92+R92+T92+V92+X92+Z92+AB92+AD92+AF92+AH92+AJ92+AL92)","v":0},{"$f":"SUM(G92+I92+K92+M92+O92+Q92+S92+U92+W92+Y92+AA92+AC92+AE92+AG92+AI92+AK92+AM92)","v":0},null,null,null,null,null,null,null,null,null,null,null,null,null,null,null,null,null,null,null,null,null,null,null,null,null,null,null,null,null,null,null,null,null,null,null,null,null,null,null,null,null,null,null,null,null,null,null,null,null,null,null,null,null,null,null,null,null,null,null,null,null,null,null,null,null,null,null,null,null,null,null,null,null,null,null,null,null,null,null,0,0,0,0]
[null,"MAYOR A 24 HORAS",0,0,0,null,null,null,null,null,null,null,null,null,null,null,null,null,null,null,null,null,null,null,null,null,null,null,null,null,null,null,null,null,null,null,null,null,null,null,null,null,null,null,null,null,null,null,null,null,null,null,null,null,null,null,null,null,null,null,null,null,null,null,null,null,null,null,null,null,null,null,null,null,null,null,null,null,null,null,null,null,null,null,0,0,0,0]
["PACIENTES QUE RECHAZAN HOSPITALIZACIÓN ",null,0,0,{"$f":"SUM(G94+I94+K94+M94+O94+Q94+S94+U94+W94+Y94+AA94+AC94+AE94+AG94+AI94+AK94+AM94)","v":0},null,null,null,null,null,null,null,null,null,null,null,null,null,null,null,null,null,null,null,null,null,null,null,null,null,null,null,null,null,null,null,null,null,null,null,null,null,null,null,null,null,null,null,null,null,null,null,null,null,null,null,null,null,null,null,null,null,null,null,null,null,null,null,null,null,null,null,null,null,null,null,null,null,null,null,null,null,null,null,0,0]
["PACIENTES DERIVADOS  A OTRO ESTABLECIMIENTO",null,0,0,{"$f":"SUM(G95+I95+K95+M95+O95+Q95+S95+U95+W95+Y95+AA95+AC95+AE95+AG95+AI95+AK95+AM95)","v":0},null,null,null,null,null,null,null,null,null,null,null,null,null,null,null,null,null,null,null,null,null,null,null,null,null,null,null,null,null,null,null,null,null,null,null,null,null,null,null,null,null,null,null,null,null,null,null,null,null,null,null,null,null,null,null,null,null,null,null,null,null,null,null,null,null,null,null,null,null,null,null,null,null,{"$f":"IF(C95=0,\"\",IF(AN95=\"\",IF(C95=\"\",\"\",\"* No olvide digitar la columna Beneficiarios. \"),\"\"))","v":""},{"$f":"IF(C95<AN95,\"* El número de Beneficiarios NO DEBE ser mayor que el total. \",\"\")","v":""},null,null,null,null,{"$f":"IF(C95<AN95,1,0)","v":0},{"$f":"IF(C95=0,\"\",IF(AN95=\"\",IF(C95=\"\",\"\",1),0))","v":""}]
["PACIENTES QUE PERMANECEN EN UEH",null,0,0,{"$f":"SUM(G96+I96+K96+M96+O96+Q96+S96+U96+W96+Y96+AA96+AC96+AE96+AG96+AI96+AK96+AM96)","v":0},null,null,null,null,null,null,null,null,null,null,null,null,null,null,null,null,null,null,null,null,null,null,null,null,null,null,null,null,null,null,null,null,null,null,null,null,null,null,null,null,null,null,null,null,null,null,null,null,null,null,null,null,null,null,null,null,null,null,null,null,null,null,null,null,null,null,null,null,null,null,null,null,null,{"$f":"IF(C96=0,\"\",IF(AN96=\"\",IF(C96=\"\",\"\",\"* No olvide digitar la columna Beneficiarios. \"),\"\"))","v":""},{"$f":"IF(C96<AN96,\"* El número de Beneficiarios NO DEBE ser mayor que el total. \",\"\")","v":""},null,null,null,null,{"$f":"IF(C96<AN96,1,0)","v":0},{"$f":"IF(C96=0,\"\",IF(AN96=\"\",IF(C96=\"\",\"\",1),0))","v":""}]
["PACIENTES QUE INGRESAN DIRECTAMENTE A PROCESO QUIRÚRGICO",null,0,0,{"$f":"SUM(G97+I97+K97+M97+O97+Q97+S97+U97+W97+Y97+AA97+AC97+AE97+AG97+AI97+AK97+AM97)","v":0},null,null,null,null,null,null,null,null,null,null,null,null,null,null,null,null,null,null,null,null,null,null,null,null,null,null,null,null,null,null,null,null,null,null,null,null,null,null,null,null,null,null,null,null,null,null,null,null,null,null,null,null,null,null,null,null,null,null,null,null,null,null,null,null,null,null,null,null,null,null,null,null,null,{"$f":"IF(C97=0,\"\",IF(AN97=\"\",IF(C97=\"\",\"\",\"* No olvide digitar la columna Beneficiarios. \"),\"\"))","v":""},{"$f":"IF(C97<AN97,\"* El número de Beneficiarios NO DEBE ser mayor que el total. \",\"\")","v":""},null,null,null,null,{"$f":"IF(C97<AN97,1,0)","v":0},{"$f":"IF(C97=0,\"\",IF(AN97=\"\",IF(C97=\"\",\"\",1),0))","v":""}]
["SECCIÓN E: PACIENTES CON INDICACIÓN DE OBSERVACIÓN EN SAR"]
["PACIENTES CON INDICACIÓN DE OBSERVACIÓN",null,null,"TOTAL"]
["PACIENTES QUE PERMANECEN EN OBSERVACIÓN     ",null,"MENOS DE 2 HORAS"]
[null,null,"2 A 6 HORAS"]
[null,null,"MAYOR A 6 HORAS"]
["SECCIÓN F: PACIENTES FALLECIDOS EN UEH (Establecimientos Alta, Mediana o Baja Complejidad y SAR) "]
["TIPO DE PACIENTES",null,"TOTAL        ",null,null,"GRUPOS DE EDAD (en años)",null,null,null,null,null,null,null,null,null,null,null,null,null,null,null,null,null,null,null,null,null,null,null,null,null,null,null,null,null,null,null,null,null,"Beneficiarios"]
[null,null,null,null,null,"0 - 4",null,"5 - 9",null,"10 - 14",null,"15 - 19",null,"20 - 24",null,"25 - 29",null,"30 - 34",null,"35 - 39",null,"40 - 44",null,"45 - 49",null,"50 - 54",null,"55 - 59",null,"60 - 64",null,"65 - 69",null,"70 - 74",null,"75 - 79",null,"80 y mas"]
[null,null,"Ambos Sexos","Hombres ","Mujeres","Hombres ","Mujeres","Hombres ","Mujeres","Hombres ","Mujeres","Hombres ","Mujeres","Hombres ","Mujeres","Hombres ","Mujeres","Hombres ","Mujeres","Hombres ","Mujeres","Hombres ","Mujeres","Hombres ","Mujeres","Hombres ","Mujeres","Hombres ","Mujeres","Hombres ","Mujeres","Hombres ","Mujeres","Hombres ","Mujeres","Hombres ","Mujeres","Hombres ","Mujeres"]
["PACIENTES FALLECIDOS EN ESPERA DE ATENCIÓN MÉDICA",null,{"$f":"SUM(D107+E107)","v":0},{"$f":"SUM(F107+H107+J107+L107+N107+P107+R107+T107+V107+X107+Z107+AB107+AD107+AF107+AH107+AJ107+AL107)","v":0},0,null,null,null,null,null,null,null,null,null,null,null,null,null,null,null,null,null,null,null,null,null,null,null,null,null,null,null,null,null,null,null,null,null,null,null,null,null,null,null,null,null,null,null,null,null,null,null,null,null,null,null,null,null,null,null,null,null,null,null,null,null,null,null,null,null,null,null,null,null,null,null,null,null,null,null,null,null,null,null,0,0]
["PACIENTES FALLECIDOS EN PROCESO DE ATENCIÓN",null,{"$f":"SUM(D108+E108)","v":0},0,0,null,null,null,null,null,null,null,null,null,null,null,null,null,null,null,null,null,null,null,null,null,null,null,null,null,null,null,null,null,null,null,null,null,null,null,null,null,null,null,null,null,null,null,null,null,null,null,null,null,null,null,null,null,null,null,null,null,null,null,null,null,null,null,null,null,null,null,null,null,null,null,null,null,{"$f":"IF(C108=0,\"\",IF(AN108=\"\",IF(C108=\"\",\"\",\"* No olvide digitar la columna Beneficiarios. \"),\"\"))","v":""},{"$f":"IF(C108<AN108,\"* El número de Beneficiarios NO DEBE ser mayor que el total. \",\"\")","v":""},null,null,null,null,{"$f":"IF(C108<AN108,1,0)","v":0},{"$f":"IF(C108=0,\"\",IF(AN108=\"\",IF(C108=\"\",\"\",1),0))","v":""}]
["PACIENTES FALLECIDOS EN ESPERA DE CAMA HOSPITALARIA ",null,{"$f":"SUM(D109+E109)","v":0},0,0,null,null,null,null,null,null,null,null,null,null,null,null,null,null,null,null,null,null,null,null,null,null,null,null,null,null,null,null,null,null,null,null,null,null,null,null,null,null,null,null,null,null,null,null,null,null,null,null,null,null,null,null,null,null,null,null,null,null,null,null,null,null,null,null,null,null,null,null,null,null,null,null,null,{"$f":"IF(C109=0,\"\",IF(AN109=\"\",IF(C109=\"\",\"\",\"* No olvide digitar la columna Beneficiarios. \"),\"\"))","v":""},{"$f":"IF(C109<AN109,\"* El número de Beneficiarios NO DEBE ser mayor que el total. \",\"\")","v":""},null,null,null,null,{"$f":"IF(C109<AN109,1,0)","v":0},{"$f":"IF(C109=0,\"\",IF(AN109=\"\",IF(C109=\"\",\"\",1),0))","v":""}]
["SECCIÓN G: ATENCIONES MÉDICAS ASOCIADAS A  VIOLENCIA"]
["CONCEPTO",null,"TOTAL",null,null,"0 - 9",null,"10-17",null,"18 - 24",null,"25-34",null,"35-44",null,"45-54",null,"55-64",null,"65 -74",null,"7 5 años y más",null,"Embarazadas","AGRESOR /A",null,null,null,"Total",null,"LESIONES DE LA VÍCTIMA",null,null,null,"Sin lesiones constatables"]
[null,null,"Ambos Sexos","Hombres","Mujeres","Hombres ","Mujeres","Hombres ","Mujeres","Hombres ","Mujeres","Hombres ","Mujeres","Hombres ","Mujeres","Hombres ","Mujeres","Hombres ","Mujeres","Hombres ","Mujeres","Hombres ","Mujeres",null,"Pareja/ Ex pareja","Familiar","Conocido/a","Desconocido/a","Hombre","Mujer","Trau-\nmatológicas","Odonto-\nlógicas","Contusio-nales","Por Arma"]
["VIOLENCIA INTRAFAMILIAR",null,{"$f":"SUM(D113+E113)","v":0},{"$f":"SUM(F113+H113+J113+L113+N113+P113+R113+T113+V113)","v":0},{"$f":"SUM(G113+I113+K113+M113+O113+Q113+S113+U113+W113)","v":0},null,null,null,null,null,null,null,null,null,null,null,null,null,null,null,null,null,null,null,null,null,null,null,null,null,null,null,null,null,null,null,null,null,null,null,null,null,null,null,null,null,null,null,null,null,null,null,null,null,null,null,null,null,null,null,null,null,null,null,null,null,null,null,null,null,null,null,null,null,null,null,null,null,null,null,null,null,null,null,0,0,0]
["OTRAS VIOLENCIAS ",null,{"$f":"SUM(D114+E114)","v":0},{"$f":"SUM(F114+H114+J114+L114+N114+P114+R114+T114+V114)","v":0},{"$f":"SUM(G114+I114+K114+M114+O114+Q114+S114+U114+W114)","v":0},null,null,null,null,null,null,null,null,null,null,null,null,null,null,null,null,null,null,null,null,null,null,null,null,null,null,null,null,null,null,null,null,null,null,null,null,null,null,null,null,null,null,null,null,null,null,null,null,null,null,null,null,null,null,null,null,null,null,null,null,null,null,null,null,null,null,null,null,null,null,null,null,null,null,null,null,null,null,null,0,0,0]
["SECCIÓN H: ATENCIONES  POR ANTICONCEPCIÓN DE EMERGENCIA "]
["CONCEPTO",null,"TOTAL","GRUPOS DE EDAD (en años)",null,null,null,null,null,null,null,null,null,"SEXO",null,"Beneficiarios"]
[null,null,null,"0 - 4","5 - 9","10 - 14","15 - 19","20 - 24","25 - 34","35 - 44","45 - 54","55 - 64","65  y más años","Hombres","Mujeres"]
["ATENCIÓN POR ANTICONCEPCIÓN DE EMERGENCIA ","CON ENTREGA DE ANTICONCEPTIVO",{"$f":"SUM(F118:K118)","v":0},null,null,null,null,null,null,null,null,null,null,null,null,null,null,null,null,null,null,null,null,null,null,null,null,null,null,null,null,null,null,null,null,null,null,null,null,null,null,null,null,null,null,null,null,null,null,null,null,null,null,null,null,null,null,null,null,null,null,null,null,null,null,null,null,null,null,null,null,null,null,null,null,null,null,null,null,null,null,null,null,null,0,0,0]
[null,"SIN ENTREGA DE ANTICONCEPTIVO",{"$f":"SUM(F119:K119)","v":0},null,null,null,null,null,null,null,null,null,null,null,null,null,null,null,null,null,null,null,null,null,null,null,null,null,null,null,null,null,null,null,null,null,null,null,null,null,null,null,null,null,null,null,null,null,null,null,null,null,null,null,null,null,null,null,null,null,null,null,null,null,null,null,null,null,null,null,null,null,null,null,null,null,null,null,null,null,null,null,null,null,0,0,0]
["SECCIÓN I: MOTIVOS DE ATENCIÓN POR EMERGENCIA OBSTÉTRICA AL SERVICIO DE  URGENCIA  (Establecimientos Alta y Mediana Complejidad)."]
["PATOLOGÍA","CANTIDAD"]
[]
["PREECLAMPSIA SEVERA"]
["ECLAMPSIA"]
["SÍNDROME HIPERTENSIVO DEL EMBARAZO (SHE)"]
["RETARDO CRECIMIENTO INTRAUTERINO (RCIU)"]
["HELLP"]
["PARTO PREMATURO"]
["HEMORRAGIA I TRIMESTRE"]
["HEMORRAGIA II TRIMESTRE"]
["HEMORRAGIA III TRIMESTRE"]
["ROTURA PREMATURA DE MEMBRANA"]
["OTRAS PATOLOGÍAS"]
["TRABAJO DE PARTO SIN PATOLOGÍA"]
["TOTAL",{"$f":"SUM(B123:B134)","v":0}]
["SECCIÓN J: LLAMADOS DE URGENCIA A CENTRO REGULADOR"]
["TIPO DE ACCIÓN",null,null,null,"TOTAL DE LLAMADAS","LLAMADAS VALIDAS"]
["CENTRO REGULADOR","Nº LLAMADOS DE URGENCIA",null,null,null,null,{"$f":"CA138","v":""},null,null,null,null,null,null,null,null,null,null,null,null,null,null,null,null,null,null,null,null,null,null,null,null,null,null,null,null,null,null,null,null,null,null,null,null,null,null,null,null,null,null,null,null,null,null,null,null,null,null,null,null,null,null,null,null,null,null,null,null,null,null,null,null,null,null,null,null,null,null,null,{"$f":"IF(E138<F138,\"* El número de llamadas válidas NO DEBE ser mayor al total de llamadas.\",\"\")","v":""},null,null,null,null,null,{"$f":"IF(E138<F138,1,0)","v":0}]
["SECCIÓN K: INTERVENCIONES PRE HOSPITALARIAS (SAMU)"]
["TIPO DE ACCIÓN",null,null,"N° INTERVENCIONES",null,null,"Beneficiarios","TIEMPO DE LLEGADA INTERVENCIONES CRITICAS",null,null,"TIEMPO DE LLEGADA INTERVENCIONES NO CRITICAS"]
[null,null,null,"TOTAL","Criticas","No Criticas",null,"0-20 Min","20-40 Min","Mas de 40 Min","0-20 Min","20-40 Min","Mas de 40 Min"]
["INTERVENCIONES CLÍNICAS PRE HOSPITALARIAS","INTERVENCIÓN DE MÓVIL BÁSICO",null,{"$f":"SUM(E142+F142)","v":0},null,null,null,null,null,null,null,null,null,null,null,null,null,null,null,null,null,null,null,null,null,null,null,null,null,null,null,null,null,null,null,null,null,null,null,null,null,null,null,null,null,null,null,null,null,null,null,null,null,null,null,null,null,null,null,null,null,null,null,null,null,null,null,null,null,null,null,null,null,null,null,null,null,null,null,null,null,null,null,null,null,null,0]
[null,"INTERVENCIÓN DE MÓVIL AVANZADO",null,{"$f":"SUM(E143+F143)","v":0},null,null,null,null,null,null,null,null,null,null,null,null,null,null,null,null,null,null,null,null,null,null,null,null,null,null,null,null,null,null,null,null,null,null,null,null,null,null,null,null,null,null,null,null,null,null,null,null,null,null,null,null,null,null,null,null,null,null,null,null,null,null,null,null,null,null,null,null,null,null,null,null,null,null,null,null,null,null,null,null,null,null,0]
["SECCIÓN L: TRASLADOS PRIMARIOS A UNIDADES DE URGENCIA (Desde el lugar del evento a unidad de Emergencia)"]
["TIPO",null,"TOTAL        ","BENEFICIARIOS","POR COMPRA \nDE SERVICIO","OTROS"]
["SAMU","BÁSICO",null,null,null,null,null,null,null,null,null,null,null,null,null,null,null,null,null,null,null,null,null,null,null,null,null,null,null,null,null,null,null,null,null,null,null,null,null,null,null,null,null,null,null,null,null,null,null,null,null,null,null,null,null,null,null,null,null,null,null,null,null,null,null,null,null,null,null,null,null,null,null,null,null,null,null,null,null,null,null,null,null,null,0]
[null,"AVANZADO",null,null,null,null,null,null,null,null,null,null,null,null,null,null,null,null,null,null,null,null,null,null,null,null,null,null,null,null,null,null,null,null,null,null,null,null,null,null,null,null,null,null,null,null,null,null,null,null,null,null,null,null,null,null,null,null,null,null,null,null,null,null,null,null,null,null,null,null,null,null,null,null,null,null,null,null,null,null,null,null,null,null,0]
["ENRUTADO","BÁSICO",null,null,null,null,null,null,null,null,null,null,null,null,null,null,null,null,null,null,null,null,null,null,null,null,null,null,null,null,null,null,null,null,null,null,null,null,null,null,null,null,null,null,null,null,null,null,null,null,null,null,null,null,null,null,null,null,null,null,null,null,null,null,null,null,null,null,null,null,null,null,null,null,null,null,null,null,null,null,null,null,null,null,0]
["NO SAMU","TERRESTRE",null,null,null,null,null,null,null,null,null,null,null,null,null,null,null,null,null,null,null,null,null,null,null,null,null,null,null,null,null,null,null,null,null,null,null,null,null,null,null,null,null,null,null,null,null,null,null,null,null,null,null,null,null,null,null,null,null,null,null,null,null,null,null,null,null,null,null,null,null,null,null,null,null,null,null,null,null,null,null,null,null,null,0]
[null,"MARÍTIMO",null,null,null,null,null,null,null,null,null,null,null,null,null,null,null,null,null,null,null,null,null,null,null,null,null,null,null,null,null,null,null,null,null,null,null,null,null,null,null,null,null,null,null,null,null,null,null,null,null,null,null,null,null,null,null,null,null,null,null,null,null,null,null,null,null,null,null,null,null,null,null,null,null,null,null,null,null,null,null,null,null,null,0]
[null,"AÉREO",null,null,null,null,null,null,null,null,null,null,null,null,null,null,null,null,null,null,null,null,null,null,null,null,null,null,null,null,null,null,null,null,null,null,null,null,null,null,null,null,null,null,null,null,null,null,null,null,null,null,null,null,null,null,null,null,null,null,null,null,null,null,null,null,null,null,null,null,null,null,null,null,null,null,null,null,null,null,null,null,null,null,0]
["SECCIÓN M: TRASLADO SECUNDARIO (Desde un Establecimiento a Otro)"]
["TIPO DE ACCIÓN",null,null,"TOTAL DE TRASLADOS",null,null,"BENEFICIARIOS","COMPRA DE SERVICIO","OTROS"]
[null,null,null,"Ambos","SAMU","NO SAMU"]
["CRÍTICO","AÉREO",null,{"$f":"SUM(E155:F155)","v":0},null,null,null,null,null,null,null,null,null,null,null,null,null,null,null,null,null,null,null,null,null,null,null,null,null,null,null,null,null,null,null,null,null,null,null,null,null,null,null,null,null,null,null,null,null,null,null,null,null,null,null,null,null,null,null,null,null,null,null,null,null,null,null,null,null,null,null,null,null,null,null,null,null,null,null,null,null,null,null,null,0]
[null,"TERRESTRE",null,0,null,null,null,null,null,null,null,null,null,null,null,null,null,null,null,null,null,null,null,null,null,null,null,null,null,null,null,null,null,null,null,null,null,null,null,null,null,null,null,null,null,null,null,null,null,null,null,null,null,null,null,null,null,null,null,null,null,null,null,null,null,null,null,null,null,null,null,null,null,null,null,null,null,null,null,null,null,null,null,null,0]
[null,"MARÍTIMO",null,0,null,null,null,null,null,null,null,null,null,null,null,null,null,null,null,null,null,null,null,null,null,null,null,null,null,null,null,null,null,null,null,null,null,null,null,null,null,null,null,null,null,null,null,null,null,null,null,null,null,null,null,null,null,null,null,null,null,null,null,null,null,null,null,null,null,null,null,null,null,null,null,null,null,null,null,null,null,null,null,null,0]
["NO CRÍTICO","AÉREO",null,0,null,null,null,null,null,null,null,null,null,null,null,null,null,null,null,null,null,null,null,null,null,null,null,null,null,null,null,null,null,null,null,null,null,null,null,null,null,null,null,null,null,null,null,null,null,null,null,null,null,null,null,null,null,null,null,null,null,null,null,null,null,null,null,null,null,null,null,null,null,null,null,null,null,null,null,null,null,null,null,null,0]
[null,"TERRESTRE",null,0,null,null,null,null,null,null,null,null,null,null,null,null,null,null,null,null,null,null,null,null,null,null,null,null,null,null,null,null,null,null,null,null,null,null,null,null,null,null,null,null,null,null,null,null,null,null,null,null,null,null,null,null,null,null,null,null,null,null,null,null,null,null,null,null,null,null,null,null,null,null,null,null,null,null,null,null,null,null,null,null,0]
[null,"MARÍTIMO",null,0,null,null,null,null,null,null,null,null,null,null,null,null,null,null,null,null,null,null,null,null,null,null,null,null,null,null,null,null,null,null,null,null,null,null,null,null,null,null,null,null,null,null,null,null,null,null,null,null,null,null,null,null,null,null,null,null,null,null,null,null,null,null,null,null,null,null,null,null,null,null,null,null,null,null,null,null,null,null,null,null,0]
["SECCIÓN N: CLASIFICACIÓN DE LAS INTERVENCIONES POR GRANDES GRUPOS DE DIAGNÓSTICOS (SAMU)"]
["CAUSAS DE LA INTERVENCIÓN",null,"TOTALES",null,null,"GRUPOS DE EDAD (en años)"]
[null,null,null,null,null,"0 - 4",null,"5 - 9",null,"10 - 14",null,"15 - 19",null,"20 - 24",null,"25 - 29",null,"30 - 34",null,"35 - 39",null,"40 - 44",null,"45 - 49",null,"50 - 54",null,"55 - 59",null,"60 - 64",null,"65 - 69",null,"70 - 74",null,"75 - 79",null,"80 y mas"]
[null,null,"Ambos Sexos","Hombres","Mujeres","Hombres ","Mujeres","Hombres ","Mujeres","Hombres ","Mujeres","Hombres ","Mujeres","Hombres ","Mujeres","Hombres ","Mujeres","Hombres ","Mujeres","Hombres ","Mujeres","Hombres ","Mujeres","Hombres ","Mujeres","Hombres ","Mujeres","Hombres ","Mujeres","Hombres ","Mujeres","Hombres ","Mujeres","Hombres ","Mujeres","Hombres ","Mujeres","Hombres ","Mujeres"]
["SÍNDROME CORONARIO AGUDO",null,{"$f":"SUM(D165+E165)","v":0},{"$f":"SUM(P165+R165+T165+V165+X165+Z165+AB165+AD165+AF165+AH165+AJ165+AL165)","v":0},{"$f":"SUM(Q165+S165+U165+W165+Y165+AA165+AC165+AE165+AG165+AI165+AK165+AM165)","v":0}]
["PARO CARDIORESPIRATORIO",null,{"$f":"SUM(D166+E166)","v":0},{"$f":"SUM(F166+H166+J166+L166+N166+P166+R166+T166+V166+X166+Z166+AB166+AD166+AF166+AH166+AJ166+AL166)","v":0},0]
["POLITRAUMATISMO",null,{"$f":"SUM(D167+E167)","v":0},0,0]
["OTROS",null,{"$f":"SUM(D168+E168)","v":0},0,0]
["SECCIÓN O: ATENCIONES  EN URGENCIA POR VIOLENCIA SEXUAL  "]
["CONCEPTO",null,"TOTAL",null,null,"GRUPOS DE EDAD (en años)  Y CONDICIÓN\n \n",null,null,null,null,null,null,null,null,null,null,null,null,null,null,null,"Gestantes","Con entrega de anticoncepción de emergencia","Sin entrega de anticoncepción de emergencia","Con profilaxis VIH ","Con profilaxis ITS","Con profilaxis Hepatitis B","VICTIMARIO/A",null,null,null,"Total"]
[null,null,null,null,null,"0 - 4",null,"5 - 9",null,"10 - 14",null,"15 - 17",null,"18 - 24",null,"25 - 44",null,"45-64",null,"65 años y más",null,null,null,null,null,null,null,"Pareja/ Ex pareja","Familiar","Conocido/a","Desconocido/a","Hombre","Mujer"]
[null,null,"Ambos Sexos","Hombres ","Mujeres","Hombres ","Mujeres","Hombres ","Mujeres","Hombres ","Mujeres","Hombres ","Mujeres","Hombres ","Mujeres","Hombres ","Mujeres","Hombres ","Mujeres","Hombres ","Mujeres"]
["VIOLENCIA SEXUAL","72 horas o menos",{"$f":"SUM(D173:E173)","v":0},{"$f":"SUM(F173+H173+J173+L173+N173+P173+R173+T173)","v":0},{"$f":"G173+I173+K173+M173+O173+Q173+S173+U173","v":0},null,null,null,null,null,null,null,null,null,null,null,null,null,null,null,null,null,null,null,null,null,null,null,null,null,null,null,null,null,null,null,null,null,null,null,null,null,null,null,null,null,null,null,null,null,null,null,null,null,null,null,null,null,null,null,null,null,null,null,null,null,null,null,null,null,null,null,null,null,null,null,null,null,null,null,null,null,null,null,0,0,0,0]
[null,"después de 72 horas",{"$f":"SUM(D174:E174)","v":0},{"$f":"SUM(F174+H174+J174+L174+N174+P174+R174+T174)","v":0},{"$f":"G174+I174+K174+M174+O174+Q174+S174+U174","v":0},null,null,null,null,null,null,null,null,null,null,null,null,null,null,null,null,null,null,null,null,null,null,null,null,null,null,null,null,null,null,null,null,null,null,null,null,null,null,null,null,null,null,null,null,null,null,null,null,null,null,null,null,null,null,null,null,null,null,null,null,null,null,null,null,null,null,null,null,null,null,null,null,null,null,null,null,null,null,null,0,0,0,0]
["SECCIÓN P: ATENCIONES MÉDICAS POR VIOLENCIA SEXUAL CON REALIZACIÓN O INDICACIÓN DE PERITAJE "]
["TIPO DE ATENCIÓN","TOTAL","DE TURNO","DE LLAMADA"]
[]
["ATENCIÓN POR  MÉDICO PERITO",{"$f":"SUM(C178:D178)","v":0}]
["ATENCIÓN OTROS MÉDICOS",{"$f":"SUM(C179)","v":0}]
["SECCIÓN Q: ATENCIONES DE URGENCIA ASOCIADAS A LESIONES AUTOINFLIGIDAS"]
["CONCEPTO","TOTAL",null,null,"GRUPOS DE EDAD (en años)"]
[null,null,null,null,"0 - 9",null,"10 - 19",null,"20 - 24",null,"25-44",null,"45-54",null,"55-64",null,"65-74",null,"75-84",null,"85 y más"]
[null,"Ambos Sexos","Hombres","Mujeres","Hombres ","Mujeres","Hombres ","Mujeres","Hombres ","Mujeres","Hombres ","Mujeres","Hombres ","Mujeres","Hombres ","Mujeres","Hombres ","Mujeres","Hombres ","Mujeres","Hombres ","Mujeres"]
["Nº DE ATENCIONES ",{"$f":"SUM(C184+D184)","v":0},{"$f":"SUM(E184+G184+I184+K184+M184+O184+Q184+S184+U184)","v":0},{"$f":"SUM(F184+H184+J184+L184+N184+P184+R184+T184+V184)","v":0}]
["SECCIÓN R: ATENCIONES POR MORDEDURA EN SERVICIO DE  URGENCIA DE LA RED"]
["IDENTIFICACIÓN DEL ANIMAL MORDEDOR","TOTAL",null,null,"GRUPOS DE EDAD (en años)",null,null,null,null,null,null,null,"TIPO DE MORDEDURA",null,"INDICACIÓN  DE VACUNA  "]
[null,null,null,null,"0 - 4",null,"5 - 9",null,"10 - 14",null,"Mayor 15 años"]
[null,"Ambos Sexos","Hombres","Mujeres","Hombres ","Mujeres","Hombres ","Mujeres","Hombres ","Mujeres","Hombres ","Mujeres","Única","Múltiple"]
[null,{"$f":"+C189+D189","v":0},{"$f":"+E189+G189+I189+K189","v":0},0,{"$f":"SUM(E190:E194)","v":0},0,0,0,0,0,0,0,0,0,0]
["PERRO",0,0,0,null,null,null,null,null,null,null,null,null,null,null,null,null,null,null,null,null,null,null,null,null,null,null,null,null,null,null,null,null,null,null,null,null,null,null,null,null,null,null,null,null,null,null,null,null,null,null,null,null,null,null,null,null,null,null,null,null,null,null,null,null,null,null,null,null,null,null,null,null,null,null,null,null,null,null,null,null,null,null,null,0,0]
["GATO",0,0,0,null,null,null,null,null,null,null,null,null,null,null,null,null,null,null,null,null,null,null,null,null,null,null,null,null,null,null,null,null,null,null,null,null,null,null,null,null,null,null,null,null,null,null,null,null,null,null,null,null,null,null,null,null,null,null,null,null,null,null,null,null,null,null,null,null,null,null,null,null,null,null,null,null,null,null,null,null,null,null,null,0,0]
["ANIMAL SILVESTRE ",0,0,0,null,null,null,null,null,null,null,null,null,null,null,null,null,null,null,null,null,null,null,null,null,null,null,null,null,null,null,null,null,null,null,null,null,null,null,null,null,null,null,null,null,null,null,null,null,null,null,null,null,null,null,null,null,null,null,null,null,null,null,null,null,null,null,null,null,null,null,null,null,null,null,null,null,null,null,null,null,null,null,null,0,0]
["EXPOSICIÓN A MURCIÉLAGO",0,0,0,null,null,null,null,null,null,null,null,null,null,null,null,null,null,null,null,null,null,null,null,null,null,null,null,null,null,null,null,null,null,null,null,null,null,null,null,null,null,null,null,null,null,null,null,null,null,null,null,null,null,null,null,null,null,null,null,null,null,null,null,null,null,null,null,null,null,null,null,null,null,null,null,null,null,null,null,null,null,null,null,0,0]
["ROEDOR O ANIMAL DE ABASTO",0,0,0,null,null,null,null,null,null,null,null,null,null,null,null,null,null,null,null,null,null,null,null,null,null,null,null,null,null,null,null,null,null,null,null,null,null,null,null,null,null,null,null,null,null,null,null,null,null,null,null,null,null,null,null,null,null,null,null,null,null,null,null,null,null,null,null,null,null,null,null,null,null,null,null,null,null,null,null,null,null,null,null,0,0]
[]
[]
[]
[]
[{"$f":"SUM(B12:B14,B19:B22,B27:B32,B63,B85,C90,D100:D102,C107:C109,C113:C114,C118:C119,B135,D142:D143,C146:C151,D155:D160,C165:C168,C178:C179,B184,B37:B42,B47:B52,E138:F138,C91:C97,C173:C174,#REF!,B189)","v":{"$error":"#REF!"}},{"$f":"SUM(CG8:CM184)","v":0}]

{"sheet":"A09","index":9,"n_rows":345,"n_cols":92,"rows_kept":345,"cut":false,"hidden":false,"merged":[[289,3,292,3],[289,4,292,4],[280,3,281,5],[280,6,280,13],[280,14,282,14],[280,15,282,15],[281,6,282,6],[281,7,282,7],[281,8,282,8],[281,9,282,9],[281,10,282,10],[281,11,282,11],[281,12,282,12],[281,13,282,13],[234,0,238,0],[239,0,243,0],[244,0,248,0],[249,0,253,0],[254,0,258,0],[259,0,263,0],[252,1,252,2],[237,1,237,2],[238,1,238,2],[239,1,239,2],[249,1,249,2],[219,0,223,0],[224,0,228,0],[229,0,233,0],[209,1,209,2],[214,1,214,2],[229,1,229,2],[216,1,216,2],[213,1,213,2],[231,1,231,2],[228,1,228,2],[209,0,213,0],[214,0,218,0],[220,1,220,2],[230,1,230,2],[227,1,227,2],[233,1,233,2],[221,1,221,2],[204,1,204,2],[218,1,218,2],[217,1,217,2],[194,0,194,2],[195,0,195,2],[199,0,201,2],[196,0,196,2],[215,1,215,2],[208,1,208,2],[202,0,203,0],[202,1,202,2],[203,1,203,2],[204,0,208,0],[205,1,205,2],[207,1,207,2],[200,16,200,17],[200,18,200,19],[200,20,200,21],[200,24,201,24],[200,25,201,25],[197,0,197,2],[199,3,200,5],[199,6,199,21],[199,22,201,22],[199,23,201,23],[199,24,199,25],[200,6,200,7],[200,8,200,9],[200,10,200,11],[200,12,200,13],[200,14,200,15],[186,0,186,2],[191,0,193,2],[191,3,192,5],[191,6,191,9],[192,6,193,6],[192,7,193,7],[192,8,193,8],[192,9,193,9],[187,0,187,2],[182,0,184,2],[182,3,183,5],[182,6,182,27],[182,28,184,28],[182,30,184,30],[182,31,184,31],[183,24,183,25],[183,26,183,27],[185,0,185,2],[182,32,184,32],[183,6,183,7],[183,8,183,9],[183,10,183,11],[183,12,183,13],[183,14,183,15],[183,16,183,17],[183,18,183,19],[183,20,183,21],[183,22,183,23],[179,0,180,0],[179,1,180,1],[174,1,175,1],[162,0,164,0],[162,1,164,1],[165,0,170,0],[165,1,166,1],[158,0,161,0],[158,1,161,1],[171,0,175,0],[171,1,171,2],[172,1,173,1],[176,0,178,0],[176,1,178,1],[145,18,147,18],[145,19,147,19],[146,6,146,7],[146,8,146,9],[146,10,146,11],[146,12,146,13],[145,3,146,5],[145,6,145,13],[145,14,147,14],[145,15,147,15],[145,16,147,16],[145,17,147,17],[118,0,118,2],[103,0,103,2],[133,3,133,5],[133,19,134,19],[133,20,134,20],[133,6,133,13],[133,14,134,14],[133,15,134,15],[133,16,134,16],[133,17,134,17],[133,18,134,18],[104,0,104,2],[105,0,105,2],[108,0,108,2],[97,0,97,2],[101,0,101,2],[99,0,99,2],[100,0,100,2],[106,0,106,2],[95,0,95,2],[96,0,96,2],[5,0,5,15],[37,0,39,2],[37,3,38,5],[37,6,37,29],[14,0,14,2],[25,0,25,2],[26,0,26,2],[27,0,27,2],[12,0,12,2],[69,0,69,2],[70,0,70,2],[65,0,65,2],[66,0,66,2],[67,0,67,2],[28,0,28,2],[29,0,29,2],[63,0,63,2],[37,34,39,34],[38,6,38,7],[38,8,38,9],[38,10,38,11],[38,12,38,13],[37,31,39,31],[37,32,39,32],[37,33,39,33],[30,0,30,2],[31,0,31,2],[32,0,32,2],[38,26,38,27],[38,28,38,29],[38,16,38,17],[38,18,38,19],[38,20,38,21],[38,22,38,23],[38,24,38,25],[37,30,39,30],[35,0,35,2],[33,0,33,2],[38,14,38,15],[54,0,57,1],[59,0,59,2],[60,0,60,2],[61,0,62,0],[61,1,61,2],[62,1,62,2],[42,0,42,2],[45,0,45,2],[46,0,46,2],[72,0,73,2],[72,3,72,5],[74,0,75,0],[74,1,74,2],[75,1,75,2],[308,0,308,1],[109,0,109,2],[110,0,110,2],[111,0,111,2],[139,0,139,2],[169,1,170,1],[80,0,80,2],[83,0,83,2],[84,0,84,2],[85,0,85,2],[86,0,86,2],[102,0,102,2],[82,0,82,2],[81,0,81,2],[87,0,87,2],[88,0,88,2],[89,0,89,2],[119,0,119,2],[92,0,92,2],[307,0,307,1],[20,0,20,2],[16,16,16,17],[16,8,16,9],[64,0,64,2],[40,0,40,2],[41,0,41,2],[16,6,16,7],[16,10,16,11],[43,0,43,2],[285,0,285,2],[243,1,243,2],[265,1,265,2],[234,1,234,2],[236,1,236,2],[235,1,235,2],[264,1,264,2],[256,1,256,2],[257,1,257,2],[258,1,258,2],[264,0,268,0],[269,0,273,0],[246,1,246,2],[250,1,250,2],[16,36,17,36],[199,26,201,26],[199,27,201,27],[199,28,201,28],[199,29,201,29],[303,0,303,1],[304,0,304,1],[222,1,222,2],[266,1,266,2],[267,1,267,2],[272,1,272,2],[253,1,253,2],[248,1,248,2],[245,1,245,2],[241,1,241,2],[247,1,247,2],[242,1,242,2],[259,1,259,2],[260,1,260,2],[68,0,68,2],[47,0,53,1],[77,19,78,19],[77,20,78,20],[79,0,79,2],[8,33,10,33],[16,31,17,31],[16,32,17,32],[16,30,17,30],[261,1,261,2],[262,1,262,2],[263,1,263,2],[254,1,254,2],[255,1,255,2],[9,18,9,19],[22,0,22,2],[16,24,16,25],[16,18,16,19],[16,0,17,2],[21,0,21,2],[16,12,16,13],[16,14,16,15],[9,12,9,13],[9,14,9,15],[9,16,9,17],[9,24,9,25],[9,26,9,27],[16,20,16,21],[16,26,16,27],[199,30,201,30],[8,3,9,5],[13,0,13,2],[34,0,34,2],[23,0,23,2],[44,0,44,2],[9,20,9,21],[131,0,131,2],[98,0,98,2],[189,0,189,2],[9,28,9,29],[9,6,9,7],[9,8,9,9],[24,0,24,2],[8,6,8,29],[16,3,16,5],[77,0,78,2],[77,3,77,5],[77,6,77,13],[77,14,78,14],[77,15,78,15],[77,16,78,16],[77,17,78,17],[77,18,78,18],[151,1,157,1],[90,0,90,2],[91,0,91,2],[93,0,93,2],[94,0,94,2],[150,1,150,2],[140,0,140,2],[130,0,130,2],[133,0,134,2],[135,0,135,2],[136,0,136,2],[145,0,147,2],[142,0,142,2],[143,0,143,2],[137,0,137,2],[120,0,120,2],[121,0,121,2],[122,0,122,2],[123,0,123,2],[138,0,138,2],[141,0,141,2],[115,0,115,2],[116,0,116,2],[117,0,117,2],[306,0,306,1],[300,0,300,1],[286,0,286,2],[268,1,268,2],[270,1,270,2],[275,1,275,2],[271,1,271,2],[273,1,273,2],[301,0,301,1],[287,0,287,2],[302,0,302,1],[278,1,278,2],[305,0,305,1],[269,1,269,2],[274,1,274,2],[276,1,276,2],[277,1,277,2],[298,0,298,1],[299,0,299,1],[274,0,278,0],[280,0,282,2],[283,0,283,2],[284,0,284,2],[289,0,292,0],[289,1,292,1],[289,2,292,2],[5,48,5,63],[5,64,5,79],[188,0,188,2],[9,10,9,11],[18,0,18,2],[19,0,19,2],[223,1,223,2],[225,1,225,2],[219,1,219,2],[224,1,224,2],[211,1,211,2],[212,1,212,2],[107,0,107,2],[251,1,251,2],[240,1,240,2],[244,1,244,2],[232,1,232,2],[226,1,226,2],[210,1,210,2],[206,1,206,2],[8,0,10,2],[11,0,11,2],[5,80,5,97],[8,30,10,30],[16,28,16,29],[16,22,16,23],[16,35,17,35],[167,1,168,1],[112,0,112,2],[113,0,113,2],[114,0,114,2],[9,22,9,23],[128,0,128,2],[129,0,129,2],[124,0,124,2],[125,0,125,2],[126,0,126,2],[127,0,127,2],[8,34,10,34],[16,34,17,34],[8,31,10,31],[16,33,17,33],[8,32,10,32],[148,0,157,0],[148,1,148,2],[149,1,149,2]]}
["SERVICIO DE SALUD"]
[{"$f":"CONCATENATE(\"COMUNA: \",NOMBRE!B2,\" - \",\"( \",NOMBRE!C2,NOMBRE!D2,NOMBRE!E2,NOMBRE!F2,NOMBRE!G2,\" )\")","v":"COMUNA:  - (  )"}]
[{"$f":"CONCATENATE(\"ESTABLECIMIENTO/ESTRATEGIA: \",NOMBRE!B3,\" - \",\"( \",NOMBRE!C3,NOMBRE!D3,NOMBRE!E3,NOMBRE!F3,NOMBRE!G3,NOMBRE!H3,\" )\")","v":"ESTABLECIMIENTO/ESTRATEGIA:  - (  )"}]
[{"$f":"CONCATENATE(\"MES: \",NOMBRE!B6,\" - \",\"( \",NOMBRE!C6,NOMBRE!D6,\" )\")","v":"MES:  - (  )"}]
[{"$f":"CONCATENATE(\"AÑO: \",NOMBRE!B7)","v":"AÑO: 2020"}]
[" REM-A9. ATENCIÓN DE SALUD BUCAL EN LA RED ASISTENCIAL "]
[]
["SECCIÓN A: CONSULTAS Y CONTROLES ODONTOLÓGICOS REALIZADOS EN ESTABLECIMIENTOS DE APS. "]
["ACTIVIDAD ",null,null,"TOTAL",null,null,"SEGÚN GRUPOS DE EDAD O DE RIESGO",null,null,null,null,null,null,null,null,null,null,null,null,null,null,null,null,null,null,null,null,null,null,null,"EMBARAZADAS","60 AÑOS (INCLUÍDO EN GRUPOS DE 20-64 AÑOS)","USUARIOS EN SITUACIÓN DE DISCAPACIDAD","NIÑOS, NIÑAS, ADOLESCENTES Y JÓVENES POBLACIÓN SENAME","MIGRANTES"]
[null,null,null,null,null,null,"Menos de 1 año",null,"1 año",null,"2 años",null,"3 años",null,"4 años",null,"5 años",null,"6 años",null,"12 \naños",null,"Resto \n<15 años",null,"15-19 \naños",null,"20-64 \naños",null,"65 y \nmás años"]
[null,null,null,"Ambos Sexos","Hombres","Mujeres","Hombres","Mujeres","Hombres","Mujeres","Hombres","Mujeres","Hombres","Mujeres","Hombres","Mujeres","Hombres","Mujeres","Hombres","Mujeres","Hombres","Mujeres","Hombres","Mujeres","Hombres","Mujeres","Hombres","Mujeres","Hombres","Mujeres"]
["CONSULTA DE MORBILIDAD",null,null,{"$f":"SUM(E12+F12)","v":0},{"$f":"SUM(G12+I12+K12+M12+O12+Q12+S12+U12+W12+Y12+AA12+AC12)","v":0},{"$f":"SUM(H12+J12+L12+N12+P12+R12+T12+V12+X12+Z12+AB12+AD12)","v":0},null,null,null,null,null,null,null,null,null,null,null,null,null,null,null,null,null,null,null,null,null,null,null,null,null,null,null,null,null,{"$f":"CA12&CB12&CC12&CD12&CE12","v":""},null,null,null,null,null,null,null,null,null,null,null,null,null,null,null,null,null,null,null,null,null,null,null,null,null,null,null,null,null,null,null,null,null,null,null,null,null,null,null,null,null,null,{"$f":"IF(CH12=1,\"* Las consultas de 60 años NO DEBEN ser mayor que el total de Consultas entre 20-64 Años. \",\"\")","v":""},{"$f":"IF(CI12=1,\"* Las actividades de usuarios en situación de discapacidad NO DEBEN superar el total. \",\"\")","v":""},{"$f":"IF(AND(AE12=\"\",D12<>0),\"* Recuerde que las Embarazadas deben ser incluídas en el ingreso por rango Etario (Digite CEROS si no tiene). \",IF(F12<AE12,\"* Las Embarazadas NO DEBEN ser mayor al total de mujeres. \",\"\"))","v":""},{"$f":"IF(AND(AH12=\"\",D12<>0),\"* No olvide digitar la población SENAME (Digite CEROS si no tiene). \",IF(D12<AH12,\"* La Población SENAME NO DEBE ser mayor al Total. \",\"\"))","v":""},{"$f":"IF(AND(AI12=\"\",D12<>0),\"* No olvide digitar la población Migrante (Digite CEROS si no tiene). \",IF(D12<AI12,\"* La Población Migrante NO DEBE ser mayor al Total. \",\"\"))","v":""},null,null,{"$f":"IF(AF12>(AA12+AB12),1,0)","v":0},{"$f":"IF(D12<AG12,1,0)","v":0},{"$f":"IF(AND(AE12=\"\",D12<>0),1,IF(F12<AE12,1,0))","v":0},{"$f":"IF(AND(AH12=\"\",D12<>0),1,IF(D12<AH12,1,0))","v":0},{"$f":"IF(AND(AI12=\"\",D12<>0),1,IF(D12<AI12,1,0))","v":0}]
["CONTROL ODONTOLÓGICO",null,null,{"$f":"SUM(E13+F13)","v":0},{"$f":"SUM(G13+I13+K13+M13+O13+Q13+S13+U13+W13+Y13+AA13+AC13)","v":0},0,null,null,null,null,null,null,null,null,null,null,null,null,null,null,null,null,null,null,null,null,null,null,null,null,null,null,null,null,null,{"$f":"CA13&CB13&CC13&CD13&CE13","v":""},null,null,null,null,null,null,null,null,null,null,null,null,null,null,null,null,null,null,null,null,null,null,null,null,null,null,null,null,null,null,null,null,null,null,null,null,null,null,null,null,null,null,"","","",{"$f":"IF(AND(AH13=\"\",D13<>0),\"* No olvide digitar la población SENAME (Digite CEROS si no tiene). \",IF(D13<AH13,\"* La Población SENAME NO DEBE ser mayor al Total. \",\"\"))","v":""},{"$f":"IF(AND(AI13=\"\",D13<>0),\"* No olvide digitar la población Migrante (Digite CEROS si no tiene). \",IF(D13<AI13,\"* La Población Migrante NO DEBE ser mayor al Total. \",\"\"))","v":""},null,null,0,0,0,{"$f":"IF(AND(AH13=\"\",D13<>0),1,IF(D13<AH13,1,0))","v":0},{"$f":"IF(AND(AI13=\"\",D13<>0),1,IF(D13<AI13,1,0))","v":0}]
["CONSULTA DE URGENCIA (GES)",null,null,{"$f":"SUM(E14+F14)","v":0},0,0,null,null,null,null,null,null,null,null,null,null,null,null,null,null,null,null,null,null,null,null,null,null,null,null,null,null,null,null,null,"",null,null,null,null,null,null,null,null,null,null,null,null,null,null,null,null,null,null,null,null,null,null,null,null,null,null,null,null,null,null,null,null,null,null,null,null,null,null,null,null,null,null,"","","","","",null,null,0,0,0,0,0]
["INASISTENCIA A CONSULTA",null,null,{"$f":"SUM(E15+F15)","v":0},0,0,null,null,null,null,null,null,null,null,null,null,null,null,null,null,null,null,null,null,null,null,null,null,null,null,null,null,null,null,null,"",null,null,null,null,null,null,null,null,null,null,null,null,null,null,null,null,null,null,null,null,null,null,null,null,null,null,null,null,null,null,null,null,null,null,null,null,null,null,null,null,null,null,"","","","","",null,null,0,{"$f":"IF(D15<AG15,1,0)","v":0},{"$f":"IF(AND(AE15=\"\",D15<>0),1,IF(F15<AE15,1,0))","v":0},0,0]
["SECCIÓN B: OTRAS ACTIVIDADES DE ODONTOLOGÍA GENERAL  REALIZADOS EN ESTABLECIMIENTOS DE APS."]
["TIPO DE ACTIVIDAD",null,null,"TOTAL ",null,null,"Menos de 1 año",null,"1 año",null,"2 años",null,"3 años",null,"4 años",null,"5 años",null,"6 años",null,"12 \naños",null,"Resto \n<15 años",null,"15-19 \naños",null,"20-64 \naños",null,"65 y \nmás años",null,"EMBARAZADAS","BENEFICIARIOS","60 AÑOS (INCLUÍDO EN GRUPOS DE 20-64 AÑOS)","COMPRA DE SERVICIO","USUARIOS EN SITUACIÓN DE DISCAPACIDAD","NIÑOS, NIÑAS, ADOLESCENTES Y JÓVENES POBLACIÓN SENAME","MIGRANTES"]
[null,null,null,"Ambos Sexos","Hombres","Mujeres","Hombres","Mujeres","Hombres","Mujeres","Hombres","Mujeres","Hombres","Mujeres","Hombres","Mujeres","Hombres","Mujeres","Hombres","Mujeres","Hombres","Mujeres","Hombres","Mujeres","Hombres","Mujeres","Hombres","Mujeres","Hombres","Mujeres"]
["EDUCACIÓN INDIVIDUAL CON INSTRUCCIÓN DE TÉCNICA DE CEPILLADO",null,null,{"$f":"SUM(E19+F19)","v":0},{"$f":"SUM(G19+I19+K19+M19+O19+Q19+S19+U19+W19+Y19+AA19+AC19)","v":0},{"$f":"SUM(H19+J19+L19+N19+P19+R19+T19+V19+X19+Z19+AB19+AD19)","v":0},null,null,null,null,null,null,null,null,null,null,null,null,null,null,null,null,null,null,null,null,null,null,null,null,null,null,null,null,null,null,null,{"$f":"CA19&CB19&CC19&CD19&CE19&CF19","v":""},null,null,null,null,null,null,null,null,null,null,null,null,null,null,null,null,null,null,null,null,null,null,null,null,null,null,null,null,null,null,null,null,null,null,null,null,null,null,null,null,null,null,null,null,null,null,null,{"$f":"IF(AG19>(AA19+AB19),1,0)","v":0},{"$f":"IF(D19<AI19,1,0)","v":0},{"$f":"IF(AND(AE19=\"\",D19<>0),1,IF(F19<AE19,1,0))","v":0},{"$f":"IF(AND(AF19=\"\",D19<>0),1,IF(D19<AF19,1,0))","v":0},{"$f":"IF(AND(AJ19=\"\",D19<>0),1,IF(D19<AJ19,1,0))","v":0},{"$f":"IF(AND(AK19=\"\",D19<>0),1,IF(D19<AK19,1,0))","v":0}]
["CONSEJERÍA BREVE EN TABACO",null,null,0,{"$f":"SUM(U20+W20+Y20+AA20+AC20)","v":0},{"$f":"SUM(V20+X20+Z20+AB20+AD20)","v":0},null,null,null,null,null,null,null,null,null,null,null,null,null,null,null,null,null,null,null,null,null,null,null,null,null,null,null,null,null,null,null,"",null,null,null,null,null,null,null,null,null,null,null,null,null,null,null,null,null,null,null,null,null,null,null,null,null,null,null,null,null,null,null,null,null,null,null,null,null,null,null,null,{"$f":"IF(CH20=1,\"* Las consultas de 60 años NO DEBEN ser mayor que el total de Consultas entre 20-64 Años. \",\"\")","v":""},{"$f":"IF(CI20=1,\"* Las actividades de usuarios en situación de discapacidad NO DEBEN superar el total. \",\"\")","v":""},{"$f":"IF(AND(AE20=\"\",D20<>0),\"* Recuerde que las Embarazadas deben ser incluídas en el ingreso por rango Etario (Digite CEROS si no tiene). \",IF(F20<AE20,\"* Las Embarazadas NO DEBEN ser mayor al total de mujeres. \",\"\"))","v":""},{"$f":"IF(AND(AF20=\"\",D20<>0),\"* No olvide digitar la columna Beneficiarios (Digite CEROS si no tiene). \",IF(D20<AF20,\"* El número de Beneficiarios NO DEBE ser mayor que el Total. \",\"\"))","v":""},{"$f":"IF(AND(AJ20=\"\",D20<>0),\"* No olvide digitar la Población SENAME (Digite CEROS si no tiene). \",IF(D20<AJ20,\"* La Población SENAME NO DEBE ser mayor al Total. \",\"\"))","v":""},{"$f":"IF(AND(AK20=\"\",D20<>0),\"* No olvide digitar la Población Migrante (Digite CEROS si no tiene). \",IF(D20<AK20,\"* La Población Migrante NO DEBE superar el Total. \",\"\"))","v":""},null,0,0,0,0,0,0]
["EXAMEN DE SALUD ORAL",null,null,0,{"$f":"SUM(G21+I21+K21+M21+O21+Q21+S21+U21+W21+Y21+AA21+AC21)","v":0},{"$f":"SUM(H21+J21+L21+N21+P21+R21+T21+V21+X21+Z21+AB21+AD21)","v":0},null,null,null,null,null,null,null,null,null,null,null,null,null,null,null,null,null,null,null,null,null,null,null,null,null,null,null,null,null,null,null,"",null,null,null,null,null,null,null,null,null,null,null,null,null,null,null,null,null,null,null,null,null,null,null,null,null,null,null,null,null,null,null,null,null,null,null,null,null,null,null,null,"","","","","","",null,0,0,0,0,0,0]
["APLICACIÓN DE SELLANTES",null,null,0,{"$f":"SUM(G22+I22+K22+M22+O22+Q22+S22+U22+W22+Y22+AA22+AC22)","v":0},0,null,null,null,null,null,null,null,null,null,null,null,null,null,null,null,null,null,null,null,null,null,null,null,null,null,null,null,null,null,null,null,"",null,null,null,null,null,null,null,null,null,null,null,null,null,null,null,null,null,null,null,null,null,null,null,null,null,null,null,null,null,null,null,null,null,null,null,null,null,null,null,null,"","","","","","",null,0,0,0,0,0,0]
["FLUORURACIÓN TÓPICA BARNIZ",null,null,0,0,0,null,null,null,null,null,null,null,null,null,null,null,null,null,null,null,null,null,null,null,null,null,null,null,null,null,null,null,null,null,null,null,"",null,null,null,null,null,null,null,null,null,null,null,null,null,null,null,null,null,null,null,null,null,null,null,null,null,null,null,null,null,null,null,null,null,null,null,null,null,null,null,null,"","","","","","",null,0,0,0,0,0,0]
["PULIDO CORONARIO",null,null,0,0,0,null,null,null,null,null,null,null,null,null,null,null,null,null,null,null,null,null,null,null,null,null,null,null,null,null,null,null,null,null,null,null,"",null,null,null,null,null,null,null,null,null,null,null,null,null,null,null,null,null,null,null,null,null,null,null,null,null,null,null,null,null,null,null,null,null,null,null,null,null,null,null,null,"","","","","","",null,0,0,0,0,0,0]
["ACTIVIDAD INTERCEPTIVA DE ANOMALÍAS DENTO MAXILARES (OPI)",null,null,0,0,0,null,null,null,null,null,null,null,null,null,null,null,null,null,null,null,null,null,null,null,null,null,null,null,null,null,null,null,null,null,null,null,"",null,null,null,null,null,null,null,null,null,null,null,null,null,null,null,null,null,null,null,null,null,null,null,null,null,null,null,null,null,null,null,null,null,null,null,null,null,null,null,null,"","","","","","",null,0,0,0,0,0,0]
["DESTARTRAJE SUPRAGINGIVAL",null,null,0,0,0,null,null,null,null,null,null,null,null,null,null,null,null,null,null,null,null,null,null,null,null,null,null,null,null,null,null,null,null,null,null,null,"",null,null,null,null,null,null,null,null,null,null,null,null,null,null,null,null,null,null,null,null,null,null,null,null,null,null,null,null,null,null,null,null,null,null,null,null,null,null,null,null,"","","","","","",null,0,0,0,0,0,0]
["EXODONCIA",null,null,0,0,0,null,null,null,null,null,null,null,null,null,null,null,null,null,null,null,null,null,null,null,null,null,null,null,null,null,null,null,null,null,null,null,"",null,null,null,null,null,null,null,null,null,null,null,null,null,null,null,null,null,null,null,null,null,null,null,null,null,null,null,null,null,null,null,null,null,null,null,null,null,null,null,null,"","","","","","",null,0,0,0,0,0,0]
["PULPOTOMÍA",null,null,0,0,0,null,null,null,null,null,null,null,null,null,null,null,null,null,null,null,null,null,null,null,null,null,null,null,null,null,null,null,null,null,null,null,"",null,null,null,null,null,null,null,null,null,null,null,null,null,null,null,null,null,null,null,null,null,null,null,null,null,null,null,null,null,null,null,null,null,null,null,null,null,null,null,null,"","","","","","",null,0,0,0,0,0,0]
["RESTAURACIÓN PROVISORIA",null,null,0,0,0,null,null,null,null,null,null,null,null,null,null,null,null,null,null,null,null,null,null,null,null,null,null,null,null,null,null,null,null,null,null,null,"",null,null,null,null,null,null,null,null,null,null,null,null,null,null,null,null,null,null,null,null,null,null,null,null,null,null,null,null,null,null,null,null,null,null,null,null,null,null,null,null,"","","","","","",null,0,0,0,0,0,0]
["RESTAURACIÓN ESTÉTICA",null,null,0,0,0,null,null,null,null,null,null,null,null,null,null,null,null,null,null,null,null,null,null,null,null,null,null,null,null,null,null,null,null,null,null,null,"",null,null,null,null,null,null,null,null,null,null,null,null,null,null,null,null,null,null,null,null,null,null,null,null,null,null,null,null,null,null,null,null,null,null,null,null,null,null,null,null,"","","","","","",null,0,0,0,0,0,0]
["RESTAURACIÓN DE AMALGAMAS",null,null,0,0,0,null,null,null,null,null,null,null,null,null,null,null,null,null,null,null,null,null,null,null,null,null,null,null,null,null,null,null,null,null,null,null,"",null,null,null,null,null,null,null,null,null,null,null,null,null,null,null,null,null,null,null,null,null,null,null,null,null,null,null,null,null,null,null,null,null,null,null,null,null,null,null,null,"","","","","","",null,0,0,0,0,0,0]
["OBTURACIONES DE VIDRIO IONÓMERO EN DIENTE TEMPORAL",null,null,0,0,0,null,null,null,null,null,null,null,null,null,null,null,null,null,null,null,null,null,null,null,null,null,null,null,null,null,null,null,null,null,null,null,"",null,null,null,null,null,null,null,null,null,null,null,null,null,null,null,null,null,null,null,null,null,null,null,null,null,null,null,null,null,null,null,null,null,null,null,null,null,null,null,null,"","","","","","",null,0,0,0,0,0,0]
["DESTARTRAJE SUBGINGIVAL Y PULIDO RADICULAR POR SEXTANTE",null,null,0,{"$f":"SUM(U33+W33+Y33+AA33+AC33)","v":0},{"$f":"SUM(V33+X33+Z33+AB33+AD33)","v":0},null,null,null,null,null,null,null,null,null,null,null,null,null,null,null,null,null,null,null,null,null,null,null,null,null,null,null,null,null,null,null,"",null,null,null,null,null,null,null,null,null,null,null,null,null,null,null,null,null,null,null,null,null,null,null,null,null,null,null,null,null,null,null,null,null,null,null,null,null,null,null,null,"","","","","","",null,0,0,0,0,0,0]
["PROCEDIMIENTOS MÉDICO-QUIRÚRGICOS",null,null,0,{"$f":"SUM(G34+I34+K34+M34+O34+Q34+S34+U34+W34+Y34+AA34+AC34)","v":0},0,null,null,null,null,null,null,null,null,null,null,null,null,null,null,null,null,null,null,null,null,null,null,null,null,null,null,null,null,null,null,null,"",null,null,null,null,null,null,null,null,null,null,null,null,null,null,null,null,null,null,null,null,null,null,null,null,null,null,null,null,null,null,null,null,null,null,null,null,null,null,null,null,"","","","","","",null,0,0,0,0,0,0]
["RADIOGRAFÍA INTRAORAL (RETROALVEOLARES, BITE WING Y OCLUSALES)",null,null,0,0,0,null,null,null,null,null,null,null,null,null,null,null,null,null,null,null,null,null,null,null,null,null,null,null,null,null,null,null,null,null,null,null,"",null,null,null,null,null,null,null,null,null,null,null,null,null,null,null,null,null,null,null,null,null,null,null,null,null,null,null,null,null,null,null,null,null,null,null,null,null,null,null,null,"","","","","","",null,0,0,0,0,0,0]
["Total Actividades ",null,null,{"$f":"SUM(D19:D35)","v":0},{"$f":"SUM(E19:E35)","v":0},{"$f":"SUM(F19:F35)","v":0},{"$f":"SUM(G19:G35)","v":0},0,0,0,0,0,0,0,0,0,0,0,0,0,0,0,0,0,0,0,0,0,0,0,0,0,0,0,0,0,0]
["SECCIÓN C : INGRESOS Y EGRESOS EN ESTABLECIMIENTOS APS"]
["TIPO DE INGRESO O EGRESO",null,null,"TOTAL  ",null,null,"Según grupos de edad o de riesgo",null,null,null,null,null,null,null,null,null,null,null,null,null,null,null,null,null,null,null,null,null,null,null,"EMBARAZADAS","60 AÑOS (INCLUÍDO EN GRUPOS DE 20-64 AÑOS)","USUARIOS EN SITUACIÓN DE DISCAPACIDAD","NIÑOS, NIÑAS, ADOLESCENTES Y JÓVENES POBLACIÓN SENAME","MIGRANTES"]
[null,null,null,null,null,null,"Menos de 1 año",null,"1 año",null,"2 años",null,"3 años",null,"4 años",null,"5 años",null,"6 años",null,"12 años",null,"Resto \n<15 años",null,"15-19 años",null,"20-64 \naños",null,"65 y \nmás años"]
[null,null,null,"Ambos Sexos","Hombres","Mujeres","Hombres","Mujeres","Hombres","Mujeres","Hombres","Mujeres","Hombres","Mujeres","Hombres","Mujeres","Hombres","Mujeres","Hombres","Mujeres","Hombres","Mujeres","Hombres","Mujeres","Hombres","Mujeres","Hombres","Mujeres","Hombres","Mujeres"]
["INGRESOS A TRATAMIENTO ODONTOLOGÍA GENERAL",null,null,{"$f":"SUM(E41+F41)","v":0},{"$f":"SUM(U41+W41+Y41+AA41+AC41)","v":0},{"$f":"SUM(V41+X41+Z41+AB41+AD41)","v":0},null,null,null,null,null,null,null,null,null,null,null,null,null,null,null,null,null,null,null,null,null,null,null,null,null,null,null,null,null,{"$f":"CA41&CB41&CC41&CD41&CE41","v":""},null,null,null,null,null,null,null,null,null,null,null,null,null,null,null,null,null,null,null,null,null,null,null,null,null,null,null,null,null,null,null,null,null,null,null,null,null,null,null,null,null,null,{"$f":"IF(CH41=1,\"* Las consultas de 60 años NO DEBEN ser mayor que el total de Consultas entre 20-64 Años. \",\"\")","v":""},{"$f":"IF(CI41=1,\"* Las actividades de usuarios en situación de discapacidad NO DEBEN superar el total. \",\"\")","v":""},{"$f":"IF(AND(AE41=\"\",D41<>0),\"* Recuerde que las Embarazadas deben ser incluídas en el ingreso por rango Etario (Digite CEROS si no tiene). \",IF(F41<AE41,\"* Las Embarazadas NO DEBEN ser mayor al total de mujeres. \",\"\"))","v":""},{"$f":"IF(AND(AH41=\"\",D41<>0),\"* No olvide digitar la población SENAME (Digite CEROS si no tiene). \",IF(D41<AH41,\"* La Población SENAME NO DEBE ser mayor al Total. \",\"\"))","v":""},{"$f":"IF(AND(AI41=\"\",D41<>0),\"* No olvide digitar la población Migrante (Digite CEROS si no tiene). \",IF(D41<AI41,\"* La Población Migrante NO DEBE ser mayor al Total. \",\"\"))","v":""},null,null,{"$f":"IF((AA41+AB41)<AF41,1,0)","v":0},{"$f":"IF(D41<AG41,1,0)","v":0},{"$f":"IF(AND(AE41=\"\",D41<>0),1,IF(F41<AE41,1,0))","v":0},{"$f":"IF(AND(AH41=\"\",D41<>0),1,IF(D41<AH41,1,0))","v":0},{"$f":"IF(AND(AI41=\"\",D41<>0),1,IF(D41<AI41,1,0))","v":0}]
["INGRESO CONTROL CON ENFOQUE RIESGO ODONTOLÓGICO (CERO)",null,null,{"$f":"SUM(E42+F42)","v":0},{"$f":"SUM(G42+I42+K42+M42+O42+Q42+S42)","v":0},{"$f":"SUM(H42+J42+L42+N42+P42+R42+T42)","v":0},null,null,null,null,null,null,null,null,null,null,null,null,null,null,null,null,null,null,null,null,null,null,null,null,null,null,null,null,null,{"$f":"CA42&CB42&CC42&CD42&CE42","v":""},null,null,null,null,null,null,null,null,null,null,null,null,null,null,null,null,null,null,null,null,null,null,null,null,null,null,null,null,null,null,null,null,null,null,null,null,null,null,null,null,null,null,null,{"$f":"IF(CI42=1,\"* Las actividades de usuarios en situación de discapacidad NO DEBEN superar el total. \",\"\")","v":""},null,{"$f":"IF(AND(AH42=\"\",D42<>0),\"* No olvide digitar la población SENAME (Digite CEROS si no tiene). \",IF(D42<AH42,\"* La Población SENAME NO DEBE ser mayor al Total. \",\"\"))","v":""},{"$f":"IF(AND(AI42=\"\",D42<>0),\"* No olvide digitar la población Migrante (Digite CEROS si no tiene). \",IF(D42<AI42,\"* La Población Migrante NO DEBE ser mayor al Total. \",\"\"))","v":""},null,null,null,{"$f":"IF(D42<AG42,1,0)","v":0},null,{"$f":"IF(AND(AH42=\"\",D42<>0),1,IF(D42<AH42,1,0))","v":0},{"$f":"IF(AND(AI42=\"\",D42<>0),1,IF(D42<AI42,1,0))","v":0}]
["EGRESO CONTROL CON ENFOQUE RIESGO ODONTOLÓGICO (CERO)",null,null,{"$f":"SUM(E43+F43)","v":0},{"$f":"SUM(G43+I43+K43+M43+O43+Q43+S43)","v":0},{"$f":"SUM(H43+J43+L43+N43+P43+R43+T43)","v":0},null,null,null,null,null,null,null,null,null,null,null,null,null,null,null,null,null,null,null,null,null,null,null,null,null,null,null,null,null,"",null,null,null,null,null,null,null,null,null,null,null,null,null,null,null,null,null,null,null,null,null,null,null,null,null,null,null,null,null,null,null,null,null,null,null,null,null,null,null,null,null,null,null,"",null,"","",null,null,null,0,null,0,0]
["ALTAS ODONTOLÓGICAS PREVENTIVAS",null,null,{"$f":"SUM(E44+F44)","v":0},{"$f":"SUM(U44+W44+Y44+AA44+AC44)","v":0},{"$f":"SUM(V44+X44+Z44+AB44+AD44)","v":0},null,null,null,null,null,null,null,null,null,null,null,null,null,null,null,null,null,null,null,null,null,null,null,null,null,null,null,null,null,"",null,null,null,null,null,null,null,null,null,null,null,null,null,null,null,null,null,null,null,null,null,null,null,null,null,null,null,null,null,null,null,null,null,null,null,null,null,null,null,null,null,null,{"$f":"IF(CH44=1,\"* Las consultas de 60 años NO DEBEN ser mayor que el total de Consultas entre 20-64 Años. \",\"\")","v":""},"",{"$f":"IF(AND(AE44=\"\",D44<>0),\"* Recuerde que las Embarazadas deben ser incluídas en el ingreso por rango Etario (Digite CEROS si no tiene). \",IF(F44<AE44,\"* Las Embarazadas NO DEBEN ser mayor al total de mujeres. \",\"\"))","v":""},"","",null,null,{"$f":"IF((AA44+AB44)<AF44,1,0)","v":0},0,{"$f":"IF(AND(AE44=\"\",D44<>0),1,IF(F44<AE44,1,0))","v":0},0,0]
["ALTAS ODONTOLÓGICAS INTEGRALES (EXCLUYE SECCIÓN G)",null,null,{"$f":"SUM(E45+F45)","v":0},{"$f":"SUM(U45+W45+Y45+AA45+AC45)","v":0},0,null,null,null,null,null,null,null,null,null,null,null,null,null,null,null,null,null,null,null,null,null,null,null,null,null,null,null,null,null,"",null,null,null,null,null,null,null,null,null,null,null,null,null,null,null,null,null,null,null,null,null,null,null,null,null,null,null,null,null,null,null,null,null,null,null,null,null,null,null,null,null,null,null,"","","","",null,null,null,0,0,0,0]
["ALTAS ODONTOLÓGICAS TOTALES",null,null,{"$f":"SUM(E46+F46)","v":0},0,0,null,null,null,null,null,null,null,null,null,null,null,null,null,null,{"$f":"SUM(U44:U45)","v":0},{"$f":"SUM(V44:V45)","v":0},0,0,0,0,0,0,0,0,0,{"$f":"SUM(AF44)","v":0},{"$f":"SUM(AG44:AG45)","v":0},{"$f":"SUM(AH44:AH45)","v":0},{"$f":"SUM(AI44:AI45)","v":0},null,null,null,null,null,null,null,null,null,null,null,null,null,null,null,null,null,null,null,null,null,null,null,null,null,null,null,null,null,null,null,null,null,null,null,null,null,null,null,null,null,null,null,"","","","","",null,null,0,0,0,0,0]
["EGRESOS POR ABANDONO",null,null,0,{"$f":"SUM(U47+W47+Y47+AA47+AC47)","v":0},{"$f":"SUM(V47+X47+Z47+AB47+AD47)","v":0},null,null,null,null,null,null,null,null,null,null,null,null,null,null,null,null,null,null,null,null,null,null,null,null,null,null,null,null,null,"",null,null,null,null,null,null,null,null,null,null,null,null,null,null,null,null,null,null,null,null,null,null,null,null,null,null,null,null,null,null,null,null,null,null,null,null,null,null,null,null,null,null,"","","","","",null,null,0,0,0,0,0]
["ÍNDICE ceod O COPD EN PACIENTES INGRESADOS (Índice ceod se usa en menores de 7 años, para resto se utiliza COPD) ",null,0,0,{"$f":"SUM(G48+I48+K48+M48+O48+Q48+S48+U48+W48+Y48+AA48+AC48)","v":0},{"$f":"SUM(H48+J48+L48+N48+P48+R48+T48+V48+X48+Z48+AB48+AD48)","v":0},null,null,null,null,null,null,null,null,null,null,null,null,null,null,null,null,null,null,null,null,null,null,null,null,null,null,null,null,null,"",null,null,null,null,null,null,null,null,null,null,null,null,null,null,null,null,null,null,null,null,null,null,null,null,null,null,null,null,null,null,null,null,null,null,null,null,null,null,null,null,null,null,"","","","","",null,null,0,0,0,0,0]
[null,null,"1 a 2",0,0,0,null,null,null,null,null,null,null,null,null,null,null,null,null,null,null,null,null,null,null,null,null,null,null,null,null,null,null,null,null,"",null,null,null,null,null,null,null,null,null,null,null,null,null,null,null,null,null,null,null,null,null,null,null,null,null,null,null,null,null,null,null,null,null,null,null,null,null,null,null,null,null,null,"","","","","",null,null,0,0,0,0,0]
[null,null,"3 a 4",0,0,0,null,null,null,null,null,null,null,null,null,null,null,null,null,null,null,null,null,null,null,null,null,null,null,null,null,null,null,null,null,"",null,null,null,null,null,null,null,null,null,null,null,null,null,null,null,null,null,null,null,null,null,null,null,null,null,null,null,null,null,null,null,null,null,null,null,null,null,null,null,null,null,null,"","","","","",null,null,0,0,0,0,0]
[null,null,"5 a 6",0,0,0,null,null,null,null,null,null,null,null,null,null,null,null,null,null,null,null,null,null,null,null,null,null,null,null,null,null,null,null,null,"",null,null,null,null,null,null,null,null,null,null,null,null,null,null,null,null,null,null,null,null,null,null,null,null,null,null,null,null,null,null,null,null,null,null,null,null,null,null,null,null,null,null,"","","","","",null,null,0,0,0,0,0]
[null,null,"7 a 8",{"$f":"SUM(E52+F52)","v":0},0,0,null,null,null,null,null,null,null,null,null,null,null,null,null,null,null,null,null,null,null,null,null,null,null,null,null,null,null,null,null,"",null,null,null,null,null,null,null,null,null,null,null,null,null,null,null,null,null,null,null,null,null,null,null,null,null,null,null,null,null,null,null,null,null,null,null,null,null,null,null,null,null,null,"","","","","",null,null,0,0,0,0,0]
[null,null,"9 o más",0,0,0,null,null,null,null,null,null,null,null,null,null,null,null,null,null,null,null,null,null,null,null,null,null,null,null,null,null,null,null,null,"",null,null,null,null,null,null,null,null,null,null,null,null,null,null,null,null,null,null,null,null,null,null,null,null,null,null,null,null,null,null,null,null,null,null,null,null,null,null,null,null,null,null,"","","","","",null,null,0,0,0,0,0]
[null,null,"TOTAL",{"$f":"SUM(D48:D53)","v":0},{"$f":"SUM(E48:E53)","v":0},0,0,0,0,0,0,0,0,0,0,0,0,0,0,0,0,0,{"$f":"SUM(W48:W53)","v":0},0,{"$f":"SUM(Y48:Y53)","v":0},0,0,0,0,0,0,{"$f":"SUM(AF48:AF53)","v":0},0,{"$f":"SUM(AH48:AH53)","v":0},{"$f":"SUM(AI48:AI53)","v":0},null,null,null,null,null,null,null,null,null,null,null,null,null,null,null,null,null,null,null,null,null,null,null,null,null,null,null,null,null,null,null,null,null,null,null,null,null,null,null,null,null,null,null,"","","","","",null,null,0,0,0,0,0]
["CÓDIGO EXAMEN PERIODONTAL BASICO (EPB) EN PACIENTES INGRESADOS",null,0,{"$f":"SUM(E55:F55)","v":0},{"$f":"SUM(U55+W55+Y55+AA55+AC55)","v":0},{"$f":"SUM(V55+X55+Z55+AB55+AD55)","v":0},null,null,null,null,null,null,null,null,null,null,null,null,null,null,null,null,null,null,null,null,null,null,null,null,null,null,null,null,null,"",null,null,null,null,null,null,null,null,null,null,null,null,null,null,null,null,null,null,null,null,null,null,null,null,null,null,null,null,null,null,null,null,null,null,null,null,null,null,null,null,null,null,"","","","","",null,null,0,0,0,0,0]
[null,null,"1,2,3",{"$f":"SUM(E56:F56)","v":0},{"$f":"SUM(U56+W56+Y56+AA56+AC56)","v":0},{"$f":"SUM(V56+X56+Z56+AB56+AD56)","v":0},null,null,null,null,null,null,null,null,null,null,null,null,null,null,null,null,null,null,null,null,null,null,null,null,null,null,null,null,null,"",null,null,null,null,null,null,null,null,null,null,null,null,null,null,null,null,null,null,null,null,null,null,null,null,null,null,null,null,null,null,null,null,null,null,null,null,null,null,null,null,null,null,"","","","","",null,null,0,0,0,0,0]
[null,null,"4 y *",{"$f":"SUM(E57:F57)","v":0},0,{"$f":"SUM(V57+X57+Z57+AB57+AD57)","v":0},null,null,null,null,null,null,null,null,null,null,null,null,null,null,null,null,null,null,null,null,null,null,null,null,null,null,null,null,null,"",null,null,null,null,null,null,null,null,null,null,null,null,null,null,null,null,null,null,null,null,null,null,null,null,null,null,null,null,null,null,null,null,null,null,null,null,null,null,null,null,null,null,"","","","","",null,null,0,0,0,0,0]
[null,null,"TOTAL",{"$f":"SUM(E58:F58)","v":0},{"$f":"SUM(E55:E57)","v":0},{"$f":"SUM(F55:F57)","v":0},null,null,null,null,null,null,null,null,null,null,null,null,null,null,{"$f":"SUM(U55:U57)","v":0},{"$f":"SUM(V55:V57)","v":0},0,0,{"$f":"SUM(Y55:Y57)","v":0},{"$f":"SUM(Z55:Z57)","v":0},0,0,0,0,0,0,0,0,0]
["SECCIÓN D : INTERCONSULTAS GENERADAS EN ESTABLECIMIENTOS DE APS  "]
["ESPECIALIDAD",null,null,"TOTAL","GESTANTE","60 AÑOS ","USUARIOS EN SITUACIÓN DE DISCAPACIDAD","NIÑOS, NIÑAS, ADOLESCENTES Y JÓVENES RED SENAME","MIGRANTES"]
["ENDODONCIA",null,null,null,null,null,null,null,null,{"$f":"CA61&CB61&CC61&CD61&CE61","v":""},null,null,null,null,null,null,null,null,null,null,null,null,null,null,null,null,null,null,null,null,null,null,null,null,null,null,null,null,null,null,null,null,null,null,null,null,null,null,null,null,null,null,null,null,null,null,null,null,null,null,null,null,null,null,null,null,null,null,null,null,null,null,null,null,null,null,null,null,{"$f":"IF(CH61=1,\"* Las Interconsultas de Gestantes NO DEBEN ser mayor al Total de Interconsultas. \",\"\")","v":""},{"$f":"IF(CI61=1,\"* Las Interconsultas de Pacientes de 60 años NO DEBEN ser mayor al Total de Interconsultas. \",\"\")","v":""},{"$f":"IF(CJ61=1,\"* Las Interconsultas de Usuarios en situación de Discapacidad NO DEBEN ser mayor al Total de Interconsultas. \",\"\")","v":""},{"$f":"IF(CK61=1,\"* Las Interconsultas de Niños, Niñas, Adolescentes y Jóvenes Red SENAME NO DEBEN ser mayor al Total de Interconsultas. \",\"\")","v":""},{"$f":"IF(CL61=1,\"* Las Interconsultas de Migrantes NO DEBEN ser mayor al Total de Interconsultas. \",\"\")","v":""},null,null,{"$f":"IF($D61<E61,1,0)","v":0},{"$f":"IF($D61<F61,1,0)","v":0},0,0,0]
["REHABILITACIÓN ORAL","PRÓTESIS REMOVIBLES",null,null,null,null,null,null,null,{"$f":"CA62&CB62&CC62&CD62&CE62","v":""},null,null,null,null,null,null,null,null,null,null,null,null,null,null,null,null,null,null,null,null,null,null,null,null,null,null,null,null,null,null,null,null,null,null,null,null,null,null,null,null,null,null,null,null,null,null,null,null,null,null,null,null,null,null,null,null,null,null,null,null,null,null,null,null,null,null,null,null,{"$f":"IF(CH62=1,\"* Las Interconsultas de Gestantes NO DEBEN ser mayor al Total de Interconsultas. \",\"\")","v":""},{"$f":"IF(CI62=1,\"* Las Interconsultas de Pacientes de 60 años NO DEBEN ser mayor al Total de Interconsultas. \",\"\")","v":""},{"$f":"IF(CJ62=1,\"* Las Interconsultas de Usuarios en situación de Discapacidad NO DEBEN ser mayor al Total de Interconsultas. \",\"\")","v":""},{"$f":"IF(CK62=1,\"* Las Interconsultas de Niños, Niñas, Adolescentes y Jóvenes Red SENAME NO DEBEN ser mayor al Total de Interconsultas. \",\"\")","v":""},{"$f":"IF(CL62=1,\"* Las Interconsultas de Migrantes NO DEBEN ser mayor al Total de Interconsultas. \",\"\")","v":""},null,null,{"$f":"IF(D62<E62,1,0)","v":0},0,0,0,0]
[null,"PRÓTESIS FIJA",null,null,null,null,null,null,null,"",null,null,null,null,null,null,null,null,null,null,null,null,null,null,null,null,null,null,null,null,null,null,null,null,null,null,null,null,null,null,null,null,null,null,null,null,null,null,null,null,null,null,null,null,null,null,null,null,null,null,null,null,null,null,null,null,null,null,null,null,null,null,null,null,null,null,null,null,"","","","","",null,null,0,0,0,0,0]
["CIRUGÍA BUCAL Y TRAUMATOLOGÍA MAXILOFACIAL",null,null,null,null,null,null,null,null,"",null,null,null,null,null,null,null,null,null,null,null,null,null,null,null,null,null,null,null,null,null,null,null,null,null,null,null,null,null,null,null,null,null,null,null,null,null,null,null,null,null,null,null,null,null,null,null,null,null,null,null,null,null,null,null,null,null,null,null,null,null,null,null,null,null,null,null,null,"","","","","",null,null,0,0,0,0,0]
["ODONTOPEDIATRÍA ",null,null,null,null,null,null,null,null,"",null,null,null,null,null,null,null,null,null,null,null,null,null,null,null,null,null,null,null,null,null,null,null,null,null,null,null,null,null,null,null,null,null,null,null,null,null,null,null,null,null,null,null,null,null,null,null,null,null,null,null,null,null,null,null,null,null,null,null,null,null,null,null,null,null,null,null,null,"","","","","",null,null,0,0,0,0,0]
["ORTODONCIA",null,null,null,null,null,null,null,null,"",null,null,null,null,null,null,null,null,null,null,null,null,null,null,null,null,null,null,null,null,null,null,null,null,null,null,null,null,null,null,null,null,null,null,null,null,null,null,null,null,null,null,null,null,null,null,null,null,null,null,null,null,null,null,null,null,null,null,null,null,null,null,null,null,null,null,null,null,"","","","","",null,null,0,0,0,0,0]
["PERIODONCIA",null,null,null,null,null,null,null,null,"",null,null,null,null,null,null,null,null,null,null,null,null,null,null,null,null,null,null,null,null,null,null,null,null,null,null,null,null,null,null,null,null,null,null,null,null,null,null,null,null,null,null,null,null,null,null,null,null,null,null,null,null,null,null,null,null,null,null,null,null,null,null,null,null,null,null,null,null,"","","","","",null,null,0,0,0,0,0]
["IMAGENOLOGÍA ORAL Y MAXILOFACIAL ",null,null,null,null,null,null,null,null,"",null,null,null,null,null,null,null,null,null,null,null,null,null,null,null,null,null,null,null,null,null,null,null,null,null,null,null,null,null,null,null,null,null,null,null,null,null,null,null,null,null,null,null,null,null,null,null,null,null,null,null,null,null,null,null,null,null,null,null,null,null,null,null,null,null,null,null,null,"","","","","",null,null,0,0,0,0,0]
["PATOLOGÍA ORAL",null,null,null,null,null,null,null,null,"",null,null,null,null,null,null,null,null,null,null,null,null,null,null,null,null,null,null,null,null,null,null,null,null,null,null,null,null,null,null,null,null,null,null,null,null,null,null,null,null,null,null,null,null,null,null,null,null,null,null,null,null,null,null,null,null,null,null,null,null,null,null,null,null,null,null,null,null,{"$f":"IF(CH69=1,\"* Las Interconsultas de Gestantes NO DEBEN ser mayor al Total de Interconsultas. \",\"\")","v":""},{"$f":"IF(CI69=1,\"* Las Interconsultas de Pacientes de 60 años NO DEBEN ser mayor al Total de Interconsultas. \",\"\")","v":""},{"$f":"IF(CJ69=1,\"* Las Interconsultas de Usuarios en situación de Discapacidad NO DEBEN ser mayor al Total de Interconsultas. \",\"\")","v":""},{"$f":"IF(CK69=1,\"* Las Interconsultas de Niños, Niñas, Adolescentes y Jóvenes Red SENAME NO DEBEN ser mayor al Total de Interconsultas. \",\"\")","v":""},{"$f":"IF(CL69=1,\"* Las Interconsultas de Migrantes NO DEBEN ser mayor al Total de Interconsultas. \",\"\")","v":""},null,null,0,0,0,0,0]
["IMPLANTOLOGÍA BUCO MAXILOFACIAL",null,null,null,null,null,null,null,null,"",null,null,null,null,null,null,null,null,null,null,null,null,null,null,null,null,null,null,null,null,null,null,null,null,null,null,null,null,null,null,null,null,null,null,null,null,null,null,null,null,null,null,null,null,null,null,null,null,null,null,null,null,null,null,null,null,null,null,null,null,null,null,null,null,null,null,null,null,{"$f":"IF(CH70=1,\"* Las Interconsultas de Gestantes NO DEBEN ser mayor al Total de Interconsultas. \",\"\")","v":""},{"$f":"IF(CI70=1,\"* Las Interconsultas de Pacientes de 60 años NO DEBEN ser mayor al Total de Interconsultas. \",\"\")","v":""},{"$f":"IF(CJ70=1,\"* Las Interconsultas de Usuarios en situación de Discapacidad NO DEBEN ser mayor al Total de Interconsultas. \",\"\")","v":""},{"$f":"IF(CK70=1,\"* Las Interconsultas de Niños, Niñas, Adolescentes y Jóvenes Red SENAME NO DEBEN ser mayor al Total de Interconsultas. \",\"\")","v":""},{"$f":"IF(CL70=1,\"* Las Interconsultas de Migrantes NO DEBEN ser mayor al Total de Interconsultas. \",\"\")","v":""},null,null,0,0,0,0,0]
["TRASTORNOS TEMPOROMANDIBULARES Y DOLOR OROFACIAL",null,null,null,null,null,null,null,null,"",null,null,null,null,null,null,null,null,null,null,null,null,null,null,null,null,null,null,null,null,null,null,null,null,null,null,null,null,null,null,null,null,null,null,null,null,null,null,null,null,null,null,null,null,null,null,null,null,null,null,null,null,null,null,null,null,null,null,null,null,null,null,null,null,null,null,null,null,"","","","","",null,null,0,0,0,0,0]
["SECCIÓN E: CONSULTAS ODONTOLÓGICAS  EN HORARIO CONTINUADO (incluidas en  Secciones A y B. Excluye extensiones horarias de Sección G )"]
["JORNADA",null,null,"CONSULTAS  "]
[null,null,null,"TOTAL","Hombres","Mujeres"]
[" HORARIO CONTINUADO","VESPERTINA (LUNES-VIERNES)",null,{"$f":"SUM(E75+F75)","v":0}]
[null,"SÁBADO, DOMINGO o FESTIVO",null,{"$f":"SUM(E76+F76)","v":0}]
["SECCIÓN F:  ACTIVIDADES DE ATENCIÓN EN ESPECIALIDADES ODONTOLÓGICAS. "]
["ACTIVIDADES DE ESPECIALIDADES",null,null,"TOTAL",null,null,"Según grupos de edad o de riesgo",null,null,null,null,null,null,null,"EMBARAZADAS","BENEFICIARIOS","60 AÑOS (INCLUÍDO EN GRUPOS DE 20-64 AÑOS)","COMPRA DE SERVICIO ","USUARIOS EN SITUACIÓN DE DISCAPACIDAD ","NIÑOS, NIÑAS, ADOLESCENTES Y JÓVENES RED SENAME","MIGRANTES"]
[null,null,null,"Ambos Sexos","Hombres","Mujeres","0-5 \naños","6 \naños","7 \naños","12 \naños","Resto \n<15 años","15-19 \naños","20-64 \naños","65 y \nmás años"]
["EXAMEN Y DIAGNÓSTICO DE ESPECIALIDAD",null,null,{"$f":"SUM(G80:N80)","v":0},null,null,null,null,null,null,null,null,null,null,null,null,null,null,null,null,null,{"$f":"CA80&CB80&CC80&CD80&CE80&CF80&CG80","v":""},null,null,null,null,null,null,null,null,null,null,null,null,null,null,null,null,null,null,null,null,null,null,null,null,null,null,null,null,null,null,null,null,null,null,null,null,null,null,null,null,null,null,null,null,null,null,null,null,null,null,null,null,null,null,null,null,{"$f":"IF(AND($D80<>0,O80=\"\"),\"* No olvide digitar la columna Embarazadas (Digite CEROS si no tiene).\",IF($D80<O80,\"* El número de Embarazadas NO DEBE ser mayor que el total. \",\"\"))","v":""},{"$f":"IF(AND($D80<>0,P80=\"\"),\"* No olvide digitar la columna Beneficiarios (Digite CEROS si no tiene).\",IF($D80<P80,\"* El número de Beneficiarios NO DEBE ser mayor que el total. \",\"\"))","v":""},{"$f":"IF(AND($D80<>0,Q80=\"\"),\"* No olvide digitar la columna 60 Años (Digite CEROS si no tiene).\",IF($D80<Q80,\"* El número de 60 Años NO DEBE ser mayor que el total. \",\"\"))","v":""},{"$f":"IF(AND($D80<>0,S80=\"\"),\"* No olvide digitar la columna Usuarios en situación de Discapacidad (Digite CEROS si no tiene).\",IF($D80<S80,\"* El número de Usuarios en situación de Discapacidad NO DEBE ser mayor que el total. \",\"\"))","v":""},{"$f":"IF(AND($D80<>0,T80=\"\"),\"* No olvide digitar la columna Niños, Niñas, Adolescentes y Jóvenes Población SENAME (Digite CEROS si no tiene).\",IF($D80<T80,\"* El número de Niños, Niñas, Adolescentes y Jóvenes Población SENAME NO DEBE ser mayor que el total. \",\"\"))","v":""},{"$f":"IF(AND($D80<>0,U80=\"\"),\"* No olvide digitar la columna Migrantes (Digite CEROS si no tiene).\",IF($D80<U80,\"* El número de Migrantes NO DEBE ser mayor que el total. \",\"\"))","v":""},{"$f":"IF(CN80=1,\"* La suma de los sexos NO DEBE ser diferente al Total. \",\"\")","v":""},{"$f":"IF(AND($D80<>0,O80=\"\"),1,IF($D80<O80,1,0))","v":0},{"$f":"IF(AND($D80<>0,P80=\"\"),1,IF($D80<P80,1,0))","v":0},{"$f":"IF(AND($D80<>0,Q80=\"\"),1,IF($D80<Q80,1,0))","v":0},{"$f":"IF(AND($D80<>0,S80=\"\"),1,IF($D80<S80,1,0))","v":0},{"$f":"IF(AND($D80<>0,T80=\"\"),1,IF($D80<T80,1,0))","v":0},0,{"$f":"IF((E80+F80)<>D80,1,0)","v":0}]
["EDUCACIÓN EN SALUD BUCAL",null,null,{"$f":"SUM(G81:N81)","v":0},null,null,null,null,null,null,null,null,null,null,null,null,null,null,null,null,null,{"$f":"CA81&CB81&CC81&CD81&CE81&CF81&CG81","v":""},null,null,null,null,null,null,null,null,null,null,null,null,null,null,null,null,null,null,null,null,null,null,null,null,null,null,null,null,null,null,null,null,null,null,null,null,null,null,null,null,null,null,null,null,null,null,null,null,null,null,null,null,null,null,null,null,{"$f":"IF(AND($D81<>0,O81=\"\"),\"* No olvide digitar la columna Embarazadas (Digite CEROS si no tiene).\",IF($D81<O81,\"* El número de Embarazadas NO DEBE ser mayor que el total. \",\"\"))","v":""},{"$f":"IF(AND($D81<>0,P81=\"\"),\"* No olvide digitar la columna Beneficiarios (Digite CEROS si no tiene).\",IF($D81<P81,\"* El número de Beneficiarios NO DEBE ser mayor que el total. \",\"\"))","v":""},{"$f":"IF(AND($D81<>0,Q81=\"\"),\"* No olvide digitar la columna 60 Años (Digite CEROS si no tiene).\",IF($D81<Q81,\"* El número de 60 Años NO DEBE ser mayor que el total. \",\"\"))","v":""},{"$f":"IF(AND($D81<>0,S81=\"\"),\"* No olvide digitar la columna Usuarios en situación de Discapacidad (Digite CEROS si no tiene).\",IF($D81<S81,\"* El número de Usuarios en situación de Discapacidad NO DEBE ser mayor que el total. \",\"\"))","v":""},{"$f":"IF(AND($D81<>0,T81=\"\"),\"* No olvide digitar la columna Niños, Niñas, Adolescentes y Jóvenes Población SENAME (Digite CEROS si no tiene).\",IF($D81<T81,\"* El número de Niños, Niñas, Adolescentes y Jóvenes Población SENAME NO DEBE ser mayor que el total. \",\"\"))","v":""},{"$f":"IF(AND($D81<>0,U81=\"\"),\"* No olvide digitar la columna Migrantes (Digite CEROS si no tiene).\",IF($D81<U81,\"* El número de Migrantes NO DEBE ser mayor que el total. \",\"\"))","v":""},{"$f":"IF(CN81=1,\"* La suma de los sexos NO DEBE ser diferente al Total. \",\"\")","v":""},{"$f":"IF(AND($D81<>0,O81=\"\"),1,IF($D81<O81,1,0))","v":0},0,0,{"$f":"IF(AND($D81<>0,S81=\"\"),1,IF($D81<S81,1,0))","v":0},0,0,{"$f":"IF((E81+F81)<>D81,1,0)","v":0}]
["INTERCONSULTA HOSPITALIZADOS",null,null,0,null,null,null,null,null,null,null,null,null,null,null,null,null,null,null,null,null,"",null,null,null,null,null,null,null,null,null,null,null,null,null,null,null,null,null,null,null,null,null,null,null,null,null,null,null,null,null,null,null,null,null,null,null,null,null,null,null,null,null,null,null,null,null,null,null,null,null,null,null,null,null,null,null,null,"","","","","","","",0,0,0,0,0,0,0]
["VISITA A SALA",null,null,0,null,null,null,null,null,null,null,null,null,null,null,null,null,null,null,null,null,"",null,null,null,null,null,null,null,null,null,null,null,null,null,null,null,null,null,null,null,null,null,null,null,null,null,null,null,null,null,null,null,null,null,null,null,null,null,null,null,null,null,null,null,null,null,null,null,null,null,null,null,null,null,null,null,null,"","","","","","","",0,0,0,0,0,0,0]
["CONTRALORÍA CLÍNICA",null,null,0,null,null,null,null,null,null,null,null,null,null,null,null,null,null,null,null,null,"",null,null,null,null,null,null,null,null,null,null,null,null,null,null,null,null,null,null,null,null,null,null,null,null,null,null,null,null,null,null,null,null,null,null,null,null,null,null,null,null,null,null,null,null,null,null,null,null,null,null,null,null,null,null,null,null,"","","","","","","",0,0,0,0,0,0,0]
["CIRUGÍA TERCER MOLAR",null,null,{"$f":"SUM(L85:N85)","v":0},null,null,null,null,null,null,null,null,null,null,null,null,null,null,null,null,null,"",null,null,null,null,null,null,null,null,null,null,null,null,null,null,null,null,null,null,null,null,null,null,null,null,null,null,null,null,null,null,null,null,null,null,null,null,null,null,null,null,null,null,null,null,null,null,null,null,null,null,null,null,null,null,null,null,"","","","","","","",0,0,0,0,0,0,0]
["CIRUGÍA MENOR AMBULATORIA",null,null,{"$f":"SUM(G86:N86)","v":0},null,null,null,null,null,null,null,null,null,null,null,null,null,null,null,null,null,"",null,null,null,null,null,null,null,null,null,null,null,null,null,null,null,null,null,null,null,null,null,null,null,null,null,null,null,null,null,null,null,null,null,null,null,null,null,null,null,null,null,null,null,null,null,null,null,null,null,null,null,null,null,null,null,null,"","","","","","","",0,0,0,0,0,0,0]
["CIRUGÍA MAYOR AMBULATORIA",null,null,{"$f":"SUM(G87:N87)","v":0},null,null,null,null,null,null,null,null,null,null,null,null,null,null,null,null,null,"",null,null,null,null,null,null,null,null,null,null,null,null,null,null,null,null,null,null,null,null,null,null,null,null,null,null,null,null,null,null,null,null,null,null,null,null,null,null,null,null,null,null,null,null,null,null,null,null,null,null,null,null,null,null,null,null,"","","","","","","",0,0,0,0,0,0,0]
["TRATAMIENTO TRAUMATISMO DENTOALVEOLAR",null,null,{"$f":"SUM(G88:N88)","v":0},null,null,null,null,null,null,null,null,null,null,null,null,null,null,null,null,null,"",null,null,null,null,null,null,null,null,null,null,null,null,null,null,null,null,null,null,null,null,null,null,null,null,null,null,null,null,null,null,null,null,null,null,null,null,null,null,null,null,null,null,null,null,null,null,null,null,null,null,null,null,null,null,null,null,"","","","","","","",0,0,0,0,0,0,0]
["OBTURACIÓN DIRECTA",null,null,{"$f":"SUM(G89:N89)","v":0},null,null,null,null,null,null,null,null,null,null,null,null,null,null,null,null,null,"",null,null,null,null,null,null,null,null,null,null,null,null,null,null,null,null,null,null,null,null,null,null,null,null,null,null,null,null,null,null,null,null,null,null,null,null,null,null,null,null,null,null,null,null,null,null,null,null,null,null,null,null,null,null,null,null,"","","","","","","",0,0,0,0,0,0,0]
["OBTURACIÓN INDIRECTA (INLAYS U ONLAYS)",null,null,{"$f":"SUM(L90:N90)","v":0},null,null,null,null,null,null,null,null,null,null,null,null,null,null,null,null,null,"",null,null,null,null,null,null,null,null,null,null,null,null,null,null,null,null,null,null,null,null,null,null,null,null,null,null,null,null,null,null,null,null,null,null,null,null,null,null,null,null,null,null,null,null,null,null,null,null,null,null,null,null,null,null,null,null,"","","","","","","",0,0,0,0,0,0,0]
["INSTALACIÓN APARATO REMOVIBLE ORTODÓNCICO",null,null,{"$f":"SUM(G91:L91)","v":0},null,null,null,null,null,null,null,null,null,null,null,null,null,null,null,null,null,"",null,null,null,null,null,null,null,null,null,null,null,null,null,null,null,null,null,null,null,null,null,null,null,null,null,null,null,null,null,null,null,null,null,null,null,null,null,null,null,null,null,null,null,null,null,null,null,null,null,null,null,null,null,null,null,null,"","",null,"","","","",0,0,null,0,0,0,0]
["INSTALACIÓN APARATO FIJO ORTODÓNCICO",null,null,{"$f":"SUM(J92:L92)","v":0},null,null,null,null,null,null,null,null,null,null,null,null,null,null,null,null,null,"",null,null,null,null,null,null,null,null,null,null,null,null,null,null,null,null,null,null,null,null,null,null,null,null,null,null,null,null,null,null,null,null,null,null,null,null,null,null,null,null,null,null,null,null,null,null,null,null,null,null,null,null,null,null,null,null,"","",null,"","","","",0,0,null,0,0,0,0]
["INSTALACIÓN APARATO DE CONTENCIÓN ORTODÓNCICO",null,null,{"$f":"SUM(J93:L93)","v":0},null,null,null,null,null,null,null,null,null,null,null,null,null,null,null,null,null,"",null,null,null,null,null,null,null,null,null,null,null,null,null,null,null,null,null,null,null,null,null,null,null,null,null,null,null,null,null,null,null,null,null,null,null,null,null,null,null,null,null,null,null,null,null,null,null,null,null,null,null,null,null,null,null,null,"","",null,"","","","",0,0,null,0,0,0,0]
["RETIRO APARATOLOGÍA DE ORTODONCIA",null,null,0,null,null,null,null,null,null,null,null,null,null,null,null,null,null,null,null,null,"",null,null,null,null,null,null,null,null,null,null,null,null,null,null,null,null,null,null,null,null,null,null,null,null,null,null,null,null,null,null,null,null,null,null,null,null,null,null,null,null,null,null,null,null,null,null,null,null,null,null,null,null,null,null,null,null,"","",null,"","","","",0,0,null,0,0,0,0]
["ORTOPEDIA PREQUIRÚRGICA",null,null,{"$f":"SUM(G95:K95)","v":0},null,null,null,null,null,null,null,null,null,null,null,null,null,null,null,null,null,"",null,null,null,null,null,null,null,null,null,null,null,null,null,null,null,null,null,null,null,null,null,null,null,null,null,null,null,null,null,null,null,null,null,null,null,null,null,null,null,null,null,null,null,null,null,null,null,null,null,null,null,null,null,null,null,null,"","",null,"","","","",0,0,null,0,0,0,0]
["ORTODONCIA PREVENTIVA E INTERCEPTIVA (OPI)",null,null,{"$f":"SUM(G96:K96)","v":0},null,null,null,null,null,null,null,null,null,null,null,null,null,null,null,null,null,"",null,null,null,null,null,null,null,null,null,null,null,null,null,null,null,null,null,null,null,null,null,null,null,null,null,null,null,null,null,null,null,null,null,null,null,null,null,null,null,null,null,null,null,null,null,null,null,null,null,null,null,null,null,null,null,null,"","",null,"","","","",0,0,null,0,0,0,0]
["TRATAMIENTO ENDODONCIA UNIRRADICULAR",null,null,{"$f":"SUM(H97:N97)","v":0},null,null,null,null,null,null,null,null,null,null,null,null,null,null,null,null,null,"",null,null,null,null,null,null,null,null,null,null,null,null,null,null,null,null,null,null,null,null,null,null,null,null,null,null,null,null,null,null,null,null,null,null,null,null,null,null,null,null,null,null,null,null,null,null,null,null,null,null,null,null,null,null,null,null,"","","","","","","",0,0,{"$f":"IF(AND($D97<>0,Q97=\"\"),1,IF($D97<Q97,1,0))","v":0},0,0,0,0]
["TRATAMIENTO ENDODONCIA BIRRADICULAR",null,null,{"$f":"SUM(H98:N98)","v":0},null,null,null,null,null,null,null,null,null,null,null,null,null,null,null,null,null,"",null,null,null,null,null,null,null,null,null,null,null,null,null,null,null,null,null,null,null,null,null,null,null,null,null,null,null,null,null,null,null,null,null,null,null,null,null,null,null,null,null,null,null,null,null,null,null,null,null,null,null,null,null,null,null,null,"","","","","","","",0,0,{"$f":"IF(AND($D98<>0,Q98=\"\"),1,IF($D98<Q98,1,0))","v":0},0,0,0,0]
["TRATAMIENTO ENDODONCIA MULTIRRADICULAR",null,null,{"$f":"SUM(H99:N99)","v":0},null,null,null,null,null,null,null,null,null,null,null,null,null,null,null,null,null,"",null,null,null,null,null,null,null,null,null,null,null,null,null,null,null,null,null,null,null,null,null,null,null,null,null,null,null,null,null,null,null,null,null,null,null,null,null,null,null,null,null,null,null,null,null,null,null,null,null,null,null,null,null,null,null,null,"","","","","","","",0,0,{"$f":"IF(AND($D99<>0,Q99=\"\"),1,IF($D99<Q99,1,0))","v":0},0,0,0,0]
["INDUCCIÓN AL CIERRE APICAL",null,null,{"$f":"SUM(H100:L100)","v":0},null,null,null,null,null,null,null,null,null,null,null,null,null,null,null,null,null,"",null,null,null,null,null,null,null,null,null,null,null,null,null,null,null,null,null,null,null,null,null,null,null,null,null,null,null,null,null,null,null,null,null,null,null,null,null,null,null,null,null,null,null,null,null,null,null,null,null,null,null,null,null,null,null,null,null,"",null,"","","","",null,{"$f":"IF(AND($D100<>0,P100=\"\"),1,IF($D100<P100,1,0))","v":0},null,0,0,0,0]
["RETRATAMIENTO",null,null,{"$f":"SUM(H101:N101)","v":0},null,null,null,null,null,null,null,null,null,null,null,null,null,null,null,null,null,"",null,null,null,null,null,null,null,null,null,null,null,null,null,null,null,null,null,null,null,null,null,null,null,null,null,null,null,null,null,null,null,null,null,null,null,null,null,null,null,null,null,null,null,null,null,null,null,null,null,null,null,null,null,null,null,null,"","","","","","","",{"$f":"IF(AND($D101<>0,O101=\"\"),1,IF($D101<O101,1,0))","v":0},0,0,0,0,0,0]
["CIRUGÍA APICAL",null,null,{"$f":"SUM(H102:N102)","v":0},null,null,null,null,null,null,null,null,null,null,null,null,null,null,null,null,null,"",null,null,null,null,null,null,null,null,null,null,null,null,null,null,null,null,null,null,null,null,null,null,null,null,null,null,null,null,null,null,null,null,null,null,null,null,null,null,null,null,null,null,null,null,null,null,null,null,null,null,null,null,null,null,null,null,"","","","","","","",0,0,0,0,0,0,0]
["ADAPTACIÓN A LA ATENCIÓN ODONTOLÓGICA ",null,null,0,null,null,null,null,null,null,null,null,null,null,null,null,null,null,null,null,null,"",null,null,null,null,null,null,null,null,null,null,null,null,null,null,null,null,null,null,null,null,null,null,null,null,null,null,null,null,null,null,null,null,null,null,null,null,null,null,null,null,null,null,null,null,null,null,null,null,null,null,null,null,null,null,null,null,"","","","","","","",0,0,0,0,0,0,0]
["PROCEDIMIENTO RESTAURADOR (ODONTOPEDIATRÍA)",null,null,0,null,null,null,null,null,null,null,null,null,null,null,null,null,null,null,null,null,"",null,null,null,null,null,null,null,null,null,null,null,null,null,null,null,null,null,null,null,null,null,null,null,null,null,null,null,null,null,null,null,null,null,null,null,null,null,null,null,null,null,null,null,null,null,null,null,null,null,null,null,null,null,null,null,null,"","","","","","","",0,0,0,0,0,0,0]
["PROCEDIMIENTO ENDODÓNTICO (ODONTOPEDIATRÍA)",null,null,0,null,null,null,null,null,null,null,null,null,null,null,null,null,null,null,null,null,"",null,null,null,null,null,null,null,null,null,null,null,null,null,null,null,null,null,null,null,null,null,null,null,null,null,null,null,null,null,null,null,null,null,null,null,null,null,null,null,null,null,null,null,null,null,null,null,null,null,null,null,null,null,null,null,null,"","","","","","","",0,0,0,0,0,0,0]
["CIRUGÍA AMBULATORIA (ODONTOPEDIATRÍA)",null,null,0,null,null,null,null,null,null,null,null,null,null,null,null,null,null,null,null,null,"",null,null,null,null,null,null,null,null,null,null,null,null,null,null,null,null,null,null,null,null,null,null,null,null,null,null,null,null,null,null,null,null,null,null,null,null,null,null,null,null,null,null,null,null,null,null,null,null,null,null,null,null,null,null,null,null,"","","","","","","",0,0,0,0,0,0,0]
["DESTARTRAJE SUBGINGIVAL O PULIDO RADICULAR ",null,null,{"$f":"SUM(I107:N107)","v":0},null,null,null,null,null,null,null,null,null,null,null,null,null,null,null,null,null,"",null,null,null,null,null,null,null,null,null,null,null,null,null,null,null,null,null,null,null,null,null,null,null,null,null,null,null,null,null,null,null,null,null,null,null,null,null,null,null,null,null,null,null,null,null,null,null,null,null,null,null,null,null,null,null,null,"","","","","","","",0,0,0,0,0,0,0]
["DESTARTRAJE SUPRAGINGIVAL O PULIDO CORONARIO",null,null,{"$f":"SUM(I108:N108)","v":0},null,null,null,null,null,null,null,null,null,null,null,null,null,null,null,null,null,"",null,null,null,null,null,null,null,null,null,null,null,null,null,null,null,null,null,null,null,null,null,null,null,null,null,null,null,null,null,null,null,null,null,null,null,null,null,null,null,null,null,null,null,null,null,null,null,null,null,null,null,null,null,null,null,null,"","","","","","","",0,0,0,0,0,0,0]
["PROCEDIMIENTO QUIRÚRGICO (PERIODONCIA)",null,null,{"$f":"SUM(J109:N109)","v":0},null,null,null,null,null,null,null,null,null,null,null,null,null,null,null,null,null,"",null,null,null,null,null,null,null,null,null,null,null,null,null,null,null,null,null,null,null,null,null,null,null,null,null,null,null,null,null,null,null,null,null,null,null,null,null,null,null,null,null,null,null,null,null,null,null,null,null,null,null,null,null,null,null,null,"","","","","","","",0,0,0,0,0,0,0]
["PROCEDIMIENTO QUIRÚRGICO PERIIMPLANTAR (PERIODONCIA)",null,null,0,null,null,null,null,null,null,null,null,null,null,null,null,null,null,null,null,null,"",null,null,null,null,null,null,null,null,null,null,null,null,null,null,null,null,null,null,null,null,null,null,null,null,null,null,null,null,null,null,null,null,null,null,null,null,null,null,null,null,null,null,null,null,null,null,null,null,null,null,null,null,null,null,null,null,"","","","","","","",0,0,0,0,0,0,0]
["FERULIZACIÓN",null,null,0,null,null,null,null,null,null,null,null,null,null,null,null,null,null,null,null,null,"",null,null,null,null,null,null,null,null,null,null,null,null,null,null,null,null,null,null,null,null,null,null,null,null,null,null,null,null,null,null,null,null,null,null,null,null,null,null,null,null,null,null,null,null,null,null,null,null,null,null,null,null,null,null,null,null,"","","","","","","",0,0,0,0,0,0,0]
["REHABILITACIÓN MEDIANTE PRÓTESIS REMOVIBLE ACRÍLICA PARCIAL O TOTAL",null,null,{"$f":"SUM(L112:N112)","v":0},null,null,null,null,null,null,null,null,null,null,null,null,null,null,null,null,null,"",null,null,null,null,null,null,null,null,null,null,null,null,null,null,null,null,null,null,null,null,null,null,null,null,null,null,null,null,null,null,null,null,null,null,null,null,null,null,null,null,null,null,null,null,null,null,null,null,null,null,null,null,null,null,null,null,"","","","","","","",0,0,0,0,0,0,0]
["REHABILITACIÓN MEDIANTE PRÓTESIS REMOVIBLE METÁLICA PARCIAL",null,null,{"$f":"SUM(L113:N113)","v":0},null,null,null,null,null,null,null,null,null,null,null,null,null,null,null,null,null,"",null,null,null,null,null,null,null,null,null,null,null,null,null,null,null,null,null,null,null,null,null,null,null,null,null,null,null,null,null,null,null,null,null,null,null,null,null,null,null,null,null,null,null,null,null,null,null,null,null,null,null,null,null,null,null,null,"","","","","","","",0,0,0,0,0,0,0]
["REHABILITACIÓN MEDIANTE PRÓTESIS FIJA UNITARIA O PLURAL",null,null,0,null,null,null,null,null,null,null,null,null,null,null,null,null,null,null,null,null,"",null,null,null,null,null,null,null,null,null,null,null,null,null,null,null,null,null,null,null,null,null,null,null,null,null,null,null,null,null,null,null,null,null,null,null,null,null,null,null,null,null,null,null,null,null,null,null,null,null,null,null,null,null,null,null,null,"","","","","","","",0,0,0,0,0,0,0]
["REHABILITACIÓN MEDIANTE PRÓTESIS FIJA IMPLANTOSOPORTADA",null,null,0,null,null,null,null,null,null,null,null,null,null,null,null,null,null,null,null,null,"",null,null,null,null,null,null,null,null,null,null,null,null,null,null,null,null,null,null,null,null,null,null,null,null,null,null,null,null,null,null,null,null,null,null,null,null,null,null,null,null,null,null,null,null,null,null,null,null,null,null,null,null,null,null,null,null,"","","","","","","",0,0,0,0,0,0,0]
["REHABILITACIÓN MEDIANTE PRÓTESIS MUCO-  IMPLANTOSOPORTADA",null,null,0,null,null,null,null,null,null,null,null,null,null,null,null,null,null,null,null,null,"",null,null,null,null,null,null,null,null,null,null,null,null,null,null,null,null,null,null,null,null,null,null,null,null,null,null,null,null,null,null,null,null,null,null,null,null,null,null,null,null,null,null,null,null,null,null,null,null,null,null,null,null,null,null,null,null,"","","","","","","",0,0,0,0,0,0,0]
["REPARACIÓN DE PRÓTESIS",null,null,0,null,null,null,null,null,null,null,null,null,null,null,null,null,null,null,null,null,"",null,null,null,null,null,null,null,null,null,null,null,null,null,null,null,null,null,null,null,null,null,null,null,null,null,null,null,null,null,null,null,null,null,null,null,null,null,null,null,null,null,null,null,null,null,null,null,null,null,null,null,null,null,null,null,null,"","","","","","","",0,0,0,0,0,0,0]
["IMPLANTOLOGÍA QUIRÚRGICA",null,null,0,null,null,null,null,null,null,null,null,null,null,null,null,null,null,null,null,null,"",null,null,null,null,null,null,null,null,null,null,null,null,null,null,null,null,null,null,null,null,null,null,null,null,null,null,null,null,null,null,null,null,null,null,null,null,null,null,null,null,null,null,null,null,null,null,null,null,null,null,null,null,null,null,null,null,"","","","","","","",0,0,0,0,0,0,0]
["IMPLANTOLOGÍA PROTÉSICA",null,null,0,null,null,null,null,null,null,null,null,null,null,null,null,null,null,null,null,null,"",null,null,null,null,null,null,null,null,null,null,null,null,null,null,null,null,null,null,null,null,null,null,null,null,null,null,null,null,null,null,null,null,null,null,null,null,null,null,null,null,null,null,null,null,null,null,null,null,null,null,null,null,null,null,null,null,"","","","","","","",0,0,0,0,0,0,0]
["TOMA DE BIOPSIA",null,null,0,null,null,null,null,null,null,null,null,null,null,null,null,null,null,null,null,null,"",null,null,null,null,null,null,null,null,null,null,null,null,null,null,null,null,null,null,null,null,null,null,null,null,null,null,null,null,null,null,null,null,null,null,null,null,null,null,null,null,null,null,null,null,null,null,null,null,null,null,null,null,null,null,null,null,"","","","","","","",0,0,0,0,0,0,0]
["ESTUDIO HISTOPATOLÓGICO",null,null,0,null,null,null,null,null,null,null,null,null,null,null,null,null,null,null,null,null,"",null,null,null,null,null,null,null,null,null,null,null,null,null,null,null,null,null,null,null,null,null,null,null,null,null,null,null,null,null,null,null,null,null,null,null,null,null,null,null,null,null,null,null,null,null,null,null,null,null,null,null,null,null,null,null,null,"","","","","","","",0,0,0,0,0,0,0]
["SIALOMETRÍA",null,null,0,null,null,null,null,null,null,null,null,null,null,null,null,null,null,null,null,null,"",null,null,null,null,null,null,null,null,null,null,null,null,null,null,null,null,null,null,null,null,null,null,null,null,null,null,null,null,null,null,null,null,null,null,null,null,null,null,null,null,null,null,null,null,null,null,null,null,null,null,null,null,null,null,null,null,"","","","","","","",0,0,0,0,0,0,0]
["TERAPIA FARMACOLÓGICA DE LESIONES DEL TERRITORIO BUCO MAXILOFACIAL",null,null,0,null,null,null,null,null,null,null,null,null,null,null,null,null,null,null,null,null,"",null,null,null,null,null,null,null,null,null,null,null,null,null,null,null,null,null,null,null,null,null,null,null,null,null,null,null,null,null,null,null,null,null,null,null,null,null,null,null,null,null,null,null,null,null,null,null,null,null,null,null,null,null,null,null,null,"","","","","","","",0,0,0,0,0,0,0]
["TERAPIA FÍSICA EN TRASTORNOS TEMPOROMANDIBULARES (TTM) Y DOLOR OROFACIAL (DOF)",null,null,0,null,null,null,null,null,null,null,null,null,null,null,null,null,null,null,null,null,"",null,null,null,null,null,null,null,null,null,null,null,null,null,null,null,null,null,null,null,null,null,null,null,null,null,null,null,null,null,null,null,null,null,null,null,null,null,null,null,null,null,null,null,null,null,null,null,null,null,null,null,null,null,null,null,null,"","","","","","","",0,0,0,0,0,0,0]
["INFILTRACIÓN EN ARTICULACIÓN TEMPORO MANDIBULAR (ATM)",null,null,0,null,null,null,null,null,null,null,null,null,null,null,null,null,null,null,null,null,"",null,null,null,null,null,null,null,null,null,null,null,null,null,null,null,null,null,null,null,null,null,null,null,null,null,null,null,null,null,null,null,null,null,null,null,null,null,null,null,null,null,null,null,null,null,null,null,null,null,null,null,null,null,null,null,null,"","","","","","","",0,0,0,0,0,0,0]
["BLOQUEO ANESTÉSICO Y/O MEDICAMENTOSO EN TTM Y DOF",null,null,0,null,null,null,null,null,null,null,null,null,null,null,null,null,null,null,null,null,"",null,null,null,null,null,null,null,null,null,null,null,null,null,null,null,null,null,null,null,null,null,null,null,null,null,null,null,null,null,null,null,null,null,null,null,null,null,null,null,null,null,null,null,null,null,null,null,null,null,null,null,null,null,null,null,null,"","","","","","","",0,0,0,0,0,0,0]
["ARTROCENTESIS EN ATM",null,null,0,null,null,null,null,null,null,null,null,null,null,null,null,null,null,null,null,null,"",null,null,null,null,null,null,null,null,null,null,null,null,null,null,null,null,null,null,null,null,null,null,null,null,null,null,null,null,null,null,null,null,null,null,null,null,null,null,null,null,null,null,null,null,null,null,null,null,null,null,null,null,null,null,null,null,"","","","","","","",0,0,0,0,0,0,0]
["TERAPIA BIOCONDUCTUAL",null,null,0,null,null,null,null,null,null,null,null,null,null,null,null,null,null,null,null,null,"",null,null,null,null,null,null,null,null,null,null,null,null,null,null,null,null,null,null,null,null,null,null,null,null,null,null,null,null,null,null,null,null,null,null,null,null,null,null,null,null,null,null,null,null,null,null,null,null,null,null,null,null,null,null,null,null,"","","","","","","",0,0,0,0,0,0,0]
["DESGASTE SELECTIVO",null,null,0,null,null,null,null,null,null,null,null,null,null,null,null,null,null,null,null,null,"",null,null,null,null,null,null,null,null,null,null,null,null,null,null,null,null,null,null,null,null,null,null,null,null,null,null,null,null,null,null,null,null,null,null,null,null,null,null,null,null,null,null,null,null,null,null,null,null,null,null,null,null,null,null,null,null,"","","","","","","",0,0,0,0,0,0,0]
["INSTALACIÓN DE DISPOSITIVO ORTOPÉDICO",null,null,0,null,null,null,null,null,null,null,null,null,null,null,null,null,null,null,null,null,"",null,null,null,null,null,null,null,null,null,null,null,null,null,null,null,null,null,null,null,null,null,null,null,null,null,null,null,null,null,null,null,null,null,null,null,null,null,null,null,null,null,null,null,null,null,null,null,null,null,null,null,null,null,null,null,null,"","","","","","","",0,0,0,0,0,0,0]
["ACTIVIDADES SOMATOPRÓTESIS",null,null,0,null,null,null,null,null,null,null,null,null,null,null,null,null,null,null,null,null,"",null,null,null,null,null,null,null,null,null,null,null,null,null,null,null,null,null,null,null,null,null,null,null,null,null,null,null,null,null,null,null,null,null,null,null,null,null,null,null,null,null,null,null,null,null,null,null,null,null,null,null,null,null,null,null,null,"","","","","","","",0,0,0,0,0,0,0]
["TOTAL",null,null,{"$f":"SUM(D80:D131)","v":0},{"$f":"SUM(E80:E131)","v":0},{"$f":"SUM(F80:F131)","v":0},{"$f":"SUM(G80:G131)","v":0},{"$f":"SUM(H80:H131)","v":0},0,0,0,0,0,0,0,0,0,0,0,0,0,""]
["SECCIÓN F.1:  ACTIVIDADES DE APOYO DE ATENCIÓN EN ESPECIALIDADES ODONTOLÓGICAS."]
["ACTIVIDADES DE APOYO",null,null,"TOTAL",null,null,"Según grupos de edad o de riesgo",null,null,null,null,null,null,null,"EMBARAZADAS","BENEFICIARIOS","60 AÑOS (INCLUÍDO EN GRUPOS DE 20-64 AÑOS)","COMPRA DE SERVICIO ","USUARIOS EN SITUACIÓN DE DISCAPACIDAD ","NIÑOS, NIÑAS, ADOLESCENTES Y JÓVENES RED SENAME","MIGRANTES"]
[null,null,null,"Total ","Hombres","Mujeres","0-5 \naños","6 \naños","7 \naños","12 \naños","Resto \n<15 años","15-19 \naños","20-64 \naños","65 y \nmás años"]
["RADIOGRAFÍA INTRAORAL (POR PLACA)",null,null,{"$f":"SUM(G136:N136)","v":0},null,null,null,null,null,null,null,null,null,null,null,null,null,null,null,null,null,{"$f":"CA136&CB136&CC136&CD136&CE136&CF136&CG136","v":""},null,null,null,null,null,null,null,null,null,null,null,null,null,null,null,null,null,null,null,null,null,null,null,null,null,null,null,null,null,null,null,null,null,null,null,null,null,null,null,null,null,null,null,null,null,null,null,null,null,null,null,null,null,null,null,null,{"$f":"IF(AND($D136<>0,O136=\"\"),\"* No olvide digitar la columna Embarazadas (Digite CEROS si no tiene).\",IF($D136<O136,\"* El número de Embarazadas NO DEBE ser mayor que el total. \",\"\"))","v":""},{"$f":"IF(AND($D136<>0,P136=\"\"),\"* No olvide digitar la columna Beneficiarios (Digite CEROS si no tiene).\",IF($D136<P136,\"* El número de Beneficiarios NO DEBE ser mayor que el total. \",\"\"))","v":""},{"$f":"IF(AND($D136<>0,Q136=\"\"),\"* No olvide digitar la columna 60 Años (Digite CEROS si no tiene).\",IF($D136<Q136,\"* El número de 60 Años NO DEBE ser mayor que el total. \",\"\"))","v":""},{"$f":"IF(AND($D136<>0,S136=\"\"),\"* No olvide digitar la columna Usuarios en situación de Discapacidad (Digite CEROS si no tiene).\",IF($D136<S136,\"* El número de Usuarios en situación de Discapacidad NO DEBE ser mayor que el total. \",\"\"))","v":""},{"$f":"IF(AND($D136<>0,T136=\"\"),\"* No olvide digitar la columna Niños, Niñas, Adolescentes y Jóvenes Población SENAME (Digite CEROS si no tiene).\",IF($D136<T136,\"* El número de Niños, Niñas, Adolescentes y Jóvenes Población SENAME NO DEBE ser mayor que el total. \",\"\"))","v":""},{"$f":"IF(AND($D136<>0,U136=\"\"),\"* No olvide digitar la columna Migrantes (Digite CEROS si no tiene).\",IF($D136<U136,\"* El número de Migrantes NO DEBE ser mayor que el total. \",\"\"))","v":""},"",{"$f":"IF(AND($D136<>0,O136=\"\"),1,IF($D136<O136,1,0))","v":0},0,0,{"$f":"IF(AND($D136<>0,S136=\"\"),1,IF($D136<S136,1,0))","v":0},0,0,0]
["RADIOGRAFÍA EXTRAORAL (POR PLACA)",null,null,{"$f":"SUM(G137:N137)","v":0},null,null,null,null,null,null,null,null,null,null,null,null,null,null,null,null,null,{"$f":"CA137&CB137&CC137&CD137&CE137&CF137&CG137","v":""},null,null,null,null,null,null,null,null,null,null,null,null,null,null,null,null,null,null,null,null,null,null,null,null,null,null,null,null,null,null,null,null,null,null,null,null,null,null,null,null,null,null,null,null,null,null,null,null,null,null,null,null,null,null,null,null,"","","","","","","",0,0,0,0,0,0,0]
["RADIOGRAFÍA OCLUSAL (POR PLACA)",null,null,{"$f":"SUM(G138:N138)","v":0},null,null,null,null,null,null,null,null,null,null,null,null,null,null,null,null,null,"",null,null,null,null,null,null,null,null,null,null,null,null,null,null,null,null,null,null,null,null,null,null,null,null,null,null,null,null,null,null,null,null,null,null,null,null,null,null,null,null,null,null,null,null,null,null,null,null,null,null,null,null,null,null,null,null,"","","","","","","",0,0,0,0,0,0,0]
["TELERRADIOGRAFÍA (POR PLACA)",null,null,0,null,null,null,null,null,null,null,null,null,null,null,null,null,null,null,null,null,"",null,null,null,null,null,null,null,null,null,null,null,null,null,null,null,null,null,null,null,null,null,null,null,null,null,null,null,null,null,null,null,null,null,null,null,null,null,null,null,null,null,null,null,null,null,null,null,null,null,null,null,null,null,null,null,null,"","","","","","","",0,0,0,0,0,0,0]
["RADIOGRAFÍA PANORÁMICA (POR PLACA)",null,null,0,null,null,null,null,null,null,null,null,null,null,null,null,null,null,null,null,null,"",null,null,null,null,null,null,null,null,null,null,null,null,null,null,null,null,null,null,null,null,null,null,null,null,null,null,null,null,null,null,null,null,null,null,null,null,null,null,null,null,null,null,null,null,null,null,null,null,null,null,null,null,null,null,null,null,"","","","","","","",0,0,0,0,0,0,0]
["TOMOGRAFÍA COMPUTACIONAL MAXILO FACIAL CONE BEAM (POR ADQUISICIÓN)",null,null,{"$f":"SUM(G141:N141)","v":0},null,null,null,null,null,null,null,null,null,null,null,null,null,null,null,null,null,"",null,null,null,null,null,null,null,null,null,null,null,null,null,null,null,null,null,null,null,null,null,null,null,null,null,null,null,null,null,null,null,null,null,null,null,null,null,null,null,null,null,null,null,null,null,null,null,null,null,null,null,null,null,null,null,null,"","","","","","","",0,0,0,0,0,0,0]
["SIALOGRAFÍAS (POR PROCEDIMIENTO)",null,null,0,null,null,null,null,null,null,null,null,null,null,null,null,null,null,null,null,null,"",null,null,null,null,null,null,null,null,null,null,null,null,null,null,null,null,null,null,null,null,null,null,null,null,null,null,null,null,null,null,null,null,null,null,null,null,null,null,null,null,null,null,null,null,null,null,null,null,null,null,null,null,null,null,null,null,"","","","","","","",0,0,0,0,0,0,0]
["PROCEDIMIENTO IMAGENOLÓGICO COMPLEJO (POR PROCEDIMIENTO)",null,null,{"$f":"SUM(G143:N143)","v":0},null,null,null,null,null,null,null,null,null,null,null,null,null,null,null,null,null,"",null,null,null,null,null,null,null,null,null,null,null,null,null,null,null,null,null,null,null,null,null,null,null,null,null,null,null,null,null,null,null,null,null,null,null,null,null,null,null,null,null,null,null,null,null,null,null,null,null,null,null,null,null,null,null,null,"","","","","","","",0,0,0,0,0,0,0]
["TOTAL",null,null,{"$f":"SUM(D136:D143)","v":0},{"$f":"SUM(E136:E143)","v":0},0,0,0,0,0,0,0,0,0,0,0,0,0,{"$f":"SUM(S136:S143)","v":0},0,0]
["SECCIÓN G: PROGRAMAS ESPECIALES Y GES (Actividades incluidas en Sección B)"]
["PROGRAMA - ACTIVIDAD",null,null,"TOTAL",null,null,"Según grupos de edad o de riesgo",null,null,null,null,null,null,null,"COMPRA DE SERVICIO","USUARIOS EN SITUACIÓN DE DISCAPACIDAD","NIÑOS, NIÑAS, ADOLESCENTES Y JÓVENES RED SENAME","MIGRANTES","EGRESO POR ABANDONO","PACIENTE DIABÉTICO EN CONTROL PSCV"]
[null,null,null,null,null,null,"Menor de 15 años",null,"15-19 \naños",null,"20-64 \naños",null,"65 y \nmás años"]
[null,null,null,"Ambos Sexos","Hombres","Mujeres","Hombres","Mujeres","Hombres","Mujeres","Hombres","Mujeres","Hombres","Mujeres"]
["PROGRAMA ODONTOLÓGICO INTEGRAL, ESTRATEGIA MÁS SONRISAS PARA CHILE","N°AUDITORÍAS CLÍNICAS REALIZADAS",null,{"$f":"SUM(E149+F149)","v":0},null,{"$f":"SUM(+L149+N149)","v":0},null,null,null,null,null,null,null,null,null,null,null,null,null,null,null,null,null,null,null,null,null,null,null,null,null,null,null,null,null,null,null,null,null,null,null,null,null,null,null,null,null,null,null,null,null,null,null,null,null,null,null,null,null,null,null,null,null,null,null,null,null,null,null,null,null,null,null,null,null,null,null,null,null,null,null,null,null,null,null,{"$f":"IF(F151<P151,1,0)","v":0}]
[null,"PRÓTESIS REMOVIBLES",null,0,null,{"$f":"SUM(+L150+N150)","v":0},null,null,null,null,null,null,null,null,null,null,null,null,null,null,null,null,null,null,null,null,null,null,null,null,null,null,null,null,null,null,null,null,null,null,null,null,null,null,null,null,null,null,null,null,null,null,null,null,null,null,null,null,null,null,null,null,null,null,null,null,null,null,null,null,null,null,null,null,null,null,null,null,null,null,null,null,null,null,null,{"$f":"IF(F152<P152,1,0)","v":0}]
[null,"REPARACIÓN DE PRÓTESIS",null,0,null,{"$f":"SUM(+L151+N151)","v":0},null,null,null,null,null,null,null,null,null,null,null,null,null,null,null,null,null,null,null,null,null,null,null,null,null,null,null,null,null,null,null,null,null,null,null,null,null,null,null,null,null,null,null,null,null,null,null,null,null,null,null,null,null,null,null,null,null,null,null,null,null,null,null,null,null,null,null,null,null,null,null,null,{"$f":"IF(CH149=1,\"* El número de actividades en usuarios en situacion de discapacidad NO DEBE ser mayor al total. \",\"\")","v":""},null,null,null,null,null,null,{"$f":"IF(F153<P153,1,0)","v":0}]
[null,"ALTAS INTEGRALES","TOTAL",0,null,{"$f":"SUM(F153:F158)","v":0},null,null,null,null,null,{"$f":"SUM(L153:L158)","v":0},null,{"$f":"SUM(N153:N158)","v":0},0,0,0,0,{"$f":"SUM(S153:S158)","v":0},{"$f":"SUM(T153:T181)","v":0},null,null,null,null,null,null,null,null,null,null,null,null,null,null,null,null,null,null,null,null,null,null,null,null,null,null,null,null,null,null,null,null,null,null,null,null,null,null,null,null,null,null,null,null,null,null,null,null,null,null,null,null,null,null,null,null,null,null,{"$f":"IF(CH150=1,\"* El número de actividades en usuarios en situacion de discapacidad NO DEBE ser mayor al total. \",\"\")","v":""}]
[null,null,"JUNJI-INTEGRA-MINEDUC",0,null,{"$f":"+L153+N153","v":0},null,null,null,null,null,null,null,null,null,null,null,null,null,null,null,null,null,null,null,null,null,null,null,null,null,null,null,null,null,null,null,null,null,null,null,null,null,null,null,null,null,null,null,null,null,null,null,null,null,null,null,null,null,null,null,null,null,null,null,null,null,null,null,null,null,null,null,null,null,null,null,null,{"$f":"IF(CH151=1,\"* El número de actividades en usuarios en situacion de discapacidad NO DEBE ser mayor al total. \",\"\")","v":""},null,null,null,null,null,null,{"$f":"IF(F155<P155,1,0)","v":0}]
[null,null,"SERNAM",0,null,{"$f":"+L154+N154","v":0},null,null,null,null,null,null,null,null,null,null,null,null,null,null,null,null,null,null,null,null,null,null,null,null,null,null,null,null,null,null,null,null,null,null,null,null,null,null,null,null,null,null,null,null,null,null,null,null,null,null,null,null,null,null,null,null,null,null,null,null,null,null,null,null,null,null,null,null,null,null,null,null,null,null,null,null,null,null,null,0]
[null,null,"PRODEMU",{"$f":"SUM(E155+F155)","v":0},null,0,null,null,null,null,null,null,null,null,null,null,null,null,null,null,null,null,null,null,null,null,null,null,null,null,null,null,null,null,null,null,null,null,null,null,null,null,null,null,null,null,null,null,null,null,null,null,null,null,null,null,null,null,null,null,null,null,null,null,null,null,null,null,null,null,null,null,null,null,null,null,null,null,{"$f":"IF(CH153=1,\"* El número de actividades en usuarios en situacion de discapacidad NO DEBE ser mayor al total. \",\"\")","v":""},null,null,null,null,null,null,0]
[null,null,"CHILE SOLIDARIO ",0,null,0,null,null,null,null,null,null,null,null,null,null,null,null,null,null,null,null,null,null,null,null,null,null,null,null,null,null,null,null,null,null,null,null,null,null,null,null,null,null,null,null,null,null,null,null,null,null,null,null,null,null,null,null,null,null,null,null,null,null,null,null,null,null,null,null,null,null,null,null,null,null,null,null,"",null,null,null,null,null,null,0]
[null,null,"MINVU",0,null,0,null,null,null,null,null,null,null,null,null,null,null,null,null,null,null,null,null,null,null,null,null,null,null,null,null,null,null,null,null,null,null,null,null,null,null,null,null,null,null,null,null,null,null,null,null,null,null,null,null,null,null,null,null,null,null,null,null,null,null,null,null,null,null,null,null,null,null,null,null,null,null,null,"",null,null,null,null,null,null,0]
[null,null,"DEMANDA LOCAL",0,null,0,null,null,null,null,null,null,null,null,null,null,null,null,null,null,null,null,null,null,null,null,null,null,null,null,null,null,null,null,null,null,null,null,null,null,null,null,null,null,null,null,null,null,null,null,null,null,null,null,null,null,null,null,null,null,null,null,null,null,null,null,null,null,null,null,null,null,null,null,null,null,null,null,"",null,null,null,null,null,null,0]
["PROGRAMA ODONTOLÓGICO INTEGRAL, ESTRATEGIA HOMBRES DE ESCASOS RECURSOS ","ALTAS INTEGRALES/ACTIVIDADES","PRÓTESIS REMOVIBLES",{"$f":"SUM(E159+F159)","v":0},{"$f":"+K159+M159","v":0},null,null,null,null,null,null,null,null,null,null,null,null,null,null,null,null,null,null,null,null,null,null,null,null,null,null,null,null,null,null,null,null,null,null,null,null,null,null,null,null,null,null,null,null,null,null,null,null,null,null,null,null,null,null,null,null,null,null,null,null,null,null,null,null,null,null,null,null,null,null,null,null,null,"",null,null,null,null,null,null,{"$f":"IF(E161<P161,1,0)","v":0}]
[null,null,"TOTAL ALTAS INTEGRALES",0,{"$f":"+K160+M160","v":0},null,null,null,null,null,null,null,null,null,null,null,null,null,null,null,null,null,null,null,null,null,null,null,null,null,null,null,null,null,null,null,null,null,null,null,null,null,null,null,null,null,null,null,null,null,null,null,null,null,null,null,null,null,null,null,null,null,null,null,null,null,null,null,null,null,null,null,null,null,null,null,null,null,"",null,null,null,null,null,null,{"$f":"IF(E162<P162,1,0)","v":0}]
[null,null,"Nº DE AUDITORIAS CLÍNICAS REALIZADAS",0,{"$f":"SUM(K161+M161)","v":0},null,null,null,null,null,null,null,null,null,null,null,null,null,null,null,null,null,null,null,null,null,null,null,null,null,null,null,null,null,null,null,null,null,null,null,null,null,null,null,null,null,null,null,null,null,null,null,null,null,null,null,null,null,null,null,null,null,null,null,null,null,null,null,null,null,null,null,null,null,null,null,null,null,"",null,null,null,null,null,null,{"$f":"IF(E163<P163,1,0)","v":0}]
[null,null,"REPARACIÓN DE PROTESIS",0,{"$f":"SUM(K162+M162)","v":0},null,null,null,null,null,null,null,null,null,null,null,null,null,null,null,null,null,null,null,null,null,null,null,null,null,null,null,null,null,null,null,null,null,null,null,null,null,null,null,null,null,null,null,null,null,null,null,null,null,null,null,null,null,null,null,null,null,null,null,null,null,null,null,null,null,null,null,null,null,null,null,null,null,"",null,null,null,null,null,null,{"$f":"IF(E164<P164,1,0)","v":0}]
["PROGRAMA ODONTOLÓGICO INTEGRAL, ESTRATEGIA ATENCION ODONTOLOGICA EN DOMICILIO","ALTAS ODONTOLOGICAS","TOTAL ALTAS ",{"$f":"SUM(E163:F163)","v":0},{"$f":"+G163+I163+K163+M163","v":0},{"$f":"+H163+J163+L163+N163","v":0},{"$f":"SUM(G164:G165)","v":0},{"$f":"SUM(H164:H165)","v":0},0,0,0,0,0,0,0,0,0,0,{"$f":"SUM(S164:S165)","v":0},0,null,null,null,null,null,null,null,null,null,null,null,null,null,null,null,null,null,null,null,null,null,null,null,null,null,null,null,null,null,null,null,null,null,null,null,null,null,null,null,null,null,null,null,null,null,null,null,null,null,null,null,null,null,null,null,null,null,null,"",null,null,null,null,null,null,{"$f":"IF(D165<P165,1,0)","v":0}]
[null,null,"ALTAS PERSONAS CON DEPENDENCIA SEVERA",{"$f":"SUM(E164:F164)","v":0},{"$f":"+G164+I164+K164+M164","v":0},0,null,null,null,null,null,null,null,null,null,null,null,null,null,null,null,null,null,null,null,null,null,null,null,null,null,null,null,null,null,null,null,null,null,null,null,null,null,null,null,null,null,null,null,null,null,null,null,null,null,null,null,null,null,null,null,null,null,null,null,null,null,null,null,null,null,null,null,null,null,null,null,null,""]
[null,null,"ALTAS CUIDADORES PERSONAS CON DEPENDENCIA",0,0,0,null,null,null,null,null,null,null,null,null,null,null,null,null,null,null,null,null,null,null,null,null,null,null,null,null,null,null,null,null,null,null,null,null,null,null,null,null,null,null,null,null,null,null,null,null,null,null,null,null,null,null,null,null,null,null,null,null,null,null,null,null,null,null,null,null,null,null,null,null,null,null,null,""]
["PROGRAMA MEJORAMIENTO DEL ACCESO, ESTRATEGIA RESOLUCIÓN DE ESPECIALIDAD EN APS","TRATAMIENTO ENDODONCIA","N° PACIENTES",{"$f":"SUM(E166+F166)","v":0},{"$f":"+I166+K166+M166","v":0},{"$f":"+J166+L166+N166","v":0},null,null,null,null,null,null,null,null,null,null,null,null,null,null,null,null,null,null,null,null,null,null,null,null,null,null,null,null,null,null,null,null,null,null,null,null,null,null,null,null,null,null,null,null,null,null,null,null,null,null,null,null,null,null,null,null,null,null,null,null,null,null,null,null,null,null,null,null,null,null,null,null,null,null,null,null,null,null,null,{"$f":"IF(D168<P168,1,0)","v":0}]
[null,null,"N° DIENTES",0,{"$f":"SUM(I167+K167+M167)","v":0},0,null,null,null,null,null,null,null,null,null,null,null,null,null,null,null,null,null,null,null,null,null,null,null,null,null,null,null,null,null,null,null,null,null,null,null,null,null,null,null,null,null,null,null,null,null,null,null,null,null,null,null,null,null,null,null,null,null,null,null,null,null,null,null,null,null,null,null,null,null,null,null,null,null,null,null,null,null,null,null,{"$f":"IF(D169<P169,1,0)","v":0}]
[null,"TRATAMIENTO DE PERIODONCIA","N° PACIENTES",0,0,0,null,null,null,null,null,null,null,null,null,null,null,null,null,null,null,null,null,null,null,null,null,null,null,null,null,null,null,null,null,null,null,null,null,null,null,null,null,null,null,null,null,null,null,null,null,null,null,null,null,null,null,null,null,null,null,null,null,null,null,null,null,null,null,null,null,null,null,null,null,null,null,null,{"$f":"IF(CH166=1,\"* El número de actividades en usuarios en situacion de discapacidad NO DEBE ser mayor al total. \",\"\")","v":""}]
[null,null,"N° DE SEXTANTES ",0,0,0,null,null,null,null,null,null,null,null,null,null,null,null,null,null,null,null,null,null,null,null,null,null,null,null,null,null,null,null,null,null,null,null,null,null,null,null,null,null,null,null,null,null,null,null,null,null,null,null,null,null,null,null,null,null,null,null,null,null,null,null,null,null,null,null,null,null,null,null,null,null,null,null,{"$f":"IF(CH167=1,\"* El número de actividades en usuarios en situacion de discapacidad NO DEBE ser mayor al total. \",\"\")","v":""}]
[null,"PRÓTESIS REMOVIBLES","N° PACIENTES",0,{"$f":"+K170+M170","v":0},{"$f":"+L170+N170","v":0},null,null,null,null,null,null,null,null,null,null,null,null,null,null,null,null,null,null,null,null,null,null,null,null,null,null,null,null,null,null,null,null,null,null,null,null,null,null,null,null,null,null,null,null,null,null,null,null,null,null,null,null,null,null,null,null,null,null,null,null,null,null,null,null,null,null,null,null,null,null,null,null,null,null,null,null,null,null,null,{"$f":"IF(D172<P172,1,0)","v":0}]
[null,null,"N° PRÓTESIS",0,{"$f":"+K171+M171","v":0},{"$f":"+L171+N171","v":0},null,null,null,null,null,null,null,null,null,null,null,null,null,null,null,null,null,null,null,null,null,null,null,null,null,null,null,null,null,null,null,null,null,null,null,null,null,null,null,null,null,null,null,null,null,null,null,null,null,null,null,null,null,null,null,null,null,null,null,null,null,null,null,null,null,null,null,null,null,null,null,null,null,null,null,null,null,null,null,0]
["PROGRAMA GES ODONTOLÓGICO ADULTO DE 60 AÑOS.","ALTAS INTEGRALES",null,{"$f":"SUM(E172+F172)","v":0},{"$f":"+K172","v":0},{"$f":"+L172","v":0},null,null,null,null,null,null,null,null,null,null,null,null,null,null,null,null,null,null,null,null,null,null,null,null,null,null,null,null,null,null,null,null,null,null,null,null,null,null,null,null,null,null,null,null,null,null,null,null,null,null,null,null,null,null,null,null,null,null,null,null,null,null,null,null,null,null,null,null,null,null,null,null,{"$f":"IF(CH170=1,\"* El número de actividades en usuarios en situacion de discapacidad NO DEBE ser mayor al total. \",\"\")","v":""},null,null,null,null,null,null,0]
[null,"TRATAMIENTO ENDODONCIA","N° PACIENTES",0,{"$f":"+K173","v":0},{"$f":"+L173","v":0},null,null,null,null,null,null,null,null,null,null,null,null,null,null,null,null,null,null,null,null,null,null,null,null,null,null,null,null,null,null,null,null,null,null,null,null,null,null,null,null,null,null,null,null,null,null,null,null,null,null,null,null,null,null,null,null,null,null,null,null,null,null,null,null,null,null,null,null,null,null,null,null,"",null,null,null,null,null,null,0]
[null,null,"N° DIENTES",0,0,0,null,null,null,null,null,null,null,null,null,null,null,null,null,null,null,null,null,null,null,null,null,null,null,null,null,null,null,null,null,null,null,null,null,null,null,null,null,null,null,null,null,null,null,null,null,null,null,null,null,null,null,null,null,null,null,null,null,null,null,null,null,null,null,null,null,null,null,null,null,null,null,null,"",null,null,null,null,null,null,0]
[null,"PRÓTESIS REMOVIBLES","N° PACIENTES",0,0,0,null,null,null,null,null,null,null,null,null,null,null,null,null,null,null,null,null,null,null,null,null,null,null,null,null,null,null,null,null,null,null,null,null,null,null,null,null,null,null,null,null,null,null,null,null,null,null,null,null,null,null,null,null,null,null,null,null,null,null,null,null,null,null,null,null,null,null,null,null,null,null,null,"",null,null,null,null,null,null,0]
[null,null,"N° PRÓTESIS",0,0,{"$f":"+L176","v":0},null,null,null,null,null,null,null,null,null,null,null,null,null,null,null,null,null,null,null,null,null,null,null,null,null,null,null,null,null,null,null,null,null,null,null,null,null,null,null,null,null,null,null,null,null,null,null,null,null,null,null,null,null,null,null,null,null,null,null,null,null,null,null,null,null,null,null,null,null,null,null,null,"",null,null,null,null,null,null,0]
["PROGRAMA ODONTOLOGICO INTEGRAL, ESTRATEGIA ESTUDIANTES DE CUARTO MEDIO","ALTAS INTEGRALES ESTUDIANTES DE CUARTO MEDIO","ALTA INTEGRAL EN CENTRO DE SALUD",0,{"$f":"SUM(I177+K177+M177)","v":0},{"$f":"SUM(J177+L177+N177)","v":0},null,null,null,null,null,null,null,null,null,null,null,null,null,null,null,null,null,null,null,null,null,null,null,null,null,null,null,null,null,null,null,null,null,null,null,null,null,null,null,null,null,null,null,null,null,null,null,null,null,null,null,null,null,null,null,null,null,null,null,null,null,null,null,null,null,null,null,null,null,null,null,null,"",null,null,null,null,null,null,0]
[null,null,"ALTA INTEGRAL EN UNIDAD DENTAL MÓVIL O PORTÁTIL",0,{"$f":"SUM(I178+K178+M178)","v":0},0,null,null,null,null,null,null,null,null,null,null,null,null,null,null,null,null,null,null,null,null,null,null,null,null,null,null,null,null,null,null,null,null,null,null,null,null,null,null,null,null,null,null,null,null,null,null,null,null,null,null,null,null,null,null,null,null,null,null,null,null,null,null,null,null,null,null,null,null,null,null,null,null,"",null,null,null,null,null,null,0]
[null,null,"ALTA INTEGRAL EN ESTABLECIMIENTO EDUCACIONAL",0,0,0,null,null,null,null,null,null,null,null,null,null,null,null,null,null,null,null,null,null,null,null,null,null,null,null,null,null,null,null,null,null,null,null,null,null,null,null,null,null,null,null,null,null,null,null,null,null,null,null,null,null,null,null,null,null,null,null,null,null,null,null,null,null,null,null,null,null,null,null,null,null,null,null,"",null,null,null,null,null,null,0]
["PROGRAMA MEJORAMIENTO DEL ACCESO, ESTRATEGIA MORBILIDAD ADULTO","MORBILIDAD ADULTO","N° TOTAL DE ACTIVIDAD RECUPERATIVA REALIZADA EN >20 AÑOS, EN EXTENSIÓN HORARIA",{"$f":"SUM(E180+F180)","v":0},{"$f":"+K180+M180","v":0},{"$f":"+L180+N180","v":0},null,null,null,null,null,null,null,null,null,null,null,null,null,null,null,null,null,null,null,null,null,null,null,null,null,null,null,null,null,null,null,null,null,null,null,null,null,null,null,null,null,null,null,null,null,null,null,null,null,null,null,null,null,null,null,null,null,null,null,null,null,null,null,null,null,null,null,null,null,null,null,null,"",null,null,null,null,null,null,0]
[null,null,"N° DE CONSULTAS DE MORBILIDAD REALIZADAS EN >20 AÑOS, EN EXTENSIÓN HORARIA",{"$f":"SUM(E181+F181)","v":0},{"$f":"+K181+M181","v":0},{"$f":"+L181+N181","v":0},null,null,null,null,null,null,null,null,null,null,null,null,null,null,null,null,null,null,null,null,null,null,null,null,null,null,null,null,null,null,null,null,null,null,null,null,null,null,null,null,null,null,null,null,null,null,null,null,null,null,null,null,null,null,null,null,null,null,null,null,null,null,null,null,null,null,null,null,null,null,null,null,"",null,null,null,null,null,null,0]
["SECCIÓN G.1: PROGRAMA SEMBRANDO SONRISAS"]
["ACTIVIDAD",null,null,"TOTAL",null,null,"SEGÚN GRUPOS DE EDAD O DE RIESGO",null,null,null,null,null,null,null,null,null,null,null,null,null,null,null,null,null,null,null,null,null,"USUARIOS EN SITUACIÓN DE DISCAPACIDAD",null,"JUNJI","INTEGRA","MINEDUC"]
[null,null,null,null,null,null,"Menos de 1 año",null,"1 año",null,"2 años",null,"3 años",null,"4 años",null,"5 años",null,"6 años",null,"0-14 años",null,"15-19 \naños",null,"20-64 \naños",null,"65 y \nmás años",null,null,"Total"]
[null,null,null,"Ambos Sexos","Hombres","Mujeres","Hombres","Mujeres","Hombres","Mujeres","Hombres","Mujeres","Hombres","Mujeres","Hombres","Mujeres","Hombres","Mujeres","Hombres","Mujeres","Hombres","Mujeres","Hombres","Mujeres","Hombres","Mujeres","Hombres","Mujeres"]
["EXAMEN DE SALUD",null,null,{"$f":"SUM(E186+F186)","v":0},{"$f":"+K186+M186+O186+Q186+S186","v":0},0,null,null,null,null,null,null,null,null,null,null,null,null,null,null,null,null,null,null,null,null,null,null,null,{"$f":"SUM(AE186:AG186)","v":0},null,null,null,{"$f":"CE186&CA186&CB186&CC186&CD186","v":""},null,null,null,null,null,null,null,null,null,null,null,null,null,null,null,null,null,null,null,null,null,null,null,null,null,null,null,null,null,null,null,null,null,null,null,null,null,null,null,null,null,null,null,null,{"$f":"IF(CH186=1,\"* El número de actividades en usuarios en situacion de discapacidad NO DEBE ser mayor al total. \",\"\")","v":""},{"$f":"IF(CI186=1,\"* El número de actividades en usuarios JUNJI NO DEBE ser mayor al total. \",\"\")","v":""},{"$f":"IF(CJ186=1,\"* El número de actividades en usuarios INTEGRA NO DEBE ser mayor al total. \",\"\")","v":""},{"$f":"IF(CK186=1,\"* El número de actividades en usuarios MINEDUC NO DEBE ser mayor al total. \",\"\")","v":""},{"$f":"IF(CL186=1,\"* El total de actividades de JUNJI, Integra y MINEDUC no puede superar el Total.\",\"\")","v":""},null,null,{"$f":"IF(D186<AC186,1,0)","v":0},{"$f":"IF(D186<AE186,1,0)","v":0},{"$f":"IF(D186<AF186,1,0)","v":0},{"$f":"IF(D186<AG186,1,0)","v":0},{"$f":"IF(C186<AD186,1,0)","v":0}]
["Nº DE NIÑOS CON ÍNDICE ceod=0 AL INGRESO",null,null,{"$f":"SUM(E187+F187)","v":0},{"$f":"+K187+M187+O187+Q187+S187","v":0},0,null,null,null,null,null,null,null,null,null,null,null,null,null,null,null,null,null,null,null,null,null,null,null,{"$f":"SUM(AE187:AG187)","v":0},null,null,null,{"$f":"CE187&CA187&CB187&CC187&CD187","v":""},null,null,null,null,null,null,null,null,null,null,null,null,null,null,null,null,null,null,null,null,null,null,null,null,null,null,null,null,null,null,null,null,null,null,null,null,null,null,null,null,null,null,null,null,{"$f":"IF(CH187=1,\"* El número de actividades en usuarios en situacion de discapacidad NO DEBE ser mayor al total. \",\"\")","v":""},{"$f":"IF(CI187=1,\"* El número de actividades en usuarios JUNJI NO DEBE ser mayor al total. \",\"\")","v":""},{"$f":"IF(CJ187=1,\"* El número de actividades en usuarios INTEGRA NO DEBE ser mayor al total. \",\"\")","v":""},{"$f":"IF(CK187=1,\"* El número de actividades en usuarios MINEDUC NO DEBE ser mayor al total. \",\"\")","v":""},{"$f":"IF(CL187=1,\"* El total de actividades de JUNJI, Integra y MINEDUC no puede superar el Total.\",\"\")","v":""},null,null,{"$f":"IF(D187<AC187,1,0)","v":0},{"$f":"IF(D187<AE187,1,0)","v":0},{"$f":"IF(D187<AF187,1,0)","v":0},{"$f":"IF(D187<AG187,1,0)","v":0},{"$f":"IF(C187<AD187,1,0)","v":0}]
["SET DE HIGIENE ORAL ENTREGADOS",null,null,0,0,0,null,null,null,null,null,null,null,null,null,null,null,null,null,null,null,null,null,null,null,null,null,null,null,0,null,null,null,"",null,null,null,null,null,null,null,null,null,null,null,null,null,null,null,null,null,null,null,null,null,null,null,null,null,null,null,null,null,null,null,null,null,null,null,null,null,null,null,null,null,null,null,null,{"$f":"IF(CH188=1,\"* El número de actividades en usuarios en situacion de discapacidad NO DEBE ser mayor al total. \",\"\")","v":""},{"$f":"IF(CI188=1,\"* El número de actividades en usuarios JUNJI NO DEBE ser mayor al total. \",\"\")","v":""},{"$f":"IF(CJ188=1,\"* El número de actividades en usuarios INTEGRA NO DEBE ser mayor al total. \",\"\")","v":""},{"$f":"IF(CK188=1,\"* El número de actividades en usuarios MINEDUC NO DEBE ser mayor al total. \",\"\")","v":""},{"$f":"IF(CL188=1,\"* El total de actividades de JUNJI, Integra y MINEDUC no puede superar el Total.\",\"\")","v":""},null,null,{"$f":"IF(D188<AC188,1,0)","v":0},{"$f":"IF(D188<AE188,1,0)","v":0},{"$f":"IF(D188<AF188,1,0)","v":0},{"$f":"IF(D188<AG188,1,0)","v":0},{"$f":"IF(C188<AD188,1,0)","v":0}]
["Nº DE APLICACIONES FLÚOR BARNIZ",null,null,0,0,{"$f":"+L189+N189+P189+R189+T189","v":0},null,null,null,null,null,null,null,null,null,null,null,null,null,null,null,null,null,null,null,null,null,null,null,0,null,null,null,"",null,null,null,null,null,null,null,null,null,null,null,null,null,null,null,null,null,null,null,null,null,null,null,null,null,null,null,null,null,null,null,null,null,null,null,null,null,null,null,null,null,null,null,null,{"$f":"IF(CH189=1,\"* El número de actividades en usuarios en situacion de discapacidad NO DEBE ser mayor al total. \",\"\")","v":""},{"$f":"IF(CI189=1,\"* El número de actividades en usuarios JUNJI NO DEBE ser mayor al total. \",\"\")","v":""},{"$f":"IF(CJ189=1,\"* El número de actividades en usuarios INTEGRA NO DEBE ser mayor al total. \",\"\")","v":""},{"$f":"IF(CK189=1,\"* El número de actividades en usuarios MINEDUC NO DEBE ser mayor al total. \",\"\")","v":""},{"$f":"IF(CL189=1,\"* El total de actividades de JUNJI, Integra y MINEDUC no puede superar el Total.\",\"\")","v":""},null,null,{"$f":"IF(D189<AC189,1,0)","v":0},{"$f":"IF(D189<AE189,1,0)","v":0},{"$f":"IF(D189<AF189,1,0)","v":0},{"$f":"IF(D189<AG189,1,0)","v":0},{"$f":"IF(C189<AD189,1,0)","v":0}]
["EDUCACIÓN GRUPAL EN ESTABLECIMIENTO DE EDUCACIÓN",null,null,null,null,null,null,null,null,null,null,null,null,null,null,null,null,null,null,null,null,null,null,null,null,null,null,null,null,0,null,null,null,""]
["SECCIÓN H: SEDACIÓN Y ANESTESIA"]
["ACTIVIDAD",null,null,"TOTAL",null,null,"SEGÚN GRUPOS DE EDAD O DE RIESGO"]
[null,null,null,null,null,null,"0-5 años","6 -14años","15-19 años","20-64 años"]
[null,null,null,"Ambos Sexos","Hombres","Mujeres"]
["ATENCIÓN BAJO SEDACIÓN INHALATORIA (CON ÓXIDO NITROSO)",null,null,{"$f":"SUM(G195:J195)","v":0},null,null,null,null,null,null,{"$f":"CA195","v":""},null,null,null,null,null,null,null,null,null,null,null,null,null,null,null,null,null,null,null,null,null,null,null,null,null,null,null,null,null,null,null,null,null,null,null,null,null,null,null,null,null,null,null,null,null,null,null,null,null,null,null,null,null,null,null,null,null,null,null,null,null,null,null,null,null,null,null,{"$f":"IF(CH195=1,\"* La suma de los sexos NO DEBE ser diferente al Total. \",\"\")","v":""},null,null,null,null,null,null,{"$f":"IF((E195+F195)<>D195,1,0)","v":0}]
["SEDACIÓN ENDOVENOSA",null,null,{"$f":"SUM(G196:J196)","v":0},null,null,null,null,null,null,{"$f":"CA196","v":""},null,null,null,null,null,null,null,null,null,null,null,null,null,null,null,null,null,null,null,null,null,null,null,null,null,null,null,null,null,null,null,null,null,null,null,null,null,null,null,null,null,null,null,null,null,null,null,null,null,null,null,null,null,null,null,null,null,null,null,null,null,null,null,null,null,null,null,{"$f":"IF(CH196=1,\"* La suma de los sexos NO DEBE ser diferente al Total. \",\"\")","v":""},null,null,null,null,null,null,{"$f":"IF((E196+D196)<>C196,1,0)","v":0}]
["ATENCIÓN BAJO ANESTESIA GENERAL",null,null,{"$f":"SUM(G197:J197)","v":0},null,null,null,null,null,null,"",null,null,null,null,null,null,null,null,null,null,null,null,null,null,null,null,null,null,null,null,null,null,null,null,null,null,null,null,null,null,null,null,null,null,null,null,null,null,null,null,null,null,null,null,null,null,null,null,null,null,null,null,null,null,null,null,null,null,null,null,null,null,null,null,null,null,null,"",null,null,null,null,null,null,0]
["ATENCIÓN BAJO SEDACIÓN ORAL",null,null,{"$f":"SUM(G198:J198)","v":0},null,null,null,null,null,null,"",null,null,null,null,null,null,null,null,null,null,null,null,null,null,null,null,null,null,null,null,null,null,null,null,null,null,null,null,null,null,null,null,null,null,null,null,null,null,null,null,null,null,null,null,null,null,null,null,null,null,null,null,null,null,null,null,null,null,null,null,null,null,null,null,null,null,null,"",null,null,null,null,null,null,0]
["SECCIÓN I:  CONSULTAS, INGRESOS Y EGRESOS EN ESPECIALIDADES ODONTOLÓGICAS REALIZADOS EN NIVEL PRIMARIO Y SECUNDARIO DE SALUD. "]
["ESPECIALIDAD Y TIPO DE INGRESO O EGRESO.",null,null,"TOTAL   ",null,null,"SEGÚN GRUPOS DE EDAD O DE RIESGO",null,null,null,null,null,null,null,null,null,null,null,null,null,null,null,"EMBARAZADAS","60 AÑOS (INCLUÍDO EN GRUPOS DE 20-64 AÑOS)","CONSULTAS PERTINENTES",null,"INASISTENTE","COMPRA DE SERVICIO ","USUARIOS EN SITUACIÓN DE DISCAPACIDAD","NIÑOS, NIÑAS, ADOLESCENTES Y JÓVENES POBLACIÓN SENAME","MIGRANTES"]
[null,null,null,null,null,null,"0-5 años",null,"6 años",null,"7 años",null,"12 años",null,"Resto <15 años",null,"15-19 años",null,"20-64 \naños",null,"65 y \nmás años",null,null,null,"Según Protocolo de Referencia","Según condición clínica"]
[null,null,null,"Ambos Sexos","Hombres","Mujeres","Hombres","Mujeres","Hombres","Mujeres","Hombres","Mujeres","Hombres","Mujeres","Hombres","Mujeres","Hombres","Mujeres","Hombres","Mujeres","Hombres","Mujeres"]
["CONSULTAS","CONSULTA DE URGENCIA",null,{"$f":"SUM(E203+F203)","v":0},{"$f":"SUM(G203+I203+K203+M203+O203+Q203+S203+U203)","v":0},{"$f":"SUM(H203+J203+L203+N203+P203+R203+T203+V203)","v":0},null,null,null,null,null,null,null,null,null,null,null,null,null,null,null,null,null,null,null,null,null,null,null,null,null,{"$f":"CA203&CB203&CC203&CD203&CE203&CF203&CG203","v":""},null,null,null,null,null,null,null,null,null,null,null,null,null,null,null,null,null,null,null,null,null,null,null,null,null,null,null,null,null,null,null,null,null,null,null,null,null,null,null,null,null,null,null,null,null,null,{"$f":"IF(CH203=1,\"* El número de pacientes de 60 años NO DEBE Ser mayor a lo registrado en el grupo Etario 20-64 años. \",\"\")","v":""},{"$f":"IF(CI203=1,\"* La consulta pertinente según Protocolo de Referencia NO DEBE ser mayor al Total registrado. \",\"\")","v":""},{"$f":"IF(CJ203=1,\"* La consulta pertinente según condición clínica NO DEBE ser mayor al Total registrado. \",\"\")","v":""},{"$f":"IF(AND(D203<>0,W203=\"\"),\"* Recuerde que las Embarazadas deben ser incluídas en el ingreso por rango Etario (Digite CEROS si no tiene). \",IF(F203<W203,\"* Las Embarazadas NO DEBEN ser mayor al total de Mujeres. \",\"\"))","v":""},{"$f":"IF(AND($D203<>0,AC203=\"\"),\"* No olvide digitar la columna Usuarios en Situación de Discapacidad (Digite CEROS si no tiene). \",IF($D203<AC203,\"* Los Usuarios en Situación de Discapacidad NO DEBEN ser mayor al total. \",\"\"))","v":""},{"$f":"IF(AND($D203<>0,AD203=\"\"),\"* No olvide digitar la columna Niños, Niñas, Adolescentes y Jóvenes Población SENAME (Digite CEROS si no tiene). \",IF($D203<AD203,\"* Los Niños, Niñas, Adolescentes y Jóvenes Población SENAME NO DEBEN ser mayor al total. \",\"\"))","v":""},{"$f":"IF(AND($D203<>0,AE203=\"\"),\"* No olvide digitar la columna Migrantes (Digite CEROS si no tiene). \",IF($D203<AE203,\"* Los Migrantes NO DEBEN ser mayor al total. \",\"\"))","v":""},{"$f":"IF((S203+T203)<X203,1,0)","v":0},{"$f":"IF(D203<Y203,1,0)","v":0},{"$f":"IF(D205<Z205,1,0)","v":0},{"$f":"IF(AND(D203<>0,W203=\"\"),1,IF(F203<W203,1,0))","v":0},{"$f":"IF(AND($D203<>0,AC203=\"\"),1,IF($D203<AC203,1,0))","v":0},{"$f":"IF(AND($D203<>0,AD203=\"\"),1,IF($D203<AD203,1,0))","v":0},0]
[null,"CONSULTA DE MORBILIDAD ODONTOLOGICA",null,0,0,0,null,null,null,null,null,null,null,null,null,null,null,null,null,null,null,null,null,null,null,null,null,null,null,null,null,{"$f":"CA204&CB204&CC204&CD204&CE204&CF204&CG204","v":""},null,null,null,null,null,null,null,null,null,null,null,null,null,null,null,null,null,null,null,null,null,null,null,null,null,null,null,null,null,null,null,null,null,null,null,null,null,null,null,null,null,null,null,null,null,null,{"$f":"IF(CH204=1,\"* El número de pacientes de 60 años NO DEBE Ser mayor a lo registrado en el grupo Etario 20-64 años. \",\"\")","v":""},{"$f":"IF(CI204=1,\"* La consulta pertinente según Protocolo de Referencia NO DEBE ser mayor al Total registrado. \",\"\")","v":""},"","",{"$f":"IF(AND($D204<>0,AC204=\"\"),\"* No olvide digitar la columna Usuarios en Situación de Discapacidad (Digite CEROS si no tiene). \",IF($D204<AC204,\"* Los Usuarios en Situación de Discapacidad NO DEBEN ser mayor al total. \",\"\"))","v":""},{"$f":"IF(AND($D204<>0,AD204=\"\"),\"* No olvide digitar la columna Niños, Niñas, Adolescentes y Jóvenes Población SENAME (Digite CEROS si no tiene). \",IF($D204<AD204,\"* Los Niños, Niñas, Adolescentes y Jóvenes Población SENAME NO DEBEN ser mayor al total. \",\"\"))","v":""},{"$f":"IF(AND($D204<>0,AE204=\"\"),\"* No olvide digitar la columna Migrantes (Digite CEROS si no tiene). \",IF($D204<AE204,\"* Los Migrantes NO DEBEN ser mayor al total. \",\"\"))","v":""},{"$f":"IF((S204+T204)<X204,1,0)","v":0},{"$f":"IF(D204<Y204,1,0)","v":0},0,0,{"$f":"IF(AND($D204<>0,AC204=\"\"),1,IF($D204<AC204,1,0))","v":0},0,0]
["CIRUGÍA BUCAL","CONSULTA NUEVA ",null,0,0,0,null,null,null,null,null,null,null,null,null,null,null,null,null,null,null,null,null,null,null,null,null,null,null,null,null,"",null,null,null,null,null,null,null,null,null,null,null,null,null,null,null,null,null,null,null,null,null,null,null,null,null,null,null,null,null,null,null,null,null,null,null,null,null,null,null,null,null,null,null,null,null,null,"","","","","","","",0,0,0,0,0,0,0]
[null,"CONTROL ",null,0,0,0,null,null,null,null,null,null,null,null,null,null,null,null,null,null,null,null,null,null,null,null,null,null,null,null,null,"",null,null,null,null,null,null,null,null,null,null,null,null,null,null,null,null,null,null,null,null,null,null,null,null,null,null,null,null,null,null,null,null,null,null,null,null,null,null,null,null,null,null,null,null,null,null,"","","","","","","",0,0,0,0,0,0,0]
[null,"INGRESOS A TRATAMIENTO",null,0,0,0,null,null,null,null,null,null,null,null,null,null,null,null,null,null,null,null,null,null,null,null,null,null,null,null,null,"",null,null,null,null,null,null,null,null,null,null,null,null,null,null,null,null,null,null,null,null,null,null,null,null,null,null,null,null,null,null,null,null,null,null,null,null,null,null,null,null,null,null,null,null,null,null,"","","","","","","",0,0,0,0,0,0,0]
[null,"ALTAS DE TRATAMIENTO",null,0,0,0,null,null,null,null,null,null,null,null,null,null,null,null,null,null,null,null,null,null,null,null,null,null,null,null,null,"",null,null,null,null,null,null,null,null,null,null,null,null,null,null,null,null,null,null,null,null,null,null,null,null,null,null,null,null,null,null,null,null,null,null,null,null,null,null,null,null,null,null,null,null,null,null,"","","","","","","",0,0,0,0,0,0,0]
[null,"ALTAS ADMINISTRATIVAS",null,0,0,0,null,null,null,null,null,null,null,null,null,null,null,null,null,null,null,null,null,null,null,null,null,null,null,null,null,"",null,null,null,null,null,null,null,null,null,null,null,null,null,null,null,null,null,null,null,null,null,null,null,null,null,null,null,null,null,null,null,null,null,null,null,null,null,null,null,null,null,null,null,null,null,null,"","","","","","","",0,0,0,0,0,0,0]
["CIRUGÍA Y TRAUMATOLOGÍA MAXILOFACIAL","CONSULTA NUEVA ",null,0,0,0,null,null,null,null,null,null,null,null,null,null,null,null,null,null,null,null,null,null,null,null,null,null,null,null,null,"",null,null,null,null,null,null,null,null,null,null,null,null,null,null,null,null,null,null,null,null,null,null,null,null,null,null,null,null,null,null,null,null,null,null,null,null,null,null,null,null,null,null,null,null,null,null,"","","","","","","",0,0,0,0,0,0,0]
[null,"CONTROL ",null,0,0,0,null,null,null,null,null,null,null,null,null,null,null,null,null,null,null,null,null,null,null,null,null,null,null,null,null,"",null,null,null,null,null,null,null,null,null,null,null,null,null,null,null,null,null,null,null,null,null,null,null,null,null,null,null,null,null,null,null,null,null,null,null,null,null,null,null,null,null,null,null,null,null,null,"","","","","","","",0,0,0,0,0,0,0]
[null,"INGRESOS A TRATAMIENTO",null,0,0,0,null,null,null,null,null,null,null,null,null,null,null,null,null,null,null,null,null,null,null,null,null,null,null,null,null,"",null,null,null,null,null,null,null,null,null,null,null,null,null,null,null,null,null,null,null,null,null,null,null,null,null,null,null,null,null,null,null,null,null,null,null,null,null,null,null,null,null,null,null,null,null,null,"","","","","","","",0,0,0,0,0,0,0]
[null,"ALTAS DE TRATAMIENTO",null,0,0,0,null,null,null,null,null,null,null,null,null,null,null,null,null,null,null,null,null,null,null,null,null,null,null,null,null,"",null,null,null,null,null,null,null,null,null,null,null,null,null,null,null,null,null,null,null,null,null,null,null,null,null,null,null,null,null,null,null,null,null,null,null,null,null,null,null,null,null,null,null,null,null,null,"","","","","","","",0,0,0,0,0,0,0]
[null,"ALTAS ADMINISTRATIVAS",null,0,0,0,null,null,null,null,null,null,null,null,null,null,null,null,null,null,null,null,null,null,null,null,null,null,null,null,null,"",null,null,null,null,null,null,null,null,null,null,null,null,null,null,null,null,null,null,null,null,null,null,null,null,null,null,null,null,null,null,null,null,null,null,null,null,null,null,null,null,null,null,null,null,null,null,"","","","","","","",0,0,0,0,0,0,0]
["ENDODONCIA","CONSULTA NUEVA ",null,0,0,0,null,null,null,null,null,null,null,null,null,null,null,null,null,null,null,null,null,null,null,null,null,null,null,null,null,"",null,null,null,null,null,null,null,null,null,null,null,null,null,null,null,null,null,null,null,null,null,null,null,null,null,null,null,null,null,null,null,null,null,null,null,null,null,null,null,null,null,null,null,null,null,null,"","","","","","","",0,0,0,0,0,0,0]
[null,"CONTROL ",null,0,0,0,null,null,null,null,null,null,null,null,null,null,null,null,null,null,null,null,null,null,null,null,null,null,null,null,null,"",null,null,null,null,null,null,null,null,null,null,null,null,null,null,null,null,null,null,null,null,null,null,null,null,null,null,null,null,null,null,null,null,null,null,null,null,null,null,null,null,null,null,null,null,null,null,"","","","","","","",0,0,0,0,0,0,0]
[null,"INGRESOS A TRATAMIENTO",null,0,0,0,null,null,null,null,null,null,null,null,null,null,null,null,null,null,null,null,null,null,null,null,null,null,null,null,null,"",null,null,null,null,null,null,null,null,null,null,null,null,null,null,null,null,null,null,null,null,null,null,null,null,null,null,null,null,null,null,null,null,null,null,null,null,null,null,null,null,null,null,null,null,null,null,"","","","","","","",0,0,0,0,0,0,0]
[null,"ALTAS DE TRATAMIENTO",null,0,0,0,null,null,null,null,null,null,null,null,null,null,null,null,null,null,null,null,null,null,null,null,null,null,null,null,null,"",null,null,null,null,null,null,null,null,null,null,null,null,null,null,null,null,null,null,null,null,null,null,null,null,null,null,null,null,null,null,null,null,null,null,null,null,null,null,null,null,null,null,null,null,null,null,"","","","","","","",0,0,0,0,0,0,0]
[null,"ALTAS ADMINISTRATIVAS",null,0,0,0,null,null,null,null,null,null,null,null,null,null,null,null,null,null,null,null,null,null,null,null,null,null,null,null,null,"",null,null,null,null,null,null,null,null,null,null,null,null,null,null,null,null,null,null,null,null,null,null,null,null,null,null,null,null,null,null,null,null,null,null,null,null,null,null,null,null,null,null,null,null,null,null,"","","","","","","",0,0,0,0,0,0,0]
["ODONTOPEDIATRÍA","CONSULTA NUEVA ",null,0,{"$f":"SUM(G220+I220+K220+M220+O220+Q220+U220)","v":0},{"$f":"SUM(H220+J220+L220+N220+P220+R220+V220)","v":0},null,null,null,null,null,null,null,null,null,null,null,null,null,null,null,null,null,null,null,null,null,null,null,null,null,"",null,null,null,null,null,null,null,null,null,null,null,null,null,null,null,null,null,null,null,null,null,null,null,null,null,null,null,null,null,null,null,null,null,null,null,null,null,null,null,null,null,null,null,null,null,null,null,"","","","","","",null,0,0,0,0,0,0]
[null,"CONTROL ",null,0,{"$f":"SUM(G221+I221+K221+M221+O221+Q221+U221)","v":0},{"$f":"SUM(H221+J221+L221+N221+P221+R221+V221)","v":0},null,null,null,null,null,null,null,null,null,null,null,null,null,null,null,null,null,null,null,null,null,null,null,null,null,"",null,null,null,null,null,null,null,null,null,null,null,null,null,null,null,null,null,null,null,null,null,null,null,null,null,null,null,null,null,null,null,null,null,null,null,null,null,null,null,null,null,null,null,null,null,null,null,"","","","","","",null,0,0,0,0,0,0]
[null,"INGRESOS A TRATAMIENTO",null,0,{"$f":"SUM(G222+I222+K222+M222+O222+Q222+S222+U222)","v":0},{"$f":"SUM(H222+J222+L222+N222+P222+R222+T222+V222)","v":0},null,null,null,null,null,null,null,null,null,null,null,null,null,null,null,null,null,null,null,null,null,null,null,null,null,"",null,null,null,null,null,null,null,null,null,null,null,null,null,null,null,null,null,null,null,null,null,null,null,null,null,null,null,null,null,null,null,null,null,null,null,null,null,null,null,null,null,null,null,null,null,null,null,"","","","","","",null,0,0,0,0,0,0]
[null,"ALTAS DE TRATAMIENTO",null,0,0,0,null,null,null,null,null,null,null,null,null,null,null,null,null,null,null,null,null,null,null,null,null,null,null,null,null,"",null,null,null,null,null,null,null,null,null,null,null,null,null,null,null,null,null,null,null,null,null,null,null,null,null,null,null,null,null,null,null,null,null,null,null,null,null,null,null,null,null,null,null,null,null,null,null,"","","","","","",null,0,0,0,0,0,0]
[null,"ALTAS ADMINISTRATIVAS",null,0,0,0,null,null,null,null,null,null,null,null,null,null,null,null,null,null,null,null,null,null,null,null,null,null,null,null,null,"",null,null,null,null,null,null,null,null,null,null,null,null,null,null,null,null,null,null,null,null,null,null,null,null,null,null,null,null,null,null,null,null,null,null,null,null,null,null,null,null,null,null,null,null,null,null,null,"","","","","","",null,0,0,0,0,0,0]
["OPERATORIA","CONSULTA NUEVA ",null,0,0,0,null,null,null,null,null,null,null,null,null,null,null,null,null,null,null,null,null,null,null,null,null,null,null,null,null,"",null,null,null,null,null,null,null,null,null,null,null,null,null,null,null,null,null,null,null,null,null,null,null,null,null,null,null,null,null,null,null,null,null,null,null,null,null,null,null,null,null,null,null,null,null,null,"","","","","","","",{"$f":"IF((S225+T225)<X225,1,0)","v":0},0,0,0,0,0,0]
[null,"CONTROL ",null,0,0,0,null,null,null,null,null,null,null,null,null,null,null,null,null,null,null,null,null,null,null,null,null,null,null,null,null,"",null,null,null,null,null,null,null,null,null,null,null,null,null,null,null,null,null,null,null,null,null,null,null,null,null,null,null,null,null,null,null,null,null,null,null,null,null,null,null,null,null,null,null,null,null,null,"","","","","","","",0,0,0,0,0,0,0]
[null,"INGRESOS A TRATAMIENTO",null,0,0,0,null,null,null,null,null,null,null,null,null,null,null,null,null,null,null,null,null,null,null,null,null,null,null,null,null,"",null,null,null,null,null,null,null,null,null,null,null,null,null,null,null,null,null,null,null,null,null,null,null,null,null,null,null,null,null,null,null,null,null,null,null,null,null,null,null,null,null,null,null,null,null,null,"","","","","","","",0,0,0,0,0,0,0]
[null,"ALTAS DE TRATAMIENTO",null,0,0,0,null,null,null,null,null,null,null,null,null,null,null,null,null,null,null,null,null,null,null,null,null,null,null,null,null,"",null,null,null,null,null,null,null,null,null,null,null,null,null,null,null,null,null,null,null,null,null,null,null,null,null,null,null,null,null,null,null,null,null,null,null,null,null,null,null,null,null,null,null,null,null,null,"","","","","","","",0,0,0,0,0,0,0]
[null,"ALTAS ADMINISTRATIVAS",null,0,0,0,null,null,null,null,null,null,null,null,null,null,null,null,null,null,null,null,null,null,null,null,null,null,null,null,null,"",null,null,null,null,null,null,null,null,null,null,null,null,null,null,null,null,null,null,null,null,null,null,null,null,null,null,null,null,null,null,null,null,null,null,null,null,null,null,null,null,null,null,null,null,null,null,"","","","","","","",0,0,0,0,0,0,0]
["ORTODONCIA Y ORTOPEDIA DENTO MAXILOFACIAL: APARATOLOGÍA FIJA","CONSULTA NUEVA ",null,0,0,0,null,null,null,null,null,null,null,null,null,null,null,null,null,null,null,null,null,null,null,null,null,null,null,null,null,"",null,null,null,null,null,null,null,null,null,null,null,null,null,null,null,null,null,null,null,null,null,null,null,null,null,null,null,null,null,null,null,null,null,null,null,null,null,null,null,null,null,null,null,null,null,null,null,"","",null,"","","",null,0,0,null,0,0,0]
[null,"CONTROL ",null,0,0,0,null,null,null,null,null,null,null,null,null,null,null,null,null,null,null,null,null,null,null,null,null,null,null,null,null,"",null,null,null,null,null,null,null,null,null,null,null,null,null,null,null,null,null,null,null,null,null,null,null,null,null,null,null,null,null,null,null,null,null,null,null,null,null,null,null,null,null,null,null,null,null,null,null,"","",null,"","","",null,0,0,null,0,0,0]
[null,"INGRESOS A TRATAMIENTO",null,0,0,0,null,null,null,null,null,null,null,null,null,null,null,null,null,null,null,null,null,null,null,null,null,null,null,null,null,"",null,null,null,null,null,null,null,null,null,null,null,null,null,null,null,null,null,null,null,null,null,null,null,null,null,null,null,null,null,null,null,null,null,null,null,null,null,null,null,null,null,null,null,null,null,null,null,"","",null,"","","",null,0,0,null,0,0,0]
[null,"ALTAS DE TRATAMIENTO",null,0,0,0,null,null,null,null,null,null,null,null,null,null,null,null,null,null,null,null,null,null,null,null,null,null,null,null,null,"",null,null,null,null,null,null,null,null,null,null,null,null,null,null,null,null,null,null,null,null,null,null,null,null,null,null,null,null,null,null,null,null,null,null,null,null,null,null,null,null,null,null,null,null,null,null,null,"","",null,"","","",null,0,0,null,0,0,0]
[null,"ALTAS ADMINISTRATIVAS",null,0,0,0,null,null,null,null,null,null,null,null,null,null,null,null,null,null,null,null,null,null,null,null,null,null,null,null,null,"",null,null,null,null,null,null,null,null,null,null,null,null,null,null,null,null,null,null,null,null,null,null,null,null,null,null,null,null,null,null,null,null,null,null,null,null,null,null,null,null,null,null,null,null,null,null,null,"","",null,"","","",null,0,0,null,0,0,0]
["ORTODONCIA Y ORTOPEDIA DENTO MAXILOFACIAL: APARATOLOGÍA REMOVIBLE","CONSULTA NUEVA ",null,0,0,0,null,null,null,null,null,null,null,null,null,null,null,null,null,null,null,null,null,null,null,null,null,null,null,null,null,"",null,null,null,null,null,null,null,null,null,null,null,null,null,null,null,null,null,null,null,null,null,null,null,null,null,null,null,null,null,null,null,null,null,null,null,null,null,null,null,null,null,null,null,null,null,null,null,"","",null,"","","",null,0,0,null,0,0,0]
[null,"CONTROL ",null,0,0,0,null,null,null,null,null,null,null,null,null,null,null,null,null,null,null,null,null,null,null,null,null,null,null,null,null,"",null,null,null,null,null,null,null,null,null,null,null,null,null,null,null,null,null,null,null,null,null,null,null,null,null,null,null,null,null,null,null,null,null,null,null,null,null,null,null,null,null,null,null,null,null,null,null,"","",null,"","","",null,0,0,null,0,0,0]
[null,"INGRESOS A TRATAMIENTO",null,0,0,0,null,null,null,null,null,null,null,null,null,null,null,null,null,null,null,null,null,null,null,null,null,null,null,null,null,"",null,null,null,null,null,null,null,null,null,null,null,null,null,null,null,null,null,null,null,null,null,null,null,null,null,null,null,null,null,null,null,null,null,null,null,null,null,null,null,null,null,null,null,null,null,null,null,"","",null,"","","",null,0,0,null,0,0,0]
[null,"ALTAS DE TRATAMIENTO",null,0,0,0,null,null,null,null,null,null,null,null,null,null,null,null,null,null,null,null,null,null,null,null,null,null,null,null,null,"",null,null,null,null,null,null,null,null,null,null,null,null,null,null,null,null,null,null,null,null,null,null,null,null,null,null,null,null,null,null,null,null,null,null,null,null,null,null,null,null,null,null,null,null,null,null,null,"","",null,"","","",null,0,0,null,0,0,0]
[null,"ALTAS ADMINISTRATIVAS",null,0,{"$f":"SUM(G239+I239+K239+M239+O239+Q239+S239+U239)","v":0},0,null,null,null,null,null,null,null,null,null,null,null,null,null,null,null,null,null,null,null,null,null,null,null,null,null,"",null,null,null,null,null,null,null,null,null,null,null,null,null,null,null,null,null,null,null,null,null,null,null,null,null,null,null,null,null,null,null,null,null,null,null,null,null,null,null,null,null,null,null,null,null,null,null,"","",null,"","","",null,0,0,null,0,0,0]
["PERIODONCIA","CONSULTA NUEVA ",null,0,{"$f":"SUM(G240+I240+K240+M240+O240+Q240+S240+U240)","v":0},0,null,null,null,null,null,null,null,null,null,null,null,null,null,null,null,null,null,null,null,null,null,null,null,null,null,"",null,null,null,null,null,null,null,null,null,null,null,null,null,null,null,null,null,null,null,null,null,null,null,null,null,null,null,null,null,null,null,null,null,null,null,null,null,null,null,null,null,null,null,null,null,null,"","","",{"$f":"IF(AND(D240<>0,W240=\"\"),\"* Recuerde que las Embarazadas deben ser incluídas en el ingreso por rango Etario (Digite CEROS si no tiene). \",IF(F240<W240,\"* Las Embarazadas NO DEBEN ser mayor al total de Mujeres. \",\"\"))","v":""},"","","",{"$f":"IF((S240+T240)<X240,1,0)","v":0},0,0,{"$f":"IF(AND(D240<>0,W240=\"\"),1,IF(F240<W240,1,0))","v":0},0,0,0]
[null,"CONTROL ",null,0,0,0,null,null,null,null,null,null,null,null,null,null,null,null,null,null,null,null,null,null,null,null,null,null,null,null,null,"",null,null,null,null,null,null,null,null,null,null,null,null,null,null,null,null,null,null,null,null,null,null,null,null,null,null,null,null,null,null,null,null,null,null,null,null,null,null,null,null,null,null,null,null,null,null,"","","","","","","",0,0,0,0,0,0,0]
[null,"INGRESOS A TRATAMIENTO",null,0,0,0,null,null,null,null,null,null,null,null,null,null,null,null,null,null,null,null,null,null,null,null,null,null,null,null,null,"",null,null,null,null,null,null,null,null,null,null,null,null,null,null,null,null,null,null,null,null,null,null,null,null,null,null,null,null,null,null,null,null,null,null,null,null,null,null,null,null,null,null,null,null,null,null,"","","","","","","",0,0,0,0,0,0,0]
[null,"ALTAS DE TRATAMIENTO",null,0,0,0,null,null,null,null,null,null,null,null,null,null,null,null,null,null,null,null,null,null,null,null,null,null,null,null,null,"",null,null,null,null,null,null,null,null,null,null,null,null,null,null,null,null,null,null,null,null,null,null,null,null,null,null,null,null,null,null,null,null,null,null,null,null,null,null,null,null,null,null,null,null,null,null,"","","","","","","",0,0,0,0,0,0,0]
[null,"ALTAS ADMINISTRATIVAS",null,0,0,0,null,null,null,null,null,null,null,null,null,null,null,null,null,null,null,null,null,null,null,null,null,null,null,null,null,"",null,null,null,null,null,null,null,null,null,null,null,null,null,null,null,null,null,null,null,null,null,null,null,null,null,null,null,null,null,null,null,null,null,null,null,null,null,null,null,null,null,null,null,null,null,null,"","","","","","","",0,0,0,0,0,0,0]
["REHABILITACIÓN: PRÓTESIS FIJA","CONSULTA NUEVA ",null,0,0,0,null,null,null,null,null,null,null,null,null,null,null,null,null,null,null,null,null,null,null,null,null,null,null,null,null,"",null,null,null,null,null,null,null,null,null,null,null,null,null,null,null,null,null,null,null,null,null,null,null,null,null,null,null,null,null,null,null,null,null,null,null,null,null,null,null,null,null,null,null,null,null,null,"","","","","","","",0,0,0,0,0,0,0]
[null,"CONTROL ",null,{"$f":"SUM(E246+F246)","v":0},0,0,null,null,null,null,null,null,null,null,null,null,null,null,null,null,null,null,null,null,null,null,null,null,null,null,null,"",null,null,null,null,null,null,null,null,null,null,null,null,null,null,null,null,null,null,null,null,null,null,null,null,null,null,null,null,null,null,null,null,null,null,null,null,null,null,null,null,null,null,null,null,null,null,"","","","","","","",0,0,0,0,0,0,0]
[null,"INGRESOS A TRATAMIENTO",null,{"$f":"SUM(E247+F247)","v":0},0,0,null,null,null,null,null,null,null,null,null,null,null,null,null,null,null,null,null,null,null,null,null,null,null,null,null,"",null,null,null,null,null,null,null,null,null,null,null,null,null,null,null,null,null,null,null,null,null,null,null,null,null,null,null,null,null,null,null,null,null,null,null,null,null,null,null,null,null,null,null,null,null,null,"","","","","","","",0,0,0,0,0,0,0]
[null,"ALTAS DE TRATAMIENTO",null,0,0,0,null,null,null,null,null,null,null,null,null,null,null,null,null,null,null,null,null,null,null,null,null,null,null,null,null,"",null,null,null,null,null,null,null,null,null,null,null,null,null,null,null,null,null,null,null,null,null,null,null,null,null,null,null,null,null,null,null,null,null,null,null,null,null,null,null,null,null,null,null,null,null,null,"","","","","","","",0,0,0,0,0,0,0]
[null,"ALTAS ADMINISTRATIVAS",null,0,0,0,null,null,null,null,null,null,null,null,null,null,null,null,null,null,null,null,null,null,null,null,null,null,null,null,null,"",null,null,null,null,null,null,null,null,null,null,null,null,null,null,null,null,null,null,null,null,null,null,null,null,null,null,null,null,null,null,null,null,null,null,null,null,null,null,null,null,null,null,null,null,null,null,"","","","","","","",0,0,0,0,0,0,0]
["REHABILITACIÓN: PRÓTESIS REMOVIBLE","CONSULTA NUEVA ",null,0,0,0,null,null,null,null,null,null,null,null,null,null,null,null,null,null,null,null,null,null,null,null,null,null,null,null,null,"",null,null,null,null,null,null,null,null,null,null,null,null,null,null,null,null,null,null,null,null,null,null,null,null,null,null,null,null,null,null,null,null,null,null,null,null,null,null,null,null,null,null,null,null,null,null,"","","","","","","",0,0,0,0,0,0,0]
[null,"CONTROL ",null,0,0,0,null,null,null,null,null,null,null,null,null,null,null,null,null,null,null,null,null,null,null,null,null,null,null,null,null,"",null,null,null,null,null,null,null,null,null,null,null,null,null,null,null,null,null,null,null,null,null,null,null,null,null,null,null,null,null,null,null,null,null,null,null,null,null,null,null,null,null,null,null,null,null,null,"","","","","","","",0,0,0,0,0,0,0]
[null,"INGRESOS A TRATAMIENTO",null,0,0,0,null,null,null,null,null,null,null,null,null,null,null,null,null,null,null,null,null,null,null,null,null,null,null,null,null,"",null,null,null,null,null,null,null,null,null,null,null,null,null,null,null,null,null,null,null,null,null,null,null,null,null,null,null,null,null,null,null,null,null,null,null,null,null,null,null,null,null,null,null,null,null,null,"","","","","","","",0,0,0,0,0,0,0]
[null,"ALTAS DE TRATAMIENTO",null,0,0,0,null,null,null,null,null,null,null,null,null,null,null,null,null,null,null,null,null,null,null,null,null,null,null,null,null,"",null,null,null,null,null,null,null,null,null,null,null,null,null,null,null,null,null,null,null,null,null,null,null,null,null,null,null,null,null,null,null,null,null,null,null,null,null,null,null,null,null,null,null,null,null,null,"","","","","","","",0,0,0,0,0,0,0]
[null,"ALTAS ADMINISTRATIVAS",null,0,0,0,null,null,null,null,null,null,null,null,null,null,null,null,null,null,null,null,null,null,null,null,null,null,null,null,null,"",null,null,null,null,null,null,null,null,null,null,null,null,null,null,null,null,null,null,null,null,null,null,null,null,null,null,null,null,null,null,null,null,null,null,null,null,null,null,null,null,null,null,null,null,null,null,"","","","","","","",0,0,0,0,0,0,0]
["REHABILITACIÓN: PRÓTESIS IMPLANTOASISTIDA","CONSULTA NUEVA ",null,0,0,0,null,null,null,null,null,null,null,null,null,null,null,null,null,null,null,null,null,null,null,null,null,null,null,null,null,"",null,null,null,null,null,null,null,null,null,null,null,null,null,null,null,null,null,null,null,null,null,null,null,null,null,null,null,null,null,null,null,null,null,null,null,null,null,null,null,null,null,null,null,null,null,null,"","","","","","","",0,0,0,0,0,0,0]
[null,"CONTROL ",null,0,0,0,null,null,null,null,null,null,null,null,null,null,null,null,null,null,null,null,null,null,null,null,null,null,null,null,null,"",null,null,null,null,null,null,null,null,null,null,null,null,null,null,null,null,null,null,null,null,null,null,null,null,null,null,null,null,null,null,null,null,null,null,null,null,null,null,null,null,null,null,null,null,null,null,"","","","","","","",0,0,0,0,0,0,0]
[null,"INGRESOS A TRATAMIENTO",null,0,0,0,null,null,null,null,null,null,null,null,null,null,null,null,null,null,null,null,null,null,null,null,null,null,null,null,null,"",null,null,null,null,null,null,null,null,null,null,null,null,null,null,null,null,null,null,null,null,null,null,null,null,null,null,null,null,null,null,null,null,null,null,null,null,null,null,null,null,null,null,null,null,null,null,"","","","","","","",0,0,0,0,0,0,0]
[null,"ALTAS DE TRATAMIENTO",null,0,0,0,null,null,null,null,null,null,null,null,null,null,null,null,null,null,null,null,null,null,null,null,null,null,null,null,null,"",null,null,null,null,null,null,null,null,null,null,null,null,null,null,null,null,null,null,null,null,null,null,null,null,null,null,null,null,null,null,null,null,null,null,null,null,null,null,null,null,null,null,null,null,null,null,"","","","","","","",0,0,0,0,0,0,0]
[null,"ALTAS ADMINISTRATIVAS",null,0,0,0,null,null,null,null,null,null,null,null,null,null,null,null,null,null,null,null,null,null,null,null,null,null,null,null,null,"",null,null,null,null,null,null,null,null,null,null,null,null,null,null,null,null,null,null,null,null,null,null,null,null,null,null,null,null,null,null,null,null,null,null,null,null,null,null,null,null,null,null,null,null,null,null,"","","","","","","",0,0,0,0,0,0,0]
["IMPLANTOLOGÍA BUCO MAXILOFACIAL","CONSULTA NUEVA ",null,0,0,0,null,null,null,null,null,null,null,null,null,null,null,null,null,null,null,null,null,null,null,null,null,null,null,null,null,"",null,null,null,null,null,null,null,null,null,null,null,null,null,null,null,null,null,null,null,null,null,null,null,null,null,null,null,null,null,null,null,null,null,null,null,null,null,null,null,null,null,null,null,null,null,null,"","","","","","","",0,0,0,0,0,0,0]
[null,"CONTROL ",null,0,0,0,null,null,null,null,null,null,null,null,null,null,null,null,null,null,null,null,null,null,null,null,null,null,null,null,null,"",null,null,null,null,null,null,null,null,null,null,null,null,null,null,null,null,null,null,null,null,null,null,null,null,null,null,null,null,null,null,null,null,null,null,null,null,null,null,null,null,null,null,null,null,null,null,"","","","","","","",0,0,0,0,0,0,0]
[null,"INGRESOS A TRATAMIENTO",null,0,0,0,null,null,null,null,null,null,null,null,null,null,null,null,null,null,null,null,null,null,null,null,null,null,null,null,null,"",null,null,null,null,null,null,null,null,null,null,null,null,null,null,null,null,null,null,null,null,null,null,null,null,null,null,null,null,null,null,null,null,null,null,null,null,null,null,null,null,null,null,null,null,null,null,"","","","","","","",0,0,0,0,0,0,0]
[null,"ALTAS DE TRATAMIENTO",null,0,0,0,null,null,null,null,null,null,null,null,null,null,null,null,null,null,null,null,null,null,null,null,null,null,null,null,null,"",null,null,null,null,null,null,null,null,null,null,null,null,null,null,null,null,null,null,null,null,null,null,null,null,null,null,null,null,null,null,null,null,null,null,null,null,null,null,null,null,null,null,null,null,null,null,"","","","","","","",0,0,0,0,0,0,0]
[null,"ALTAS ADMINISTRATIVAS",null,0,0,0,null,null,null,null,null,null,null,null,null,null,null,null,null,null,null,null,null,null,null,null,null,null,null,null,null,"",null,null,null,null,null,null,null,null,null,null,null,null,null,null,null,null,null,null,null,null,null,null,null,null,null,null,null,null,null,null,null,null,null,null,null,null,null,null,null,null,null,null,null,null,null,null,"","","","","","","",0,0,0,0,0,0,0]
["PATOLOGÍA ORAL","CONSULTA NUEVA ",null,0,0,0,null,null,null,null,null,null,null,null,null,null,null,null,null,null,null,null,null,null,null,null,null,null,null,null,null,"",null,null,null,null,null,null,null,null,null,null,null,null,null,null,null,null,null,null,null,null,null,null,null,null,null,null,null,null,null,null,null,null,null,null,null,null,null,null,null,null,null,null,null,null,null,null,"","","","","","","",0,0,0,0,0,0,0]
[null,"CONTROL ",null,0,0,0,null,null,null,null,null,null,null,null,null,null,null,null,null,null,null,null,null,null,null,null,null,null,null,null,null,"",null,null,null,null,null,null,null,null,null,null,null,null,null,null,null,null,null,null,null,null,null,null,null,null,null,null,null,null,null,null,null,null,null,null,null,null,null,null,null,null,null,null,null,null,null,null,"","","","","","","",0,0,0,0,0,0,0]
[null,"INGRESOS A TRATAMIENTO",null,0,0,0,null,null,null,null,null,null,null,null,null,null,null,null,null,null,null,null,null,null,null,null,null,null,null,null,null,"",null,null,null,null,null,null,null,null,null,null,null,null,null,null,null,null,null,null,null,null,null,null,null,null,null,null,null,null,null,null,null,null,null,null,null,null,null,null,null,null,null,null,null,null,null,null,"","",{"$f":"IF(CJ267=1,\"* La consulta pertinente según condición clínica NO DEBE ser mayor al Total registrado. \",\"\")","v":""},"","","","",0,0,{"$f":"IF(D269<Z269,1,0)","v":0},0,0,0,0]
[null,"ALTAS DE TRATAMIENTO",null,0,0,0,null,null,null,null,null,null,null,null,null,null,null,null,null,null,null,null,null,null,null,null,null,null,null,null,null,{"$f":"CA268&CB268&CC268&CD268&CE268&CF268&CG268","v":""},null,null,null,null,null,null,null,null,null,null,null,null,null,null,null,null,null,null,null,null,null,null,null,null,null,null,null,null,null,null,null,null,null,null,null,null,null,null,null,null,null,null,null,null,null,null,{"$f":"IF(CH268=1,\"* El número de pacientes de 60 años NO DEBE Ser mayor a lo registrado en el grupo Etario 20-64 años. \",\"\")","v":""},{"$f":"IF(CI268=1,\"* La consulta pertinente según Protocolo de Referencia NO DEBE ser mayor al Total registrado. \",\"\")","v":""},"","",{"$f":"IF(AND($D268<>0,AC268=\"\"),\"* No olvide digitar la columna Usuarios en Situación de Discapacidad (Digite CEROS si no tiene). \",IF($D268<AC268,\"* Los Usuarios en Situación de Discapacidad NO DEBEN ser mayor al total. \",\"\"))","v":""},{"$f":"IF(AND($D268<>0,AD268=\"\"),\"* No olvide digitar la columna Niños, Niñas, Adolescentes y Jóvenes Población SENAME (Digite CEROS si no tiene). \",IF($D268<AD268,\"* Los Niños, Niñas, Adolescentes y Jóvenes Población SENAME NO DEBEN ser mayor al total. \",\"\"))","v":""},{"$f":"IF(AND($D268<>0,AE268=\"\"),\"* No olvide digitar la columna Migrantes (Digite CEROS si no tiene). \",IF($D268<AE268,\"* Los Migrantes NO DEBEN ser mayor al total. \",\"\"))","v":""},0,{"$f":"IF(D268<Y268,1,0)","v":0},0,0,{"$f":"IF(AND($D268<>0,AC268=\"\"),1,IF($D268<AC268,1,0))","v":0},0,0]
[null,"ALTAS ADMINISTRATIVAS",null,0,0,0,null,null,null,null,null,null,null,null,null,null,null,null,null,null,null,null,null,null,null,null,null,null,null,null,null,"",null,null,null,null,null,null,null,null,null,null,null,null,null,null,null,null,null,null,null,null,null,null,null,null,null,null,null,null,null,null,null,null,null,null,null,null,null,null,null,null,null,null,null,null,null,null,"","","","","","","",0,0,0,0,0,0,0]
["TRASTORNOS TEMPOROMANDIBULARES Y DOLOR OROFACIAL","CONSULTA NUEVA ",null,0,0,0,null,null,null,null,null,null,null,null,null,null,null,null,null,null,null,null,null,null,null,null,null,null,null,null,null,"",null,null,null,null,null,null,null,null,null,null,null,null,null,null,null,null,null,null,null,null,null,null,null,null,null,null,null,null,null,null,null,null,null,null,null,null,null,null,null,null,null,null,null,null,null,null,"","","","","","","",0,0,0,0,0,0,0]
[null,"CONTROL ",null,0,0,0,null,null,null,null,null,null,null,null,null,null,null,null,null,null,null,null,null,null,null,null,null,null,null,null,null,"",null,null,null,null,null,null,null,null,null,null,null,null,null,null,null,null,null,null,null,null,null,null,null,null,null,null,null,null,null,null,null,null,null,null,null,null,null,null,null,null,null,null,null,null,null,null,"","","","","","","",0,0,0,0,0,0,0]
[null,"INGRESOS A TRATAMIENTO",null,0,0,0,null,null,null,null,null,null,null,null,null,null,null,null,null,null,null,null,null,null,null,null,null,null,null,null,null,"",null,null,null,null,null,null,null,null,null,null,null,null,null,null,null,null,null,null,null,null,null,null,null,null,null,null,null,null,null,null,null,null,null,null,null,null,null,null,null,null,null,null,null,null,null,null,"","","","","","","",0,0,0,0,0,0,0]
[null,"ALTAS DE TRATAMIENTO",null,0,0,0,null,null,null,null,null,null,null,null,null,null,null,null,null,null,null,null,null,null,null,null,null,null,null,null,null,"",null,null,null,null,null,null,null,null,null,null,null,null,null,null,null,null,null,null,null,null,null,null,null,null,null,null,null,null,null,null,null,null,null,null,null,null,null,null,null,null,null,null,null,null,null,null,"","","","","","","",0,0,0,0,0,0,0]
[null,"ALTAS ADMINISTRATIVAS",null,0,0,0,null,null,null,null,null,null,null,null,null,null,null,null,null,null,null,null,null,null,null,null,null,null,null,null,null,"",null,null,null,null,null,null,null,null,null,null,null,null,null,null,null,null,null,null,null,null,null,null,null,null,null,null,null,null,null,null,null,null,null,null,null,null,null,null,null,null,null,null,null,null,null,null,"","","","","","","",0,0,0,0,0,0,0]
["TOTAL","CONSULTA NUEVA ",null,{"$f":"SUM(E275+F275)","v":0},0,0,{"$f":"+G205+G210+G215+G220+G225+G230+G235+G240+G260+G265+G270","v":0},{"$f":"+H205+H210+H215+H220+H225+H230+H235+H240+H260+H265+H270","v":0},0,0,0,0,0,0,0,0,{"$f":"+Q205+Q210+Q215+Q220+Q225+Q230+Q235+Q240+Q245+Q250+Q255+Q260+Q265+Q270","v":0},0,{"$f":"+S205+S210+S215+S225+S230+S235+S240+S245+S250+S255+S260+S265+S270","v":0},{"$f":"+T205+T210+T215+T225+T230+T235+T240+T245+T250+T255+T260+T265+T270","v":0},0,0,{"$f":"+W205+W210+W215+W220+W225+W240+W245+W250+W255+W260+W265+W270","v":0},{"$f":"+X205+X210+X215+X225+X240+X245+X250+X255+X260+X265+X270","v":0},{"$f":"+Y205+Y210+Y215+Y220+Y225+Y230+Y235+Y240+Y245+Y250+Y255+Y260+Y265+Y270","v":0},{"$f":"+Z205+Z210+Z215+Z220+Z225+Z230+Z235+Z240+Z245+Z250+Z255+Z260+Z265+Z270","v":0},{"$f":"+AA205+AA210+AA215+AA220+AA225+AA230+AA235+AA240+AA245+AA250+AA255+AA260+AA265+AA270","v":0},0,0,0,0,"",null,null,null,null,null,null,null,null,null,null,null,null,null,null,null,null,null,null,null,null,null,null,null,null,null,null,null,null,null,null,null,null,null,null,null,null,null,null,null,null,null,null,null,null,null,null,"","","","","","","",0,0,0,0,0,0,0]
[null,"CONTROL ",null,{"$f":"SUM(E276+F276)","v":0},0,0,{"$f":"+G206+G211+G216+G221+G226+G231+G236+G241+G261+G266+G271","v":0},{"$f":"+H206+H211+H216+H221+H226+H231+H236+H241+H261+H266+H271","v":0},0,0,0,0,0,0,0,0,0,0,{"$f":"+S206+S211+S216+S226+S231+S236+S241+S246+S251+S256+S261+S266+S271","v":0},{"$f":"+T206+T211+T216+T226+T231+T236+T241+T246+T251+T256+T261+T266+T271","v":0},0,0,{"$f":"+W206+W211+W216+W221+W226+W241+W246+W251+W256+W261+W266+W271","v":0},{"$f":"+X206+X211+X216+X226+X241+X246+X251+X256+X261+X266+X271","v":0},null,null,{"$f":"+AA206+AA211+AA216+AA221+AA226+AA231+AA236+AA241+AA246+AA251+AA256+AA261+AA266+AA271","v":0},0,0,0,0,"",null,null,null,null,null,null,null,null,null,null,null,null,null,null,null,null,null,null,null,null,null,null,null,null,null,null,null,null,null,null,null,null,null,null,null,null,null,null,null,null,null,null,null,null,null,null,"","","","","","","",0,0,0,0,0,0,0]
[null,"INGRESOS A TRATAMIENTO",null,{"$f":"SUM(E277+F277)","v":0},0,0,{"$f":"+G207+G212+G217+G222+G227+G232+G237+G242+G262+G267+G272","v":0},{"$f":"+H207+H212+H217+H222+H227+H232+H237+H242+H262+H267+H272","v":0},0,0,0,0,0,0,0,0,0,0,{"$f":"+S207+S212+S217+S227+S232+S237+S242+S247+S252+S257+S262+S267+S272","v":0},{"$f":"+T207+T212+T217+T227+T232+T237+T242+T247+T252+T257+T262+T267+T272","v":0},0,0,{"$f":"+W207+W212+W217+W222+W227+W242+W247+W252+W257+W262+W267+W272","v":0},{"$f":"+X207+X212+X217+X227+X242+X247+X252+X257+X262+X267+X272","v":0},null,null,{"$f":"+AA207+AA212+AA217+AA222+AA227+AA232+AA237+AA242+AA247+AA252+AA257+AA262+AA267+AA272","v":0},0,0,0,0,"",null,null,null,null,null,null,null,null,null,null,null,null,null,null,null,null,null,null,null,null,null,null,null,null,null,null,null,null,null,null,null,null,null,null,null,null,null,null,null,null,null,null,null,null,null,null,"","","","","","","",0,0,0,0,0,0,0]
[null,"ALTAS DE TRATAMIENTO",null,{"$f":"SUM(E278+F278)","v":0},0,0,{"$f":"+G208+G213+G218+G223+G228+G233+G238+G243+G263+G268+G273","v":0},{"$f":"+H208+H213+H218+H223+H228+H233+H238+H243+H263+H268+H273","v":0},0,0,0,0,0,0,0,0,0,0,{"$f":"+S208+S213+S218+S228+S233+S238+S243+S248+S253+S258+S263+S268+S273","v":0},{"$f":"+T208+T213+T218+T228+T233+T238+T243+T248+T253+T258+T263+T268+T273","v":0},0,0,{"$f":"+W208+W213+W218+W223+W228+W243+W248+W253+W258+W263+W268+W273","v":0},{"$f":"+X208+X213+X218+X228+X243+X248+X253+X258+X263+X268+X273","v":0},null,null,{"$f":"+AA208+AA213+AA218+AA223+AA228+AA233+AA238+AA243+AA248+AA253+AA258+AA263+AA268+AA273","v":0},0,0,0,0,"",null,null,null,null,null,null,null,null,null,null,null,null,null,null,null,null,null,null,null,null,null,null,null,null,null,null,null,null,null,null,null,null,null,null,null,null,null,null,null,null,null,null,null,null,null,null,"","","","","","","",0,0,0,0,0,0,0]
[null,"ALTAS ADMINISTRATIVAS",null,{"$f":"SUM(E279+F279)","v":0},0,0,{"$f":"SUM(G209+G214+G219+G224+G229+G234+G239+G244+G264+G269+G274)","v":0},{"$f":"SUM(H209+H214+H219+H224+H229+H234+H239+H244+H264+H269+H274)","v":0},0,0,0,0,0,0,0,0,{"$f":"SUM(Q209+Q214+Q219+Q224+Q229+Q234+Q239+Q244+Q249+Q254+Q259+Q264+Q269+Q274)","v":0},{"$f":"SUM(R209+R214+R219+R224+R229+R234+R239+R244+R249+R254+R259+R264+R269+R274)","v":0},{"$f":"SUM(S209+S214+S219+S229+S234+S239+S244+S249+S254+S259+S264+S269+S274)","v":0},{"$f":"SUM(T209+T214+T219+T229+T234+T239+T244+T249+T254+T259+T264+T269+T274)","v":0},{"$f":"SUM(U209+U214+U219+U229+U234+U239+U244+U249+U254+U259+U264+U269+U274)","v":0},{"$f":"SUM(V209+V214+V219+V229+V234+V239+V244+V249+V254+V259+V264+V269+V274)","v":0},{"$f":"SUM(W209+W213+W218+W228+W243+W248+W253+W263+W268+W274)","v":0},{"$f":"SUM(X209+X213+X218+X228+X243+X248+X253+X263+X268+X274)","v":0},null,null,{"$f":"SUM(AA209+AA214+AA219+AA224+AA229+AA234+AA239+AA244+AA249+AA254+AA259+AA264+AA269+AA274)","v":0},0,0,0,0]
["SECCIÓN J: ACTIVIDADES EFECTUADAS POR TÉCNICO PARAMÉDICO DENTAL Y/O HIGIENISTAS DENTALES  "]
["TIPO DE ACTIVIDAD",null,null,"TOTAL",null,null,"Según grupos de edad o de riesgo",null,null,null,null,null,null,null,"EMBARAZADAS","60 AÑOS (INCLUÍDO EN GRUPOS DE 20-64 AÑOS)"]
[null,null,null,null,null,null,"0-5 años","6 años","7 años","12 años","Resto <15 años","15-19\naños","20-64 \naños","65 y \nmás años"]
[null,null,null,"Ambos Sexos","Hombres","Mujeres"]
["APLICACIÓN DE SELLANTES",null,null,{"$f":"SUM(G284:N284)","v":0},null,null,null,null,null,null,null,null,null,null,null,null,{"$f":"CA284&CB284&CC284","v":""},null,null,null,null,null,null,null,null,null,null,null,null,null,null,null,null,null,null,null,null,null,null,null,null,null,null,null,null,null,null,null,null,null,null,null,null,null,null,null,null,null,null,null,null,null,null,null,null,null,null,null,null,null,null,null,null,null,null,null,null,null,{"$f":"IF(CH284=1,\"* La suma de los sexos NO DEBE ser diferente al Total. \",\"\")","v":""},{"$f":"IF(CI284=1,\"* Las actividades de 60 años NO DEBE ser mayor que el de 20-64 Años. \",\"\")","v":""},{"$f":"IF(AND(D284<>0,O284=\"\"),\"* Recuerde que las Embarazadas deben ser incluídas en el ingreso por rango Etario (Digite CEROS si no tiene). \",IF(F284<O284,\"* Las Embarazadas NO DEBEN ser mayor al total de Mujeres. \",\"\"))","v":""},null,null,null,null,{"$f":"IF(D284<>(E284+F284),1,0)","v":0},{"$f":"IF(M284<P284,1,0)","v":0},{"$f":"IF(AND(D284<>0,O284=\"\"),1,IF(F284<O284,1,0))","v":0}]
["PULIDO CORONARIO Y DESTARTRAJE SUPRAGINGIVAL",null,null,{"$f":"SUM(G285:N285)","v":0},null,null,null,null,null,null,null,null,null,null,null,null,{"$f":"CA285&CB285&CC285","v":""},null,null,null,null,null,null,null,null,null,null,null,null,null,null,null,null,null,null,null,null,null,null,null,null,null,null,null,null,null,null,null,null,null,null,null,null,null,null,null,null,null,null,null,null,null,null,null,null,null,null,null,null,null,null,null,null,null,null,null,null,null,"",{"$f":"IF(CI285=1,\"* Las actividades de 60 años NO DEBE ser mayor que el de 20-64 Años. \",\"\")","v":""},{"$f":"IF(AND(D285<>0,O285=\"\"),\"* Recuerde que las Embarazadas deben ser incluídas en el ingreso por rango Etario (Digite CEROS si no tiene). \",IF(F285<O285,\"* Las Embarazadas NO DEBEN ser mayor al total de Mujeres. \",\"\"))","v":""},null,null,null,null,{"$f":"IF(D285<>(E285+F285),1,0)","v":0},{"$f":"IF(M285<P285,1,0)","v":0},{"$f":"IF(AND(D285<>0,O285=\"\"),1,IF(F285<O285,1,0))","v":0}]
["FLUORURACIÓN TÓPICA ",null,null,{"$f":"SUM(G286:N286)","v":0},null,null,null,null,null,null,null,null,null,null,null,null,"",null,null,null,null,null,null,null,null,null,null,null,null,null,null,null,null,null,null,null,null,null,null,null,null,null,null,null,null,null,null,null,null,null,null,null,null,null,null,null,null,null,null,null,null,null,null,null,null,null,null,null,null,null,null,null,null,null,null,null,null,null,"","","",null,null,null,null,0,0,0]
["EDUCACIÓN INDIVIDUAL CON INSTRUCCIÓN DE TÉCNICA DE CEPILLADO",null,null,{"$f":"SUM(G287:N287)","v":0},null,null,null,null,null,null,null,null,null,null,null,null,"",null,null,null,null,null,null,null,null,null,null,null,null,null,null,null,null,null,null,null,null,null,null,null,null,null,null,null,null,null,null,null,null,null,null,null,null,null,null,null,null,null,null,null,null,null,null,null,null,null,null,null,null,null,null,null,null,null,null,null,null,null,"","","",null,null,null,null,0,0,0]
["RADIOGRAFÍAS INTRAORALES (RETROALVEOLARES Y BITEWING)",null,null,{"$f":"SUM(G288:N288)","v":0},null,null,null,null,null,null,null,null,null,null,null,null,"",null,null,null,null,null,null,null,null,null,null,null,null,null,null,null,null,null,null,null,null,null,null,null,null,null,null,null,null,null,null,null,null,null,null,null,null,null,null,null,null,null,null,null,null,null,null,null,null,null,null,null,null,null,null,null,null,null,null,null,null,null,"","","",null,null,null,null,0,0,0]
["SECCIÓN K : GESTIÓN DE AGENDA (CLÍNICAS DENTALES MÓVILES). ",null,null,null,null,null,null,null,null,null,null,null,null,null,null,null,"  "]
["CONSULTAS","HORAS ODONTOLÓGICAS MENSUALES CONTRATADAS","HORAS DISPONIBLES DE ATENCIÓN CLÍNICA","CITAS AGENDADAS","CITAS EFECTIVAS"]
[]
[]
[]
["NIVEL PRIMARIO",null,null,{"$f":"SUM(D295:D297)","v":0},{"$f":"SUM(E295:E297)","v":0}]
["ATENCIÓN MORBILIDAD"]
["ATENCIÓN TRATAMIENTO"]
["ATENCIÓN URGENCIA"]
["SECCIÓN L: CONSULTORÍAS DE ESPECIALIDADES ODONTOLÓGICAS. "]
["ESPECIALIDADES",null,"Nº CONSULTORÍAS","Nº DE CASOS REVISADOS POR EL EQUIPO","Nº DE CASOS ATENDIDOS"]
["ENDODONCIA"]
["IMAGENOLOGÍA ORAL Y MAXILOFACIAL "]
["ORTODONCIA"]
["ODONTOPEDIATRÍA"]
["PERIODONCIA"]
["REHABILITACIÓN ORAL"]
["CIRUGÍA Y TRAUMATOLOGÍA MAXILOFACIAL"]
["TRASTORNOS TEMPOROMANDIBULARES Y DOLOR OROFACIAL"]
["PATOLOGÍA ORAL"]
["IMPLANTOLOGÍA BUCO MAXILOFACIAL"]
[]
[]
[]
[]
[]
[]
[]
[]
[]
[]
[]
[]
[]
[]
[]
[]
[]
[]
[]
[]
[]
[]
[]
[]
[]
[]
[]
[]
[]
[]
[]
[]
[]
[]
[]
[{"$f":"SUM(D12:D15,D36,D58,D61:I71,D75:D76,D132,D144,D149:D181,D186:D189,D195:D198,D275:D279,D284:D288,B294:C294,D295:E297,C300:C309)","v":0},{"$f":"SUM(CH9:CN298)","v":0}]

{"sheet":"A11","index":10,"n_rows":283,"n_cols":130,"rows_kept":283,"cut":false,"hidden":false,"merged":[[241,0,259,0],[260,0,263,0],[239,30,239,31],[239,32,239,33],[239,34,239,35],[239,36,239,37],[239,38,239,39],[239,40,239,41],[239,18,239,19],[239,20,239,21],[239,22,239,23],[239,24,239,25],[239,26,239,27],[239,28,239,29],[238,0,240,1],[238,2,239,3],[238,44,239,45],[238,46,239,47],[238,48,239,49],[239,4,239,5],[239,6,239,7],[239,8,239,9],[239,10,239,11],[239,12,239,13],[239,14,239,15],[239,16,239,17],[239,42,239,43],[238,4,238,35],[238,36,238,39],[238,40,238,43],[227,41,229,41],[227,42,229,42],[228,3,228,4],[228,5,228,6],[228,7,228,8],[228,9,228,10],[228,11,228,12],[228,13,228,14],[228,15,228,16],[228,17,228,18],[227,0,229,0],[227,1,228,2],[227,3,227,36],[227,37,227,38],[227,39,227,40],[228,19,228,20],[228,21,228,22],[217,27,217,28],[217,29,217,30],[217,31,217,32],[217,33,217,34],[217,35,217,36],[217,37,218,37],[228,35,228,36],[228,37,229,37],[228,38,229,38],[228,39,229,39],[228,40,229,40],[228,23,228,24],[228,25,228,26],[228,27,228,28],[228,29,228,30],[228,31,228,32],[228,33,228,34],[216,41,218,41],[216,42,218,42],[217,3,217,4],[217,5,217,6],[217,7,217,8],[217,9,217,10],[217,11,217,12],[217,13,217,14],[217,15,217,16],[217,17,217,18],[217,38,218,38],[217,39,218,39],[217,40,218,40],[208,0,208,1],[216,0,218,0],[216,1,217,2],[216,3,216,36],[216,37,216,38],[216,39,216,40],[217,19,217,20],[217,21,217,22],[217,23,217,24],[217,25,217,26],[204,0,204,1],[205,0,205,1],[206,0,206,1],[207,0,207,1],[193,0,193,1],[194,0,194,1],[195,0,197,0],[198,0,198,1],[199,0,199,1],[200,0,200,1],[189,0,189,1],[190,0,190,1],[191,0,191,1],[192,0,192,1],[184,34,184,35],[184,36,184,37],[184,38,184,39],[201,0,201,1],[202,0,202,1],[186,0,186,1],[184,22,184,23],[184,24,184,25],[184,26,184,27],[184,28,184,29],[184,30,184,31],[184,32,184,33],[187,0,187,1],[188,0,188,1],[183,36,183,39],[183,40,183,43],[183,44,184,45],[183,46,184,47],[183,48,184,49],[184,4,184,5],[184,6,184,7],[184,8,184,9],[184,10,184,11],[184,12,184,13],[184,40,184,41],[184,42,184,43],[180,0,180,1],[181,0,181,1],[182,0,182,16],[183,0,185,1],[183,2,184,3],[183,4,183,35],[184,14,184,15],[184,16,184,17],[184,18,184,19],[184,20,184,21],[173,0,173,1],[174,0,174,1],[175,0,175,1],[177,0,177,1],[178,0,178,1],[179,0,179,1],[165,0,165,1],[166,0,166,1],[167,0,167,1],[168,0,170,0],[171,0,171,1],[172,0,172,1],[159,0,159,1],[160,0,160,1],[161,0,161,1],[162,0,162,1],[163,0,163,1],[164,0,164,1],[157,32,157,33],[157,34,157,35],[157,36,157,37],[156,36,156,39],[156,40,156,43],[156,44,157,45],[156,46,157,47],[156,48,157,49],[157,4,157,5],[157,6,157,7],[157,8,157,9],[157,10,157,11],[157,12,157,13],[157,38,157,39],[157,40,157,41],[157,42,157,43],[157,20,157,21],[157,22,157,23],[157,24,157,25],[157,26,157,27],[157,28,157,29],[157,30,157,31],[150,0,150,1],[151,0,153,0],[154,0,154,1],[155,0,155,16],[156,0,158,1],[156,2,157,3],[156,4,156,35],[157,14,157,15],[157,16,157,17],[157,18,157,19],[142,0,142,1],[143,0,145,0],[146,0,146,1],[147,0,147,17],[148,0,149,1],[148,2,148,4],[148,5,148,7],[148,8,148,10],[148,11,148,13],[148,14,148,15],[139,0,139,16],[140,0,141,1],[140,2,140,4],[140,5,140,7],[140,8,140,10],[140,11,140,13],[140,14,140,15],[119,33,119,34],[119,35,119,36],[119,21,119,22],[119,23,119,24],[119,25,119,26],[119,27,119,28],[119,29,119,30],[119,31,119,32],[118,0,120,0],[118,1,119,2],[118,45,119,46],[118,47,120,47],[118,48,120,48],[119,3,119,4],[119,5,119,6],[119,7,119,8],[119,9,119,10],[119,11,119,12],[119,13,119,14],[119,15,119,16],[119,44,120,44],[119,37,119,38],[119,39,119,40],[119,41,119,42],[119,43,120,43],[118,3,118,42],[118,43,118,44],[119,17,119,18],[119,19,119,20],[96,47,98,47],[96,48,98,48],[97,3,97,4],[97,5,97,6],[97,7,97,8],[97,9,97,10],[97,11,97,12],[97,13,97,14],[97,15,97,16],[97,17,97,18],[97,39,97,40],[97,41,97,42],[97,43,98,43],[97,44,98,44],[96,0,98,0],[96,1,97,2],[96,3,96,42],[96,43,96,44],[96,45,97,46],[97,19,97,20],[97,21,97,22],[97,23,97,24],[97,25,97,26],[97,27,97,28],[97,29,97,30],[97,31,97,32],[97,33,97,34],[97,35,97,36],[97,37,97,38],[74,47,76,47],[74,48,76,48],[75,3,75,4],[75,5,75,6],[75,7,75,8],[75,9,75,10],[75,11,75,12],[75,13,75,14],[75,15,75,16],[75,44,76,44],[75,33,75,34],[75,35,75,36],[75,37,75,38],[75,39,75,40],[75,41,75,42],[75,43,76,43],[75,21,75,22],[75,23,75,24],[75,25,75,26],[75,27,75,28],[75,29,75,30],[75,31,75,32],[74,45,75,46],[74,0,76,0],[74,1,75,2],[74,3,74,42],[74,43,74,44],[75,17,75,18],[75,19,75,20],[53,27,53,28],[53,29,53,30],[53,31,53,32],[53,33,53,34],[53,35,53,36],[53,37,53,38],[52,0,54,0],[52,1,53,2],[52,47,54,47],[52,48,54,48],[53,3,53,4],[53,5,53,6],[53,7,53,8],[53,9,53,10],[53,11,53,12],[53,13,53,14],[53,15,53,16],[53,17,53,18],[53,39,53,40],[53,41,53,42],[53,43,54,43],[53,44,54,44],[52,3,52,42],[52,43,52,44],[52,45,53,46],[53,19,53,20],[53,21,53,22],[53,23,53,24],[53,25,53,26],[30,47,32,47],[30,48,32,48],[31,3,31,4],[31,5,31,6],[31,7,31,8],[31,9,31,10],[31,11,31,12],[31,13,31,14],[31,15,31,16],[31,44,32,44],[31,33,31,34],[31,35,31,36],[31,37,31,38],[31,39,31,40],[31,41,31,42],[31,43,32,43],[31,21,31,22],[31,23,31,24],[31,25,31,26],[31,27,31,28],[31,29,31,30],[31,31,31,32],[30,45,31,46],[30,0,32,0],[30,1,31,2],[30,3,30,42],[30,43,30,44],[31,17,31,18],[31,19,31,20],[9,27,9,28],[9,29,9,30],[9,31,9,32],[9,33,9,34],[9,35,9,36],[9,37,9,38],[8,47,10,47],[8,48,10,48],[9,3,9,4],[9,5,9,6],[9,7,9,8],[9,9,9,10],[9,11,9,12],[9,13,9,14],[9,15,9,16],[9,17,9,18],[9,39,9,40],[9,41,9,42],[9,43,10,43],[9,44,10,44],[5,0,5,15],[8,0,10,0],[8,1,9,2],[8,3,8,42],[8,43,8,44],[8,45,9,46],[9,19,9,20],[9,21,9,22],[9,23,9,24],[9,25,9,26]]}
["SERVICIO DE SALUD"]
[{"$f":"CONCATENATE(\"COMUNA: \",NOMBRE!B2,\" - \",\"( \",NOMBRE!C2,NOMBRE!D2,NOMBRE!E2,NOMBRE!F2,NOMBRE!G2,\" )\")","v":"COMUNA:  - (  )"}]
[{"$f":"CONCATENATE(\"ESTABLECIMIENTO/ESTRATEGIA: \",NOMBRE!B3,\" - \",\"( \",NOMBRE!C3,NOMBRE!D3,NOMBRE!E3,NOMBRE!F3,NOMBRE!G3,NOMBRE!H3,\" )\")","v":"ESTABLECIMIENTO/ESTRATEGIA:  - (  )"}]
[{"$f":"CONCATENATE(\"MES: \",NOMBRE!B6,\" - \",\"( \",NOMBRE!C6,NOMBRE!D6,\" )\")","v":"MES:  - (  )"}]
[{"$f":"CONCATENATE(\"AÑO: \",NOMBRE!B7)","v":"AÑO: 2020"}]
["REM-A11.  EXÁMENES DE PESQUISA DE ENFERMEDADES TRASMISIBLES "]
["SECCION A: EXÁMENES DE SÍFILIS"]
["SECCIÓN A.1: EXAMEN VDRL POR GRUPO DE USUARIOS (Uso exclusivo de establecimientos con Laboratorio que procesan)"]
["GRUPO DE PESQUISA","TOTAL",null,"POR EDAD (en meses - años)",null,null,null,null,null,null,null,null,null,null,null,null,null,null,null,null,null,null,null,null,null,null,null,null,null,null,null,null,null,null,null,null,null,null,null,null,null,null,null,"POR SEXO\n(Procesados)",null,"TRANS",null,"Pueblos Originarios","Migrantes"]
[null,null,null,"Menor de 6 meses",null,"6 a 11 meses",null,"12-24 meses",null,"3 a 4",null,"5 a 9",null,"10 - 14",null,"15 - 19",null,"20 - 24",null,"25 a 29",null,"30 a 34",null,"35 a 39",null,"40 a 44",null,"45 a 49",null,"50 a 54",null,"55 a 59",null,"60 a 64",null,"65 a 69",null,"70 a 74",null,"75 a 79",null,"80 y más",null,"Hombres","Mujeres"]
[null,"Procesados","Reactivos","Procesados","Reactivos","Procesados","Reactivos","Procesados","Reactivos","Procesados","Reactivos","Procesados","Reactivos","Procesados","Reactivos","Procesados","Reactivos","Procesados","Reactivos","Procesados","Reactivos","Procesados","Reactivos","Procesados","Reactivos","Procesados","Reactivos","Procesados","Reactivos","Procesados","Reactivos","Procesados","Reactivos","Procesados","Reactivos","Procesados","Reactivos","Procesados","Reactivos","Procesados","Reactivos","Procesados","Reactivos",null,null,"Masculino","Femenino"]
["GESTANTES PRIMER TRIMESTRE EMBARAZO",{"$f":"+N12+P12+R12+T12+V12+X12+Z12+AB12+AD12+AF12+AH12+AJ12+AL12+AN12+AP12","v":0},{"$f":"+O12+Q12+S12+U12+W12+Y12+AA12+AC12+AE12+AG12+AI12+AK12+AM12+AO12+AQ12","v":0},null,null,null,null,null,null,null,null,null,null,null,null,null,null,null,null,null,null,null,null,null,null,null,null,null,null,null,null,null,null,null,null,null,null,null,null,null,null,null,null,null,null,null,null,null,null,{"$f":"$CA12&$CB12&$CC12&$CD12&$CE12&$CF12&$CG12&$CH12&$CI12&$CJ12&$CK12&$CL12&$CM12&$CN12&$CO12&$CP12&$CQ12&$CR12&$CS12&$CT12&$CU12&$CV12&$CW12&$CX12&$CY12&$CZ12","v":""},null,null,null,null,null,null,null,null,null,null,null,null,null,null,null,null,null,null,null,null,null,null,null,null,null,null,null,null,{"$f":"IF(B12<C12,\"* El total de Reactivos NO DEBE ser superior al total de Procesados. \",\"\")","v":""},{"$f":"IF(B12<>(AR12+ AS12),\"* La suma de las columnas Sexo DEBE SER IGUAL a los Procesados. \",\"\")","v":""},{"$f":"IF(B12<(AT12+ AU12),\"* La suma de las columna Trans NO DEBE ser superior al total de Procesados. \",\"\")","v":""},{"$f":"IF(B12<AV12,\"* La columna Pueblos Originarios NO DEBE ser superior al total de Procesados. \",\"\")","v":""},{"$f":"IF(B12<AW12,\"* La columna Migrantes NO DEBE ser superior al total de Procesados. \",\"\")","v":""},{"$f":"IF(D12<E12,CONCATENATE(\"* El total de procesados debe ser mayor o igual al total de Reactivos en el grupo de edad \",$D$10),\"\")","v":""},{"$f":"IF(F12<G12,CONCATENATE(\"* El total de procesados debe ser mayor o igual al total de Reactivos en el grupo de edad \",$F$10),\"\")","v":""},{"$f":"IF(H12<I12,CONCATENATE(\"* El total de procesados debe ser mayor o igual al total de Reactivos en el grupo de edad \",$H$10),\"\")","v":""},{"$f":"IF(J12<K12,CONCATENATE(\"* El total de procesados debe ser mayor o igual al total de Reactivos en el grupo de edad \",$J$10),\"\")","v":""},{"$f":"IF(L12<M12,CONCATENATE(\"* El total de procesados debe ser mayor o igual al total de Reactivos en el grupo de edad \",$L$10),\"\")","v":""},{"$f":"IF(N12<O12,CONCATENATE(\"* El total de procesados debe ser mayor o igual al total de Reactivos en el grupo de edad \",$N$10),\"\")","v":""},{"$f":"IF(P12<Q12,CONCATENATE(\"* El total de procesados debe ser mayor o igual al total de Reactivos en el grupo de edad \",$P$10),\"\")","v":""},{"$f":"IF(R12<S12,CONCATENATE(\"* El total de procesados debe ser mayor o igual al total de Reactivos en el grupo de edad \",$R$10),\"\")","v":""},{"$f":"IF(T12<U12,CONCATENATE(\"* El total de procesados debe ser mayor o igual al total de Reactivos en el grupo de edad \",$T$10),\"\")","v":""},{"$f":"IF(V12<W12,CONCATENATE(\"* El total de procesados debe ser mayor o igual al total de Reactivos en el grupo de edad \",$V$10),\"\")","v":""},{"$f":"IF(X12<Y12,CONCATENATE(\"* El total de procesados debe ser mayor o igual al total de Reactivos en el grupo de edad \",$X$10),\"\")","v":""},{"$f":"IF(Z12<AA12,CONCATENATE(\"* El total de procesados debe ser mayor o igual al total de Reactivos en el grupo de edad \",$Z$10),\"\")","v":""},{"$f":"IF(AB12<AC12,CONCATENATE(\"* El total de procesados debe ser mayor o igual al total de Reactivos en el grupo de edad \",$AB$10),\"\")","v":""},{"$f":"IF(AD12<AE12,CONCATENATE(\"* El total de procesados debe ser mayor o igual al total de Reactivos en el grupo de edad \",$AD$10),\"\")","v":""},{"$f":"IF(AF12<AG12,CONCATENATE(\"* El total de procesados debe ser mayor o igual al total de Reactivos en el grupo de edad \",$AF$10),\"\")","v":""},{"$f":"IF(AH12<AI12,CONCATENATE(\"* El total de procesados debe ser mayor o igual al total de Reactivos en el grupo de edad \",$AH$10),\"\")","v":""},{"$f":"IF(AJ12<AK12,CONCATENATE(\"* El total de procesados debe ser mayor o igual al total de Reactivos en el grupo de edad \",$AJ$10),\"\")","v":""},{"$f":"IF(AL12<AM12,CONCATENATE(\"* El total de procesados debe ser mayor o igual al total de Reactivos en el grupo de edad \",$AL$10),\"\")","v":""},{"$f":"IF(AN12<AO12,CONCATENATE(\"* El total de procesados debe ser mayor o igual al total de Reactivos en el grupo de edad \",$AN$10),\"\")","v":""},{"$f":"IF(AP12<AQ12,CONCATENATE(\"* El total de procesados debe ser mayor o igual al total de Reactivos en el grupo de edad \",$AP$10),\"\")","v":""},{"$f":"IF(AND(B12<>0,OR(AT12=\"\",AU12=\"\",AV12=\"\",AW12=\"\")),\"* No olvide digitar la columna Trans y/o Pueblos Originarios y/o Migrantes (Digite Cero si no tiene). \",\"\")","v":""},{"$f":"IF(B12<   C12,1,0)","v":0},{"$f":"IF(B12<> AR12+AS12,1,0)","v":0},{"$f":"IF(B12<  AT12+AU12,1,0)","v":0},{"$f":"IF(B12<  AV12,1,0)","v":0},{"$f":"IF(B12<  AW12,1,0)","v":0},{"$f":"IF(D12<E12,1,0)","v":0},{"$f":"IF(F12<G12,1,0)","v":0},{"$f":"IF(H12<I12,1,0)","v":0},{"$f":"IF(J12<K12,1,0)","v":0},{"$f":"IF(L12<M12,1,0)","v":0},{"$f":"IF(N12<O12,1,0)","v":0},{"$f":"IF(P12<Q12,1,0)","v":0},{"$f":"IF(R12<S12,1,0)","v":0},{"$f":"IF(T12<U12,1,0)","v":0},{"$f":"IF(V12<W12,1,0)","v":0},{"$f":"IF(X12<Y12,1,0)","v":0},{"$f":"IF(Z12<AA12,1,0)","v":0},{"$f":"IF(AB12<AC12,1,0)","v":0},{"$f":"IF(AD12<AE12,1,0)","v":0},{"$f":"IF(AF12<AG12,1,0)","v":0},{"$f":"IF(AH12<AI12,1,0)","v":0},{"$f":"IF(AJ12<AK12,1,0)","v":0},{"$f":"IF(AL12<AM12,1,0)","v":0},{"$f":"IF(AN12<AO12,1,0)","v":0},{"$f":"IF(AP12<AQ12,1,0)","v":0},{"$f":"IF(AND(B12<>0,OR(AT12=\"\",AU12=\"\",AV12=\"\",AW12=\"\")),1,0)","v":0}]
["GESTANTES SEGUNDO TRIMESTRE EMBARAZO",0,0,null,null,null,null,null,null,null,null,null,null,null,null,null,null,null,null,null,null,null,null,null,null,null,null,null,null,null,null,null,null,null,null,null,null,null,null,null,null,null,null,null,null,null,null,null,null,{"$f":"$CA13&$CB13&$CC13&$CD13&$CE13&$CF13&$CG13&$CH13&$CI13&$CJ13&$CK13&$CL13&$CM13&$CN13&$CO13&$CP13&$CQ13&$CR13&$CS13&$CT13&$CU13&$CV13&$CW13&$CX13&$CY13&$CZ13","v":""},null,null,null,null,null,null,null,null,null,null,null,null,null,null,null,null,null,null,null,null,null,null,null,null,null,null,null,null,{"$f":"IF(B13<C13,\"* El total de Reactivos NO DEBE ser superior al total de Procesados. \",\"\")","v":""},{"$f":"IF(B13<>(AR13+ AS13),\"* La suma de las columnas Sexo DEBE SER IGUAL a los Procesados. \",\"\")","v":""},{"$f":"IF(B13<(AT13+ AU13),\"* La suma de las columna Trans NO DEBE ser superior al total de Procesados. \",\"\")","v":""},{"$f":"IF(B13<AV13,\"* La columna Pueblos Originarios NO DEBE ser superior al total de Procesados. \",\"\")","v":""},{"$f":"IF(B13<AW13,\"* La columna Migrantes NO DEBE ser superior al total de Procesados. \",\"\")","v":""},{"$f":"IF(D13<E13,CONCATENATE(\"* El total de procesados debe ser mayor o igual al total de Reactivos en el grupo de edad \",$D$10),\"\")","v":""},{"$f":"IF(F13<G13,CONCATENATE(\"* El total de procesados debe ser mayor o igual al total de Reactivos en el grupo de edad \",$F$10),\"\")","v":""},{"$f":"IF(H13<I13,CONCATENATE(\"* El total de procesados debe ser mayor o igual al total de Reactivos en el grupo de edad \",$H$10),\"\")","v":""},{"$f":"IF(J13<K13,CONCATENATE(\"* El total de procesados debe ser mayor o igual al total de Reactivos en el grupo de edad \",$J$10),\"\")","v":""},{"$f":"IF(L13<M13,CONCATENATE(\"* El total de procesados debe ser mayor o igual al total de Reactivos en el grupo de edad \",$L$10),\"\")","v":""},{"$f":"IF(N13<O13,CONCATENATE(\"* El total de procesados debe ser mayor o igual al total de Reactivos en el grupo de edad \",$N$10),\"\")","v":""},{"$f":"IF(P13<Q13,CONCATENATE(\"* El total de procesados debe ser mayor o igual al total de Reactivos en el grupo de edad \",$P$10),\"\")","v":""},{"$f":"IF(R13<S13,CONCATENATE(\"* El total de procesados debe ser mayor o igual al total de Reactivos en el grupo de edad \",$R$10),\"\")","v":""},{"$f":"IF(T13<U13,CONCATENATE(\"* El total de procesados debe ser mayor o igual al total de Reactivos en el grupo de edad \",$T$10),\"\")","v":""},{"$f":"IF(V13<W13,CONCATENATE(\"* El total de procesados debe ser mayor o igual al total de Reactivos en el grupo de edad \",$V$10),\"\")","v":""},{"$f":"IF(X13<Y13,CONCATENATE(\"* El total de procesados debe ser mayor o igual al total de Reactivos en el grupo de edad \",$X$10),\"\")","v":""},{"$f":"IF(Z13<AA13,CONCATENATE(\"* El total de procesados debe ser mayor o igual al total de Reactivos en el grupo de edad \",$Z$10),\"\")","v":""},{"$f":"IF(AB13<AC13,CONCATENATE(\"* El total de procesados debe ser mayor o igual al total de Reactivos en el grupo de edad \",$AB$10),\"\")","v":""},{"$f":"IF(AD13<AE13,CONCATENATE(\"* El total de procesados debe ser mayor o igual al total de Reactivos en el grupo de edad \",$AD$10),\"\")","v":""},{"$f":"IF(AF13<AG13,CONCATENATE(\"* El total de procesados debe ser mayor o igual al total de Reactivos en el grupo de edad \",$AF$10),\"\")","v":""},{"$f":"IF(AH13<AI13,CONCATENATE(\"* El total de procesados debe ser mayor o igual al total de Reactivos en el grupo de edad \",$AH$10),\"\")","v":""},{"$f":"IF(AJ13<AK13,CONCATENATE(\"* El total de procesados debe ser mayor o igual al total de Reactivos en el grupo de edad \",$AJ$10),\"\")","v":""},{"$f":"IF(AL13<AM13,CONCATENATE(\"* El total de procesados debe ser mayor o igual al total de Reactivos en el grupo de edad \",$AL$10),\"\")","v":""},{"$f":"IF(AN13<AO13,CONCATENATE(\"* El total de procesados debe ser mayor o igual al total de Reactivos en el grupo de edad \",$AN$10),\"\")","v":""},{"$f":"IF(AP13<AQ13,CONCATENATE(\"* El total de procesados debe ser mayor o igual al total de Reactivos en el grupo de edad \",$AP$10),\"\")","v":""},"",0,0,0,0,0,{"$f":"IF(D13<E13,1,0)","v":0},{"$f":"IF(F13<G13,1,0)","v":0},{"$f":"IF(H13<I13,1,0)","v":0},{"$f":"IF(J13<K13,1,0)","v":0},{"$f":"IF(L13<M13,1,0)","v":0},{"$f":"IF(N13<O13,1,0)","v":0},{"$f":"IF(P13<Q13,1,0)","v":0},{"$f":"IF(R13<S13,1,0)","v":0},{"$f":"IF(T13<U13,1,0)","v":0},{"$f":"IF(V13<W13,1,0)","v":0},{"$f":"IF(X13<Y13,1,0)","v":0},{"$f":"IF(Z13<AA13,1,0)","v":0},{"$f":"IF(AB13<AC13,1,0)","v":0},{"$f":"IF(AD13<AE13,1,0)","v":0},{"$f":"IF(AF13<AG13,1,0)","v":0},{"$f":"IF(AH13<AI13,1,0)","v":0},{"$f":"IF(AJ13<AK13,1,0)","v":0},{"$f":"IF(AL13<AM13,1,0)","v":0},{"$f":"IF(AN13<AO13,1,0)","v":0},{"$f":"IF(AP13<AQ13,1,0)","v":0},{"$f":"IF(AND(B13<>0,OR(AT13=\"\",AU13=\"\",AV13=\"\",AW13=\"\")),1,0)","v":0}]
["GESTANTES TERCER TRIMESTRE EMBARAZO",0,0,null,null,null,null,null,null,null,null,null,null,null,null,null,null,null,null,null,null,null,null,null,null,null,null,null,null,null,null,null,null,null,null,null,null,null,null,null,null,null,null,null,null,null,null,null,null,"",null,null,null,null,null,null,null,null,null,null,null,null,null,null,null,null,null,null,null,null,null,null,null,null,null,null,null,null,"","","","","","","","","","","","","","","","","","","","","","","","","","",0,0,0,0,0,0,0,0,0,0,0,0,0,0,0,0,0,0,0,0,0,0,0,0,0,0]
["GESTANTES TRIMESTRE EMBARAZO IGNORADO",0,0,null,null,null,null,null,null,null,null,null,null,null,null,null,null,null,null,null,null,null,null,null,null,null,null,null,null,null,null,null,null,null,null,null,null,null,null,null,null,null,null,null,null,null,null,null,null,"",null,null,null,null,null,null,null,null,null,null,null,null,null,null,null,null,null,null,null,null,null,null,null,null,null,null,null,null,"","","","","","","","","","","","","","","","","","","","","","","","","","",0,0,0,0,0,0,0,0,0,0,0,0,0,0,0,0,0,0,0,0,0,0,0,0,0,0]
["GESTANTES EN SEGUIMIENTO POR DIAGNÓSTICO SÍFILIS",0,0,null,null,null,null,null,null,null,null,null,null,null,null,null,null,null,null,null,null,null,null,null,null,null,null,null,null,null,null,null,null,null,null,null,null,null,null,null,null,null,null,null,null,null,null,null,null,"",null,null,null,null,null,null,null,null,null,null,null,null,null,null,null,null,null,null,null,null,null,null,null,null,null,null,null,null,"","","","","","","","","","","","","","","","","","","","","","","","","","",0,0,0,0,0,0,0,0,0,0,0,0,0,0,0,0,0,0,0,0,0,0,0,0,0,0]
["PAREJA DE GESTANTE CON SEROLOGÍA REACTIVA",0,0,null,null,null,null,null,null,null,null,null,null,null,null,null,null,null,null,null,null,null,null,null,null,null,null,null,null,null,null,null,null,null,null,null,null,null,null,null,null,null,null,null,null,null,null,null,null,"",null,null,null,null,null,null,null,null,null,null,null,null,null,null,null,null,null,null,null,null,null,null,null,null,null,null,null,null,"","","","","","","","","","","","","","","","","","","","","","","","","","",0,0,0,0,0,0,0,0,0,0,0,0,0,0,0,0,0,0,0,0,0,0,0,0,0,0]
["MUJERES QUE INGRESAN A MATERNIDAD POR PARTO",0,0,null,null,null,null,null,null,null,null,null,null,null,null,null,null,null,null,null,null,null,null,null,null,null,null,null,null,null,null,null,null,null,null,null,null,null,null,null,null,null,null,null,null,null,null,null,null,"",null,null,null,null,null,null,null,null,null,null,null,null,null,null,null,null,null,null,null,null,null,null,null,null,null,null,null,null,"","","","","","","","","","","","","","","","","","","","","","","","","","",0,0,0,0,0,0,0,0,0,0,0,0,0,0,0,0,0,0,0,0,0,0,0,0,0,0]
["MUJERES QUE INGRESAN POR ABORTO",0,0,null,null,null,null,null,null,null,null,null,null,null,null,null,null,null,null,null,null,null,null,null,null,null,null,null,null,null,null,null,null,null,null,null,null,null,null,null,null,null,null,null,null,null,null,null,null,"",null,null,null,null,null,null,null,null,null,null,null,null,null,null,null,null,null,null,null,null,null,null,null,null,null,null,null,null,"","","","","","","","","","","","","","","","","","","","","","","","","","",0,0,0,0,0,0,0,0,0,0,0,0,0,0,0,0,0,0,0,0,0,0,0,0,0,0]
["MUJERES EN CONTROL GINECOLÓGICO",{"$f":"+D20+F20+H20+J20+L20+N20+P20+R20+T20+V20+X20+Z20+AB20+AD20+AF20+AH20+AJ20+AL20+AN20+AP20","v":0},{"$f":"+E20+G20+I20+K20+M20+O20+Q20+S20+U20+W20+Y20+AA20+AC20+AE20+AG20+AI20+AK20+AM20+AO20+AQ20","v":0},null,null,null,null,null,null,null,null,null,null,null,null,null,null,null,null,null,null,null,null,null,null,null,null,null,null,null,null,null,null,null,null,null,null,null,null,null,null,null,null,null,null,null,null,null,null,"",null,null,null,null,null,null,null,null,null,null,null,null,null,null,null,null,null,null,null,null,null,null,null,null,null,null,null,null,"","","","","","","","","","","","","","","","","","","","","","","","","","",0,0,0,0,0,0,0,0,0,0,0,0,0,0,0,0,0,0,0,0,0,0,0,0,0,0]
["RECIÉN NACIDO Y LACTANTE PARA DETECCIÓN DE SÍFILIS CONGÉNITA",{"$f":"+D21+F21+H21","v":0},{"$f":"+E21+G21+I21","v":0},null,null,null,null,null,null,null,null,null,null,null,null,null,null,null,null,null,null,null,null,null,null,null,null,null,null,null,null,null,null,null,null,null,null,null,null,null,null,null,null,null,null,null,null,null,null,"",null,null,null,null,null,null,null,null,null,null,null,null,null,null,null,null,null,null,null,null,null,null,null,null,null,null,null,null,"","","","","","","","","","","","","","","","","","","","","","","","","","",0,0,0,0,0,0,0,0,0,0,0,0,0,0,0,0,0,0,0,0,0,0,0,0,0,0]
["PERSONAS EN CONTROL POR COMERCIO SEXUAL",{"$f":"+P22+R22+T22+V22+X22+Z22+AB22+AD22+AF22+AH22+AJ22+AL22+AN22+AP22","v":0},{"$f":"+Q22+S22+U22+W22+Y22+AA22+AC22+AE22+AG22+AI22+AK22+AM22+AO22+AQ22","v":0},null,null,null,null,null,null,null,null,null,null,null,null,null,null,null,null,null,null,null,null,null,null,null,null,null,null,null,null,null,null,null,null,null,null,null,null,null,null,null,null,null,null,null,null,null,null,"",null,null,null,null,null,null,null,null,null,null,null,null,null,null,null,null,null,null,null,null,null,null,null,null,null,null,null,null,"","","","","","","","","","","","","","","","","","","","","","","","","","",0,0,0,0,0,0,0,0,0,0,0,0,0,0,0,0,0,0,0,0,0,0,0,0,0,0]
["PERSONAS EN CONTROL FECUNDIDAD",{"$f":"+N23+P23+R23+T23+V23+X23+Z23+AB23+AD23+AF23+AH23+AJ23+AL23+AN23+AP23","v":0},{"$f":"+O23+Q23+S23+U23+W23+Y23+AA23+AC23+AE23+AG23+AI23+AK23+AM23+AO23+AQ23","v":0},null,null,null,null,null,null,null,null,null,null,null,null,null,null,null,null,null,null,null,null,null,null,null,null,null,null,null,null,null,null,null,null,null,null,null,null,null,null,null,null,null,null,null,null,null,null,"",null,null,null,null,null,null,null,null,null,null,null,null,null,null,null,null,null,null,null,null,null,null,null,null,null,null,null,null,"","","","","","","","","","","","","","","","","","","","","","","","","","",0,0,0,0,0,0,0,0,0,0,0,0,0,0,0,0,0,0,0,0,0,0,0,0,0,0]
["CONSULTANTES POR ITS",{"$f":"+D24+F24+H24+J24+L24+N24+P24+R24+T24+V24+X24+Z24+AB24+AD24+AF24+AH24+AJ24+AL24+AN24+AP24","v":0},{"$f":"+E24+G24+I24+K24+M24+O24+Q24+S24+U24+W24+Y24+AA24+AC24+AE24+AG24+AI24+AK24+AM24+AO24+AQ24","v":0},null,null,null,null,null,null,null,null,null,null,null,null,null,null,null,null,null,null,null,null,null,null,null,null,null,null,null,null,null,null,null,null,null,null,null,null,null,null,null,null,null,null,null,null,null,null,"",null,null,null,null,null,null,null,null,null,null,null,null,null,null,null,null,null,null,null,null,null,null,null,null,null,null,null,null,"","","","","","","","","","","","","","","","","","","","","","","","","","",0,0,0,0,0,0,0,0,0,0,0,0,0,0,0,0,0,0,0,0,0,0,0,0,0,0]
["PERSONAS CON EMP",{"$f":"+P25+R25+T25+V25+X25+Z25+AB25+AD25+AF25+AH25+AJ25+AL25+AN25+AP25","v":0},{"$f":"+Q25+S25+U25+W25+Y25+AA25+AC25+AE25+AG25+AI25+AK25+AM25+AO25+AQ25","v":0},null,null,null,null,null,null,null,null,null,null,null,null,null,null,null,null,null,null,null,null,null,null,null,null,null,null,null,null,null,null,null,null,null,null,null,null,null,null,null,null,null,null,null,null,null,null,"",null,null,null,null,null,null,null,null,null,null,null,null,null,null,null,null,null,null,null,null,null,null,null,null,null,null,null,null,"","","","","","","","","","","","","","","","","","","","","","","","","","",0,0,0,0,0,0,0,0,0,0,0,0,0,0,0,0,0,0,0,0,0,0,0,0,0,0]
["DONANTES DE SANGRE",{"$f":"+P26+R26+T26+V26+X26+Z26+AB26+AD26+AF26+AH26","v":0},{"$f":"+Q26+S26+U26+W26+Y26+AA26+AC26+AE26+AG26+AI26","v":0},null,null,null,null,null,null,null,null,null,null,null,null,null,null,null,null,null,null,null,null,null,null,null,null,null,null,null,null,null,null,null,null,null,null,null,null,null,null,null,null,null,null,null,null,null,null,"",null,null,null,null,null,null,null,null,null,null,null,null,null,null,null,null,null,null,null,null,null,null,null,null,null,null,null,null,"","","","","","","","","","","","","","","","","","","","","","","","","","",0,0,0,0,0,0,0,0,0,0,0,0,0,0,0,0,0,0,0,0,0,0,0,0,0,0]
["DONANTES DE ÓRGANOS Y/O TEJIDOS",{"$f":"+D27+F27+H27+J27+L27+N27+P27+R27+T27+V27+X27+Z27+AB27+AD27+AF27+AH27+AJ27+AL27+AN27+AP27","v":0},0,null,null,null,null,null,null,null,null,null,null,null,null,null,null,null,null,null,null,null,null,null,null,null,null,null,null,null,null,null,null,null,null,null,null,null,null,null,null,null,null,null,null,null,null,null,null,"",null,null,null,null,null,null,null,null,null,null,null,null,null,null,null,null,null,null,null,null,null,null,null,null,null,null,null,null,"","","","","","","","","","","","","","","","","","","","","","","","","","",0,0,0,0,0,0,0,0,0,0,0,0,0,0,0,0,0,0,0,0,0,0,0,0,0,0]
["PACIENTES EN DIÁLISIS",0,0,null,null,null,null,null,null,null,null,null,null,null,null,null,null,null,null,null,null,null,null,null,null,null,null,null,null,null,null,null,null,null,null,null,null,null,null,null,null,null,null,null,null,null,null,null,null,"",null,null,null,null,null,null,null,null,null,null,null,null,null,null,null,null,null,null,null,null,null,null,null,null,null,null,null,null,"","","","","","","","","","","","","","","","","","","","","","","","","","",0,0,0,0,0,0,0,0,0,0,0,0,0,0,0,0,0,0,0,0,0,0,0,0,0,0]
["VÍCTIMA DE VIOLENCIA SEXUAL",0,0,null,null,null,null,null,null,null,null,null,null,null,null,null,null,null,null,null,null,null,null,null,null,null,null,null,null,null,null,null,null,null,null,null,null,null,null,null,null,null,null,null,null,null,null,null,null,"",null,null,null,null,null,null,null,null,null,null,null,null,null,null,null,null,null,null,null,null,null,null,null,null,null,null,null,null,"","","","","","","","","","","","","","","","","","","","","","","","","","",0,0,0,0,0,0,0,0,0,0,0,0,0,0,0,0,0,0,0,0,0,0,0,0,0,0]
["SECCIÓN A.2: EXAMEN VDRL POR GRUPO DE USUARIOS (Uso exclusivo de establecimientos que Compran Servicio)"]
["GRUPO DE PESQUISA","TOTAL",null,"POR EDAD (en meses - años)",null,null,null,null,null,null,null,null,null,null,null,null,null,null,null,null,null,null,null,null,null,null,null,null,null,null,null,null,null,null,null,null,null,null,null,null,null,null,null,"POR SEXO\n(Procesados)",null,"TRANS",null,"Pueblos Originarios","Migrantes"]
[null,null,null,"Menor de 6 meses",null,"6 a 11 meses",null,"12-24 meses",null,"3 a 4",null,"5 a 9",null,"10 - 14",null,"15 - 19",null,"20 - 24",null,"25 a 29",null,"30 a 34",null,"35 a 39",null,"40 a 44",null,"45 a 49",null,"50 a 54",null,"55 a 59",null,"60 a 64",null,"65 a 69",null,"70 a 74",null,"75 a 79",null,"80 y más",null,"Hombres","Mujeres"]
[null,"Procesados","Reactivos","Procesados","Reactivos","Procesados","Reactivos","Procesados","Reactivos","Procesados","Reactivos","Procesados","Reactivos","Procesados","Reactivos","Procesados","Reactivos","Procesados","Reactivos","Procesados","Reactivos","Procesados","Reactivos","Procesados","Reactivos","Procesados","Reactivos","Procesados","Reactivos","Procesados","Reactivos","Procesados","Reactivos","Procesados","Reactivos","Procesados","Reactivos","Procesados","Reactivos","Procesados","Reactivos","Procesados","Reactivos",null,null,"Masculino","Femenino"]
["GESTANTES PRIMER TRIMESTRE EMBARAZO",{"$f":"+N34+P34+R34+T34+V34+X34+Z34+AB34+AD34+AF34+AH34+AJ34+AL34+AN34+AP34","v":0},0,null,null,null,null,null,null,null,null,null,null,null,null,null,null,null,null,null,null,null,null,null,null,null,null,null,null,null,null,null,null,null,null,null,null,null,null,null,null,null,null,null,null,null,null,null,null,{"$f":"$CA34&$CB34&$CC34&$CD34&$CE34&$CF34&$CG34&$CH34&$CI34&$CJ34&$CK34&$CL34&$CM34&$CN34&$CO34&$CP34&$CQ34&$CR34&$CS34&$CT34&$CU34&$CV34&$CW34&$CX34&$CY34&$CZ34","v":""},null,null,null,null,null,null,null,null,null,null,null,null,null,null,null,null,null,null,null,null,null,null,null,null,null,null,null,null,{"$f":"IF(B34<C34,\"* El total de Reactivos NO DEBE ser superior al total de Procesados. \",\"\")","v":""},{"$f":"IF(B34<>(AR34+ AS34),\"* La suma de las columnas Sexo DEBE SER IGUAL a los Procesados. \",\"\")","v":""},{"$f":"IF(B34<(AT34+ AU34),\"* La suma de las columna Trans NO DEBE ser superior al total de Procesados. \",\"\")","v":""},{"$f":"IF(B34<AV34,\"* La columna Pueblos Originarios NO DEBE ser superior al total de Procesados. \",\"\")","v":""},{"$f":"IF(B34<AW34,\"* La columna Migrantes NO DEBE ser superior al total de Procesados. \",\"\")","v":""},{"$f":"IF(D34<E34,CONCATENATE(\"* El total de procesados debe ser mayor o igual al total de Reactivos en el grupo de edad \",$D$32),\"\")","v":""},{"$f":"IF(F34<G34,CONCATENATE(\"* El total de procesados debe ser mayor o igual al total de Reactivos en el grupo de edad \",$F$32),\"\")","v":""},{"$f":"IF(H34<I34,CONCATENATE(\"* El total de procesados debe ser mayor o igual al total de Reactivos en el grupo de edad \",$H$32),\"\")","v":""},{"$f":"IF(J34<K34,CONCATENATE(\"* El total de procesados debe ser mayor o igual al total de Reactivos en el grupo de edad \",$J$32),\"\")","v":""},{"$f":"IF(L34<M34,CONCATENATE(\"* El total de procesados debe ser mayor o igual al total de Reactivos en el grupo de edad \",$L$32),\"\")","v":""},{"$f":"IF(N34<O34,CONCATENATE(\"* El total de procesados debe ser mayor o igual al total de Reactivos en el grupo de edad \",$N$32),\"\")","v":""},{"$f":"IF(P34<Q34,CONCATENATE(\"* El total de procesados debe ser mayor o igual al total de Reactivos en el grupo de edad \",$P$32),\"\")","v":""},{"$f":"IF(R34<S34,CONCATENATE(\"* El total de procesados debe ser mayor o igual al total de Reactivos en el grupo de edad \",$R$32),\"\")","v":""},{"$f":"IF(T34<U34,CONCATENATE(\"* El total de procesados debe ser mayor o igual al total de Reactivos en el grupo de edad \",$T$32),\"\")","v":""},{"$f":"IF(V34<W34,CONCATENATE(\"* El total de procesados debe ser mayor o igual al total de Reactivos en el grupo de edad \",$V$32),\"\")","v":""},{"$f":"IF(X34<Y34,CONCATENATE(\"* El total de procesados debe ser mayor o igual al total de Reactivos en el grupo de edad \",$X$32),\"\")","v":""},{"$f":"IF(Z34<AA34,CONCATENATE(\"* El total de procesados debe ser mayor o igual al total de Reactivos en el grupo de edad \",$Z$32),\"\")","v":""},{"$f":"IF(AB34<AC34,CONCATENATE(\"* El total de procesados debe ser mayor o igual al total de Reactivos en el grupo de edad \",$AB$32),\"\")","v":""},{"$f":"IF(AD34<AE34,CONCATENATE(\"* El total de procesados debe ser mayor o igual al total de Reactivos en el grupo de edad \",$AD$32),\"\")","v":""},{"$f":"IF(AF34<AG34,CONCATENATE(\"* El total de procesados debe ser mayor o igual al total de Reactivos en el grupo de edad \",$AF$32),\"\")","v":""},{"$f":"IF(AH34<AI34,CONCATENATE(\"* El total de procesados debe ser mayor o igual al total de Reactivos en el grupo de edad \",$AH$32),\"\")","v":""},{"$f":"IF(AJ34<AK34,CONCATENATE(\"* El total de procesados debe ser mayor o igual al total de Reactivos en el grupo de edad \",$AJ$32),\"\")","v":""},{"$f":"IF(AL34<AM34,CONCATENATE(\"* El total de procesados debe ser mayor o igual al total de Reactivos en el grupo de edad \",$AL$32),\"\")","v":""},{"$f":"IF(AN34<AO34,CONCATENATE(\"* El total de procesados debe ser mayor o igual al total de Reactivos en el grupo de edad \",$AN$32),\"\")","v":""},{"$f":"IF(AP34<AQ34,CONCATENATE(\"* El total de procesados debe ser mayor o igual al total de Reactivos en el grupo de edad \",$AP$32),\"\")","v":""},{"$f":"IF(AND(B34<>0,OR(AT34=\"\",AU34=\"\",AV34=\"\",AW34=\"\")),\"* No olvide digitar la columna Trans y/o Pueblos Originarios y/o Migrantes (Digite Cero si no tiene). \",\"\")","v":""},{"$f":"IF(B34<   C34,1,0)","v":0},{"$f":"IF(B34<> AR34+AS34,1,0)","v":0},{"$f":"IF(B34<  AT34+AU34,1,0)","v":0},{"$f":"IF(B34<  AV34,1,0)","v":0},{"$f":"IF(B34<  AW34,1,0)","v":0},{"$f":"IF(D34<E34,1,0)","v":0},{"$f":"IF(F34<G34,1,0)","v":0},{"$f":"IF(H34<I34,1,0)","v":0},{"$f":"IF(J34<K34,1,0)","v":0},{"$f":"IF(L34<M34,1,0)","v":0},{"$f":"IF(N34<O34,1,0)","v":0},{"$f":"IF(P34<Q34,1,0)","v":0},{"$f":"IF(R34<S34,1,0)","v":0},{"$f":"IF(T34<U34,1,0)","v":0},{"$f":"IF(V34<W34,1,0)","v":0},{"$f":"IF(X34<Y34,1,0)","v":0},{"$f":"IF(Z34<AA34,1,0)","v":0},{"$f":"IF(AB34<AC34,1,0)","v":0},{"$f":"IF(AD34<AE34,1,0)","v":0},{"$f":"IF(AF34<AG34,1,0)","v":0},{"$f":"IF(AH34<AI34,1,0)","v":0},{"$f":"IF(AJ34<AK34,1,0)","v":0},{"$f":"IF(AL34<AM34,1,0)","v":0},{"$f":"IF(AN34<AO34,1,0)","v":0},{"$f":"IF(AP34<AQ34,1,0)","v":0},{"$f":"IF(AND(B34<>0,OR(AT34=\"\",AU34=\"\",AV34=\"\",AW34=\"\")),1,0)","v":0}]
["GESTANTES SEGUNDO TRIMESTRE EMBARAZO",0,0,null,null,null,null,null,null,null,null,null,null,null,null,null,null,null,null,null,null,null,null,null,null,null,null,null,null,null,null,null,null,null,null,null,null,null,null,null,null,null,null,null,null,null,null,null,null,"",null,null,null,null,null,null,null,null,null,null,null,null,null,null,null,null,null,null,null,null,null,null,null,null,null,null,null,null,"","","","","",{"$f":"IF(D35<E35,CONCATENATE(\"* El total de procesados debe ser mayor o igual al total de Reactivos en el grupo de edad \",$D$32),\"\")","v":""},{"$f":"IF(F35<G35,CONCATENATE(\"* El total de procesados debe ser mayor o igual al total de Reactivos en el grupo de edad \",$F$32),\"\")","v":""},{"$f":"IF(H35<I35,CONCATENATE(\"* El total de procesados debe ser mayor o igual al total de Reactivos en el grupo de edad \",$H$32),\"\")","v":""},{"$f":"IF(J35<K35,CONCATENATE(\"* El total de procesados debe ser mayor o igual al total de Reactivos en el grupo de edad \",$J$32),\"\")","v":""},{"$f":"IF(L35<M35,CONCATENATE(\"* El total de procesados debe ser mayor o igual al total de Reactivos en el grupo de edad \",$L$32),\"\")","v":""},{"$f":"IF(N35<O35,CONCATENATE(\"* El total de procesados debe ser mayor o igual al total de Reactivos en el grupo de edad \",$N$32),\"\")","v":""},{"$f":"IF(P35<Q35,CONCATENATE(\"* El total de procesados debe ser mayor o igual al total de Reactivos en el grupo de edad \",$P$32),\"\")","v":""},{"$f":"IF(R35<S35,CONCATENATE(\"* El total de procesados debe ser mayor o igual al total de Reactivos en el grupo de edad \",$R$32),\"\")","v":""},{"$f":"IF(T35<U35,CONCATENATE(\"* El total de procesados debe ser mayor o igual al total de Reactivos en el grupo de edad \",$T$32),\"\")","v":""},{"$f":"IF(V35<W35,CONCATENATE(\"* El total de procesados debe ser mayor o igual al total de Reactivos en el grupo de edad \",$V$32),\"\")","v":""},{"$f":"IF(X35<Y35,CONCATENATE(\"* El total de procesados debe ser mayor o igual al total de Reactivos en el grupo de edad \",$X$32),\"\")","v":""},{"$f":"IF(Z35<AA35,CONCATENATE(\"* El total de procesados debe ser mayor o igual al total de Reactivos en el grupo de edad \",$Z$32),\"\")","v":""},{"$f":"IF(AB35<AC35,CONCATENATE(\"* El total de procesados debe ser mayor o igual al total de Reactivos en el grupo de edad \",$AB$32),\"\")","v":""},{"$f":"IF(AD35<AE35,CONCATENATE(\"* El total de procesados debe ser mayor o igual al total de Reactivos en el grupo de edad \",$AD$32),\"\")","v":""},{"$f":"IF(AF35<AG35,CONCATENATE(\"* El total de procesados debe ser mayor o igual al total de Reactivos en el grupo de edad \",$AF$32),\"\")","v":""},{"$f":"IF(AH35<AI35,CONCATENATE(\"* El total de procesados debe ser mayor o igual al total de Reactivos en el grupo de edad \",$AH$32),\"\")","v":""},{"$f":"IF(AJ35<AK35,CONCATENATE(\"* El total de procesados debe ser mayor o igual al total de Reactivos en el grupo de edad \",$AJ$32),\"\")","v":""},{"$f":"IF(AL35<AM35,CONCATENATE(\"* El total de procesados debe ser mayor o igual al total de Reactivos en el grupo de edad \",$AL$32),\"\")","v":""},{"$f":"IF(AN35<AO35,CONCATENATE(\"* El total de procesados debe ser mayor o igual al total de Reactivos en el grupo de edad \",$AN$32),\"\")","v":""},{"$f":"IF(AP35<AQ35,CONCATENATE(\"* El total de procesados debe ser mayor o igual al total de Reactivos en el grupo de edad \",$AP$32),\"\")","v":""},{"$f":"IF(AND(B35<>0,OR(AT35=\"\",AU35=\"\",AV35=\"\",AW35=\"\")),\"* No olvide digitar la columna Trans y/o Pueblos Originarios y/o Migrantes (Digite Cero si no tiene). \",\"\")","v":""},{"$f":"IF(B35<   C35,1,0)","v":0},{"$f":"IF(B35<> AR35+AS35,1,0)","v":0},{"$f":"IF(B35<  AT35+AU35,1,0)","v":0},{"$f":"IF(B35<  AV35,1,0)","v":0},{"$f":"IF(B35<  AW35,1,0)","v":0},0,0,0,0,0,0,0,0,0,0,0,0,0,0,0,0,0,0,0,0,0]
["GESTANTES TERCER TRIMESTRE EMBARAZO",0,0,null,null,null,null,null,null,null,null,null,null,null,null,null,null,null,null,null,null,null,null,null,null,null,null,null,null,null,null,null,null,null,null,null,null,null,null,null,null,null,null,null,null,null,null,null,null,"",null,null,null,null,null,null,null,null,null,null,null,null,null,null,null,null,null,null,null,null,null,null,null,null,null,null,null,null,"","","","","","","","","","","","","","","","","","","","","","","","","","",0,0,0,0,0,0,0,0,0,0,0,0,0,0,0,0,0,0,0,0,0,0,0,0,0,0]
["GESTANTES TRIMESTRE EMBARAZO IGNORADO",0,0,null,null,null,null,null,null,null,null,null,null,null,null,null,null,null,null,null,null,null,null,null,null,null,null,null,null,null,null,null,null,null,null,null,null,null,null,null,null,null,null,null,null,null,null,null,null,"",null,null,null,null,null,null,null,null,null,null,null,null,null,null,null,null,null,null,null,null,null,null,null,null,null,null,null,null,"","","","","","","","","","","","","","","","","","","","","","","","","","",0,0,0,0,0,0,0,0,0,0,0,0,0,0,0,0,0,0,0,0,0,0,0,0,0,0]
["GESTANTES EN SEGUIMIENTO POR DIAGNÓSTICO SÍFILIS",0,0,null,null,null,null,null,null,null,null,null,null,null,null,null,null,null,null,null,null,null,null,null,null,null,null,null,null,null,null,null,null,null,null,null,null,null,null,null,null,null,null,null,null,null,null,null,null,"",null,null,null,null,null,null,null,null,null,null,null,null,null,null,null,null,null,null,null,null,null,null,null,null,null,null,null,null,"","","","","","","","","","","","","","","","","","","","","","","","","","",0,0,0,0,0,0,0,0,0,0,0,0,0,0,0,0,0,0,0,0,0,0,0,0,0,0]
["PAREJA DE GESTANTE CON SEROLOGÍA REACTIVA",0,0,null,null,null,null,null,null,null,null,null,null,null,null,null,null,null,null,null,null,null,null,null,null,null,null,null,null,null,null,null,null,null,null,null,null,null,null,null,null,null,null,null,null,null,null,null,null,"",null,null,null,null,null,null,null,null,null,null,null,null,null,null,null,null,null,null,null,null,null,null,null,null,null,null,null,null,"","","","","","","","","","","","","","","","","","","","","","","","","","",0,0,0,0,0,0,0,0,0,0,0,0,0,0,0,0,0,0,0,0,0,0,0,0,0,0]
["MUJERES QUE INGRESAN A MATERNIDAD POR PARTO",0,0,null,null,null,null,null,null,null,null,null,null,null,null,null,null,null,null,null,null,null,null,null,null,null,null,null,null,null,null,null,null,null,null,null,null,null,null,null,null,null,null,null,null,null,null,null,null,"",null,null,null,null,null,null,null,null,null,null,null,null,null,null,null,null,null,null,null,null,null,null,null,null,null,null,null,null,"","","","","","","","","","","","","","","","","","","","","","","","","","",0,0,0,0,0,0,0,0,0,0,0,0,0,0,0,0,0,0,0,0,0,0,0,0,0,0]
["MUJERES QUE INGRESAN POR ABORTO",0,0,null,null,null,null,null,null,null,null,null,null,null,null,null,null,null,null,null,null,null,null,null,null,null,null,null,null,null,null,null,null,null,null,null,null,null,null,null,null,null,null,null,null,null,null,null,null,"",null,null,null,null,null,null,null,null,null,null,null,null,null,null,null,null,null,null,null,null,null,null,null,null,null,null,null,null,"","","","","","","","","","","","","","","","","","","","","","","","","","",0,0,0,0,0,0,0,0,0,0,0,0,0,0,0,0,0,0,0,0,0,0,0,0,0,0]
["MUJERES EN CONTROL GINECOLÓGICO",{"$f":"+D42+F42+H42+J42+L42+N42+P42+R42+T42+V42+X42+Z42+AB42+AD42+AF42+AH42+AJ42+AL42+AN42+AP42","v":0},{"$f":"+E42+G42+I42+K42+M42+O42+Q42+S42+U42+W42+Y42+AA42+AC42+AE42+AG42+AI42+AK42+AM42+AO42+AQ42","v":0},null,null,null,null,null,null,null,null,null,null,null,null,null,null,null,null,null,null,null,null,null,null,null,null,null,null,null,null,null,null,null,null,null,null,null,null,null,null,null,null,null,null,null,null,null,null,"",null,null,null,null,null,null,null,null,null,null,null,null,null,null,null,null,null,null,null,null,null,null,null,null,null,null,null,null,"","","","","","","","","","","","","","","","","","","","","","","","","","",0,0,0,0,0,0,0,0,0,0,0,0,0,0,0,0,0,0,0,0,0,0,0,0,0,0]
["RECIÉN NACIDO Y LACTANTE PARA DETECCIÓN DE SÍFILIS CONGÉNITA",{"$f":"+D43+F43+H43","v":0},{"$f":"+E43+G43+I43","v":0},null,null,null,null,null,null,null,null,null,null,null,null,null,null,null,null,null,null,null,null,null,null,null,null,null,null,null,null,null,null,null,null,null,null,null,null,null,null,null,null,null,null,null,null,null,null,"",null,null,null,null,null,null,null,null,null,null,null,null,null,null,null,null,null,null,null,null,null,null,null,null,null,null,null,null,"","","","","","","","","","","","","","","","","","","","","","","","","","",0,0,0,0,0,0,0,0,0,0,0,0,0,0,0,0,0,0,0,0,0,0,0,0,0,0]
["PERSONAS EN CONTROL POR COMERCIO SEXUAL",{"$f":"+P44+R44+T44+V44+X44+Z44+AB44+AD44+AF44+AH44+AJ44+AL44+AN44+AP44","v":0},{"$f":"+Q44+S44+U44+W44+Y44+AA44+AC44+AE44+AG44+AI44+AK44+AM44+AO44+AQ44","v":0},null,null,null,null,null,null,null,null,null,null,null,null,null,null,null,null,null,null,null,null,null,null,null,null,null,null,null,null,null,null,null,null,null,null,null,null,null,null,null,null,null,null,null,null,null,null,"",null,null,null,null,null,null,null,null,null,null,null,null,null,null,null,null,null,null,null,null,null,null,null,null,null,null,null,null,"","","","","","","","","","","","","","","","","","","","","","","","","","",0,0,0,0,0,0,0,0,0,0,0,0,0,0,0,0,0,0,0,0,0,0,0,0,0,0]
["PERSONAS EN CONTROL FECUNDIDAD",{"$f":"+N45+P45+R45+T45+V45+X45+Z45+AB45+AD45+AF45+AH45+AJ45+AL45+AN45+AP45","v":0},{"$f":"+O45+Q45+S45+U45+W45+Y45+AA45+AC45+AE45+AG45+AI45+AK45+AM45+AO45+AQ45","v":0},null,null,null,null,null,null,null,null,null,null,null,null,null,null,null,null,null,null,null,null,null,null,null,null,null,null,null,null,null,null,null,null,null,null,null,null,null,null,null,null,null,null,null,null,null,null,"",null,null,null,null,null,null,null,null,null,null,null,null,null,null,null,null,null,null,null,null,null,null,null,null,null,null,null,null,"","","","","","","","","","","","","","","","","","","","","","","","","","",0,0,0,0,0,0,0,0,0,0,0,0,0,0,0,0,0,0,0,0,0,0,0,0,0,0]
["CONSULTANTES POR ITS",{"$f":"+D46+F46+H46+J46+L46+N46+P46+R46+T46+V46+X46+Z46+AB46+AD46+AF46+AH46+AJ46+AL46+AN46+AP46","v":0},{"$f":"+E46+G46+I46+K46+M46+O46+Q46+S46+U46+W46+Y46+AA46+AC46+AE46+AG46+AI46+AK46+AM46+AO46+AQ46","v":0},null,null,null,null,null,null,null,null,null,null,null,null,null,null,null,null,null,null,null,null,null,null,null,null,null,null,null,null,null,null,null,null,null,null,null,null,null,null,null,null,null,null,null,null,null,null,"",null,null,null,null,null,null,null,null,null,null,null,null,null,null,null,null,null,null,null,null,null,null,null,null,null,null,null,null,"","","","","","","","","","","","","","","","","","","","","","","","","","",0,0,0,0,0,0,0,0,0,0,0,0,0,0,0,0,0,0,0,0,0,0,0,0,0,0]
["PERSONAS CON EMP",{"$f":"+P47+R47+T47+V47+X47+Z47+AB47+AD47+AF47+AH47+AJ47+AL47+AN47+AP47","v":0},{"$f":"+Q47+S47+U47+W47+Y47+AA47+AC47+AE47+AG47+AI47+AK47+AM47+AO47+AQ47","v":0},null,null,null,null,null,null,null,null,null,null,null,null,null,null,null,null,null,null,null,null,null,null,null,null,null,null,null,null,null,null,null,null,null,null,null,null,null,null,null,null,null,null,null,null,null,null,"",null,null,null,null,null,null,null,null,null,null,null,null,null,null,null,null,null,null,null,null,null,null,null,null,null,null,null,null,"","","","","","","","","","","","","","","","","","","","","","","","","","",0,0,0,0,0,0,0,0,0,0,0,0,0,0,0,0,0,0,0,0,0,0,0,0,0,0]
["DONANTES DE SANGRE",{"$f":"+P48+R48+T48+V48+X48+Z48+AB48+AD48+AF48+AH48","v":0},{"$f":"+Q48+S48+U48+W48+Y48+AA48+AC48+AE48+AG48+AI48","v":0},null,null,null,null,null,null,null,null,null,null,null,null,null,null,null,null,null,null,null,null,null,null,null,null,null,null,null,null,null,null,null,null,null,null,null,null,null,null,null,null,null,null,null,null,null,null,"",null,null,null,null,null,null,null,null,null,null,null,null,null,null,null,null,null,null,null,null,null,null,null,null,null,null,null,null,"","","","","","","","","","","","","","","","","","","","","","","","","","",0,0,0,0,0,0,0,0,0,0,0,0,0,0,0,0,0,0,0,0,0,0,0,0,0,0]
["DONANTES DE ÓRGANOS Y/O TEJIDOS",{"$f":"+D49+F49+H49+J49+L49+N49+P49+R49+T49+V49+X49+Z49+AB49+AD49+AF49+AH49+AJ49+AL49+AN49+AP49","v":0},0,null,null,null,null,null,null,null,null,null,null,null,null,null,null,null,null,null,null,null,null,null,null,null,null,null,null,null,null,null,null,null,null,null,null,null,null,null,null,null,null,null,null,null,null,null,null,"",null,null,null,null,null,null,null,null,null,null,null,null,null,null,null,null,null,null,null,null,null,null,null,null,null,null,null,null,"","","","","","","","","","","","","","","","","","","","","","","","","","",0,0,0,0,0,0,0,0,0,0,0,0,0,0,0,0,0,0,0,0,0,0,0,0,0,0]
["PACIENTES EN DIÁLISIS",0,0,null,null,null,null,null,null,null,null,null,null,null,null,null,null,null,null,null,null,null,null,null,null,null,null,null,null,null,null,null,null,null,null,null,null,null,null,null,null,null,null,null,null,null,null,null,null,"",null,null,null,null,null,null,null,null,null,null,null,null,null,null,null,null,null,null,null,null,null,null,null,null,null,null,null,null,"","","","","","","","","","","","","","","","","","","","","","","","","","",0,0,0,0,0,0,0,0,0,0,0,0,0,0,0,0,0,0,0,0,0,0,0,0,0,0]
["VÍCTIMA DE VIOLENCIA SEXUAL",0,0,null,null,null,null,null,null,null,null,null,null,null,null,null,null,null,null,null,null,null,null,null,null,null,null,null,null,null,null,null,null,null,null,null,null,null,null,null,null,null,null,null,null,null,null,null,null,"",null,null,null,null,null,null,null,null,null,null,null,null,null,null,null,null,null,null,null,null,null,null,null,null,null,null,null,null,"","","","","","","","","","","","","","","","","","","","","","","","","","",0,0,0,0,0,0,0,0,0,0,0,0,0,0,0,0,0,0,0,0,0,0,0,0,0,0]
["SECCIÓN A.3: EXAMEN RPR POR GRUPO DE USUARIOS (Uso exclusivo de establecimientos con Laboratorio que procesan)"]
["GRUPO DE PESQUISA","TOTAL",null,"POR EDAD (en meses - años)",null,null,null,null,null,null,null,null,null,null,null,null,null,null,null,null,null,null,null,null,null,null,null,null,null,null,null,null,null,null,null,null,null,null,null,null,null,null,null,"POR SEXO\n(Procesados)",null,"TRANS",null,"Pueblos Originarios","Migrantes"]
[null,null,null,"Menor de 6 meses",null,"6 a 11 meses",null,"12-24 meses",null,"3 a 4",null,"5 a 9",null,"10 - 14",null,"15 - 19",null,"20 - 24",null,"25 a 29",null,"30 a 34",null,"35 a 39",null,"40 a 44",null,"45 a 49",null,"50 a 54",null,"55 a 59",null,"60 a 64",null,"65 a 69",null,"70 a 74",null,"75 a 79",null,"80 y más",null,"Hombres","Mujeres"]
[null,"Procesados","Reactivos","Procesados","Reactivos","Procesados","Reactivos","Procesados","Reactivos","Procesados","Reactivos","Procesados","Reactivos","Procesados","Reactivos","Procesados","Reactivos","Procesados","Reactivos","Procesados","Reactivos","Procesados","Reactivos","Procesados","Reactivos","Procesados","Reactivos","Procesados","Reactivos","Procesados","Reactivos","Procesados","Reactivos","Procesados","Reactivos","Procesados","Reactivos","Procesados","Reactivos","Procesados","Reactivos","Procesados","Reactivos",null,null,"Masculino","Femenino"]
["GESTANTES PRIMER TRIMESTRE EMBARAZO",{"$f":"+N56+P56+R56+T56+V56+X56+Z56+AB56+AD56+AF56+AH56+AJ56+AL56+AN56+AP56","v":0},0,null,null,null,null,null,null,null,null,null,null,null,null,null,null,null,null,null,null,null,null,null,null,null,null,null,null,null,null,null,null,null,null,null,null,null,null,null,null,null,null,null,null,null,null,null,null,{"$f":"$CA56&$CB56&$CC56&$CD56&$CE56&$CF56&$CG56&$CH56&$CI56&$CJ56&$CK56&$CL56&$CM56&$CN56&$CO56&$CP56&$CQ56&$CR56&$CS56&$CT56&$CU56&$CV56&$CW56&$CX56&$CY56&$CZ56","v":""},null,null,null,null,null,null,null,null,null,null,null,null,null,null,null,null,null,null,null,null,null,null,null,null,null,null,null,null,{"$f":"IF(B56<C56,\"* El total de Reactivos NO DEBE ser superior al total de Procesados. \",\"\")","v":""},{"$f":"IF(B56<>(AR56+ AS56),\"* La suma de las columnas Sexo DEBE SER IGUAL a los Procesados. \",\"\")","v":""},{"$f":"IF(B56<(AT56+ AU56),\"* La suma de las columna Trans NO DEBE ser superior al total de Procesados. \",\"\")","v":""},{"$f":"IF(B56<AV56,\"* La columna Pueblos Originarios NO DEBE ser superior al total de Procesados. \",\"\")","v":""},{"$f":"IF(B56<AW56,\"* La columna Migrantes NO DEBE ser superior al total de Procesados. \",\"\")","v":""},{"$f":"IF(D56<E56,CONCATENATE(\"* El total de procesados debe ser mayor o igual al total de Reactivos en el grupo de edad \",$D$54),\"\")","v":""},{"$f":"IF(F56<G56,CONCATENATE(\"* El total de procesados debe ser mayor o igual al total de Reactivos en el grupo de edad \",$F$54),\"\")","v":""},{"$f":"IF(H56<I56,CONCATENATE(\"* El total de procesados debe ser mayor o igual al total de Reactivos en el grupo de edad \",$H$54),\"\")","v":""},{"$f":"IF(J56<K56,CONCATENATE(\"* El total de procesados debe ser mayor o igual al total de Reactivos en el grupo de edad \",$J$54),\"\")","v":""},{"$f":"IF(L56<M56,CONCATENATE(\"* El total de procesados debe ser mayor o igual al total de Reactivos en el grupo de edad \",$L$54),\"\")","v":""},{"$f":"IF(N56<O56,CONCATENATE(\"* El total de procesados debe ser mayor o igual al total de Reactivos en el grupo de edad \",$N$54),\"\")","v":""},{"$f":"IF(P56<Q56,CONCATENATE(\"* El total de procesados debe ser mayor o igual al total de Reactivos en el grupo de edad \",$P$54),\"\")","v":""},{"$f":"IF(R56<S56,CONCATENATE(\"* El total de procesados debe ser mayor o igual al total de Reactivos en el grupo de edad \",$R$54),\"\")","v":""},{"$f":"IF(T56<U56,CONCATENATE(\"* El total de procesados debe ser mayor o igual al total de Reactivos en el grupo de edad \",$T$54),\"\")","v":""},{"$f":"IF(V56<W56,CONCATENATE(\"* El total de procesados debe ser mayor o igual al total de Reactivos en el grupo de edad \",$V$54),\"\")","v":""},{"$f":"IF(X56<Y56,CONCATENATE(\"* El total de procesados debe ser mayor o igual al total de Reactivos en el grupo de edad \",$X$54),\"\")","v":""},{"$f":"IF(Z56<AA56,CONCATENATE(\"* El total de procesados debe ser mayor o igual al total de Reactivos en el grupo de edad \",$Z$54),\"\")","v":""},{"$f":"IF(AB56<AC56,CONCATENATE(\"* El total de procesados debe ser mayor o igual al total de Reactivos en el grupo de edad \",$AB$54),\"\")","v":""},{"$f":"IF(AD56<AE56,CONCATENATE(\"* El total de procesados debe ser mayor o igual al total de Reactivos en el grupo de edad \",$AD$54),\"\")","v":""},{"$f":"IF(AF56<AG56,CONCATENATE(\"* El total de procesados debe ser mayor o igual al total de Reactivos en el grupo de edad \",$AF$54),\"\")","v":""},{"$f":"IF(AH56<AI56,CONCATENATE(\"* El total de procesados debe ser mayor o igual al total de Reactivos en el grupo de edad \",$AH$54),\"\")","v":""},{"$f":"IF(AJ56<AK56,CONCATENATE(\"* El total de procesados debe ser mayor o igual al total de Reactivos en el grupo de edad \",$AJ$54),\"\")","v":""},{"$f":"IF(AL56<AM56,CONCATENATE(\"* El total de procesados debe ser mayor o igual al total de Reactivos en el grupo de edad \",$AL$54),\"\")","v":""},{"$f":"IF(AN56<AO56,CONCATENATE(\"* El total de procesados debe ser mayor o igual al total de Reactivos en el grupo de edad \",$AN$54),\"\")","v":""},{"$f":"IF(AP56<AQ56,CONCATENATE(\"* El total de procesados debe ser mayor o igual al total de Reactivos en el grupo de edad \",$AP$54),\"\")","v":""},{"$f":"IF(AND(B56<>0,OR(AT56=\"\",AU56=\"\",AV56=\"\",AW56=\"\")),\"* No olvide digitar la columna Trans y/o Pueblos Originarios y/o Migrantes (Digite Cero si no tiene). \",\"\")","v":""},{"$f":"IF(B56<   C56,1,0)","v":0},{"$f":"IF(B56<> AR56+AS56,1,0)","v":0},{"$f":"IF(B56<  AT56+AU56,1,0)","v":0},{"$f":"IF(B56<  AV56,1,0)","v":0},{"$f":"IF(B56<  AW56,1,0)","v":0},{"$f":"IF(D56<E56,1,0)","v":0},{"$f":"IF(F56<G56,1,0)","v":0},{"$f":"IF(H56<I56,1,0)","v":0},{"$f":"IF(J56<K56,1,0)","v":0},{"$f":"IF(L56<M56,1,0)","v":0},{"$f":"IF(N56<O56,1,0)","v":0},{"$f":"IF(P56<Q56,1,0)","v":0},{"$f":"IF(R56<S56,1,0)","v":0},{"$f":"IF(T56<U56,1,0)","v":0},{"$f":"IF(V56<W56,1,0)","v":0},{"$f":"IF(X56<Y56,1,0)","v":0},{"$f":"IF(Z56<AA56,1,0)","v":0},{"$f":"IF(AB56<AC56,1,0)","v":0},{"$f":"IF(AD56<AE56,1,0)","v":0},{"$f":"IF(AF56<AG56,1,0)","v":0},{"$f":"IF(AH56<AI56,1,0)","v":0},{"$f":"IF(AJ56<AK56,1,0)","v":0},{"$f":"IF(AL56<AM56,1,0)","v":0},{"$f":"IF(AN56<AO56,1,0)","v":0},{"$f":"IF(AP56<AQ56,1,0)","v":0},{"$f":"IF(AND(B56<>0,OR(AT56=\"\",AU56=\"\",AV56=\"\",AW56=\"\")),1,0)","v":0}]
["GESTANTES SEGUNDO TRIMESTRE EMBARAZO",0,0,null,null,null,null,null,null,null,null,null,null,null,null,null,null,null,null,null,null,null,null,null,null,null,null,null,null,null,null,null,null,null,null,null,null,null,null,null,null,null,null,null,null,null,null,null,null,"",null,null,null,null,null,null,null,null,null,null,null,null,null,null,null,null,null,null,null,null,null,null,null,null,null,null,null,null,"","","","","",{"$f":"IF(D57<E57,CONCATENATE(\"* El total de procesados debe ser mayor o igual al total de Reactivos en el grupo de edad \",$D$54),\"\")","v":""},{"$f":"IF(F57<G57,CONCATENATE(\"* El total de procesados debe ser mayor o igual al total de Reactivos en el grupo de edad \",$F$54),\"\")","v":""},{"$f":"IF(H57<I57,CONCATENATE(\"* El total de procesados debe ser mayor o igual al total de Reactivos en el grupo de edad \",$H$54),\"\")","v":""},{"$f":"IF(J57<K57,CONCATENATE(\"* El total de procesados debe ser mayor o igual al total de Reactivos en el grupo de edad \",$J$54),\"\")","v":""},{"$f":"IF(L57<M57,CONCATENATE(\"* El total de procesados debe ser mayor o igual al total de Reactivos en el grupo de edad \",$L$54),\"\")","v":""},{"$f":"IF(N57<O57,CONCATENATE(\"* El total de procesados debe ser mayor o igual al total de Reactivos en el grupo de edad \",$N$54),\"\")","v":""},{"$f":"IF(P57<Q57,CONCATENATE(\"* El total de procesados debe ser mayor o igual al total de Reactivos en el grupo de edad \",$P$54),\"\")","v":""},{"$f":"IF(R57<S57,CONCATENATE(\"* El total de procesados debe ser mayor o igual al total de Reactivos en el grupo de edad \",$R$54),\"\")","v":""},{"$f":"IF(T57<U57,CONCATENATE(\"* El total de procesados debe ser mayor o igual al total de Reactivos en el grupo de edad \",$T$54),\"\")","v":""},{"$f":"IF(V57<W57,CONCATENATE(\"* El total de procesados debe ser mayor o igual al total de Reactivos en el grupo de edad \",$V$54),\"\")","v":""},{"$f":"IF(X57<Y57,CONCATENATE(\"* El total de procesados debe ser mayor o igual al total de Reactivos en el grupo de edad \",$X$54),\"\")","v":""},{"$f":"IF(Z57<AA57,CONCATENATE(\"* El total de procesados debe ser mayor o igual al total de Reactivos en el grupo de edad \",$Z$54),\"\")","v":""},{"$f":"IF(AB57<AC57,CONCATENATE(\"* El total de procesados debe ser mayor o igual al total de Reactivos en el grupo de edad \",$AB$54),\"\")","v":""},{"$f":"IF(AD57<AE57,CONCATENATE(\"* El total de procesados debe ser mayor o igual al total de Reactivos en el grupo de edad \",$AD$54),\"\")","v":""},{"$f":"IF(AF57<AG57,CONCATENATE(\"* El total de procesados debe ser mayor o igual al total de Reactivos en el grupo de edad \",$AF$54),\"\")","v":""},{"$f":"IF(AH57<AI57,CONCATENATE(\"* El total de procesados debe ser mayor o igual al total de Reactivos en el grupo de edad \",$AH$54),\"\")","v":""},{"$f":"IF(AJ57<AK57,CONCATENATE(\"* El total de procesados debe ser mayor o igual al total de Reactivos en el grupo de edad \",$AJ$54),\"\")","v":""},{"$f":"IF(AL57<AM57,CONCATENATE(\"* El total de procesados debe ser mayor o igual al total de Reactivos en el grupo de edad \",$AL$54),\"\")","v":""},{"$f":"IF(AN57<AO57,CONCATENATE(\"* El total de procesados debe ser mayor o igual al total de Reactivos en el grupo de edad \",$AN$54),\"\")","v":""},{"$f":"IF(AP57<AQ57,CONCATENATE(\"* El total de procesados debe ser mayor o igual al total de Reactivos en el grupo de edad \",$AP$54),\"\")","v":""},"",0,0,0,0,0,0,0,0,0,0,0,0,0,0,0,0,0,0,0,0,0,0,0,0,0,0]
["GESTANTES TERCER TRIMESTRE EMBARAZO",0,0,null,null,null,null,null,null,null,null,null,null,null,null,null,null,null,null,null,null,null,null,null,null,null,null,null,null,null,null,null,null,null,null,null,null,null,null,null,null,null,null,null,null,null,null,null,null,"",null,null,null,null,null,null,null,null,null,null,null,null,null,null,null,null,null,null,null,null,null,null,null,null,null,null,null,null,"","","","","","","","","","","","","","","","","","","","","","","","","","",0,0,0,0,0,0,0,0,0,0,0,0,0,0,0,0,0,0,0,0,0,0,0,0,0,0]
["GESTANTES TRIMESTRE EMBARAZO IGNORADO",0,0,null,null,null,null,null,null,null,null,null,null,null,null,null,null,null,null,null,null,null,null,null,null,null,null,null,null,null,null,null,null,null,null,null,null,null,null,null,null,null,null,null,null,null,null,null,null,"",null,null,null,null,null,null,null,null,null,null,null,null,null,null,null,null,null,null,null,null,null,null,null,null,null,null,null,null,"","","","","","","","","","","","","","","","","","","","","","","","","","",0,0,0,0,0,0,0,0,0,0,0,0,0,0,0,0,0,0,0,0,0,0,0,0,0,0]
["GESTANTES EN SEGUIMIENTO POR DIAGNÓSTICO SÍFILIS",0,0,null,null,null,null,null,null,null,null,null,null,null,null,null,null,null,null,null,null,null,null,null,null,null,null,null,null,null,null,null,null,null,null,null,null,null,null,null,null,null,null,null,null,null,null,null,null,"",null,null,null,null,null,null,null,null,null,null,null,null,null,null,null,null,null,null,null,null,null,null,null,null,null,null,null,null,"","","","","","","","","","","","","","","","","","","","","","","","","","",0,0,0,0,0,0,0,0,0,0,0,0,0,0,0,0,0,0,0,0,0,0,0,0,0,0]
["PAREJA DE GESTANTE CON SEROLOGÍA REACTIVA",0,0,null,null,null,null,null,null,null,null,null,null,null,null,null,null,null,null,null,null,null,null,null,null,null,null,null,null,null,null,null,null,null,null,null,null,null,null,null,null,null,null,null,null,null,null,null,null,"",null,null,null,null,null,null,null,null,null,null,null,null,null,null,null,null,null,null,null,null,null,null,null,null,null,null,null,null,"","","","","","","","","","","","","","","","","","","","","","","","","","",0,0,0,0,0,0,0,0,0,0,0,0,0,0,0,0,0,0,0,0,0,0,0,0,0,0]
["MUJERES QUE INGRESAN A MATERNIDAD POR PARTO",0,0,null,null,null,null,null,null,null,null,null,null,null,null,null,null,null,null,null,null,null,null,null,null,null,null,null,null,null,null,null,null,null,null,null,null,null,null,null,null,null,null,null,null,null,null,null,null,"",null,null,null,null,null,null,null,null,null,null,null,null,null,null,null,null,null,null,null,null,null,null,null,null,null,null,null,null,"","","","","","","","","","","","","","","","","","","","","","","","","","",0,0,0,0,0,0,0,0,0,0,0,0,0,0,0,0,0,0,0,0,0,0,0,0,0,0]
["MUJERES QUE INGRESAN POR ABORTO",0,0,null,null,null,null,null,null,null,null,null,null,null,null,null,null,null,null,null,null,null,null,null,null,null,null,null,null,null,null,null,null,null,null,null,null,null,null,null,null,null,null,null,null,null,null,null,null,"",null,null,null,null,null,null,null,null,null,null,null,null,null,null,null,null,null,null,null,null,null,null,null,null,null,null,null,null,"","","","","","","","","","","","","","","","","","","","","","","","","","",0,0,0,0,0,0,0,0,0,0,0,0,0,0,0,0,0,0,0,0,0,0,0,0,0,0]
["MUJERES EN CONTROL GINECOLÓGICO",{"$f":"+D64+F64+H64+J64+L64+N64+P64+R64+T64+V64+X64+Z64+AB64+AD64+AF64+AH64+AJ64+AL64+AN64+AP64","v":0},{"$f":"+E64+G64+I64+K64+M64+O64+Q64+S64+U64+W64+Y64+AA64+AC64+AE64+AG64+AI64+AK64+AM64+AO64+AQ64","v":0},null,null,null,null,null,null,null,null,null,null,null,null,null,null,null,null,null,null,null,null,null,null,null,null,null,null,null,null,null,null,null,null,null,null,null,null,null,null,null,null,null,null,null,null,null,null,"",null,null,null,null,null,null,null,null,null,null,null,null,null,null,null,null,null,null,null,null,null,null,null,null,null,null,null,null,"","","","","","","","","","","","","","","","","","","","","","","","","","",0,0,0,0,0,0,0,0,0,0,0,0,0,0,0,0,0,0,0,0,0,0,0,0,0,0]
["RECIÉN NACIDO Y LACTANTE PARA DETECCIÓN DE SÍFILIS CONGÉNITA",{"$f":"+D65+F65+H65","v":0},{"$f":"+E65+G65+I65","v":0},null,null,null,null,null,null,null,null,null,null,null,null,null,null,null,null,null,null,null,null,null,null,null,null,null,null,null,null,null,null,null,null,null,null,null,null,null,null,null,null,null,null,null,null,null,null,"",null,null,null,null,null,null,null,null,null,null,null,null,null,null,null,null,null,null,null,null,null,null,null,null,null,null,null,null,"","","","","","","","","","","","","","","","","","","","","","","","","","",0,0,0,0,0,0,0,0,0,0,0,0,0,0,0,0,0,0,0,0,0,0,0,0,0,0]
["PERSONAS EN CONTROL POR COMERCIO SEXUAL",{"$f":"+P66+R66+T66+V66+X66+Z66+AB66+AD66+AF66+AH66+AJ66+AL66+AN66+AP66","v":0},{"$f":"+Q66+S66+U66+W66+Y66+AA66+AC66+AE66+AG66+AI66+AK66+AM66+AO66+AQ66","v":0},null,null,null,null,null,null,null,null,null,null,null,null,null,null,null,null,null,null,null,null,null,null,null,null,null,null,null,null,null,null,null,null,null,null,null,null,null,null,null,null,null,null,null,null,null,null,"",null,null,null,null,null,null,null,null,null,null,null,null,null,null,null,null,null,null,null,null,null,null,null,null,null,null,null,null,"","","","","","","","","","","","","","","","","","","","","","","","","","",0,0,0,0,0,0,0,0,0,0,0,0,0,0,0,0,0,0,0,0,0,0,0,0,0,0]
["PERSONAS EN CONTROL FECUNDIDAD",{"$f":"+N67+P67+R67+T67+V67+X67+Z67+AB67+AD67+AF67+AH67+AJ67+AL67+AN67+AP67","v":0},{"$f":"+O67+Q67+S67+U67+W67+Y67+AA67+AC67+AE67+AG67+AI67+AK67+AM67+AO67+AQ67","v":0},null,null,null,null,null,null,null,null,null,null,null,null,null,null,null,null,null,null,null,null,null,null,null,null,null,null,null,null,null,null,null,null,null,null,null,null,null,null,null,null,null,null,null,null,null,null,"",null,null,null,null,null,null,null,null,null,null,null,null,null,null,null,null,null,null,null,null,null,null,null,null,null,null,null,null,"","","","","","","","","","","","","","","","","","","","","","","","","","",0,0,0,0,0,0,0,0,0,0,0,0,0,0,0,0,0,0,0,0,0,0,0,0,0,0]
["CONSULTANTES POR ITS",{"$f":"+D68+F68+H68+J68+L68+N68+P68+R68+T68+V68+X68+Z68+AB68+AD68+AF68+AH68+AJ68+AL68+AN68+AP68","v":0},{"$f":"+E68+G68+I68+K68+M68+O68+Q68+S68+U68+W68+Y68+AA68+AC68+AE68+AG68+AI68+AK68+AM68+AO68+AQ68","v":0},null,null,null,null,null,null,null,null,null,null,null,null,null,null,null,null,null,null,null,null,null,null,null,null,null,null,null,null,null,null,null,null,null,null,null,null,null,null,null,null,null,null,null,null,null,null,"",null,null,null,null,null,null,null,null,null,null,null,null,null,null,null,null,null,null,null,null,null,null,null,null,null,null,null,null,"","","","","","","","","","","","","","","","","","","","","","","","","","",0,0,0,0,0,0,0,0,0,0,0,0,0,0,0,0,0,0,0,0,0,0,0,0,0,0]
["PERSONAS CON EMP",{"$f":"+P69+R69+T69+V69+X69+Z69+AB69+AD69+AF69+AH69+AJ69+AL69+AN69+AP69","v":0},{"$f":"+Q69+S69+U69+W69+Y69+AA69+AC69+AE69+AG69+AI69+AK69+AM69+AO69+AQ69","v":0},null,null,null,null,null,null,null,null,null,null,null,null,null,null,null,null,null,null,null,null,null,null,null,null,null,null,null,null,null,null,null,null,null,null,null,null,null,null,null,null,null,null,null,null,null,null,"",null,null,null,null,null,null,null,null,null,null,null,null,null,null,null,null,null,null,null,null,null,null,null,null,null,null,null,null,"","","","","","","","","","","","","","","","","","","","","","","","","","",0,0,0,0,0,0,0,0,0,0,0,0,0,0,0,0,0,0,0,0,0,0,0,0,0,0]
["DONANTES DE SANGRE",{"$f":"+P70+R70+T70+V70+X70+Z70+AB70+AD70+AF70+AH70","v":0},{"$f":"+Q70+S70+U70+W70+Y70+AA70+AC70+AE70+AG70+AI70","v":0},null,null,null,null,null,null,null,null,null,null,null,null,null,null,null,null,null,null,null,null,null,null,null,null,null,null,null,null,null,null,null,null,null,null,null,null,null,null,null,null,null,null,null,null,null,null,"",null,null,null,null,null,null,null,null,null,null,null,null,null,null,null,null,null,null,null,null,null,null,null,null,null,null,null,null,"","","","","","","","","","","","","","","","","","","","","","","","","","",0,0,0,0,0,0,0,0,0,0,0,0,0,0,0,0,0,0,0,0,0,0,0,0,0,0]
["DONANTES DE ÓRGANOS Y/O TEJIDOS",{"$f":"+D71+F71+H71+J71+L71+N71+P71+R71+T71+V71+X71+Z71+AB71+AD71+AF71+AH71+AJ71+AL71+AN71+AP71","v":0},0,null,null,null,null,null,null,null,null,null,null,null,null,null,null,null,null,null,null,null,null,null,null,null,null,null,null,null,null,null,null,null,null,null,null,null,null,null,null,null,null,null,null,null,null,null,null,"",null,null,null,null,null,null,null,null,null,null,null,null,null,null,null,null,null,null,null,null,null,null,null,null,null,null,null,null,"","","","","","","","","","","","","","","","","","","","","","","","","","",0,0,0,0,0,0,0,0,0,0,0,0,0,0,0,0,0,0,0,0,0,0,0,0,0,0]
["PACIENTES EN DIÁLISIS",0,0,null,null,null,null,null,null,null,null,null,null,null,null,null,null,null,null,null,null,null,null,null,null,null,null,null,null,null,null,null,null,null,null,null,null,null,null,null,null,null,null,null,null,null,null,null,null,"",null,null,null,null,null,null,null,null,null,null,null,null,null,null,null,null,null,null,null,null,null,null,null,null,null,null,null,null,"","","","","","","","","","","","","","","","","","","","","","","","","","",0,0,0,0,0,0,0,0,0,0,0,0,0,0,0,0,0,0,0,0,0,0,0,0,0,0]
["VÍCTIMA DE VIOLENCIA SEXUAL",0,0,null,null,null,null,null,null,null,null,null,null,null,null,null,null,null,null,null,null,null,null,null,null,null,null,null,null,null,null,null,null,null,null,null,null,null,null,null,null,null,null,null,null,null,null,null,null,"",null,null,null,null,null,null,null,null,null,null,null,null,null,null,null,null,null,null,null,null,null,null,null,null,null,null,null,null,"","","","","","","","","","","","","","","","","","","","","","","","","","",0,0,0,0,0,0,0,0,0,0,0,0,0,0,0,0,0,0,0,0,0,0,0,0,0,0]
["SECCIÓN A.4: EXAMEN RPR POR GRUPO DE USUARIOS (Uso exclusivo de establecimientos que Compran Servicio)",null,null,null,null,null,null,null,null,null,null,null,null,null,null,null,null,null,null,null,null,null,null,null,null,null,null,null,null,null,null,null,null,null,null,null,null,null,null,null,null,null,null,"                   "]
["GRUPO DE PESQUISA","TOTAL",null,"POR EDAD (en meses - años)",null,null,null,null,null,null,null,null,null,null,null,null,null,null,null,null,null,null,null,null,null,null,null,null,null,null,null,null,null,null,null,null,null,null,null,null,null,null,null,"POR SEXO\n(Procesados)",null,"TRANS",null,"Pueblos Originarios","Migrantes"]
[null,null,null,"Menor de 6 meses",null,"6 a 11 meses",null,"12-24 meses",null,"3 a 4",null,"5 a 9",null,"10 - 14",null,"15 - 19",null,"20 - 24",null,"25 a 29",null,"30 a 34",null,"35 a 39",null,"40 a 44",null,"45 a 49",null,"50 a 54",null,"55 a 59",null,"60 a 64",null,"65 a 69",null,"70 a 74",null,"75 a 79",null,"80 y más",null,"Hombres","Mujeres"]
[null,"Procesados","Reactivos","Procesados","Reactivos","Procesados","Reactivos","Procesados","Reactivos","Procesados","Reactivos","Procesados","Reactivos","Procesados","Reactivos","Procesados","Reactivos","Procesados","Reactivos","Procesados","Reactivos","Procesados","Reactivos","Procesados","Reactivos","Procesados","Reactivos","Procesados","Reactivos","Procesados","Reactivos","Procesados","Reactivos","Procesados","Reactivos","Procesados","Reactivos","Procesados","Reactivos","Procesados","Reactivos","Procesados","Reactivos",null,null,"Masculino","Femenino"]
["GESTANTES PRIMER TRIMESTRE EMBARAZO",{"$f":"+N78+P78+R78+T78+V78+X78+Z78+AB78+AD78+AF78+AH78+AJ78+AL78+AN78+AP78","v":0},0,null,null,null,null,null,null,null,null,null,null,null,null,null,null,null,null,null,null,null,null,null,null,null,null,null,null,null,null,null,null,null,null,null,null,null,null,null,null,null,null,null,null,null,null,null,null,{"$f":"$CA78&$CB78&$CC78&$CD78&$CE78&$CF78&$CG78&$CH78&$CI78&$CJ78&$CK78&$CL78&$CM78&$CN78&$CO78&$CP78&$CQ78&$CR78&$CS78&$CT78&$CU78&$CV78&$CW78&$CX78&$CY78&$CZ78","v":""},null,null,null,null,null,null,null,null,null,null,null,null,null,null,null,null,null,null,null,null,null,null,null,null,null,null,null,null,{"$f":"IF(B78<C78,\"* El total de Reactivos NO DEBE ser superior al total de Procesados. \",\"\")","v":""},{"$f":"IF(B78<>(AR78+ AS78),\"* La suma de las columnas Sexo DEBE SER IGUAL a los Procesados. \",\"\")","v":""},{"$f":"IF(B78<(AT78+ AU78),\"* La suma de las columna Trans NO DEBE ser superior al total de Procesados. \",\"\")","v":""},{"$f":"IF(B78<AV78,\"* La columna Pueblos Originarios NO DEBE ser superior al total de Procesados. \",\"\")","v":""},{"$f":"IF(B78<AW78,\"* La columna Migrantes NO DEBE ser superior al total de Procesados. \",\"\")","v":""},{"$f":"IF(D78<E78,CONCATENATE(\"* El total de procesados debe ser mayor o igual al total de Reactivos en el grupo de edad \",$D$76),\"\")","v":""},{"$f":"IF(F78<G78,CONCATENATE(\"* El total de procesados debe ser mayor o igual al total de Reactivos en el grupo de edad \",$F$76),\"\")","v":""},{"$f":"IF(H78<I78,CONCATENATE(\"* El total de procesados debe ser mayor o igual al total de Reactivos en el grupo de edad \",$H$76),\"\")","v":""},{"$f":"IF(J78<K78,CONCATENATE(\"* El total de procesados debe ser mayor o igual al total de Reactivos en el grupo de edad \",$J$76),\"\")","v":""},{"$f":"IF(L78<M78,CONCATENATE(\"* El total de procesados debe ser mayor o igual al total de Reactivos en el grupo de edad \",$L$76),\"\")","v":""},{"$f":"IF(N78<O78,CONCATENATE(\"* El total de procesados debe ser mayor o igual al total de Reactivos en el grupo de edad \",$N$76),\"\")","v":""},{"$f":"IF(P78<Q78,CONCATENATE(\"* El total de procesados debe ser mayor o igual al total de Reactivos en el grupo de edad \",$P$76),\"\")","v":""},{"$f":"IF(R78<S78,CONCATENATE(\"* El total de procesados debe ser mayor o igual al total de Reactivos en el grupo de edad \",$R$76),\"\")","v":""},{"$f":"IF(T78<U78,CONCATENATE(\"* El total de procesados debe ser mayor o igual al total de Reactivos en el grupo de edad \",$T$76),\"\")","v":""},{"$f":"IF(V78<W78,CONCATENATE(\"* El total de procesados debe ser mayor o igual al total de Reactivos en el grupo de edad \",$V$76),\"\")","v":""},{"$f":"IF(X78<Y78,CONCATENATE(\"* El total de procesados debe ser mayor o igual al total de Reactivos en el grupo de edad \",$X$76),\"\")","v":""},{"$f":"IF(Z78<AA78,CONCATENATE(\"* El total de procesados debe ser mayor o igual al total de Reactivos en el grupo de edad \",$Z$76),\"\")","v":""},{"$f":"IF(AB78<AC78,CONCATENATE(\"* El total de procesados debe ser mayor o igual al total de Reactivos en el grupo de edad \",$AB$76),\"\")","v":""},{"$f":"IF(AD78<AE78,CONCATENATE(\"* El total de procesados debe ser mayor o igual al total de Reactivos en el grupo de edad \",$AD$76),\"\")","v":""},{"$f":"IF(AF78<AG78,CONCATENATE(\"* El total de procesados debe ser mayor o igual al total de Reactivos en el grupo de edad \",$AF$76),\"\")","v":""},{"$f":"IF(AH78<AI78,CONCATENATE(\"* El total de procesados debe ser mayor o igual al total de Reactivos en el grupo de edad \",$AH$76),\"\")","v":""},{"$f":"IF(AJ78<AK78,CONCATENATE(\"* El total de procesados debe ser mayor o igual al total de Reactivos en el grupo de edad \",$AJ$76),\"\")","v":""},{"$f":"IF(AL78<AM78,CONCATENATE(\"* El total de procesados debe ser mayor o igual al total de Reactivos en el grupo de edad \",$AL$76),\"\")","v":""},{"$f":"IF(AN78<AO78,CONCATENATE(\"* El total de procesados debe ser mayor o igual al total de Reactivos en el grupo de edad \",$AN$76),\"\")","v":""},{"$f":"IF(AP78<AQ78,CONCATENATE(\"* El total de procesados debe ser mayor o igual al total de Reactivos en el grupo de edad \",$AP$76),\"\")","v":""},{"$f":"IF(AND(B78<>0,OR(AT78=\"\",AU78=\"\",AV78=\"\",AW78=\"\")),\"* No olvide digitar la columna Trans y/o Pueblos Originarios y/o Migrantes (Digite Cero si no tiene). \",\"\")","v":""},{"$f":"IF(B78<   C78,1,0)","v":0},{"$f":"IF(B78<> AR78+AS78,1,0)","v":0},{"$f":"IF(B78<  AT78+AU78,1,0)","v":0},{"$f":"IF(B78<  AV78,1,0)","v":0},{"$f":"IF(B78<  AW78,1,0)","v":0},{"$f":"IF(D78<E78,1,0)","v":0},{"$f":"IF(F78<G78,1,0)","v":0},{"$f":"IF(H78<I78,1,0)","v":0},{"$f":"IF(J78<K78,1,0)","v":0},{"$f":"IF(L78<M78,1,0)","v":0},{"$f":"IF(N78<O78,1,0)","v":0},{"$f":"IF(P78<Q78,1,0)","v":0},{"$f":"IF(R78<S78,1,0)","v":0},{"$f":"IF(T78<U78,1,0)","v":0},{"$f":"IF(V78<W78,1,0)","v":0},{"$f":"IF(X78<Y78,1,0)","v":0},{"$f":"IF(Z78<AA78,1,0)","v":0},{"$f":"IF(AB78<AC78,1,0)","v":0},{"$f":"IF(AD78<AE78,1,0)","v":0},{"$f":"IF(AF78<AG78,1,0)","v":0},{"$f":"IF(AH78<AI78,1,0)","v":0},{"$f":"IF(AJ78<AK78,1,0)","v":0},{"$f":"IF(AL78<AM78,1,0)","v":0},{"$f":"IF(AN78<AO78,1,0)","v":0},{"$f":"IF(AP78<AQ78,1,0)","v":0},{"$f":"IF(AND(B78<>0,OR(AT78=\"\",AU78=\"\",AV78=\"\",AW78=\"\")),1,0)","v":0}]
["GESTANTES SEGUNDO TRIMESTRE EMBARAZO",0,0,null,null,null,null,null,null,null,null,null,null,null,null,null,null,null,null,null,null,null,null,null,null,null,null,null,null,null,null,null,null,null,null,null,null,null,null,null,null,null,null,null,null,null,null,null,null,"",null,null,null,null,null,null,null,null,null,null,null,null,null,null,null,null,null,null,null,null,null,null,null,null,null,null,null,null,"","","","","",{"$f":"IF(D79<E79,CONCATENATE(\"* El total de procesados debe ser mayor o igual al total de Reactivos en el grupo de edad \",$D$76),\"\")","v":""},{"$f":"IF(F79<G79,CONCATENATE(\"* El total de procesados debe ser mayor o igual al total de Reactivos en el grupo de edad \",$F$76),\"\")","v":""},{"$f":"IF(H79<I79,CONCATENATE(\"* El total de procesados debe ser mayor o igual al total de Reactivos en el grupo de edad \",$H$76),\"\")","v":""},{"$f":"IF(J79<K79,CONCATENATE(\"* El total de procesados debe ser mayor o igual al total de Reactivos en el grupo de edad \",$J$76),\"\")","v":""},{"$f":"IF(L79<M79,CONCATENATE(\"* El total de procesados debe ser mayor o igual al total de Reactivos en el grupo de edad \",$L$76),\"\")","v":""},{"$f":"IF(N79<O79,CONCATENATE(\"* El total de procesados debe ser mayor o igual al total de Reactivos en el grupo de edad \",$N$76),\"\")","v":""},{"$f":"IF(P79<Q79,CONCATENATE(\"* El total de procesados debe ser mayor o igual al total de Reactivos en el grupo de edad \",$P$76),\"\")","v":""},{"$f":"IF(R79<S79,CONCATENATE(\"* El total de procesados debe ser mayor o igual al total de Reactivos en el grupo de edad \",$R$76),\"\")","v":""},{"$f":"IF(T79<U79,CONCATENATE(\"* El total de procesados debe ser mayor o igual al total de Reactivos en el grupo de edad \",$T$76),\"\")","v":""},{"$f":"IF(V79<W79,CONCATENATE(\"* El total de procesados debe ser mayor o igual al total de Reactivos en el grupo de edad \",$V$76),\"\")","v":""},{"$f":"IF(X79<Y79,CONCATENATE(\"* El total de procesados debe ser mayor o igual al total de Reactivos en el grupo de edad \",$X$76),\"\")","v":""},{"$f":"IF(Z79<AA79,CONCATENATE(\"* El total de procesados debe ser mayor o igual al total de Reactivos en el grupo de edad \",$Z$76),\"\")","v":""},{"$f":"IF(AB79<AC79,CONCATENATE(\"* El total de procesados debe ser mayor o igual al total de Reactivos en el grupo de edad \",$AB$76),\"\")","v":""},{"$f":"IF(AD79<AE79,CONCATENATE(\"* El total de procesados debe ser mayor o igual al total de Reactivos en el grupo de edad \",$AD$76),\"\")","v":""},{"$f":"IF(AF79<AG79,CONCATENATE(\"* El total de procesados debe ser mayor o igual al total de Reactivos en el grupo de edad \",$AF$76),\"\")","v":""},{"$f":"IF(AH79<AI79,CONCATENATE(\"* El total de procesados debe ser mayor o igual al total de Reactivos en el grupo de edad \",$AH$76),\"\")","v":""},{"$f":"IF(AJ79<AK79,CONCATENATE(\"* El total de procesados debe ser mayor o igual al total de Reactivos en el grupo de edad \",$AJ$76),\"\")","v":""},{"$f":"IF(AL79<AM79,CONCATENATE(\"* El total de procesados debe ser mayor o igual al total de Reactivos en el grupo de edad \",$AL$76),\"\")","v":""},{"$f":"IF(AN79<AO79,CONCATENATE(\"* El total de procesados debe ser mayor o igual al total de Reactivos en el grupo de edad \",$AN$76),\"\")","v":""},{"$f":"IF(AP79<AQ79,CONCATENATE(\"* El total de procesados debe ser mayor o igual al total de Reactivos en el grupo de edad \",$AP$76),\"\")","v":""},"",0,0,0,0,0,0,0,0,0,0,0,0,0,0,0,0,0,0,0,0,0,0,0,0,0,0]
["GESTANTES TERCER TRIMESTRE EMBARAZO",0,0,null,null,null,null,null,null,null,null,null,null,null,null,null,null,null,null,null,null,null,null,null,null,null,null,null,null,null,null,null,null,null,null,null,null,null,null,null,null,null,null,null,null,null,null,null,null,"",null,null,null,null,null,null,null,null,null,null,null,null,null,null,null,null,null,null,null,null,null,null,null,null,null,null,null,null,"","","","","","","","","","","","","","","","","","","","","","","","","","",0,0,0,0,0,0,0,0,0,0,0,0,0,0,0,0,0,0,0,0,0,0,0,0,0,0]
["GESTANTES TRIMESTRE EMBARAZO IGNORADO",0,0,null,null,null,null,null,null,null,null,null,null,null,null,null,null,null,null,null,null,null,null,null,null,null,null,null,null,null,null,null,null,null,null,null,null,null,null,null,null,null,null,null,null,null,null,null,null,"",null,null,null,null,null,null,null,null,null,null,null,null,null,null,null,null,null,null,null,null,null,null,null,null,null,null,null,null,"","","","","","","","","","","","","","","","","","","","","","","","","","",0,0,0,0,0,0,0,0,0,0,0,0,0,0,0,0,0,0,0,0,0,0,0,0,0,0]
["GESTANTES EN SEGUIMIENTO POR DIAGNÓSTICO SÍFILIS",0,0,null,null,null,null,null,null,null,null,null,null,null,null,null,null,null,null,null,null,null,null,null,null,null,null,null,null,null,null,null,null,null,null,null,null,null,null,null,null,null,null,null,null,null,null,null,null,"",null,null,null,null,null,null,null,null,null,null,null,null,null,null,null,null,null,null,null,null,null,null,null,null,null,null,null,null,"","","","","","","","","","","","","","","","","","","","","","","","","","",0,0,0,0,0,0,0,0,0,0,0,0,0,0,0,0,0,0,0,0,0,0,0,0,0,0]
["PAREJA DE GESTANTE CON SEROLOGÍA REACTIVA",0,0,null,null,null,null,null,null,null,null,null,null,null,null,null,null,null,null,null,null,null,null,null,null,null,null,null,null,null,null,null,null,null,null,null,null,null,null,null,null,null,null,null,null,null,null,null,null,"",null,null,null,null,null,null,null,null,null,null,null,null,null,null,null,null,null,null,null,null,null,null,null,null,null,null,null,null,"","","","","","","","","","","","","","","","","","","","","","","","","","",0,0,0,0,0,0,0,0,0,0,0,0,0,0,0,0,0,0,0,0,0,0,0,0,0,0]
["MUJERES QUE INGRESAN A MATERNIDAD POR PARTO",0,0,null,null,null,null,null,null,null,null,null,null,null,null,null,null,null,null,null,null,null,null,null,null,null,null,null,null,null,null,null,null,null,null,null,null,null,null,null,null,null,null,null,null,null,null,null,null,"",null,null,null,null,null,null,null,null,null,null,null,null,null,null,null,null,null,null,null,null,null,null,null,null,null,null,null,null,"","","","","","","","","","","","","","","","","","","","","","","","","","",0,0,0,0,0,0,0,0,0,0,0,0,0,0,0,0,0,0,0,0,0,0,0,0,0,0]
["MUJERES QUE INGRESAN POR ABORTO",0,0,null,null,null,null,null,null,null,null,null,null,null,null,null,null,null,null,null,null,null,null,null,null,null,null,null,null,null,null,null,null,null,null,null,null,null,null,null,null,null,null,null,null,null,null,null,null,"",null,null,null,null,null,null,null,null,null,null,null,null,null,null,null,null,null,null,null,null,null,null,null,null,null,null,null,null,"","","","","","","","","","","","","","","","","","","","","","","","","","",0,0,0,0,0,0,0,0,0,0,0,0,0,0,0,0,0,0,0,0,0,0,0,0,0,0]
["MUJERES EN CONTROL GINECOLÓGICO",{"$f":"+D86+F86+H86+J86+L86+N86+P86+R86+T86+V86+X86+Z86+AB86+AD86+AF86+AH86+AJ86+AL86+AN86+AP86","v":0},{"$f":"+E86+G86+I86+K86+M86+O86+Q86+S86+U86+W86+Y86+AA86+AC86+AE86+AG86+AI86+AK86+AM86+AO86+AQ86","v":0},null,null,null,null,null,null,null,null,null,null,null,null,null,null,null,null,null,null,null,null,null,null,null,null,null,null,null,null,null,null,null,null,null,null,null,null,null,null,null,null,null,null,null,null,null,null,"",null,null,null,null,null,null,null,null,null,null,null,null,null,null,null,null,null,null,null,null,null,null,null,null,null,null,null,null,"","","","","","","","","","","","","","","","","","","","","","","","","","",0,0,0,0,0,0,0,0,0,0,0,0,0,0,0,0,0,0,0,0,0,0,0,0,0,0]
["RECIÉN NACIDO Y LACTANTE PARA DETECCIÓN DE SÍFILIS CONGÉNITA",{"$f":"+D87+F87+H87","v":0},{"$f":"+E87+G87+I87","v":0},null,null,null,null,null,null,null,null,null,null,null,null,null,null,null,null,null,null,null,null,null,null,null,null,null,null,null,null,null,null,null,null,null,null,null,null,null,null,null,null,null,null,null,null,null,null,"",null,null,null,null,null,null,null,null,null,null,null,null,null,null,null,null,null,null,null,null,null,null,null,null,null,null,null,null,"","","","","","","","","","","","","","","","","","","","","","","","","","",0,0,0,0,0,0,0,0,0,0,0,0,0,0,0,0,0,0,0,0,0,0,0,0,0,0]
["PERSONAS EN CONTROL POR COMERCIO SEXUAL",{"$f":"+P88+R88+T88+V88+X88+Z88+AB88+AD88+AF88+AH88+AJ88+AL88+AN88+AP88","v":0},{"$f":"+Q88+S88+U88+W88+Y88+AA88+AC88+AE88+AG88+AI88+AK88+AM88+AO88+AQ88","v":0},null,null,null,null,null,null,null,null,null,null,null,null,null,null,null,null,null,null,null,null,null,null,null,null,null,null,null,null,null,null,null,null,null,null,null,null,null,null,null,null,null,null,null,null,null,null,"",null,null,null,null,null,null,null,null,null,null,null,null,null,null,null,null,null,null,null,null,null,null,null,null,null,null,null,null,"","","","","","","","","","","","","","","","","","","","","","","","","","",0,0,0,0,0,0,0,0,0,0,0,0,0,0,0,0,0,0,0,0,0,0,0,0,0,0]
["PERSONAS EN CONTROL FECUNDIDAD",{"$f":"+N89+P89+R89+T89+V89+X89+Z89+AB89+AD89+AF89+AH89+AJ89+AL89+AN89+AP89","v":0},{"$f":"+O89+Q89+S89+U89+W89+Y89+AA89+AC89+AE89+AG89+AI89+AK89+AM89+AO89+AQ89","v":0},null,null,null,null,null,null,null,null,null,null,null,null,null,null,null,null,null,null,null,null,null,null,null,null,null,null,null,null,null,null,null,null,null,null,null,null,null,null,null,null,null,null,null,null,null,null,"",null,null,null,null,null,null,null,null,null,null,null,null,null,null,null,null,null,null,null,null,null,null,null,null,null,null,null,null,"","","","","","","","","","","","","","","","","","","","","","","","","","",0,0,0,0,0,0,0,0,0,0,0,0,0,0,0,0,0,0,0,0,0,0,0,0,0,0]
["CONSULTANTES POR ITS",{"$f":"+D90+F90+H90+J90+L90+N90+P90+R90+T90+V90+X90+Z90+AB90+AD90+AF90+AH90+AJ90+AL90+AN90+AP90","v":0},{"$f":"+E90+G90+I90+K90+M90+O90+Q90+S90+U90+W90+Y90+AA90+AC90+AE90+AG90+AI90+AK90+AM90+AO90+AQ90","v":0},null,null,null,null,null,null,null,null,null,null,null,null,null,null,null,null,null,null,null,null,null,null,null,null,null,null,null,null,null,null,null,null,null,null,null,null,null,null,null,null,null,null,null,null,null,null,"",null,null,null,null,null,null,null,null,null,null,null,null,null,null,null,null,null,null,null,null,null,null,null,null,null,null,null,null,"","","","","","","","","","","","","","","","","","","","","","","","","","",0,0,0,0,0,0,0,0,0,0,0,0,0,0,0,0,0,0,0,0,0,0,0,0,0,0]
["PERSONAS CON EMP",{"$f":"+P91+R91+T91+V91+X91+Z91+AB91+AD91+AF91+AH91+AJ91+AL91+AN91+AP91","v":0},{"$f":"+Q91+S91+U91+W91+Y91+AA91+AC91+AE91+AG91+AI91+AK91+AM91+AO91+AQ91","v":0},null,null,null,null,null,null,null,null,null,null,null,null,null,null,null,null,null,null,null,null,null,null,null,null,null,null,null,null,null,null,null,null,null,null,null,null,null,null,null,null,null,null,null,null,null,null,"",null,null,null,null,null,null,null,null,null,null,null,null,null,null,null,null,null,null,null,null,null,null,null,null,null,null,null,null,"","","","","","","","","","","","","","","","","","","","","","","","","","",0,0,0,0,0,0,0,0,0,0,0,0,0,0,0,0,0,0,0,0,0,0,0,0,0,0]
["DONANTES DE SANGRE",{"$f":"+P92+R92+T92+V92+X92+Z92+AB92+AD92+AF92+AH92","v":0},{"$f":"+Q92+S92+U92+W92+Y92+AA92+AC92+AE92+AG92+AI92","v":0},null,null,null,null,null,null,null,null,null,null,null,null,null,null,null,null,null,null,null,null,null,null,null,null,null,null,null,null,null,null,null,null,null,null,null,null,null,null,null,null,null,null,null,null,null,null,"",null,null,null,null,null,null,null,null,null,null,null,null,null,null,null,null,null,null,null,null,null,null,null,null,null,null,null,null,"","","","","","","","","","","","","","","","","","","","","","","","","","",0,0,0,0,0,0,0,0,0,0,0,0,0,0,0,0,0,0,0,0,0,0,0,0,0,0]
["DONANTES DE ÓRGANOS Y/O TEJIDOS",{"$f":"+D93+F93+H93+J93+L93+N93+P93+R93+T93+V93+X93+Z93+AB93+AD93+AF93+AH93+AJ93+AL93+AN93+AP93","v":0},0,null,null,null,null,null,null,null,null,null,null,null,null,null,null,null,null,null,null,null,null,null,null,null,null,null,null,null,null,null,null,null,null,null,null,null,null,null,null,null,null,null,null,null,null,null,null,"",null,null,null,null,null,null,null,null,null,null,null,null,null,null,null,null,null,null,null,null,null,null,null,null,null,null,null,null,"","","","","","","","","","","","","","","","","","","","","","","","","","",0,0,0,0,0,0,0,0,0,0,0,0,0,0,0,0,0,0,0,0,0,0,0,0,0,0]
["PACIENTES EN DIÁLISIS",0,0,null,null,null,null,null,null,null,null,null,null,null,null,null,null,null,null,null,null,null,null,null,null,null,null,null,null,null,null,null,null,null,null,null,null,null,null,null,null,null,null,null,null,null,null,null,null,"",null,null,null,null,null,null,null,null,null,null,null,null,null,null,null,null,null,null,null,null,null,null,null,null,null,null,null,null,"","","","","","","","","","","","","","","","","","","","","","","","","","",0,0,0,0,0,0,0,0,0,0,0,0,0,0,0,0,0,0,0,0,0,0,0,0,0,0]
["VÍCTIMA DE VIOLENCIA SEXUAL",0,0,null,null,null,null,null,null,null,null,null,null,null,null,null,null,null,null,null,null,null,null,null,null,null,null,null,null,null,null,null,null,null,null,null,null,null,null,null,null,null,null,null,null,null,null,null,null,"",null,null,null,null,null,null,null,null,null,null,null,null,null,null,null,null,null,null,null,null,null,null,null,null,null,null,null,null,"","","","","","","","","","","","","","","","","","","","","","","","","","",0,0,0,0,0,0,0,0,0,0,0,0,0,0,0,0,0,0,0,0,0,0,0,0,0,0]
["SECCIÓN A.5: EXAMEN MHA-TP POR GRUPO DE USUARIOS (Uso exclusivo de establecimientos con Laboratorio que procesan)"]
["GRUPO DE PESQUISA","TOTAL",null,"POR EDAD (en meses - años)",null,null,null,null,null,null,null,null,null,null,null,null,null,null,null,null,null,null,null,null,null,null,null,null,null,null,null,null,null,null,null,null,null,null,null,null,null,null,null,"POR SEXO\n(Procesados)",null,"TRANS",null,"Pueblos Originarios","Migrantes"]
[null,null,null,"Menor de 6 meses",null,"6 a 11 meses",null,"12-24 meses",null,"3 a 4",null,"5 a 9",null,"10 - 14",null,"15 - 19",null,"20 - 24",null,"25 a 29",null,"30 a 34",null,"35 a 39",null,"40 a 44",null,"45 a 49",null,"50 a 54",null,"55 a 59",null,"60 a 64",null,"65 a 69",null,"70 a 74",null,"75 a 79",null,"80 y más",null,"Hombres","Mujeres"]
[null,"Procesados","Reactivos","Procesados","Reactivos","Procesados","Reactivos","Procesados","Reactivos","Procesados","Reactivos","Procesados","Reactivos","Procesados","Reactivos","Procesados","Reactivos","Procesados","Reactivos","Procesados","Reactivos","Procesados","Reactivos","Procesados","Reactivos","Procesados","Reactivos","Procesados","Reactivos","Procesados","Reactivos","Procesados","Reactivos","Procesados","Reactivos","Procesados","Reactivos","Procesados","Reactivos","Procesados","Reactivos","Procesados","Reactivos",null,null,"Masculino","Femenino"]
["GESTANTES PRIMER TRIMESTRE EMBARAZO",{"$f":"+N100+P100+R100+T100+V100+X100+Z100+AB100+AD100+AF100+AH100+AJ100+AL100+AN100+AP100","v":0},0,null,null,null,null,null,null,null,null,null,null,null,null,null,null,null,null,null,null,null,null,null,null,null,null,null,null,null,null,null,null,null,null,null,null,null,null,null,null,null,null,null,null,null,null,null,null,{"$f":"$CA100&$CB100&$CC100&$CD100&$CE100&$CF100&$CG100&$CH100&$CI100&$CJ100&$CK100&$CL100&$CM100&$CN100&$CO100&$CP100&$CQ100&$CR100&$CS100&$CT100&$CU100&$CV100&$CW100&$CX100&$CY100&$CZ100","v":""},null,null,null,null,null,null,null,null,null,null,null,null,null,null,null,null,null,null,null,null,null,null,null,null,null,null,null,null,{"$f":"IF(B100<C100,\"* El total de Reactivos NO DEBE ser superior al total de Procesados. \",\"\")","v":""},{"$f":"IF(B100<>(AR100+ AS100),\"* La suma de las columnas Sexo DEBE SER IGUAL a los Procesados. \",\"\")","v":""},{"$f":"IF(B100<(AT100+ AU100),\"* La suma de las columna Trans NO DEBE ser superior al total de Procesados. \",\"\")","v":""},{"$f":"IF(B100<AV100,\"* La columna Pueblos Originarios NO DEBE ser superior al total de Procesados. \",\"\")","v":""},{"$f":"IF(B100<AW100,\"* La columna Migrantes NO DEBE ser superior al total de Procesados. \",\"\")","v":""},{"$f":"IF(D100<E100,CONCATENATE(\"* El total de procesados debe ser mayor o igual al total de Reactivos en el grupo de edad \",$D$98),\"\")","v":""},{"$f":"IF(F100<G100,CONCATENATE(\"* El total de procesados debe ser mayor o igual al total de Reactivos en el grupo de edad \",$F$98),\"\")","v":""},{"$f":"IF(H100<I100,CONCATENATE(\"* El total de procesados debe ser mayor o igual al total de Reactivos en el grupo de edad \",$H$98),\"\")","v":""},{"$f":"IF(J100<K100,CONCATENATE(\"* El total de procesados debe ser mayor o igual al total de Reactivos en el grupo de edad \",$J$98),\"\")","v":""},{"$f":"IF(L100<M100,CONCATENATE(\"* El total de procesados debe ser mayor o igual al total de Reactivos en el grupo de edad \",$L$98),\"\")","v":""},{"$f":"IF(N100<O100,CONCATENATE(\"* El total de procesados debe ser mayor o igual al total de Reactivos en el grupo de edad \",$N$98),\"\")","v":""},{"$f":"IF(P100<Q100,CONCATENATE(\"* El total de procesados debe ser mayor o igual al total de Reactivos en el grupo de edad \",$P$98),\"\")","v":""},{"$f":"IF(R100<S100,CONCATENATE(\"* El total de procesados debe ser mayor o igual al total de Reactivos en el grupo de edad \",$R$98),\"\")","v":""},{"$f":"IF(T100<U100,CONCATENATE(\"* El total de procesados debe ser mayor o igual al total de Reactivos en el grupo de edad \",$T$98),\"\")","v":""},{"$f":"IF(V100<W100,CONCATENATE(\"* El total de procesados debe ser mayor o igual al total de Reactivos en el grupo de edad \",$V$98),\"\")","v":""},{"$f":"IF(X100<Y100,CONCATENATE(\"* El total de procesados debe ser mayor o igual al total de Reactivos en el grupo de edad \",$X$98),\"\")","v":""},{"$f":"IF(Z100<AA100,CONCATENATE(\"* El total de procesados debe ser mayor o igual al total de Reactivos en el grupo de edad \",$Z$98),\"\")","v":""},{"$f":"IF(AB100<AC100,CONCATENATE(\"* El total de procesados debe ser mayor o igual al total de Reactivos en el grupo de edad \",$AB$98),\"\")","v":""},{"$f":"IF(AD100<AE100,CONCATENATE(\"* El total de procesados debe ser mayor o igual al total de Reactivos en el grupo de edad \",$AD$98),\"\")","v":""},{"$f":"IF(AF100<AG100,CONCATENATE(\"* El total de procesados debe ser mayor o igual al total de Reactivos en el grupo de edad \",$AF$98),\"\")","v":""},{"$f":"IF(AH100<AI100,CONCATENATE(\"* El total de procesados debe ser mayor o igual al total de Reactivos en el grupo de edad \",$AH$98),\"\")","v":""},{"$f":"IF(AJ100<AK100,CONCATENATE(\"* El total de procesados debe ser mayor o igual al total de Reactivos en el grupo de edad \",$AJ$98),\"\")","v":""},{"$f":"IF(AL100<AM100,CONCATENATE(\"* El total de procesados debe ser mayor o igual al total de Reactivos en el grupo de edad \",$AL$98),\"\")","v":""},{"$f":"IF(AN100<AO100,CONCATENATE(\"* El total de procesados debe ser mayor o igual al total de Reactivos en el grupo de edad \",$AN$98),\"\")","v":""},{"$f":"IF(AP100<AQ100,CONCATENATE(\"* El total de procesados debe ser mayor o igual al total de Reactivos en el grupo de edad \",$AP$98),\"\")","v":""},{"$f":"IF(AND(B100<>0,OR(AT100=\"\",AU100=\"\",AV100=\"\",AW100=\"\")),\"* No olvide digitar la columna Trans y/o Pueblos Originarios y/o Migrantes (Digite Cero si no tiene). \",\"\")","v":""},{"$f":"IF(B100<   C100,1,0)","v":0},{"$f":"IF(B100<> AR100+AS100,1,0)","v":0},{"$f":"IF(B100<  AT100+AU100,1,0)","v":0},{"$f":"IF(B100<  AV100,1,0)","v":0},{"$f":"IF(B100<  AW100,1,0)","v":0},{"$f":"IF(D100<E100,1,0)","v":0},{"$f":"IF(F100<G100,1,0)","v":0},{"$f":"IF(H100<I100,1,0)","v":0},{"$f":"IF(J100<K100,1,0)","v":0},{"$f":"IF(L100<M100,1,0)","v":0},{"$f":"IF(N100<O100,1,0)","v":0},{"$f":"IF(P100<Q100,1,0)","v":0},{"$f":"IF(R100<S100,1,0)","v":0},{"$f":"IF(T100<U100,1,0)","v":0},{"$f":"IF(V100<W100,1,0)","v":0},{"$f":"IF(X100<Y100,1,0)","v":0},{"$f":"IF(Z100<AA100,1,0)","v":0},{"$f":"IF(AB100<AC100,1,0)","v":0},{"$f":"IF(AD100<AE100,1,0)","v":0},{"$f":"IF(AF100<AG100,1,0)","v":0},{"$f":"IF(AH100<AI100,1,0)","v":0},{"$f":"IF(AJ100<AK100,1,0)","v":0},{"$f":"IF(AL100<AM100,1,0)","v":0},{"$f":"IF(AN100<AO100,1,0)","v":0},{"$f":"IF(AP100<AQ100,1,0)","v":0},{"$f":"IF(AND(B100<>0,OR(AT100=\"\",AU100=\"\",AV100=\"\",AW100=\"\")),1,0)","v":0}]
["GESTANTES SEGUNDO TRIMESTRE EMBARAZO",0,0,null,null,null,null,null,null,null,null,null,null,null,null,null,null,null,null,null,null,null,null,null,null,null,null,null,null,null,null,null,null,null,null,null,null,null,null,null,null,null,null,null,null,null,null,null,null,"",null,null,null,null,null,null,null,null,null,null,null,null,null,null,null,null,null,null,null,null,null,null,null,null,null,null,null,null,"","","","","",{"$f":"IF(D101<E101,CONCATENATE(\"* El total de procesados debe ser mayor o igual al total de Reactivos en el grupo de edad \",$D$98),\"\")","v":""},{"$f":"IF(F101<G101,CONCATENATE(\"* El total de procesados debe ser mayor o igual al total de Reactivos en el grupo de edad \",$F$98),\"\")","v":""},{"$f":"IF(H101<I101,CONCATENATE(\"* El total de procesados debe ser mayor o igual al total de Reactivos en el grupo de edad \",$H$98),\"\")","v":""},{"$f":"IF(J101<K101,CONCATENATE(\"* El total de procesados debe ser mayor o igual al total de Reactivos en el grupo de edad \",$J$98),\"\")","v":""},{"$f":"IF(L101<M101,CONCATENATE(\"* El total de procesados debe ser mayor o igual al total de Reactivos en el grupo de edad \",$L$98),\"\")","v":""},{"$f":"IF(N101<O101,CONCATENATE(\"* El total de procesados debe ser mayor o igual al total de Reactivos en el grupo de edad \",$N$98),\"\")","v":""},{"$f":"IF(P101<Q101,CONCATENATE(\"* El total de procesados debe ser mayor o igual al total de Reactivos en el grupo de edad \",$P$98),\"\")","v":""},{"$f":"IF(R101<S101,CONCATENATE(\"* El total de procesados debe ser mayor o igual al total de Reactivos en el grupo de edad \",$R$98),\"\")","v":""},{"$f":"IF(T101<U101,CONCATENATE(\"* El total de procesados debe ser mayor o igual al total de Reactivos en el grupo de edad \",$T$98),\"\")","v":""},{"$f":"IF(V101<W101,CONCATENATE(\"* El total de procesados debe ser mayor o igual al total de Reactivos en el grupo de edad \",$V$98),\"\")","v":""},{"$f":"IF(X101<Y101,CONCATENATE(\"* El total de procesados debe ser mayor o igual al total de Reactivos en el grupo de edad \",$X$98),\"\")","v":""},{"$f":"IF(Z101<AA101,CONCATENATE(\"* El total de procesados debe ser mayor o igual al total de Reactivos en el grupo de edad \",$Z$98),\"\")","v":""},{"$f":"IF(AB101<AC101,CONCATENATE(\"* El total de procesados debe ser mayor o igual al total de Reactivos en el grupo de edad \",$AB$98),\"\")","v":""},{"$f":"IF(AD101<AE101,CONCATENATE(\"* El total de procesados debe ser mayor o igual al total de Reactivos en el grupo de edad \",$AD$98),\"\")","v":""},{"$f":"IF(AF101<AG101,CONCATENATE(\"* El total de procesados debe ser mayor o igual al total de Reactivos en el grupo de edad \",$AF$98),\"\")","v":""},{"$f":"IF(AH101<AI101,CONCATENATE(\"* El total de procesados debe ser mayor o igual al total de Reactivos en el grupo de edad \",$AH$98),\"\")","v":""},{"$f":"IF(AJ101<AK101,CONCATENATE(\"* El total de procesados debe ser mayor o igual al total de Reactivos en el grupo de edad \",$AJ$98),\"\")","v":""},{"$f":"IF(AL101<AM101,CONCATENATE(\"* El total de procesados debe ser mayor o igual al total de Reactivos en el grupo de edad \",$AL$98),\"\")","v":""},{"$f":"IF(AN101<AO101,CONCATENATE(\"* El total de procesados debe ser mayor o igual al total de Reactivos en el grupo de edad \",$AN$98),\"\")","v":""},{"$f":"IF(AP101<AQ101,CONCATENATE(\"* El total de procesados debe ser mayor o igual al total de Reactivos en el grupo de edad \",$AP$98),\"\")","v":""},"",0,0,0,0,0,0,0,0,0,0,0,0,0,0,0,0,0,0,0,0,0,0,0,0,0,0]
["GESTANTES TERCER TRIMESTRE EMBARAZO",0,0,null,null,null,null,null,null,null,null,null,null,null,null,null,null,null,null,null,null,null,null,null,null,null,null,null,null,null,null,null,null,null,null,null,null,null,null,null,null,null,null,null,null,null,null,null,null,"",null,null,null,null,null,null,null,null,null,null,null,null,null,null,null,null,null,null,null,null,null,null,null,null,null,null,null,null,"","","","","","","","","","","","","","","","","","","","","","","","","","",0,0,0,0,0,0,0,0,0,0,0,0,0,0,0,0,0,0,0,0,0,0,0,0,0,0]
["GESTANTES TRIMESTRE EMBARAZO IGNORADO",0,0,null,null,null,null,null,null,null,null,null,null,null,null,null,null,null,null,null,null,null,null,null,null,null,null,null,null,null,null,null,null,null,null,null,null,null,null,null,null,null,null,null,null,null,null,null,null,"",null,null,null,null,null,null,null,null,null,null,null,null,null,null,null,null,null,null,null,null,null,null,null,null,null,null,null,null,"","","","","","","","","","","","","","","","","","","","","","","","","","",0,0,0,0,0,0,0,0,0,0,0,0,0,0,0,0,0,0,0,0,0,0,0,0,0,0]
["GESTANTES EN SEGUIMIENTO POR DIAGNÓSTICO SÍFILIS",0,0,null,null,null,null,null,null,null,null,null,null,null,null,null,null,null,null,null,null,null,null,null,null,null,null,null,null,null,null,null,null,null,null,null,null,null,null,null,null,null,null,null,null,null,null,null,null,"",null,null,null,null,null,null,null,null,null,null,null,null,null,null,null,null,null,null,null,null,null,null,null,null,null,null,null,null,"","","","","","","","","","","","","","","","","","","","","","","","","","",0,0,0,0,0,0,0,0,0,0,0,0,0,0,0,0,0,0,0,0,0,0,0,0,0,0]
["PAREJA DE GESTANTE CON SEROLOGÍA REACTIVA",0,0,null,null,null,null,null,null,null,null,null,null,null,null,null,null,null,null,null,null,null,null,null,null,null,null,null,null,null,null,null,null,null,null,null,null,null,null,null,null,null,null,null,null,null,null,null,null,"",null,null,null,null,null,null,null,null,null,null,null,null,null,null,null,null,null,null,null,null,null,null,null,null,null,null,null,null,"","","","","","","","","","","","","","","","","","","","","","","","","","",0,0,0,0,0,0,0,0,0,0,0,0,0,0,0,0,0,0,0,0,0,0,0,0,0,0]
["MUJERES QUE INGRESAN A MATERNIDAD POR PARTO",0,0,null,null,null,null,null,null,null,null,null,null,null,null,null,null,null,null,null,null,null,null,null,null,null,null,null,null,null,null,null,null,null,null,null,null,null,null,null,null,null,null,null,null,null,null,null,null,"",null,null,null,null,null,null,null,null,null,null,null,null,null,null,null,null,null,null,null,null,null,null,null,null,null,null,null,null,"","","","","","","","","","","","","","","","","","","","","","","","","","",0,0,0,0,0,0,0,0,0,0,0,0,0,0,0,0,0,0,0,0,0,0,0,0,0,0]
["MUJERES QUE INGRESAN POR ABORTO",0,0,null,null,null,null,null,null,null,null,null,null,null,null,null,null,null,null,null,null,null,null,null,null,null,null,null,null,null,null,null,null,null,null,null,null,null,null,null,null,null,null,null,null,null,null,null,null,"",null,null,null,null,null,null,null,null,null,null,null,null,null,null,null,null,null,null,null,null,null,null,null,null,null,null,null,null,"","","","","","","","","","","","","","","","","","","","","","","","","","",0,0,0,0,0,0,0,0,0,0,0,0,0,0,0,0,0,0,0,0,0,0,0,0,0,0]
["MUJERES EN CONTROL GINECOLÓGICO",{"$f":"+D108+F108+H108+J108+L108+N108+P108+R108+T108+V108+X108+Z108+AB108+AD108+AF108+AH108+AJ108+AL108+AN108+AP108","v":0},{"$f":"+E108+G108+I108+K108+M108+O108+Q108+S108+U108+W108+Y108+AA108+AC108+AE108+AG108+AI108+AK108+AM108+AO108+AQ108","v":0},null,null,null,null,null,null,null,null,null,null,null,null,null,null,null,null,null,null,null,null,null,null,null,null,null,null,null,null,null,null,null,null,null,null,null,null,null,null,null,null,null,null,null,null,null,null,"",null,null,null,null,null,null,null,null,null,null,null,null,null,null,null,null,null,null,null,null,null,null,null,null,null,null,null,null,"","","","","","","","","","","","","","","","","","","","","","","","","","",0,0,0,0,0,0,0,0,0,0,0,0,0,0,0,0,0,0,0,0,0,0,0,0,0,0]
["RECIÉN NACIDO Y LACTANTE PARA DETECCIÓN DE SÍFILIS CONGÉNITA",{"$f":"+D109+F109+H109","v":0},{"$f":"+E109+G109+I109","v":0},null,null,null,null,null,null,null,null,null,null,null,null,null,null,null,null,null,null,null,null,null,null,null,null,null,null,null,null,null,null,null,null,null,null,null,null,null,null,null,null,null,null,null,null,null,null,"",null,null,null,null,null,null,null,null,null,null,null,null,null,null,null,null,null,null,null,null,null,null,null,null,null,null,null,null,"","","","","","","","","","","","","","","","","","","","","","","","","","",0,0,0,0,0,0,0,0,0,0,0,0,0,0,0,0,0,0,0,0,0,0,0,0,0,0]
["PERSONAS EN CONTROL POR COMERCIO SEXUAL",{"$f":"+P110+R110+T110+V110+X110+Z110+AB110+AD110+AF110+AH110+AJ110+AL110+AN110+AP110","v":0},{"$f":"+Q110+S110+U110+W110+Y110+AA110+AC110+AE110+AG110+AI110+AK110+AM110+AO110+AQ110","v":0},null,null,null,null,null,null,null,null,null,null,null,null,null,null,null,null,null,null,null,null,null,null,null,null,null,null,null,null,null,null,null,null,null,null,null,null,null,null,null,null,null,null,null,null,null,null,"",null,null,null,null,null,null,null,null,null,null,null,null,null,null,null,null,null,null,null,null,null,null,null,null,null,null,null,null,"","","","","","","","","","","","","","","","","","","","","","","","","","",0,0,0,0,0,0,0,0,0,0,0,0,0,0,0,0,0,0,0,0,0,0,0,0,0,0]
["PERSONAS EN CONTROL FECUNDIDAD",{"$f":"+N111+P111+R111+T111+V111+X111+Z111+AB111+AD111+AF111+AH111+AJ111+AL111+AN111+AP111","v":0},{"$f":"+O111+Q111+S111+U111+W111+Y111+AA111+AC111+AE111+AG111+AI111+AK111+AM111+AO111+AQ111","v":0},null,null,null,null,null,null,null,null,null,null,null,null,null,null,null,null,null,null,null,null,null,null,null,null,null,null,null,null,null,null,null,null,null,null,null,null,null,null,null,null,null,null,null,null,null,null,"",null,null,null,null,null,null,null,null,null,null,null,null,null,null,null,null,null,null,null,null,null,null,null,null,null,null,null,null,"","","","","","","","","","","","","","","","","","","","","","","","","","",0,0,0,0,0,0,0,0,0,0,0,0,0,0,0,0,0,0,0,0,0,0,0,0,0,0]
["CONSULTANTES POR ITS",{"$f":"+D112+F112+H112+J112+L112+N112+P112+R112+T112+V112+X112+Z112+AB112+AD112+AF112+AH112+AJ112+AL112+AN112+AP112","v":0},{"$f":"+E112+G112+I112+K112+M112+O112+Q112+S112+U112+W112+Y112+AA112+AC112+AE112+AG112+AI112+AK112+AM112+AO112+AQ112","v":0},null,null,null,null,null,null,null,null,null,null,null,null,null,null,null,null,null,null,null,null,null,null,null,null,null,null,null,null,null,null,null,null,null,null,null,null,null,null,null,null,null,null,null,null,null,null,"",null,null,null,null,null,null,null,null,null,null,null,null,null,null,null,null,null,null,null,null,null,null,null,null,null,null,null,null,"","","","","","","","","","","","","","","","","","","","","","","","","","",0,0,0,0,0,0,0,0,0,0,0,0,0,0,0,0,0,0,0,0,0,0,0,0,0,0]
["PERSONAS CON EMP",{"$f":"+P113+R113+T113+V113+X113+Z113+AB113+AD113+AF113+AH113+AJ113+AL113+AN113+AP113","v":0},{"$f":"+Q113+S113+U113+W113+Y113+AA113+AC113+AE113+AG113+AI113+AK113+AM113+AO113+AQ113","v":0},null,null,null,null,null,null,null,null,null,null,null,null,null,null,null,null,null,null,null,null,null,null,null,null,null,null,null,null,null,null,null,null,null,null,null,null,null,null,null,null,null,null,null,null,null,null,"",null,null,null,null,null,null,null,null,null,null,null,null,null,null,null,null,null,null,null,null,null,null,null,null,null,null,null,null,"","","","","","","","","","","","","","","","","","","","","","","","","","",0,0,0,0,0,0,0,0,0,0,0,0,0,0,0,0,0,0,0,0,0,0,0,0,0,0]
["DONANTES DE SANGRE",{"$f":"+P114+R114+T114+V114+X114+Z114+AB114+AD114+AF114+AH114","v":0},{"$f":"+Q114+S114+U114+W114+Y114+AA114+AC114+AE114+AG114+AI114","v":0},null,null,null,null,null,null,null,null,null,null,null,null,null,null,null,null,null,null,null,null,null,null,null,null,null,null,null,null,null,null,null,null,null,null,null,null,null,null,null,null,null,null,null,null,null,null,"",null,null,null,null,null,null,null,null,null,null,null,null,null,null,null,null,null,null,null,null,null,null,null,null,null,null,null,null,"","","","","","","","","","","","","","","","","","","","","","","","","","",0,0,0,0,0,0,0,0,0,0,0,0,0,0,0,0,0,0,0,0,0,0,0,0,0,0]
["DONANTES DE ÓRGANOS Y/O TEJIDOS",{"$f":"+D115+F115+H115+J115+L115+N115+P115+R115+T115+V115+X115+Z115+AB115+AD115+AF115+AH115+AJ115+AL115+AN115+AP115","v":0},0,null,null,null,null,null,null,null,null,null,null,null,null,null,null,null,null,null,null,null,null,null,null,null,null,null,null,null,null,null,null,null,null,null,null,null,null,null,null,null,null,null,null,null,null,null,null,"",null,null,null,null,null,null,null,null,null,null,null,null,null,null,null,null,null,null,null,null,null,null,null,null,null,null,null,null,"","","","","","","","","","","","","","","","","","","","","","","","","","",0,0,0,0,0,0,0,0,0,0,0,0,0,0,0,0,0,0,0,0,0,0,0,0,0,0]
["PACIENTES EN DIÁLISIS",0,0,null,null,null,null,null,null,null,null,null,null,null,null,null,null,null,null,null,null,null,null,null,null,null,null,null,null,null,null,null,null,null,null,null,null,null,null,null,null,null,null,null,null,null,null,null,null,"",null,null,null,null,null,null,null,null,null,null,null,null,null,null,null,null,null,null,null,null,null,null,null,null,null,null,null,null,"","","","","","","","","","","","","","","","","","","","","","","","","","",0,0,0,0,0,0,0,0,0,0,0,0,0,0,0,0,0,0,0,0,0,0,0,0,0,0]
["VÍCTIMA DE VIOLENCIA SEXUAL",0,0,null,null,null,null,null,null,null,null,null,null,null,null,null,null,null,null,null,null,null,null,null,null,null,null,null,null,null,null,null,null,null,null,null,null,null,null,null,null,null,null,null,null,null,null,null,null,"",null,null,null,null,null,null,null,null,null,null,null,null,null,null,null,null,null,null,null,null,null,null,null,null,null,null,null,null,"","","","","","","","","","","","","","","","","","","","","","","","","","",0,0,0,0,0,0,0,0,0,0,0,0,0,0,0,0,0,0,0,0,0,0,0,0,0,0]
["SECCIÓN A.6: EXAMEN MHA-TP POR GRUPO DE USUARIOS (Uso exclusivo de establecimientos que Compran Servicio)"]
["GRUPO DE PESQUISA","TOTAL",null,"POR EDAD (en meses - años)",null,null,null,null,null,null,null,null,null,null,null,null,null,null,null,null,null,null,null,null,null,null,null,null,null,null,null,null,null,null,null,null,null,null,null,null,null,null,null,"POR SEXO\n(Procesados)",null,"TRANS",null,"Pueblos Originarios","Migrantes"]
[null,null,null,"Menor de 6 meses",null,"6 a 11 meses",null,"12-24 meses",null,"3 a 4",null,"5 a 9",null,"10 - 14",null,"15 - 19",null,"20 - 24",null,"25 a 29",null,"30 a 34",null,"35 a 39",null,"40 a 44",null,"45 a 49",null,"50 a 54",null,"55 a 59",null,"60 a 64",null,"65 a 69",null,"70 a 74",null,"75 a 79",null,"80 y más",null,"Hombres","Mujeres"]
[null,"Procesados","Reactivos","Procesados","Reactivos","Procesados","Reactivos","Procesados","Reactivos","Procesados","Reactivos","Procesados","Reactivos","Procesados","Reactivos","Procesados","Reactivos","Procesados","Reactivos","Procesados","Reactivos","Procesados","Reactivos","Procesados","Reactivos","Procesados","Reactivos","Procesados","Reactivos","Procesados","Reactivos","Procesados","Reactivos","Procesados","Reactivos","Procesados","Reactivos","Procesados","Reactivos","Procesados","Reactivos","Procesados","Reactivos",null,null,"Masculino","Femenino"]
["GESTANTES PRIMER TRIMESTRE EMBARAZO",{"$f":"+N122+P122+R122+T122+V122+X122+Z122+AB122+AD122+AF122+AH122+AJ122+AL122+AN122+AP122","v":0},0,null,null,null,null,null,null,null,null,null,null,null,null,null,null,null,null,null,null,null,null,null,null,null,null,null,null,null,null,null,null,null,null,null,null,null,null,null,null,null,null,null,null,null,null,null,null,{"$f":"$CA122&$CB122&$CC122&$CD122&$CE122&$CF122&$CG122&$CH122&$CI122&$CJ122&$CK122&$CL122&$CM122&$CN122&$CO122&$CP122&$CQ122&$CR122&$CS122&$CT122&$CU122&$CV122&$CW122&$CX122&$CY122&$CZ122","v":""},null,null,null,null,null,null,null,null,null,null,null,null,null,null,null,null,null,null,null,null,null,null,null,null,null,null,null,null,{"$f":"IF(B122<C122,\"* El total de Reactivos NO DEBE ser superior al total de Procesados. \",\"\")","v":""},{"$f":"IF(B122<>(AR122+ AS122),\"* La suma de las columnas Sexo DEBE SER IGUAL a los Procesados. \",\"\")","v":""},{"$f":"IF(B122<(AT122+ AU122),\"* La suma de las columna Trans NO DEBE ser superior al total de Procesados. \",\"\")","v":""},{"$f":"IF(B122<AV122,\"* La columna Pueblos Originarios NO DEBE ser superior al total de Procesados. \",\"\")","v":""},{"$f":"IF(B122<AW122,\"* La columna Migrantes NO DEBE ser superior al total de Procesados. \",\"\")","v":""},{"$f":"IF(D122<E122,CONCATENATE(\"* El total de procesados debe ser mayor o igual al total de Reactivos en el grupo de edad \",$D$120),\"\")","v":""},{"$f":"IF(F122<G122,CONCATENATE(\"* El total de procesados debe ser mayor o igual al total de Reactivos en el grupo de edad \",$F$120),\"\")","v":""},{"$f":"IF(H122<I122,CONCATENATE(\"* El total de procesados debe ser mayor o igual al total de Reactivos en el grupo de edad \",$H$120),\"\")","v":""},{"$f":"IF(J122<K122,CONCATENATE(\"* El total de procesados debe ser mayor o igual al total de Reactivos en el grupo de edad \",$J$120),\"\")","v":""},{"$f":"IF(L122<M122,CONCATENATE(\"* El total de procesados debe ser mayor o igual al total de Reactivos en el grupo de edad \",$L$120),\"\")","v":""},{"$f":"IF(N122<O122,CONCATENATE(\"* El total de procesados debe ser mayor o igual al total de Reactivos en el grupo de edad \",$N$120),\"\")","v":""},{"$f":"IF(P122<Q122,CONCATENATE(\"* El total de procesados debe ser mayor o igual al total de Reactivos en el grupo de edad \",$P$120),\"\")","v":""},{"$f":"IF(R122<S122,CONCATENATE(\"* El total de procesados debe ser mayor o igual al total de Reactivos en el grupo de edad \",$R$120),\"\")","v":""},{"$f":"IF(T122<U122,CONCATENATE(\"* El total de procesados debe ser mayor o igual al total de Reactivos en el grupo de edad \",$T$120),\"\")","v":""},{"$f":"IF(V122<W122,CONCATENATE(\"* El total de procesados debe ser mayor o igual al total de Reactivos en el grupo de edad \",$V$120),\"\")","v":""},{"$f":"IF(X122<Y122,CONCATENATE(\"* El total de procesados debe ser mayor o igual al total de Reactivos en el grupo de edad \",$X$120),\"\")","v":""},{"$f":"IF(Z122<AA122,CONCATENATE(\"* El total de procesados debe ser mayor o igual al total de Reactivos en el grupo de edad \",$Z$120),\"\")","v":""},{"$f":"IF(AB122<AC122,CONCATENATE(\"* El total de procesados debe ser mayor o igual al total de Reactivos en el grupo de edad \",$AB$120),\"\")","v":""},{"$f":"IF(AD122<AE122,CONCATENATE(\"* El total de procesados debe ser mayor o igual al total de Reactivos en el grupo de edad \",$AD$120),\"\")","v":""},{"$f":"IF(AF122<AG122,CONCATENATE(\"* El total de procesados debe ser mayor o igual al total de Reactivos en el grupo de edad \",$AF$120),\"\")","v":""},{"$f":"IF(AH122<AI122,CONCATENATE(\"* El total de procesados debe ser mayor o igual al total de Reactivos en el grupo de edad \",$AH$120),\"\")","v":""},{"$f":"IF(AJ122<AK122,CONCATENATE(\"* El total de procesados debe ser mayor o igual al total de Reactivos en el grupo de edad \",$AJ$120),\"\")","v":""},{"$f":"IF(AL122<AM122,CONCATENATE(\"* El total de procesados debe ser mayor o igual al total de Reactivos en el grupo de edad \",$AL$120),\"\")","v":""},{"$f":"IF(AN122<AO122,CONCATENATE(\"* El total de procesados debe ser mayor o igual al total de Reactivos en el grupo de edad \",$AN$120),\"\")","v":""},{"$f":"IF(AP122<AQ122,CONCATENATE(\"* El total de procesados debe ser mayor o igual al total de Reactivos en el grupo de edad \",$AP$120),\"\")","v":""},{"$f":"IF(AND(B122<>0,OR(AT122=\"\",AU122=\"\",AV122=\"\",AW122=\"\")),\"* No olvide digitar la columna Trans y/o Pueblos Originarios y/o Migrantes (Digite Cero si no tiene). \",\"\")","v":""},{"$f":"IF(B122<   C122,1,0)","v":0},{"$f":"IF(B122<> AR122+AS122,1,0)","v":0},{"$f":"IF(B122<  AT122+AU122,1,0)","v":0},{"$f":"IF(B122<  AV122,1,0)","v":0},{"$f":"IF(B122<  AW122,1,0)","v":0},{"$f":"IF(D122<E122,1,0)","v":0},{"$f":"IF(F122<G122,1,0)","v":0},{"$f":"IF(H122<I122,1,0)","v":0},{"$f":"IF(J122<K122,1,0)","v":0},{"$f":"IF(L122<M122,1,0)","v":0},{"$f":"IF(N122<O122,1,0)","v":0},{"$f":"IF(P122<Q122,1,0)","v":0},{"$f":"IF(R122<S122,1,0)","v":0},{"$f":"IF(T122<U122,1,0)","v":0},{"$f":"IF(V122<W122,1,0)","v":0},{"$f":"IF(X122<Y122,1,0)","v":0},{"$f":"IF(Z122<AA122,1,0)","v":0},{"$f":"IF(AB122<AC122,1,0)","v":0},{"$f":"IF(AD122<AE122,1,0)","v":0},{"$f":"IF(AF122<AG122,1,0)","v":0},{"$f":"IF(AH122<AI122,1,0)","v":0},{"$f":"IF(AJ122<AK122,1,0)","v":0},{"$f":"IF(AL122<AM122,1,0)","v":0},{"$f":"IF(AN122<AO122,1,0)","v":0},{"$f":"IF(AP122<AQ122,1,0)","v":0},{"$f":"IF(AND(B122<>0,OR(AT122=\"\",AU122=\"\",AV122=\"\",AW122=\"\")),1,0)","v":0}]
["GESTANTES SEGUNDO TRIMESTRE EMBARAZO",0,0,null,null,null,null,null,null,null,null,null,null,null,null,null,null,null,null,null,null,null,null,null,null,null,null,null,null,null,null,null,null,null,null,null,null,null,null,null,null,null,null,null,null,null,null,null,null,"",null,null,null,null,null,null,null,null,null,null,null,null,null,null,null,null,null,null,null,null,null,null,null,null,null,null,null,null,"","","","","",{"$f":"IF(D123<E123,CONCATENATE(\"* El total de procesados debe ser mayor o igual al total de Reactivos en el grupo de edad \",$D$120),\"\")","v":""},{"$f":"IF(F123<G123,CONCATENATE(\"* El total de procesados debe ser mayor o igual al total de Reactivos en el grupo de edad \",$F$120),\"\")","v":""},{"$f":"IF(H123<I123,CONCATENATE(\"* El total de procesados debe ser mayor o igual al total de Reactivos en el grupo de edad \",$H$120),\"\")","v":""},{"$f":"IF(J123<K123,CONCATENATE(\"* El total de procesados debe ser mayor o igual al total de Reactivos en el grupo de edad \",$J$120),\"\")","v":""},{"$f":"IF(L123<M123,CONCATENATE(\"* El total de procesados debe ser mayor o igual al total de Reactivos en el grupo de edad \",$L$120),\"\")","v":""},{"$f":"IF(N123<O123,CONCATENATE(\"* El total de procesados debe ser mayor o igual al total de Reactivos en el grupo de edad \",$N$120),\"\")","v":""},{"$f":"IF(P123<Q123,CONCATENATE(\"* El total de procesados debe ser mayor o igual al total de Reactivos en el grupo de edad \",$P$120),\"\")","v":""},{"$f":"IF(R123<S123,CONCATENATE(\"* El total de procesados debe ser mayor o igual al total de Reactivos en el grupo de edad \",$R$120),\"\")","v":""},{"$f":"IF(T123<U123,CONCATENATE(\"* El total de procesados debe ser mayor o igual al total de Reactivos en el grupo de edad \",$T$120),\"\")","v":""},{"$f":"IF(V123<W123,CONCATENATE(\"* El total de procesados debe ser mayor o igual al total de Reactivos en el grupo de edad \",$V$120),\"\")","v":""},{"$f":"IF(X123<Y123,CONCATENATE(\"* El total de procesados debe ser mayor o igual al total de Reactivos en el grupo de edad \",$X$120),\"\")","v":""},{"$f":"IF(Z123<AA123,CONCATENATE(\"* El total de procesados debe ser mayor o igual al total de Reactivos en el grupo de edad \",$Z$120),\"\")","v":""},{"$f":"IF(AB123<AC123,CONCATENATE(\"* El total de procesados debe ser mayor o igual al total de Reactivos en el grupo de edad \",$AB$120),\"\")","v":""},{"$f":"IF(AD123<AE123,CONCATENATE(\"* El total de procesados debe ser mayor o igual al total de Reactivos en el grupo de edad \",$AD$120),\"\")","v":""},{"$f":"IF(AF123<AG123,CONCATENATE(\"* El total de procesados debe ser mayor o igual al total de Reactivos en el grupo de edad \",$AF$120),\"\")","v":""},{"$f":"IF(AH123<AI123,CONCATENATE(\"* El total de procesados debe ser mayor o igual al total de Reactivos en el grupo de edad \",$AH$120),\"\")","v":""},{"$f":"IF(AJ123<AK123,CONCATENATE(\"* El total de procesados debe ser mayor o igual al total de Reactivos en el grupo de edad \",$AJ$120),\"\")","v":""},{"$f":"IF(AL123<AM123,CONCATENATE(\"* El total de procesados debe ser mayor o igual al total de Reactivos en el grupo de edad \",$AL$120),\"\")","v":""},{"$f":"IF(AN123<AO123,CONCATENATE(\"* El total de procesados debe ser mayor o igual al total de Reactivos en el grupo de edad \",$AN$120),\"\")","v":""},{"$f":"IF(AP123<AQ123,CONCATENATE(\"* El total de procesados debe ser mayor o igual al total de Reactivos en el grupo de edad \",$AP$120),\"\")","v":""},"",0,0,0,0,0,0,0,0,0,0,0,0,0,0,0,0,0,0,0,0,0,0,0,0,0,0]
["GESTANTES TERCER TRIMESTRE EMBARAZO",0,0,null,null,null,null,null,null,null,null,null,null,null,null,null,null,null,null,null,null,null,null,null,null,null,null,null,null,null,null,null,null,null,null,null,null,null,null,null,null,null,null,null,null,null,null,null,null,"",null,null,null,null,null,null,null,null,null,null,null,null,null,null,null,null,null,null,null,null,null,null,null,null,null,null,null,null,"","","","","","","","","","","","","","","","","","","","","","","","","","",0,0,0,0,0,0,0,0,0,0,0,0,0,0,0,0,0,0,0,0,0,0,0,0,0,0]
["GESTANTES TRIMESTRE EMBARAZO IGNORADO",0,0,null,null,null,null,null,null,null,null,null,null,null,null,null,null,null,null,null,null,null,null,null,null,null,null,null,null,null,null,null,null,null,null,null,null,null,null,null,null,null,null,null,null,null,null,null,null,"",null,null,null,null,null,null,null,null,null,null,null,null,null,null,null,null,null,null,null,null,null,null,null,null,null,null,null,null,"","","","","","","","","","","","","","","","","","","","","","","","","","",0,0,0,0,0,0,0,0,0,0,0,0,0,0,0,0,0,0,0,0,0,0,0,0,0,0]
["GESTANTES EN SEGUIMIENTO POR DIAGNÓSTICO SÍFILIS",0,0,null,null,null,null,null,null,null,null,null,null,null,null,null,null,null,null,null,null,null,null,null,null,null,null,null,null,null,null,null,null,null,null,null,null,null,null,null,null,null,null,null,null,null,null,null,null,"",null,null,null,null,null,null,null,null,null,null,null,null,null,null,null,null,null,null,null,null,null,null,null,null,null,null,null,null,"","","","","","","","","","","","","","","","","","","","","","","","","","",0,0,0,0,0,0,0,0,0,0,0,0,0,0,0,0,0,0,0,0,0,0,0,0,0,0]
["PAREJA DE GESTANTE CON SEROLOGÍA REACTIVA",0,0,null,null,null,null,null,null,null,null,null,null,null,null,null,null,null,null,null,null,null,null,null,null,null,null,null,null,null,null,null,null,null,null,null,null,null,null,null,null,null,null,null,null,null,null,null,null,"",null,null,null,null,null,null,null,null,null,null,null,null,null,null,null,null,null,null,null,null,null,null,null,null,null,null,null,null,"","","","","","","","","","","","","","","","","","","","","","","","","","",0,0,0,0,0,0,0,0,0,0,0,0,0,0,0,0,0,0,0,0,0,0,0,0,0,0]
["MUJERES QUE INGRESAN A MATERNIDAD POR PARTO",0,0,null,null,null,null,null,null,null,null,null,null,null,null,null,null,null,null,null,null,null,null,null,null,null,null,null,null,null,null,null,null,null,null,null,null,null,null,null,null,null,null,null,null,null,null,null,null,"",null,null,null,null,null,null,null,null,null,null,null,null,null,null,null,null,null,null,null,null,null,null,null,null,null,null,null,null,"","","","","","","","","","","","","","","","","","","","","","","","","","",0,0,0,0,0,0,0,0,0,0,0,0,0,0,0,0,0,0,0,0,0,0,0,0,0,0]
["MUJERES QUE INGRESAN POR ABORTO",0,0,null,null,null,null,null,null,null,null,null,null,null,null,null,null,null,null,null,null,null,null,null,null,null,null,null,null,null,null,null,null,null,null,null,null,null,null,null,null,null,null,null,null,null,null,null,null,"",null,null,null,null,null,null,null,null,null,null,null,null,null,null,null,null,null,null,null,null,null,null,null,null,null,null,null,null,"","","","","","","","","","","","","","","","","","","","","","","","","","",0,0,0,0,0,0,0,0,0,0,0,0,0,0,0,0,0,0,0,0,0,0,0,0,0,0]
["MUJERES EN CONTROL GINECOLÓGICO",{"$f":"+D130+F130+H130+J130+L130+N130+P130+R130+T130+V130+X130+Z130+AB130+AD130+AF130+AH130+AJ130+AL130+AN130+AP130","v":0},{"$f":"+E130+G130+I130+K130+M130+O130+Q130+S130+U130+W130+Y130+AA130+AC130+AE130+AG130+AI130+AK130+AM130+AO130+AQ130","v":0},null,null,null,null,null,null,null,null,null,null,null,null,null,null,null,null,null,null,null,null,null,null,null,null,null,null,null,null,null,null,null,null,null,null,null,null,null,null,null,null,null,null,null,null,null,null,"",null,null,null,null,null,null,null,null,null,null,null,null,null,null,null,null,null,null,null,null,null,null,null,null,null,null,null,null,"","","","","","","","","","","","","","","","","","","","","","","","","","",0,0,0,0,0,0,0,0,0,0,0,0,0,0,0,0,0,0,0,0,0,0,0,0,0,0]
["RECIÉN NACIDO Y LACTANTE PARA DETECCIÓN DE SÍFILIS CONGÉNITA",{"$f":"+D131+F131+H131","v":0},{"$f":"+E131+G131+I131","v":0},null,null,null,null,null,null,null,null,null,null,null,null,null,null,null,null,null,null,null,null,null,null,null,null,null,null,null,null,null,null,null,null,null,null,null,null,null,null,null,null,null,null,null,null,null,null,"",null,null,null,null,null,null,null,null,null,null,null,null,null,null,null,null,null,null,null,null,null,null,null,null,null,null,null,null,"","","","","","","","","","","","","","","","","","","","","","","","","","",0,0,0,0,0,0,0,0,0,0,0,0,0,0,0,0,0,0,0,0,0,0,0,0,0,0]
["PERSONAS EN CONTROL POR COMERCIO SEXUAL",{"$f":"+P132+R132+T132+V132+X132+Z132+AB132+AD132+AF132+AH132+AJ132+AL132+AN132+AP132","v":0},{"$f":"+Q132+S132+U132+W132+Y132+AA132+AC132+AE132+AG132+AI132+AK132+AM132+AO132+AQ132","v":0},null,null,null,null,null,null,null,null,null,null,null,null,null,null,null,null,null,null,null,null,null,null,null,null,null,null,null,null,null,null,null,null,null,null,null,null,null,null,null,null,null,null,null,null,null,null,"",null,null,null,null,null,null,null,null,null,null,null,null,null,null,null,null,null,null,null,null,null,null,null,null,null,null,null,null,"","","","","","","","","","","","","","","","","","","","","","","","","","",0,0,0,0,0,0,0,0,0,0,0,0,0,0,0,0,0,0,0,0,0,0,0,0,0,0]
["PERSONAS EN CONTROL FECUNDIDAD",{"$f":"+N133+P133+R133+T133+V133+X133+Z133+AB133+AD133+AF133+AH133+AJ133+AL133+AN133+AP133","v":0},{"$f":"+O133+Q133+S133+U133+W133+Y133+AA133+AC133+AE133+AG133+AI133+AK133+AM133+AO133+AQ133","v":0},null,null,null,null,null,null,null,null,null,null,null,null,null,null,null,null,null,null,null,null,null,null,null,null,null,null,null,null,null,null,null,null,null,null,null,null,null,null,null,null,null,null,null,null,null,null,"",null,null,null,null,null,null,null,null,null,null,null,null,null,null,null,null,null,null,null,null,null,null,null,null,null,null,null,null,"","","","","","","","","","","","","","","","","","","","","","","","","","",0,0,0,0,0,0,0,0,0,0,0,0,0,0,0,0,0,0,0,0,0,0,0,0,0,0]
["CONSULTANTES POR ITS",{"$f":"+D134+F134+H134+J134+L134+N134+P134+R134+T134+V134+X134+Z134+AB134+AD134+AF134+AH134+AJ134+AL134+AN134+AP134","v":0},{"$f":"+E134+G134+I134+K134+M134+O134+Q134+S134+U134+W134+Y134+AA134+AC134+AE134+AG134+AI134+AK134+AM134+AO134+AQ134","v":0},null,null,null,null,null,null,null,null,null,null,null,null,null,null,null,null,null,null,null,null,null,null,null,null,null,null,null,null,null,null,null,null,null,null,null,null,null,null,null,null,null,null,null,null,null,null,"",null,null,null,null,null,null,null,null,null,null,null,null,null,null,null,null,null,null,null,null,null,null,null,null,null,null,null,null,"","","","","","","","","","","","","","","","","","","","","","","","","","",0,0,0,0,0,0,0,0,0,0,0,0,0,0,0,0,0,0,0,0,0,0,0,0,0,0]
["PERSONAS CON EMP",{"$f":"+P135+R135+T135+V135+X135+Z135+AB135+AD135+AF135+AH135+AJ135+AL135+AN135+AP135","v":0},{"$f":"+Q135+S135+U135+W135+Y135+AA135+AC135+AE135+AG135+AI135+AK135+AM135+AO135+AQ135","v":0},null,null,null,null,null,null,null,null,null,null,null,null,null,null,null,null,null,null,null,null,null,null,null,null,null,null,null,null,null,null,null,null,null,null,null,null,null,null,null,null,null,null,null,null,null,null,"",null,null,null,null,null,null,null,null,null,null,null,null,null,null,null,null,null,null,null,null,null,null,null,null,null,null,null,null,"","","","","","","","","","","","","","","","","","","","","","","","","","",0,0,0,0,0,0,0,0,0,0,0,0,0,0,0,0,0,0,0,0,0,0,0,0,0,0]
["DONANTES DE SANGRE",{"$f":"+P136+R136+T136+V136+X136+Z136+AB136+AD136+AF136+AH136","v":0},{"$f":"+Q136+S136+U136+W136+Y136+AA136+AC136+AE136+AG136+AI136","v":0},null,null,null,null,null,null,null,null,null,null,null,null,null,null,null,null,null,null,null,null,null,null,null,null,null,null,null,null,null,null,null,null,null,null,null,null,null,null,null,null,null,null,null,null,null,null,"",null,null,null,null,null,null,null,null,null,null,null,null,null,null,null,null,null,null,null,null,null,null,null,null,null,null,null,null,"","","","","","","","","","","","","","","","","","","","","","","","","","",0,0,0,0,0,0,0,0,0,0,0,0,0,0,0,0,0,0,0,0,0,0,0,0,0,0]
["DONANTES DE ÓRGANOS Y/O TEJIDOS",{"$f":"+D137+F137+H137+J137+L137+N137+P137+R137+T137+V137+X137+Z137+AB137+AD137+AF137+AH137+AJ137+AL137+AN137+AP137","v":0},0,null,null,null,null,null,null,null,null,null,null,null,null,null,null,null,null,null,null,null,null,null,null,null,null,null,null,null,null,null,null,null,null,null,null,null,null,null,null,null,null,null,null,null,null,null,null,"",null,null,null,null,null,null,null,null,null,null,null,null,null,null,null,null,null,null,null,null,null,null,null,null,null,null,null,null,"","","","","","","","","","","","","","","","","","","","","","","","","","",0,0,0,0,0,0,0,0,0,0,0,0,0,0,0,0,0,0,0,0,0,0,0,0,0,0]
["PACIENTES EN DIÁLISIS",0,0,null,null,null,null,null,null,null,null,null,null,null,null,null,null,null,null,null,null,null,null,null,null,null,null,null,null,null,null,null,null,null,null,null,null,null,null,null,null,null,null,null,null,null,null,null,null,"",null,null,null,null,null,null,null,null,null,null,null,null,null,null,null,null,null,null,null,null,null,null,null,null,null,null,null,null,"","","","","","","","","","","","","","","","","","","","","","","","","","",0,0,0,0,0,0,0,0,0,0,0,0,0,0,0,0,0,0,0,0,0,0,0,0,0,0]
["VÍCTIMA DE VIOLENCIA SEXUAL",0,0,null,null,null,null,null,null,null,null,null,null,null,null,null,null,null,null,null,null,null,null,null,null,null,null,null,null,null,null,null,null,null,null,null,null,null,null,null,null,null,null,null,null,null,null,null,null,"",null,null,null,null,null,null,null,null,null,null,null,null,null,null,null,null,null,null,null,null,null,null,null,null,null,null,null,null,"","","","","","","","","","","","","","","","","","","","","","","","","","",0,0,0,0,0,0,0,0,0,0,0,0,0,0,0,0,0,0,0,0,0,0,0,0,0,0]
["SECCIÓN B.1: EXÁMENES SEGÚN GRUPOS DE USUARIOS POR CONDICIÓN DE HEPATITIS B, HEPATITIS C, CHAGAS, HTLV 1 Y SIFILIS (Uso exclusivo de establecimientos con Laboratorio que procesan)"]
["GRUPO DE USUARIOS",null,"HEPATITIS  B",null,null,"HEPATITIS  C",null,null,"CHAGAS",null,null,"HTLV1",null,null,"SÍFILIS"]
[null,null,"Procesados","Reactivos","Confirmados","Procesados","Reactivos","Confirmados","Procesados","Reactivos","Confirmados","Procesados","Reactivos","Confirmados","Procesados","Reactivos"]
["USUARIOS",null,null,null,null,null,null,null,null,null,null,null,null,null,null,null,{"$f":"CA143&CB143&CC143&CD143&CE143","v":""},null,null,null,null,null,null,null,null,null,null,null,null,null,null,null,null,null,null,null,null,null,null,null,null,null,null,null,null,null,null,null,null,null,null,null,null,null,null,null,null,null,null,null,null,null,null,null,null,null,null,null,null,null,null,null,null,null,null,null,null,null,{"$f":"IF(C143>=D143,\"\",\"* Los exámenes Reactivos de Hepatitis B NO DEBEN ser mayor a los exámenes Procesados. \")","v":""},{"$f":"IF(F143>=G143,\"\",\"* Los exámenes Reactivos de Hepatitis C NO DEBEN ser mayor a los exámenes Procesados. \")","v":""},{"$f":"IF(I143>=J143,\"\",\"* Los exámenes Reactivos de CHAGAS NO DEBEN ser mayor a los exámenes Procesados. \")","v":""},{"$f":"IF(L143>=M143,\"\",\"* Los exámenes Reactivos de HTLV1 NO DEBEN ser mayor a los exámenes Procesados. \")","v":""},{"$f":"IF(O143>=P143,\"\",\"* Los exámenes Reactivos de SIFILIS NO DEBEN ser mayor a los exámenes Procesados. \")","v":""},null,null,null,null,null,null,null,null,null,null,null,null,null,null,null,null,null,null,null,null,null,{"$f":"IF(C143>=D143,0,1)","v":0},{"$f":"IF(F143>=G143,0,1)","v":0},{"$f":"IF(I143>=J143,0,1)","v":0},{"$f":"IF(L143>=M143,0,1)","v":0},{"$f":"IF(O143>=P143,0,1)","v":0}]
["DONANTES","ALTRUISTA NUEVO",null,null,null,null,null,null,null,null,null,null,null,null,null,null,{"$f":"CA144&CB144&CC144&CD144&CE144","v":""},null,null,null,null,null,null,null,null,null,null,null,null,null,null,null,null,null,null,null,null,null,null,null,null,null,null,null,null,null,null,null,null,null,null,null,null,null,null,null,null,null,null,null,null,null,null,null,null,null,null,null,null,null,null,null,null,null,null,null,null,null,{"$f":"IF(C144>=D144,\"\",\"* Los exámenes Reactivos de Hepatitis B NO DEBEN ser mayor a los exámenes Procesados. \")","v":""},{"$f":"IF(F144>=G144,\"\",\"* Los exámenes Reactivos de Hepatitis C NO DEBEN ser mayor a los exámenes Procesados. \")","v":""},{"$f":"IF(I144>=J144,\"\",\"* Los exámenes Reactivos de CHAGAS NO DEBEN ser mayor a los exámenes Procesados. \")","v":""},{"$f":"IF(L144>=M144,\"\",\"* Los exámenes Reactivos de HTLV1 NO DEBEN ser mayor a los exámenes Procesados. \")","v":""},{"$f":"IF(O144>=P144,\"\",\"* Los exámenes Reactivos de SIFILIS NO DEBEN ser mayor a los exámenes Procesados. \")","v":""},null,null,null,null,null,null,null,null,null,null,null,null,null,null,null,null,null,null,null,null,null,{"$f":"IF(C144>=D144,0,1)","v":0},{"$f":"IF(F144>=G144,0,1)","v":0},{"$f":"IF(I144>=J144,0,1)","v":0},{"$f":"IF(L144>=M144,0,1)","v":0},{"$f":"IF(O144>=P144,0,1)","v":0}]
[null,"ALTRUISTA REPETIDO",null,null,null,null,null,null,null,null,null,null,null,null,null,null,"",null,null,null,null,null,null,null,null,null,null,null,null,null,null,null,null,null,null,null,null,null,null,null,null,null,null,null,null,null,null,null,null,null,null,null,null,null,null,null,null,null,null,null,null,null,null,null,null,null,null,null,null,null,null,null,null,null,null,null,null,null,{"$f":"IF(C145>=D145,\"\",\"* Los exámenes Reactivos de Hepatitis B NO DEBEN ser mayor a los exámenes Procesados. \")","v":""},{"$f":"IF(F145>=G145,\"\",\"* Los exámenes Reactivos de Hepatitis C NO DEBEN ser mayor a los exámenes Procesados. \")","v":""},{"$f":"IF(I145>=J145,\"\",\"* Los exámenes Reactivos de CHAGAS NO DEBEN ser mayor a los exámenes Procesados. \")","v":""},{"$f":"IF(L145>=M145,\"\",\"* Los exámenes Reactivos de HTLV1 NO DEBEN ser mayor a los exámenes Procesados. \")","v":""},{"$f":"IF(O145>=P145,\"\",\"* Los exámenes Reactivos de SIFILIS NO DEBEN ser mayor a los exámenes Procesados. \")","v":""},null,null,null,null,null,null,null,null,null,null,null,null,null,null,null,null,null,null,null,null,null,{"$f":"IF(C145>=D145,0,1)","v":0},{"$f":"IF(F145>=G145,0,1)","v":0},{"$f":"IF(I145>=J145,0,1)","v":0},{"$f":"IF(L145>=M145,0,1)","v":0},{"$f":"IF(O145>=P145,0,1)","v":0}]
[null,"FAMILIAR O REPOSICIÓN",null,null,null,null,null,null,null,null,null,null,null,null,null,null,"",null,null,null,null,null,null,null,null,null,null,null,null,null,null,null,null,null,null,null,null,null,null,null,null,null,null,null,null,null,null,null,null,null,null,null,null,null,null,null,null,null,null,null,null,null,null,null,null,null,null,null,null,null,null,null,null,null,null,null,null,null,{"$f":"IF(C146>=D146,\"\",\"* Los exámenes Reactivos de Hepatitis B NO DEBEN ser mayor a los exámenes Procesados. \")","v":""},{"$f":"IF(F146>=G146,\"\",\"* Los exámenes Reactivos de Hepatitis C NO DEBEN ser mayor a los exámenes Procesados. \")","v":""},{"$f":"IF(I146>=J146,\"\",\"* Los exámenes Reactivos de CHAGAS NO DEBEN ser mayor a los exámenes Procesados. \")","v":""},{"$f":"IF(L146>=M146,\"\",\"* Los exámenes Reactivos de HTLV1 NO DEBEN ser mayor a los exámenes Procesados. \")","v":""},{"$f":"IF(O146>=P146,\"\",\"* Los exámenes Reactivos de SIFILIS NO DEBEN ser mayor a los exámenes Procesados. \")","v":""},null,null,null,null,null,null,null,null,null,null,null,null,null,null,null,null,null,null,null,null,null,{"$f":"IF(C146>=D146,0,1)","v":0},{"$f":"IF(F146>=G146,0,1)","v":0},{"$f":"IF(I146>=J146,0,1)","v":0},{"$f":"IF(L146>=M146,0,1)","v":0},{"$f":"IF(O146>=P146,0,1)","v":0}]
["DONANTES DE ÓRGANOS Y/O TEJIDOS",null,null,null,null,null,null,null,null,null,null,null,null,null,null,null,"",null,null,null,null,null,null,null,null,null,null,null,null,null,null,null,null,null,null,null,null,null,null,null,null,null,null,null,null,null,null,null,null,null,null,null,null,null,null,null,null,null,null,null,null,null,null,null,null,null,null,null,null,null,null,null,null,null,null,null,null,null,{"$f":"IF(C147>=D147,\"\",\"* Los exámenes Reactivos de Hepatitis B NO DEBEN ser mayor a los exámenes Procesados. \")","v":""},{"$f":"IF(F147>=G147,\"\",\"* Los exámenes Reactivos de Hepatitis C NO DEBEN ser mayor a los exámenes Procesados. \")","v":""},{"$f":"IF(I147>=J147,\"\",\"* Los exámenes Reactivos de CHAGAS NO DEBEN ser mayor a los exámenes Procesados. \")","v":""},{"$f":"IF(L147>=M147,\"\",\"* Los exámenes Reactivos de HTLV1 NO DEBEN ser mayor a los exámenes Procesados. \")","v":""},{"$f":"IF(O147>=P147,\"\",\"* Los exámenes Reactivos de SIFILIS NO DEBEN ser mayor a los exámenes Procesados. \")","v":""},null,null,null,null,null,null,null,null,null,null,null,null,null,null,null,null,null,null,null,null,null,{"$f":"IF(C147>=D147,0,1)","v":0},{"$f":"IF(F147>=G147,0,1)","v":0},{"$f":"IF(I147>=J147,0,1)","v":0},{"$f":"IF(L147>=M147,0,1)","v":0},{"$f":"IF(O147>=P147,0,1)","v":0}]
["SECCIÓN B.2: EXÁMENES SEGÚN GRUPOS DE USUARIOS POR CONDICIÓN DE HEPATITIS B, HEPATITIS C, CHAGAS, HTLV 1 Y SIFILIS (Uso exclusivo de establecimientos que Compran Servicio)"]
["GRUPO DE USUARIOS",null,"HEPATITIS  B",null,null,"HEPATITIS  C",null,null,"CHAGAS",null,null,"HTLV1",null,null,"SÍFILIS"]
[null,null,"Procesados","Reactivos","Confirmados","Procesados","Reactivos","Confirmados","Procesados","Reactivos","Confirmados","Procesados","Reactivos","Confirmados","Procesados","Reactivos"]
["USUARIOS",null,null,null,null,null,null,null,null,null,null,null,null,null,null,null,{"$f":"CA151&CB151&CC151&CD151&CE151","v":""},null,null,null,null,null,null,null,null,null,null,null,null,null,null,null,null,null,null,null,null,null,null,null,null,null,null,null,null,null,null,null,null,null,null,null,null,null,null,null,null,null,null,null,null,null,null,null,null,null,null,null,null,null,null,null,null,null,null,null,null,null,{"$f":"IF(C151>=D151,\"\",\"* Los exámenes Reactivos de Hepatitis B NO DEBEN ser mayor a los exámenes Procesados. \")","v":""},{"$f":"IF(F151>=G151,\"\",\"* Los exámenes Reactivos de Hepatitis C NO DEBEN ser mayor a los exámenes Procesados. \")","v":""},{"$f":"IF(I151>=J151,\"\",\"* Los exámenes Reactivos de CHAGAS NO DEBEN ser mayor a los exámenes Procesados. \")","v":""},{"$f":"IF(L151>=M151,\"\",\"* Los exámenes Reactivos de HTLV1 NO DEBEN ser mayor a los exámenes Procesados. \")","v":""},{"$f":"IF(O151>=P151,\"\",\"* Los exámenes Reactivos de SIFILIS NO DEBEN ser mayor a los exámenes Procesados. \")","v":""},null,null,null,null,null,null,null,null,null,null,null,null,null,null,null,null,null,null,null,null,null,{"$f":"IF(C151>=D151,0,1)","v":0},{"$f":"IF(F151>=G151,0,1)","v":0},{"$f":"IF(I151>=J151,0,1)","v":0},{"$f":"IF(L151>=M151,0,1)","v":0},{"$f":"IF(O151>=P151,0,1)","v":0}]
["DONANTES","ALTRUISTA NUEVO",null,null,null,null,null,null,null,null,null,null,null,null,null,null,"",null,null,null,null,null,null,null,null,null,null,null,null,null,null,null,null,null,null,null,null,null,null,null,null,null,null,null,null,null,null,null,null,null,null,null,null,null,null,null,null,null,null,null,null,null,null,null,null,null,null,null,null,null,null,null,null,null,null,null,null,null,{"$f":"IF(C152>=D152,\"\",\"* Los exámenes Reactivos de Hepatitis B NO DEBEN ser mayor a los exámenes Procesados. \")","v":""},{"$f":"IF(F152>=G152,\"\",\"* Los exámenes Reactivos de Hepatitis C NO DEBEN ser mayor a los exámenes Procesados. \")","v":""},{"$f":"IF(I152>=J152,\"\",\"* Los exámenes Reactivos de CHAGAS NO DEBEN ser mayor a los exámenes Procesados. \")","v":""},{"$f":"IF(L152>=M152,\"\",\"* Los exámenes Reactivos de HTLV1 NO DEBEN ser mayor a los exámenes Procesados. \")","v":""},{"$f":"IF(O152>=P152,\"\",\"* Los exámenes Reactivos de SIFILIS NO DEBEN ser mayor a los exámenes Procesados. \")","v":""},null,null,null,null,null,null,null,null,null,null,null,null,null,null,null,null,null,null,null,null,null,{"$f":"IF(C152>=D152,0,1)","v":0},{"$f":"IF(F152>=G152,0,1)","v":0},{"$f":"IF(I152>=J152,0,1)","v":0},{"$f":"IF(L152>=M152,0,1)","v":0},{"$f":"IF(O152>=P152,0,1)","v":0}]
[null,"ALTRUISTA REPETIDO",null,null,null,null,null,null,null,null,null,null,null,null,null,null,"",null,null,null,null,null,null,null,null,null,null,null,null,null,null,null,null,null,null,null,null,null,null,null,null,null,null,null,null,null,null,null,null,null,null,null,null,null,null,null,null,null,null,null,null,null,null,null,null,null,null,null,null,null,null,null,null,null,null,null,null,null,{"$f":"IF(C153>=D153,\"\",\"* Los exámenes Reactivos de Hepatitis B NO DEBEN ser mayor a los exámenes Procesados. \")","v":""},{"$f":"IF(F153>=G153,\"\",\"* Los exámenes Reactivos de Hepatitis C NO DEBEN ser mayor a los exámenes Procesados. \")","v":""},{"$f":"IF(I153>=J153,\"\",\"* Los exámenes Reactivos de CHAGAS NO DEBEN ser mayor a los exámenes Procesados. \")","v":""},{"$f":"IF(L153>=M153,\"\",\"* Los exámenes Reactivos de HTLV1 NO DEBEN ser mayor a los exámenes Procesados. \")","v":""},{"$f":"IF(O153>=P153,\"\",\"* Los exámenes Reactivos de SIFILIS NO DEBEN ser mayor a los exámenes Procesados. \")","v":""},null,null,null,null,null,null,null,null,null,null,null,null,null,null,null,null,null,null,null,null,null,{"$f":"IF(C153>=D153,0,1)","v":0},{"$f":"IF(F153>=G153,0,1)","v":0},{"$f":"IF(I153>=J153,0,1)","v":0},{"$f":"IF(L153>=M153,0,1)","v":0},{"$f":"IF(O153>=P153,0,1)","v":0}]
[null,"FAMILIAR O REPOSICIÓN",null,null,null,null,null,null,null,null,null,null,null,null,null,null,"",null,null,null,null,null,null,null,null,null,null,null,null,null,null,null,null,null,null,null,null,null,null,null,null,null,null,null,null,null,null,null,null,null,null,null,null,null,null,null,null,null,null,null,null,null,null,null,null,null,null,null,null,null,null,null,null,null,null,null,null,null,{"$f":"IF(C154>=D154,\"\",\"* Los exámenes Reactivos de Hepatitis B NO DEBEN ser mayor a los exámenes Procesados. \")","v":""},{"$f":"IF(F154>=G154,\"\",\"* Los exámenes Reactivos de Hepatitis C NO DEBEN ser mayor a los exámenes Procesados. \")","v":""},{"$f":"IF(I154>=J154,\"\",\"* Los exámenes Reactivos de CHAGAS NO DEBEN ser mayor a los exámenes Procesados. \")","v":""},{"$f":"IF(L154>=M154,\"\",\"* Los exámenes Reactivos de HTLV1 NO DEBEN ser mayor a los exámenes Procesados. \")","v":""},{"$f":"IF(O154>=P154,\"\",\"* Los exámenes Reactivos de SIFILIS NO DEBEN ser mayor a los exámenes Procesados. \")","v":""},null,null,null,null,null,null,null,null,null,null,null,null,null,null,null,null,null,null,null,null,null,{"$f":"IF(C154>=D154,0,1)","v":0},{"$f":"IF(F154>=G154,0,1)","v":0},{"$f":"IF(I154>=J154,0,1)","v":0},{"$f":"IF(L154>=M154,0,1)","v":0},{"$f":"IF(O154>=P154,0,1)","v":0}]
["DONANTES DE ÓRGANOS Y/O TEJIDOS ",null,null,null,null,null,null,null,null,null,null,null,null,null,null,null,"",null,null,null,null,null,null,null,null,null,null,null,null,null,null,null,null,null,null,null,null,null,null,null,null,null,null,null,null,null,null,null,null,null,null,null,null,null,null,null,null,null,null,null,null,null,null,null,null,null,null,null,null,null,null,null,null,null,null,null,null,null,{"$f":"IF(C155>=D155,\"\",\"* Los exámenes Reactivos de Hepatitis B NO DEBEN ser mayor a los exámenes Procesados. \")","v":""},{"$f":"IF(F155>=G155,\"\",\"* Los exámenes Reactivos de Hepatitis C NO DEBEN ser mayor a los exámenes Procesados. \")","v":""},{"$f":"IF(I155>=J155,\"\",\"* Los exámenes Reactivos de CHAGAS NO DEBEN ser mayor a los exámenes Procesados. \")","v":""},{"$f":"IF(L155>=M155,\"\",\"* Los exámenes Reactivos de HTLV1 NO DEBEN ser mayor a los exámenes Procesados. \")","v":""},{"$f":"IF(O155>=P155,\"\",\"* Los exámenes Reactivos de SIFILIS NO DEBEN ser mayor a los exámenes Procesados. \")","v":""},null,null,null,null,null,null,null,null,null,null,null,null,null,null,null,null,null,null,null,null,null,{"$f":"IF(C155>=D155,0,1)","v":0},{"$f":"IF(F155>=G155,0,1)","v":0},{"$f":"IF(I155>=J155,0,1)","v":0},{"$f":"IF(L155>=M155,0,1)","v":0},{"$f":"IF(O155>=P155,0,1)","v":0}]
["SECCIÓN C.1: EXÁMENES  DE  VIH POR GRUPOS DE USUARIOS (Uso exclusivo de establecimientos con Laboratorio que procesan)"]
["GRUPO DE USUARIOS",null,"TOTAL",null,"GRUPO DE EDAD (En años)",null,null,null,null,null,null,null,null,null,null,null,null,null,null,null,null,null,null,null,null,null,null,null,null,null,null,null,null,null,null,null,"POR SEXO",null,null,null,"TRANS",null,null,null,"Pueblos originarios",null,"Migrantes",null,"14-18 años"]
[null,null,null,null,"Menor de 12 meses",null,"12-24 meses",null,"3 a 4 años",null,"5 a 9 años",null,"10 a 14 años",null,"15 a 19 años",null,"20 a 24 años",null,"25 a 29 años",null,"30 a 34 años",null,"35 a 39 años",null,"40 a 44 años",null,"45 a 49 años",null,"50 a 54 años",null,"55 a 59 años",null,"60 a 64 años",null," 65 y más años",null,"Hombres",null,"Mujeres",null,"Femenino",null,"Masculino"]
[null,null,"Procesados","Confirmados positivos por ISP","Procesados","Confirmados positivos por ISP","Procesados","Confirmados positivos por ISP","Procesados","Confirmados positivos por ISP","Procesados","Confirmados positivos por ISP","Procesados","Confirmados positivos por ISP","Procesados","Confirmados positivos por ISP","Procesados","Confirmados positivos por ISP","Procesados","Confirmados positivos por ISP","Procesados","Confirmados positivos por ISP","Procesados","Confirmados positivos por ISP","Procesados","Confirmados positivos por ISP","Procesados","Confirmados positivos por ISP","Procesados","Confirmados positivos por ISP","Procesados","Confirmados positivos por ISP","Procesados","Confirmados positivos por ISP","Procesados","Confirmados positivos por ISP","Procesados","Confirmados positivos por ISP","Procesados","Confirmados positivos por ISP","Procesados","Confirmados positivos por ISP","Procesados","Confirmados positivos por ISP","Procesados","Confirmados positivos por ISP","Procesados","Confirmados positivos por ISP","Procesados","Confirmados positivos por ISP"]
["GESTANTES PRIMER EXAMEN",null,{"$f":"+M160+O160+Q160+S160+U160+W160+Y160+AA160+AC160+AE160","v":0},0,null,null,null,null,null,null,null,null,null,null,null,null,null,null,null,null,null,null,null,null,null,null,null,null,null,null,null,null,null,null,null,null,null,null,null,null,null,null,null,null,null,null,null,null,null,null,{"$f":"$CA160&$CB160&$CC160&$CD160&$CE160&$CF160&$CG160&$CH160&$CI160&$CJ160&$CK160&$CL160&$CM160&$CN160&$CO160&$CP160&$CQ160&$CR160&$CS160&$CT160&$CU160&$CV160&$CW160&$CX160&$CY160&$CZ160","v":""},null,null,null,null,null,null,null,null,null,null,null,null,null,null,null,null,null,null,null,null,null,null,null,null,null,null,null,null,null,null,null,null,null,null,null,null,null,null,null,null,null,null,null,null,null,null,null,null,null,{"$f":"IF(DW160=1,\"* No olvide digitar la columna Procesados Trans y/o Pueblos Originarios y/o Migrantes (Digite Cero si no tiene). \",\"\")","v":""},{"$f":"IF(DX160=1,\"* No olvide digitar la columna Confirmados Trans y/o Pueblos Originarios y/o Migrantes (Digite Cero si no tiene). \",\"\")","v":""},null,null,null,null,null,null,null,null,null,null,null,null,null,null,null,null,null,null,null,null,null,null,null,null,{"$f":"IF(AND(C160<>0,OR(AO160=\"\",AQ160=\"\",AS160=\"\",AU160=\"\")),1,0)","v":0},{"$f":"IF(AND(D160<>0,OR(AP160=\"\",AR160=\"\",AT160=\"\",AV160=\"\")),1,0)","v":0}]
["GESTANTES SEGUNDO EXAMEN",null,0,0,null,null,null,null,null,null,null,null,null,null,null,null,null,null,null,null,null,null,null,null,null,null,null,null,null,null,null,null,null,null,null,null,null,null,null,null,null,null,null,null,null,null,null,null,null,null,"",null,null,null,null,null,null,null,null,null,null,null,null,null,null,null,null,null,null,null,null,null,null,null,null,null,null,null,null,null,null,null,null,null,null,null,null,null,null,null,null,null,null,null,null,null,null,null,null,null,{"$f":"IF(DW161=1,\"* No olvide digitar la columna Procesados Trans y/o Pueblos Originarios y/o Migrantes (Digite Cero si no tiene). \",\"\")","v":""},{"$f":"IF(DX161=1,\"* No olvide digitar la columna Confirmados Trans y/o Pueblos Originarios y/o Migrantes (Digite Cero si no tiene). \",\"\")","v":""},null,null,null,null,null,null,null,null,null,null,null,null,null,null,null,null,null,null,null,null,null,null,null,null,{"$f":"IF(AND(C161<>0,OR(AO161=\"\",AQ161=\"\",AS161=\"\",AU161=\"\")),1,0)","v":0},0]
["MUJER EN TRABAJO DE PRE PARTO O PARTO",null,0,0,null,null,null,null,null,null,null,null,null,null,null,null,null,null,null,null,null,null,null,null,null,null,null,null,null,null,null,null,null,null,null,null,null,null,null,null,null,null,null,null,null,null,null,null,null,null,"",null,null,null,null,null,null,null,null,null,null,null,null,null,null,null,null,null,null,null,null,null,null,null,null,null,null,null,null,null,null,null,null,null,null,null,null,null,null,null,null,null,null,null,null,null,null,null,null,null,"","",null,null,null,null,null,null,null,null,null,null,null,null,null,null,null,null,null,null,null,null,null,null,null,null,0,0]
["PERSONAS EN CONTROL POR COMERCIO SEXUAL",null,{"$f":"+O163+Q163+S163+U163+W163+Y163+AA163+AC163+AE163+AG163+AI163","v":0},{"$f":"+P163+R163+T163+V163+X163+Z163+AB163+AD163+AF163+AH163+AJ163","v":0},null,null,null,null,null,null,null,null,null,null,null,null,null,null,null,null,null,null,null,null,null,null,null,null,null,null,null,null,null,null,null,null,null,null,null,null,null,null,null,null,null,null,null,null,null,null,"",null,null,null,null,null,null,null,null,null,null,null,null,null,null,null,null,null,null,null,null,null,null,null,null,null,null,null,null,null,null,null,null,null,null,null,null,null,null,null,null,null,null,null,null,null,null,null,null,null,"","",null,null,null,null,null,null,null,null,null,null,null,null,null,null,null,null,null,null,null,null,null,null,null,null,0,0]
["PACIENTES EN DIÁLISIS",null,{"$f":"+E164+G164+I164+K164+M164+O164+Q164+S164+U164+W164+Y164+AA164+AC164+AE164+AG164+AI164","v":0},{"$f":"+F164+H164+J164+L164+N164+P164+R164+T164+V164+X164+Z164+AB164+AD164+AF164+AH164+AJ164","v":0},null,null,null,null,null,null,null,null,null,null,null,null,null,null,null,null,null,null,null,null,null,null,null,null,null,null,null,null,null,null,null,null,null,null,null,null,null,null,null,null,null,null,null,null,null,null,"",null,null,null,null,null,null,null,null,null,null,null,null,null,null,null,null,null,null,null,null,null,null,null,null,null,null,null,null,null,null,null,null,null,null,null,null,null,null,null,null,null,null,null,null,null,null,null,null,null,"","",null,null,null,null,null,null,null,null,null,null,null,null,null,null,null,null,null,null,null,null,null,null,null,null,0,0]
["POR CONSULTA ITS",null,{"$f":"+E165+G165+I165+K165+M165+O165+Q165+S165+U165+W165+Y165+AA165+AC165+AE165+AG165+AI165","v":0},{"$f":"+F165+H165+J165+L165+N165+P165+R165+T165+V165+X165+Z165+AB165+AD165+AF165+AH165+AJ165","v":0},null,null,null,null,null,null,null,null,null,null,null,null,null,null,null,null,null,null,null,null,null,null,null,null,null,null,null,null,null,null,null,null,null,null,null,null,null,null,null,null,null,null,null,null,null,null,"",null,null,null,null,null,null,null,null,null,null,null,null,null,null,null,null,null,null,null,null,null,null,null,null,null,null,null,null,null,null,null,null,null,null,null,null,null,null,null,null,null,null,null,null,null,null,null,null,null,"","",null,null,null,null,null,null,null,null,null,null,null,null,null,null,null,null,null,null,null,null,null,null,null,null,0,0]
["PERSONAS EN CONTROL DE REGULACIÓN FECUNDIDAD, GINECOLOGICO, CLIMATERIO",null,{"$f":"+O166+Q166+S166+U166+W166+Y166+AA166+AC166+AE166+AG166+AI166","v":0},{"$f":"+P166+R166+T166+V166+X166+Z166+AB166+AD166+AF166+AH166+AJ166","v":0},null,null,null,null,null,null,null,null,null,null,null,null,null,null,null,null,null,null,null,null,null,null,null,null,null,null,null,null,null,null,null,null,null,null,null,null,null,null,null,null,null,null,null,null,null,null,"",null,null,null,null,null,null,null,null,null,null,null,null,null,null,null,null,null,null,null,null,null,null,null,null,null,null,null,null,null,null,null,null,null,null,null,null,null,null,null,null,null,null,null,null,null,null,null,null,null,"","",null,null,null,null,null,null,null,null,null,null,null,null,null,null,null,null,null,null,null,null,null,null,null,null,0,0]
["PERSONAS CON EMP",null,{"$f":"+O167+Q167+S167+U167+W167+Y167+AA167+AC167+AE167+AG167+AI167","v":0},{"$f":"+P167+R167+T167+V167+X167+Z167+AB167+AD167+AF167+AH167+AJ167","v":0},null,null,null,null,null,null,null,null,null,null,null,null,null,null,null,null,null,null,null,null,null,null,null,null,null,null,null,null,null,null,null,null,null,null,null,null,null,null,null,null,null,null,null,null,null,null,"",null,null,null,null,null,null,null,null,null,null,null,null,null,null,null,null,null,null,null,null,null,null,null,null,null,null,null,null,null,null,null,null,null,null,null,null,null,null,null,null,null,null,null,null,null,null,null,null,null,"","",null,null,null,null,null,null,null,null,null,null,null,null,null,null,null,null,null,null,null,null,null,null,null,null,0,0]
["PERSONAS EN CONTROL DE SALUD SEGÚN CICLO VITAL",null,{"$f":"+E168+G168+I168+K168+M168+O168+Q168+S168+U168+W168+Y168+AA168+AC168+AE168+AG168+AI168","v":0},{"$f":"+F168+H168+J168+L168+N168+P168+R168+T168+V168+X168+Z168+AB168+AD168+AF168+AH168+AJ168","v":0},null,null,null,null,null,null,null,null,null,null,null,null,null,null,null,null,null,null,null,null,null,null,null,null,null,null,null,null,null,null,null,null,null,null,null,null,null,null,null,null,null,null,null,null,null,null,"",null,null,null,null,null,null,null,null,null,null,null,null,null,null,null,null,null,null,null,null,null,null,null,null,null,null,null,null,null,null,null,null,null,null,null,null,null,null,null,null,null,null,null,null,null,null,null,null,null,"","",null,null,null,null,null,null,null,null,null,null,null,null,null,null,null,null,null,null,null,null,null,null,null,null,0,0]
["DONANTES DE SANGRE","ALTRUISTA NUEVO",{"$f":"+O169+Q169+S169+U169+W169+Y169+AA169+AC169+AE169+AG169","v":0},{"$f":"+P169+R169+T169+V169+X169+Z169+AB169+AD169+AF169+AH169","v":0},null,null,null,null,null,null,null,null,null,null,null,null,null,null,null,null,null,null,null,null,null,null,null,null,null,null,null,null,null,null,null,null,null,null,null,null,null,null,null,null,null,null,null,null,null,null,"",null,null,null,null,null,null,null,null,null,null,null,null,null,null,null,null,null,null,null,null,null,null,null,null,null,null,null,null,null,null,null,null,null,null,null,null,null,null,null,null,null,null,null,null,null,null,null,null,null,"","",null,null,null,null,null,null,null,null,null,null,null,null,null,null,null,null,null,null,null,null,null,null,null,null,0,0]
[null,"ALTRUISTA REPETIDO",{"$f":"+O170+Q170+S170+U170+W170+Y170+AA170+AC170+AE170+AG170","v":0},{"$f":"+P170+R170+T170+V170+X170+Z170+AB170+AD170+AF170+AH170","v":0},null,null,null,null,null,null,null,null,null,null,null,null,null,null,null,null,null,null,null,null,null,null,null,null,null,null,null,null,null,null,null,null,null,null,null,null,null,null,null,null,null,null,null,null,null,null,"",null,null,null,null,null,null,null,null,null,null,null,null,null,null,null,null,null,null,null,null,null,null,null,null,null,null,null,null,null,null,null,null,null,null,null,null,null,null,null,null,null,null,null,null,null,null,null,null,null,"","",null,null,null,null,null,null,null,null,null,null,null,null,null,null,null,null,null,null,null,null,null,null,null,null,0,0]
[null,"FAMILIAR O REPOSICIÓN",{"$f":"+O171+Q171+S171+U171+W171+Y171+AA171+AC171+AE171+AG171","v":0},{"$f":"+P171+R171+T171+V171+X171+Z171+AB171+AD171+AF171+AH171","v":0},null,null,null,null,null,null,null,null,null,null,null,null,null,null,null,null,null,null,null,null,null,null,null,null,null,null,null,null,null,null,null,null,null,null,null,null,null,null,null,null,null,null,null,null,null,null,"",null,null,null,null,null,null,null,null,null,null,null,null,null,null,null,null,null,null,null,null,null,null,null,null,null,null,null,null,null,null,null,null,null,null,null,null,null,null,null,null,null,null,null,null,null,null,null,null,null,"","",null,null,null,null,null,null,null,null,null,null,null,null,null,null,null,null,null,null,null,null,null,null,null,null,0,0]
["DONANTES DE ÓRGANOS Y/O TEJIDOS",null,{"$f":"+E172+G172+I172+K172+M172+O172+Q172+S172+U172+W172+Y172+AA172+AC172+AE172+AG172+AI172","v":0},0,null,null,null,null,null,null,null,null,null,null,null,null,null,null,null,null,null,null,null,null,null,null,null,null,null,null,null,null,null,null,null,null,null,null,null,null,null,null,null,null,null,null,null,null,null,null,"",null,null,null,null,null,null,null,null,null,null,null,null,null,null,null,null,null,null,null,null,null,null,null,null,null,null,null,null,null,null,null,null,null,null,null,null,null,null,null,null,null,null,null,null,null,null,null,null,null,"","",null,null,null,null,null,null,null,null,null,null,null,null,null,null,null,null,null,null,null,null,null,null,null,null,0,0]
["PERSONA EN CONTROL POR TBC",null,0,0,null,null,null,null,null,null,null,null,null,null,null,null,null,null,null,null,null,null,null,null,null,null,null,null,null,null,null,null,null,null,null,null,null,null,null,null,null,null,null,null,null,null,null,null,null,null,"",null,null,null,null,null,null,null,null,null,null,null,null,null,null,null,null,null,null,null,null,null,null,null,null,null,null,null,null,null,null,null,null,null,null,null,null,null,null,null,null,null,null,null,null,null,null,null,null,null,"","",null,null,null,null,null,null,null,null,null,null,null,null,null,null,null,null,null,null,null,null,null,null,null,null,0,0]
["VÍCTIMA DE VIOLENCIA SEXUAL",null,0,{"$f":"+F174+H174+J174+L174+N174+P174+R174+T174+V174+X174+Z174+AB174+AD174+AF174+AH174+AJ174","v":0},null,null,null,null,null,null,null,null,null,null,null,null,null,null,null,null,null,null,null,null,null,null,null,null,null,null,null,null,null,null,null,null,null,null,null,null,null,null,null,null,null,null,null,null,null,null,"",null,null,null,null,null,null,null,null,null,null,null,null,null,null,null,null,null,null,null,null,null,null,null,null,null,null,null,null,null,null,null,null,null,null,null,null,null,null,null,null,null,null,null,null,null,null,null,null,null,"","",null,null,null,null,null,null,null,null,null,null,null,null,null,null,null,null,null,null,null,null,null,null,null,null,0,0]
["PAREJA SERODISCORDANTE",null,{"$f":"+O175+Q175+S175+U175+W175+Y175+AA175+AC175+AE175+AG175+AI175","v":0},0,null,null,null,null,null,null,null,null,null,null,null,null,null,null,null,null,null,null,null,null,null,null,null,null,null,null,null,null,null,null,null,null,null,null,null,null,null,null,null,null,null,null,null,null,null,null,"",null,null,null,null,null,null,null,null,null,null,null,null,null,null,null,null,null,null,null,null,null,null,null,null,null,null,null,null,null,null,null,null,null,null,null,null,null,null,null,null,null,null,null,null,null,null,null,null,null,"","",null,null,null,null,null,null,null,null,null,null,null,null,null,null,null,null,null,null,null,null,null,null,null,null,0,0]
["PAREJA DE GESTANTE VIH POSITIVO",null,0,0,null,null,null,null,null,null,null,null,null,null,null,null,null,null,null,null,null,null,null,null,null,null,null,null,null,null,null,null,null,null,null,null,null,null,null,null,null,null,null,null,null,null,null,null,null,null,"",null,null,null,null,null,null,null,null,null,null,null,null,null,null,null,null,null,null,null,null,null,null,null,null,null,null,null,null,null,null,null,null,null,null,null,null,null,null,null,null,null,null,null,null,null,null,null,null,null,"","",null,null,null,null,null,null,null,null,null,null,null,null,null,null,null,null,null,null,null,null,null,null,null,null,0,0]
["PERSONAL DE SALUD EXPUESTO A ACCIDENTE CORTOPUNZANTE",null,0,0,null,null,null,null,null,null,null,null,null,null,null,null,null,null,null,null,null,null,null,null,null,null,null,null,null,null,null,null,null,null,null,null,null,null,null,null,null,null,null,null,null,null,null,null,null,null,"",null,null,null,null,null,null,null,null,null,null,null,null,null,null,null,null,null,null,null,null,null,null,null,null,null,null,null,null,null,null,null,null,null,null,null,null,null,null,null,null,null,null,null,null,null,null,null,null,null,"","",null,null,null,null,null,null,null,null,null,null,null,null,null,null,null,null,null,null,null,null,null,null,null,null,{"$f":"IF(AND(C177<>0,OR(AO177=\"\",AQ177=\"\",AS177=\"\",AU177=\"\")),1,0)","v":0},0]
["PACIENTES FUENTE DE ACCIDENTE CORTOPUNZANTE",null,{"$f":"+E178+G178+I178+K178+M178+O178+Q178+S178+U178+W178+Y178+AA178+AC178+AE178+AG178+AI178","v":0},0,null,null,null,null,null,null,null,null,null,null,null,null,null,null,null,null,null,null,null,null,null,null,null,null,null,null,null,null,null,null,null,null,null,null,null,null,null,null,null,null,null,null,null,null,null,null,"",null,null,null,null,null,null,null,null,null,null,null,null,null,null,null,null,null,null,null,null,null,null,null,null,null,null,null,null,null,null,null,null,null,null,null,null,null,null,null,null,null,null,null,null,null,null,null,null,null,"","",null,null,null,null,null,null,null,null,null,null,null,null,null,null,null,null,null,null,null,null,null,null,null,null,0,0]
["PERSONA EN CONTROL POR HEPATITIS B",null,0,0,null,null,null,null,null,null,null,null,null,null,null,null,null,null,null,null,null,null,null,null,null,null,null,null,null,null,null,null,null,null,null,null,null,null,null,null,null,null,null,null,null,null,null,null,null,null,"",null,null,null,null,null,null,null,null,null,null,null,null,null,null,null,null,null,null,null,null,null,null,null,null,null,null,null,null,null,null,null,null,null,null,null,null,null,null,null,null,null,null,null,null,null,null,null,null,null,"","",null,null,null,null,null,null,null,null,null,null,null,null,null,null,null,null,null,null,null,null,null,null,null,null,0,0]
["PERSONA EN CONTROL POR HEPATITIS C",null,0,0,null,null,null,null,null,null,null,null,null,null,null,null,null,null,null,null,null,null,null,null,null,null,null,null,null,null,null,null,null,null,null,null,null,null,null,null,null,null,null,null,null,null,null,null,null,null,"",null,null,null,null,null,null,null,null,null,null,null,null,null,null,null,null,null,null,null,null,null,null,null,null,null,null,null,null,null,null,null,null,null,null,null,null,null,null,null,null,null,null,null,null,null,null,null,null,null,"","",null,null,null,null,null,null,null,null,null,null,null,null,null,null,null,null,null,null,null,null,null,null,null,null,0,0]
["CONSULTANTES POR MORBILIDAD",null,0,0,null,null,null,null,null,null,null,null,null,null,null,null,null,null,null,null,null,null,null,null,null,null,null,null,null,null,null,null,null,null,null,null,null,null,null,null,null,null,null,null,null,null,null,null,null,null,"",null,null,null,null,null,null,null,null,null,null,null,null,null,null,null,null,null,null,null,null,null,null,null,null,null,null,null,null,null,null,null,null,null,null,null,null,null,null,null,null,null,null,null,null,null,null,null,null,null,"","",null,null,null,null,null,null,null,null,null,null,null,null,null,null,null,null,null,null,null,null,null,null,null,null,0,0]
["POR CONSULTA ESPONTÁNEA",null,0,0,null,null,null,null,null,null,null,null,null,null,null,null,null,null,null,null,null,null,null,null,null,null,null,null,null,null,null,null,null,null,null,null,null,null,null,null,null,null,null,null,null,null,null,null,null,null,"",null,null,null,null,null,null,null,null,null,null,null,null,null,null,null,null,null,null,null,null,null,null,null,null,null,null,null,null,null,null,null,null,null,null,null,null,null,null,null,null,null,null,null,null,null,null,null,null,null,"","",null,null,null,null,null,null,null,null,null,null,null,null,null,null,null,null,null,null,null,null,null,null,null,null,0,0]
["SECCIÓN C.2: EXÁMENES  DE  VIH POR GRUPOS DE USUARIOS (Uso exclusivo de establecimientos que Compran Servicio)"]
["GRUPO DE USUARIOS",null,"TOTAL",null,"GRUPO DE EDAD (En años)",null,null,null,null,null,null,null,null,null,null,null,null,null,null,null,null,null,null,null,null,null,null,null,null,null,null,null,null,null,null,null,"POR SEXO",null,null,null,"TRANS",null,null,null,"Pueblos originarios",null,"Migrantes",null,"14-18 años"]
[null,null,null,null,"Menor de 12 meses",null,"12-24 meses",null,"3 a 4 años",null,"5 a 9 años",null,"10 a 14 años",null,"15 a 19 años",null,"20 a 24 años",null,"25 a 29 años",null,"30 a 34 años",null,"35 a 39 años",null,"40 a 44 años",null,"45 a 49 años",null,"50 a 54 años",null,"55 a 59 años",null,"60 a 64 años",null," 65 y más años",null,"Hombres",null,"Mujeres",null,"Femenino",null,"Masculino"]
[null,null,"Procesados","Confirmados positivos por ISP","Procesados","Confirmados positivos por ISP","Procesados","Confirmados positivos por ISP","Procesados","Confirmados positivos por ISP","Procesados","Confirmados positivos por ISP","Procesados","Confirmados positivos por ISP","Procesados","Confirmados positivos por ISP","Procesados","Confirmados positivos por ISP","Procesados","Confirmados positivos por ISP","Procesados","Confirmados positivos por ISP","Procesados","Confirmados positivos por ISP","Procesados","Confirmados positivos por ISP","Procesados","Confirmados positivos por ISP","Procesados","Confirmados positivos por ISP","Procesados","Confirmados positivos por ISP","Procesados","Confirmados positivos por ISP","Procesados","Confirmados positivos por ISP","Procesados","Confirmados positivos por ISP","Procesados","Confirmados positivos por ISP","Procesados","Confirmados positivos por ISP","Procesados","Confirmados positivos por ISP","Procesados","Confirmados positivos por ISP","Procesados","Confirmados positivos por ISP","Procesados","Confirmados positivos por ISP"]
["GESTANTES PRIMER EXAMEN",null,{"$f":"+M187+O187+Q187+S187+U187+W187+Y187+AA187+AC187+AE187","v":0},0,null,null,null,null,null,null,null,null,null,null,null,null,null,null,null,null,null,null,null,null,null,null,null,null,null,null,null,null,null,null,null,null,null,null,null,null,null,null,null,null,null,null,null,null,null,null,{"$f":"$CA187&$CB187&$CC187&$CD187&$CE187&$CF187&$CG187&$CH187&$CI187&$CJ187&$CK187&$CL187&$CM187&$CN187&$CO187&$CP187&$CQ187&$CR187&$CS187&$CT187&$CU187&$CV187&$CW187&$CX187&$CY187&$CZ187","v":""},null,null,null,null,null,null,null,null,null,null,null,null,null,null,null,null,null,null,null,null,null,null,null,null,null,null,null,null,null,null,null,null,null,null,null,null,null,null,null,null,null,null,null,null,null,null,null,null,null,{"$f":"IF(DW187=1,\"* No olvide digitar la columna Procesados Trans y/o Pueblos Originarios y/o Migrantes (Digite Cero si no tiene). \",\"\")","v":""},{"$f":"IF(DX187=1,\"* No olvide digitar la columna Confirmados Trans y/o Pueblos Originarios y/o Migrantes (Digite Cero si no tiene). \",\"\")","v":""},null,null,null,null,null,null,null,null,null,null,null,null,null,null,null,null,null,null,null,null,null,null,null,null,{"$f":"IF(AND(C187<>0,OR(AO187=\"\",AQ187=\"\",AS187=\"\",AU187=\"\")),1,0)","v":0},0]
["GESTANTES SEGUNDO EXAMEN",null,0,0,null,null,null,null,null,null,null,null,null,null,null,null,null,null,null,null,null,null,null,null,null,null,null,null,null,null,null,null,null,null,null,null,null,null,null,null,null,null,null,null,null,null,null,null,null,null,"",null,null,null,null,null,null,null,null,null,null,null,null,null,null,null,null,null,null,null,null,null,null,null,null,null,null,null,null,null,null,null,null,null,null,null,null,null,null,null,null,null,null,null,null,null,null,null,null,null,"","",null,null,null,null,null,null,null,null,null,null,null,null,null,null,null,null,null,null,null,null,null,null,null,null,0,0]
["MUJER EN TRABAJO DE PRE PARTO O PARTO",null,0,0,null,null,null,null,null,null,null,null,null,null,null,null,null,null,null,null,null,null,null,null,null,null,null,null,null,null,null,null,null,null,null,null,null,null,null,null,null,null,null,null,null,null,null,null,null,null,"",null,null,null,null,null,null,null,null,null,null,null,null,null,null,null,null,null,null,null,null,null,null,null,null,null,null,null,null,null,null,null,null,null,null,null,null,null,null,null,null,null,null,null,null,null,null,null,null,null,"","",null,null,null,null,null,null,null,null,null,null,null,null,null,null,null,null,null,null,null,null,null,null,null,null,0,0]
["PERSONAS EN CONTROL POR COMERCIO SEXUAL",null,{"$f":"+O190+Q190+S190+U190+W190+Y190+AA190+AC190+AE190+AG190+AI190","v":0},{"$f":"+P190+R190+T190+V190+X190+Z190+AB190+AD190+AF190+AH190+AJ190","v":0},null,null,null,null,null,null,null,null,null,null,null,null,null,null,null,null,null,null,null,null,null,null,null,null,null,null,null,null,null,null,null,null,null,null,null,null,null,null,null,null,null,null,null,null,null,null,"",null,null,null,null,null,null,null,null,null,null,null,null,null,null,null,null,null,null,null,null,null,null,null,null,null,null,null,null,null,null,null,null,null,null,null,null,null,null,null,null,null,null,null,null,null,null,null,null,null,"","",null,null,null,null,null,null,null,null,null,null,null,null,null,null,null,null,null,null,null,null,null,null,null,null,0,0]
["PACIENTES EN DIÁLISIS",null,{"$f":"+E191+G191+I191+K191+M191+O191+Q191+S191+U191+W191+Y191+AA191+AC191+AE191+AG191+AI191","v":0},{"$f":"+F191+H191+J191+L191+N191+P191+R191+T191+V191+X191+Z191+AB191+AD191+AF191+AH191+AJ191","v":0},null,null,null,null,null,null,null,null,null,null,null,null,null,null,null,null,null,null,null,null,null,null,null,null,null,null,null,null,null,null,null,null,null,null,null,null,null,null,null,null,null,null,null,null,null,null,"",null,null,null,null,null,null,null,null,null,null,null,null,null,null,null,null,null,null,null,null,null,null,null,null,null,null,null,null,null,null,null,null,null,null,null,null,null,null,null,null,null,null,null,null,null,null,null,null,null,"","",null,null,null,null,null,null,null,null,null,null,null,null,null,null,null,null,null,null,null,null,null,null,null,null,0,0]
["POR CONSULTA ITS",null,{"$f":"+E192+G192+I192+K192+M192+O192+Q192+S192+U192+W192+Y192+AA192+AC192+AE192+AG192+AI192","v":0},{"$f":"+F192+H192+J192+L192+N192+P192+R192+T192+V192+X192+Z192+AB192+AD192+AF192+AH192+AJ192","v":0},null,null,null,null,null,null,null,null,null,null,null,null,null,null,null,null,null,null,null,null,null,null,null,null,null,null,null,null,null,null,null,null,null,null,null,null,null,null,null,null,null,null,null,null,null,null,"",null,null,null,null,null,null,null,null,null,null,null,null,null,null,null,null,null,null,null,null,null,null,null,null,null,null,null,null,null,null,null,null,null,null,null,null,null,null,null,null,null,null,null,null,null,null,null,null,null,"","",null,null,null,null,null,null,null,null,null,null,null,null,null,null,null,null,null,null,null,null,null,null,null,null,0,0]
["PERSONAS EN CONTROL DE REGULACIÓN FECUNDIDAD, GINECOLOGICO, CLIMATERIO",null,{"$f":"+O193+Q193+S193+U193+W193+Y193+AA193+AC193+AE193+AG193+AI193","v":0},{"$f":"+P193+R193+T193+V193+X193+Z193+AB193+AD193+AF193+AH193+AJ193","v":0},null,null,null,null,null,null,null,null,null,null,null,null,null,null,null,null,null,null,null,null,null,null,null,null,null,null,null,null,null,null,null,null,null,null,null,null,null,null,null,null,null,null,null,null,null,null,"",null,null,null,null,null,null,null,null,null,null,null,null,null,null,null,null,null,null,null,null,null,null,null,null,null,null,null,null,null,null,null,null,null,null,null,null,null,null,null,null,null,null,null,null,null,null,null,null,null,"","",null,null,null,null,null,null,null,null,null,null,null,null,null,null,null,null,null,null,null,null,null,null,null,null,0,0]
["PERSONAS CON EMP",null,{"$f":"+O194+Q194+S194+U194+W194+Y194+AA194+AC194+AE194+AG194+AI194","v":0},{"$f":"+P194+R194+T194+V194+X194+Z194+AB194+AD194+AF194+AH194+AJ194","v":0},null,null,null,null,null,null,null,null,null,null,null,null,null,null,null,null,null,null,null,null,null,null,null,null,null,null,null,null,null,null,null,null,null,null,null,null,null,null,null,null,null,null,null,null,null,null,"",null,null,null,null,null,null,null,null,null,null,null,null,null,null,null,null,null,null,null,null,null,null,null,null,null,null,null,null,null,null,null,null,null,null,null,null,null,null,null,null,null,null,null,null,null,null,null,null,null,"","",null,null,null,null,null,null,null,null,null,null,null,null,null,null,null,null,null,null,null,null,null,null,null,null,0,0]
["PERSONAS EN CONTROL DE SALUD SEGÚN CICLO VITAL",null,{"$f":"+E195+G195+I195+K195+M195+O195+Q195+S195+U195+W195+Y195+AA195+AC195+AE195+AG195+AI195","v":0},{"$f":"+F195+H195+J195+L195+N195+P195+R195+T195+V195+X195+Z195+AB195+AD195+AF195+AH195+AJ195","v":0},null,null,null,null,null,null,null,null,null,null,null,null,null,null,null,null,null,null,null,null,null,null,null,null,null,null,null,null,null,null,null,null,null,null,null,null,null,null,null,null,null,null,null,null,null,null,"",null,null,null,null,null,null,null,null,null,null,null,null,null,null,null,null,null,null,null,null,null,null,null,null,null,null,null,null,null,null,null,null,null,null,null,null,null,null,null,null,null,null,null,null,null,null,null,null,null,"","",null,null,null,null,null,null,null,null,null,null,null,null,null,null,null,null,null,null,null,null,null,null,null,null,0,0]
["DONANTES DE SANGRE","ALTRUISTA NUEVO",{"$f":"+O196+Q196+S196+U196+W196+Y196+AA196+AC196+AE196+AG196","v":0},0,null,null,null,null,null,null,null,null,null,null,null,null,null,null,null,null,null,null,null,null,null,null,null,null,null,null,null,null,null,null,null,null,null,null,null,null,null,null,null,null,null,null,null,null,null,null,"",null,null,null,null,null,null,null,null,null,null,null,null,null,null,null,null,null,null,null,null,null,null,null,null,null,null,null,null,null,null,null,null,null,null,null,null,null,null,null,null,null,null,null,null,null,null,null,null,null,"","",null,null,null,null,null,null,null,null,null,null,null,null,null,null,null,null,null,null,null,null,null,null,null,null,0,0]
[null,"ALTRUISTA REPETIDO",0,0,null,null,null,null,null,null,null,null,null,null,null,null,null,null,null,null,null,null,null,null,null,null,null,null,null,null,null,null,null,null,null,null,null,null,null,null,null,null,null,null,null,null,null,null,null,null,"",null,null,null,null,null,null,null,null,null,null,null,null,null,null,null,null,null,null,null,null,null,null,null,null,null,null,null,null,null,null,null,null,null,null,null,null,null,null,null,null,null,null,null,null,null,null,null,null,null,"","",null,null,null,null,null,null,null,null,null,null,null,null,null,null,null,null,null,null,null,null,null,null,null,null,0,0]
[null,"FAMILIAR O REPOSICIÓN",0,0,null,null,null,null,null,null,null,null,null,null,null,null,null,null,null,null,null,null,null,null,null,null,null,null,null,null,null,null,null,null,null,null,null,null,null,null,null,null,null,null,null,null,null,null,null,null,"",null,null,null,null,null,null,null,null,null,null,null,null,null,null,null,null,null,null,null,null,null,null,null,null,null,null,null,null,null,null,null,null,null,null,null,null,null,null,null,null,null,null,null,null,null,null,null,null,null,"","",null,null,null,null,null,null,null,null,null,null,null,null,null,null,null,null,null,null,null,null,null,null,null,null,0,0]
["DONANTES DE ÓRGANOS Y/O TEJIDOS",null,{"$f":"+E199+G199+I199+K199+M199+O199+Q199+S199+U199+W199+Y199+AA199+AC199+AE199+AG199+AI199","v":0},0,null,null,null,null,null,null,null,null,null,null,null,null,null,null,null,null,null,null,null,null,null,null,null,null,null,null,null,null,null,null,null,null,null,null,null,null,null,null,null,null,null,null,null,null,null,null,"",null,null,null,null,null,null,null,null,null,null,null,null,null,null,null,null,null,null,null,null,null,null,null,null,null,null,null,null,null,null,null,null,null,null,null,null,null,null,null,null,null,null,null,null,null,null,null,null,null,"","",null,null,null,null,null,null,null,null,null,null,null,null,null,null,null,null,null,null,null,null,null,null,null,null,0,0]
["PERSONA EN CONTROL POR TBC",null,0,0,null,null,null,null,null,null,null,null,null,null,null,null,null,null,null,null,null,null,null,null,null,null,null,null,null,null,null,null,null,null,null,null,null,null,null,null,null,null,null,null,null,null,null,null,null,null,"",null,null,null,null,null,null,null,null,null,null,null,null,null,null,null,null,null,null,null,null,null,null,null,null,null,null,null,null,null,null,null,null,null,null,null,null,null,null,null,null,null,null,null,null,null,null,null,null,null,"","",null,null,null,null,null,null,null,null,null,null,null,null,null,null,null,null,null,null,null,null,null,null,null,null,0,0]
["VÍCTIMA DE VIOLENCIA SEXUAL",null,0,0,null,null,null,null,null,null,null,null,null,null,null,null,null,null,null,null,null,null,null,null,null,null,null,null,null,null,null,null,null,null,null,null,null,null,null,null,null,null,null,null,null,null,null,null,null,null,"",null,null,null,null,null,null,null,null,null,null,null,null,null,null,null,null,null,null,null,null,null,null,null,null,null,null,null,null,null,null,null,null,null,null,null,null,null,null,null,null,null,null,null,null,null,null,null,null,null,"","",null,null,null,null,null,null,null,null,null,null,null,null,null,null,null,null,null,null,null,null,null,null,null,null,0,0]
["PAREJA SERODISCORDANTE",null,{"$f":"+O202+Q202+S202+U202+W202+Y202+AA202+AC202+AE202+AG202+AI202","v":0},{"$f":"+P202+R202+T202+V202+X202+Z202+AB202+AD202+AF202+AH202+AJ202","v":0},null,null,null,null,null,null,null,null,null,null,null,null,null,null,null,null,null,null,null,null,null,null,null,null,null,null,null,null,null,null,null,null,null,null,null,null,null,null,null,null,null,null,null,null,null,null,"",null,null,null,null,null,null,null,null,null,null,null,null,null,null,null,null,null,null,null,null,null,null,null,null,null,null,null,null,null,null,null,null,null,null,null,null,null,null,null,null,null,null,null,null,null,null,null,null,null,"","",null,null,null,null,null,null,null,null,null,null,null,null,null,null,null,null,null,null,null,null,null,null,null,null,0,0]
["PAREJA DE GESTANTE VIH POSITIVO",null,{"$f":"+O203+Q203+S203+U203+W203+Y203+AA203+AC203+AE203+AG203+AI203","v":0},{"$f":"+P203+R203+T203+V203+X203+Z203+AB203+AD203+AF203+AH203+AJ203","v":0},null,null,null,null,null,null,null,null,null,null,null,null,null,null,null,null,null,null,null,null,null,null,null,null,null,null,null,null,null,null,null,null,null,null,null,null,null,null,null,null,null,null,null,null,null,null,"",null,null,null,null,null,null,null,null,null,null,null,null,null,null,null,null,null,null,null,null,null,null,null,null,null,null,null,null,null,null,null,null,null,null,null,null,null,null,null,null,null,null,null,null,null,null,null,null,null,"","",null,null,null,null,null,null,null,null,null,null,null,null,null,null,null,null,null,null,null,null,null,null,null,null,{"$f":"IF(AND(C203<>0,OR(AO203=\"\",AQ203=\"\",AS203=\"\",AU203=\"\")),1,0)","v":0},0]
["PERSONAL DE SALUD EXPUESTO A ACCIDENTE CORTOPUNZANTE",null,0,0,null,null,null,null,null,null,null,null,null,null,null,null,null,null,null,null,null,null,null,null,null,null,null,null,null,null,null,null,null,null,null,null,null,null,null,null,null,null,null,null,null,null,null,null,null,null,"",null,null,null,null,null,null,null,null,null,null,null,null,null,null,null,null,null,null,null,null,null,null,null,null,null,null,null,null,null,null,null,null,null,null,null,null,null,null,null,null,null,null,null,null,null,null,null,null,null,"","",null,null,null,null,null,null,null,null,null,null,null,null,null,null,null,null,null,null,null,null,null,null,null,null,0,0]
["PACIENTES FUENTE DE ACCIDENTE CORTOPUNZANTE",null,{"$f":"+E205+G205+I205+K205+M205+O205+Q205+S205+U205+W205+Y205+AA205+AC205+AE205+AG205+AI205","v":0},0,null,null,null,null,null,null,null,null,null,null,null,null,null,null,null,null,null,null,null,null,null,null,null,null,null,null,null,null,null,null,null,null,null,null,null,null,null,null,null,null,null,null,null,null,null,null,"",null,null,null,null,null,null,null,null,null,null,null,null,null,null,null,null,null,null,null,null,null,null,null,null,null,null,null,null,null,null,null,null,null,null,null,null,null,null,null,null,null,null,null,null,null,null,null,null,null,"","",null,null,null,null,null,null,null,null,null,null,null,null,null,null,null,null,null,null,null,null,null,null,null,null,0,0]
["PERSONA EN CONTROL POR HEPATITIS B",null,0,0,null,null,null,null,null,null,null,null,null,null,null,null,null,null,null,null,null,null,null,null,null,null,null,null,null,null,null,null,null,null,null,null,null,null,null,null,null,null,null,null,null,null,null,null,null,null,"",null,null,null,null,null,null,null,null,null,null,null,null,null,null,null,null,null,null,null,null,null,null,null,null,null,null,null,null,null,null,null,null,null,null,null,null,null,null,null,null,null,null,null,null,null,null,null,null,null,"","",null,null,null,null,null,null,null,null,null,null,null,null,null,null,null,null,null,null,null,null,null,null,null,null,0,0]
["PERSONA EN CONTROL POR HEPATITIS C",null,0,0,null,null,null,null,null,null,null,null,null,null,null,null,null,null,null,null,null,null,null,null,null,null,null,null,null,null,null,null,null,null,null,null,null,null,null,null,null,null,null,null,null,null,null,null,null,null,"",null,null,null,null,null,null,null,null,null,null,null,null,null,null,null,null,null,null,null,null,null,null,null,null,null,null,null,null,null,null,null,null,null,null,null,null,null,null,null,null,null,null,null,null,null,null,null,null,null,"","",null,null,null,null,null,null,null,null,null,null,null,null,null,null,null,null,null,null,null,null,null,null,null,null,0,0]
["CONSULTANTES POR MORBILIDAD",null,0,0,null,null,null,null,null,null,null,null,null,null,null,null,null,null,null,null,null,null,null,null,null,null,null,null,null,null,null,null,null,null,null,null,null,null,null,null,null,null,null,null,null,null,null,null,null,null,"",null,null,null,null,null,null,null,null,null,null,null,null,null,null,null,null,null,null,null,null,null,null,null,null,null,null,null,null,null,null,null,null,null,null,null,null,null,null,null,null,null,null,null,null,null,null,null,null,null,"","",null,null,null,null,null,null,null,null,null,null,null,null,null,null,null,null,null,null,null,null,null,null,null,null,0,0]
["POR CONSULTA ESPONTÁNEA",null,0,0,null,null,null,null,null,null,null,null,null,null,null,null,null,null,null,null,null,null,null,null,null,null,null,null,null,null,null,null,null,null,null,null,null,null,null,null,null,null,null,null,null,null,null,null,null,null,"",null,null,null,null,null,null,null,null,null,null,null,null,null,null,null,null,null,null,null,null,null,null,null,null,null,null,null,null,null,null,null,null,null,null,null,null,null,null,null,null,null,null,null,null,null,null,null,null,null,"","",null,null,null,null,null,null,null,null,null,null,null,null,null,null,null,null,null,null,null,null,null,null,null,null,0,0]
["SECCIÓN D: DETECCIÓN ENFERMEDAD DE CHAGAS EN GESTANTES Y RECIÉN NACIDOS SEGÚN RESULTADO DE EXÁMENES DE LABORATORIO"]
["TIPO DE EXÁMENES","EXÁMENES DE TAMIZAJE INFECCIÓN POR T. cruzi REALIZADOS","EXÁMENES TAMIZAJE DE INFECCIÓN POR T. cruzi CON RESULTADO REACTIVO ","EXÁMENES DE CONFIRMACIÓN DE INFECCIÓN POR T. cruzi CON RESULTADO POSITIVO "]
["GESTANTES QUE INGRESAN A CONTROL PRENATAL       "]
["MUJERES EN TRABAJO DE PARTO O ABORTO SIN TAMIZAJE PREVIO CUALQUIERA SEA LA CAUSA"]
["RECIÉN NACIDOS, HIJOS DE MADRE CON ENFERMEDAD DE CHAGAS "]
["LACTANTES, HIJOS DE MADRE CON ENFERMEDAD DE CHAGAS "]
["SECCIÓN E: EXÁMENES DE GONORREA POR GRUPOS DE USUARIOS "]
["GRUPO DE USUARIOS","TOTAL",null,"GRUPO DE EDAD (En años)",null,null,null,null,null,null,null,null,null,null,null,null,null,null,null,null,null,null,null,null,null,null,null,null,null,null,null,null,null,null,null,null,null,"POR SEXO\n(Procesados)",null,"TRANS",null,"Pueblos Originarios","Migrantes"]
[null,null,null,"0 a 4 años",null,"5 a 9 años",null,"10 a 14 años",null,"15 a 19 años",null,"20 a 24 años",null,"25 a 29 años",null,"30 a 34 años",null,"35 a 39 años",null,"40 a 44 años",null,"45 a 49 años",null,"50 a 54 años",null,"55 a 59 años",null,"60 a 64 años",null,"65 a 69 años",null,"70 a 74 años",null,"75 a 79 años",null,"80 y más años",null,"Hombres","Mujeres","Masculino","Femenino"]
[null,"Procesados","Reactivos","Procesados","Reactivos","Procesados","Reactivos","Procesados","Reactivos","Procesados","Reactivos","Procesados","Reactivos","Procesados","Reactivos","Procesados","Reactivos","Procesados","Reactivos","Procesados","Reactivos","Procesados","Reactivos","Procesados","Reactivos","Procesados","Reactivos","Procesados","Reactivos","Procesados","Reactivos","Procesados","Reactivos","Procesados","Reactivos","Procesados","Reactivos"]
["GESTANTES",{"$f":"SUM(D220+F220+H220+J220+L220+N220+P220+R220+T220+V220+X220+Z220+AB220+AD220+AF220+AH220+AJ220)","v":0},{"$f":"SUM(E220+G220+I220+K220+M220+O220+Q220+S220+U220+W220+Y220+AA220+AC220+AE220+AG220+AI220+AK220)","v":0},null,null,null,null,null,null,null,null,null,null,null,null,null,null,null,null,null,null,null,null,null,null,null,null,null,null,null,null,null,null,null,null,null,null,null,null,null,null,null,null,null,null,null,null,null,null,null,null,null,null,null,null,null,null,null,null,null,null,null,null,null,null,null,null,null,null,null,null,null,null,null,null,null,null,null,{"$f":"IF(B220<   C220,\"* El total de Reactivos NO DEBE ser superior al total de Procesados. \",\"\")","v":""},{"$f":"IF(B220<> AL220+ AM220,\"* La suma de las columnas Sexo DEBE SER IGUAL a los Procesados. \",\"\")","v":""},{"$f":"IF(B220<  AN220+ AO220,\"* La suma de las columna Trans NO DEBE ser superior al total de Procesados. \",\"\")","v":""},{"$f":"IF(B220<  AP220,\"* La columna Pueblos Originarios NO DEBE ser superior al total de Procesados. \",\"\")","v":""},{"$f":"IF(B220<  AQ220,\"* La columna Migrantes NO DEBE ser superior al total de Procesados. \",\"\")","v":""},{"$f":"IF(D220<E220,\"* Los exámenes Reactivos de 0 a 4 años años NO DEBEN ser mayor a los Exámenes Procesados de la misma edad. \",\"\")","v":""},{"$f":"IF(F220<G220,\"* Los exámenes Reactivos de 5 a 9 años años NO DEBEN ser mayor a los Exámenes Procesados de la misma edad. \",\"\")","v":""},{"$f":"IF(H220<I220,\"* Los exámenes Reactivos de 10 a 14 años años NO DEBEN ser mayor a los Exámenes Procesados de la misma edad. \",\"\")","v":""},{"$f":"IF(J220<K220,\"* Los exámenes Reactivos de 15 a 19 años años NO DEBEN ser mayor a los Exámenes Procesados de la misma edad. \",\"\")","v":""},{"$f":"IF(L220<M220,\"* Los exámenes Reactivos de 20 a 24 años años NO DEBEN ser mayor a los Exámenes Procesados de la misma edad. \",\"\")","v":""},{"$f":"IF(N220<O220,\"* Los exámenes Reactivos de 25 a 29 años años NO DEBEN ser mayor a los Exámenes Procesados de la misma edad. \",\"\")","v":""},{"$f":"IF(P220<Q220,\"* Los exámenes Reactivos de 30 a 34 años años NO DEBEN ser mayor a los Exámenes Procesados de la misma edad. \",\"\")","v":""},{"$f":"IF(R220<S220,\"* Los exámenes Reactivos de 35 a 39 años años NO DEBEN ser mayor a los Exámenes Procesados de la misma edad. \",\"\")","v":""},{"$f":"IF(T220<U220,\"* Los exámenes Reactivos de 40 a 44 años años NO DEBEN ser mayor a los Exámenes Procesados de la misma edad. \",\"\")","v":""},{"$f":"IF(V220<W220,\"* Los exámenes Reactivos de 45 a 49 años años NO DEBEN ser mayor a los Exámenes Procesados de la misma edad. \",\"\")","v":""},{"$f":"IF(X220<Y220,\"* Los exámenes Reactivos de 50 a 54 años años NO DEBEN ser mayor a los Exámenes Procesados de la misma edad. \",\"\")","v":""},{"$f":"IF(Z220<AA220,\"* Los exámenes Reactivos de 55 a 59 años años NO DEBEN ser mayor a los Exámenes Procesados de la misma edad. \",\"\")","v":""},{"$f":"IF(AB220<AC220,\"* Los exámenes Reactivos de 60 a 64 años años NO DEBEN ser mayor a los Exámenes Procesados de la misma edad. \",\"\")","v":""},{"$f":"IF(AD220<AE220,\"* Los exámenes Reactivos de 65 a 69 años años NO DEBEN ser mayor a los Exámenes Procesados de la misma edad. \",\"\")","v":""},{"$f":"IF(AF220<AG220,\"* Los exámenes Reactivos de 70 a 74 años años NO DEBEN ser mayor a los Exámenes Procesados de la misma edad. \",\"\")","v":""},{"$f":"IF(AH220<AI220,\"* Los exámenes Reactivos de 75 a 79 años años NO DEBEN ser mayor a los Exámenes Procesados de la misma edad. \",\"\")","v":""},{"$f":"IF(AJ220<AK220,\"* Los exámenes Reactivos de 80 y más años años NO DEBEN ser mayor a los Exámenes Procesados de la misma edad. \",\"\")","v":""},null,null,null,null,{"$f":"IF(B220<   C220,1,0)","v":0},{"$f":"IF(B220<> AL220+AM220,1,0)","v":0},{"$f":"IF(B220<  AN220+AO220,1,0)","v":0},{"$f":"IF(B220<  AP220,1,0)","v":0},{"$f":"IF(B220<  AQ220,1,0)","v":0},{"$f":"IF(D220<E220,1,0)","v":0},{"$f":"IF(F220<G220,1,0)","v":0},{"$f":"IF(H220<I220,1,0)","v":0},{"$f":"IF(J220<K220,1,0)","v":0},{"$f":"IF(L220<M220,1,0)","v":0},{"$f":"IF(N220<O220,1,0)","v":0},{"$f":"IF(P220<Q220,1,0)","v":0},{"$f":"IF(R220<S220,1,0)","v":0},{"$f":"IF(T220<U220,1,0)","v":0},{"$f":"IF(V220<W220,1,0)","v":0},{"$f":"IF(X220<Y220,1,0)","v":0},{"$f":"IF(Z220<AA220,1,0)","v":0},{"$f":"IF(AB220<AC220,1,0)","v":0},{"$f":"IF(AD220<AE220,1,0)","v":0},{"$f":"IF(AF220<AG220,1,0)","v":0},{"$f":"IF(AH220<AI220,1,0)","v":0},{"$f":"IF(AJ220<AK220,1,0)","v":0},null,null,null,0]
["COMERCIO SEXUAL",0,0,null,null,null,null,null,null,null,null,null,null,null,null,null,null,null,null,null,null,null,null,null,null,null,null,null,null,null,null,null,null,null,null,null,null,null,null,null,null,null,null,null,null,null,null,null,null,null,null,null,null,null,null,null,null,null,null,null,null,null,null,null,null,null,null,null,null,null,null,null,null,null,null,null,null,null,"","","","","","","","","","","","","","","","","","","","","","",null,null,null,null,0,0,0,0,0,0,0,0,0,0,0,0,0,0,0,0,0,0,0,0,0,0,null,null,null,0]
["PERSONAS VIH (+)",0,0,null,null,null,null,null,null,null,null,null,null,null,null,null,null,null,null,null,null,null,null,null,null,null,null,null,null,null,null,null,null,null,null,null,null,null,null,null,null,null,null,null,null,null,null,null,null,null,null,null,null,null,null,null,null,null,null,null,null,null,null,null,null,null,null,null,null,null,null,null,null,null,null,null,null,null,"","","","","","","","","","","","","","","","","","","","","","",null,null,null,null,0,0,0,0,0,0,0,0,0,0,0,0,0,0,0,0,0,0,0,0,0,0,null,null,null,0]
["CONSULTANTE ITS AMBULATORIO (nivel1º y 2º)",0,{"$f":"SUM(E223+G223+I223+K223+M223+O223+Q223+S223+U223+W223+Y223+AA223+AC223+AE223+AG223+AI223+AK223)","v":0},null,null,null,null,null,null,null,null,null,null,null,null,null,null,null,null,null,null,null,null,null,null,null,null,null,null,null,null,null,null,null,null,null,null,null,null,null,null,null,null,null,null,null,null,null,null,null,null,null,null,null,null,null,null,null,null,null,null,null,null,null,null,null,null,null,null,null,null,null,null,null,null,null,null,null,"","","","","","","","","","","","","","","","","","","","","","",null,null,null,null,0,0,0,0,0,0,0,0,0,0,0,0,0,0,0,0,0,0,0,0,0,0,null,null,null,0]
["CONSULTANTE ITS HOSPITALARIO (nivel 3º y urgencia)",0,{"$f":"SUM(E224+G224+I224+K224+M224+O224+Q224+S224+U224+W224+Y224+AA224+AC224+AE224+AG224+AI224+AK224)","v":0},null,null,null,null,null,null,null,null,null,null,null,null,null,null,null,null,null,null,null,null,null,null,null,null,null,null,null,null,null,null,null,null,null,null,null,null,null,null,null,null,null,null,null,null,null,null,null,null,null,null,null,null,null,null,null,null,null,null,null,null,null,null,null,null,null,null,null,null,null,null,null,null,null,null,null,"","","","","","","","","","","","","","","","","","","","","","",null,null,null,null,0,0,0,0,0,0,0,0,0,0,0,0,0,0,0,0,0,0,0,0,0,0,null,null,null,0]
["VICTIMA DE VIOLENCIA SEXUAL",0,0,null,null,null,null,null,null,null,null,null,null,null,null,null,null,null,null,null,null,null,null,null,null,null,null,null,null,null,null,null,null,null,null,null,null,null,null,null,null,null,null,null,null,null,null,null,null,null,null,null,null,null,null,null,null,null,null,null,null,null,null,null,null,null,null,null,null,null,null,null,null,null,null,null,null,null,"","","","","","","","","","","","","","","","","","","","","","",null,null,null,null,0,0,0,0,0,0,0,0,0,0,0,0,0,0,0,0,0,0,0,0,0,0,null,null,null,0]
["OTROS",0,0,null,null,null,null,null,null,null,null,null,null,null,null,null,null,null,null,null,null,null,null,null,null,null,null,null,null,null,null,null,null,null,null,null,null,null,null,null,null,null,null,null,null,null,null,null,null,null,null,null,null,null,null,null,null,null,null,null,null,null,null,null,null,null,null,null,null,null,null,null,null,null,null,null,null,null,"","","","","","","","","","","","","","","","","","","","","","",null,null,null,null,0,0,0,0,0,0,0,0,0,0,0,0,0,0,0,0,0,0,0,0,0,0,null,null,null,0]
["SECCIÓN F: EXÁMENES DE CHLAMYIDIA TRACHOMATIS POR GRUPOS DE USUARIOS "]
["GRUPO DE USUARIOS","TOTAL",null,"GRUPO DE EDAD (En años)",null,null,null,null,null,null,null,null,null,null,null,null,null,null,null,null,null,null,null,null,null,null,null,null,null,null,null,null,null,null,null,null,null,"POR SEXO\n(Procesados)",null,"TRANS",null,"Pueblos Originarios","Migrantes"]
[null,null,null,"0 a 4 años",null,"5 a 9 años",null,"10 a 14 años",null,"15 a 19 años",null,"20 a 24 años",null,"25 a 29 años",null,"30 a 34 años",null,"35 a 39 años",null,"40 a 44 años",null,"45 a 49 años",null,"50 a 54 años",null,"55 a 59 años",null,"60 a 64 años",null,"65 a 69 años",null,"70 a 74 años",null,"75 a 79 años",null,"80 y más años",null,"Hombres","Mujeres","Masculino","Femenino"]
[null,"Procesados","Reactivos","Procesados","Reactivos","Procesados","Reactivos","Procesados","Reactivos","Procesados","Reactivos","Procesados","Reactivos","Procesados","Reactivos","Procesados","Reactivos","Procesados","Reactivos","Procesados","Reactivos","Procesados","Reactivos","Procesados","Reactivos","Procesados","Reactivos","Procesados","Reactivos","Procesados","Reactivos","Procesados","Reactivos","Procesados","Reactivos","Procesados","Reactivos"]
["GESTANTES",{"$f":"SUM(D231+F231+H231+J231+L231+N231+P231+R231+T231+V231+X231+Z231+AB231+AD231+AF231+AH231+AJ231)","v":0},0,null,null,null,null,null,null,null,null,null,null,null,null,null,null,null,null,null,null,null,null,null,null,null,null,null,null,null,null,null,null,null,null,null,null,null,null,null,null,null,null,null,null,null,null,null,null,null,null,null,null,null,null,null,null,null,null,null,null,null,null,null,null,null,null,null,null,null,null,null,null,null,null,null,null,null,{"$f":"IF(B231<   C231,\"* El total de Reactivos NO DEBE ser superior al total de Procesados. \",\"\")","v":""},{"$f":"IF(B231<> AL231+ AM231,\"* La suma de las columnas Sexo DEBE SER IGUAL a los Procesados. \",\"\")","v":""},{"$f":"IF(B231<  AN231+ AO231,\"* La suma de las columna Trans NO DEBE ser superior al total de Procesados. \",\"\")","v":""},{"$f":"IF(B231<  AP231,\"* La columna Pueblos Originarios NO DEBE ser superior al total de Procesados. \",\"\")","v":""},{"$f":"IF(B231<  AQ231,\"* La columna Migrantes NO DEBE ser superior al total de Procesados. \",\"\")","v":""},{"$f":"IF(D231<E231,\"* Los exámenes Reactivos de 0 a 4 años años NO DEBEN ser mayor a los Exámenes Procesados de la misma edad. \",\"\")","v":""},{"$f":"IF(F231<G231,\"* Los exámenes Reactivos de 5 a 9 años años NO DEBEN ser mayor a los Exámenes Procesados de la misma edad. \",\"\")","v":""},{"$f":"IF(H231<I231,\"* Los exámenes Reactivos de 10 a 14 años años NO DEBEN ser mayor a los Exámenes Procesados de la misma edad. \",\"\")","v":""},{"$f":"IF(J231<K231,\"* Los exámenes Reactivos de 15 a 19 años años NO DEBEN ser mayor a los Exámenes Procesados de la misma edad. \",\"\")","v":""},{"$f":"IF(L231<M231,\"* Los exámenes Reactivos de 20 a 24 años años NO DEBEN ser mayor a los Exámenes Procesados de la misma edad. \",\"\")","v":""},{"$f":"IF(N231<O231,\"* Los exámenes Reactivos de 25 a 29 años años NO DEBEN ser mayor a los Exámenes Procesados de la misma edad. \",\"\")","v":""},{"$f":"IF(P231<Q231,\"* Los exámenes Reactivos de 30 a 34 años años NO DEBEN ser mayor a los Exámenes Procesados de la misma edad. \",\"\")","v":""},{"$f":"IF(R231<S231,\"* Los exámenes Reactivos de 35 a 39 años años NO DEBEN ser mayor a los Exámenes Procesados de la misma edad. \",\"\")","v":""},{"$f":"IF(T231<U231,\"* Los exámenes Reactivos de 40 a 44 años años NO DEBEN ser mayor a los Exámenes Procesados de la misma edad. \",\"\")","v":""},{"$f":"IF(V231<W231,\"* Los exámenes Reactivos de 45 a 49 años años NO DEBEN ser mayor a los Exámenes Procesados de la misma edad. \",\"\")","v":""},{"$f":"IF(X231<Y231,\"* Los exámenes Reactivos de 50 a 54 años años NO DEBEN ser mayor a los Exámenes Procesados de la misma edad. \",\"\")","v":""},{"$f":"IF(Z231<AA231,\"* Los exámenes Reactivos de 55 a 59 años años NO DEBEN ser mayor a los Exámenes Procesados de la misma edad. \",\"\")","v":""},{"$f":"IF(AB231<AC231,\"* Los exámenes Reactivos de 60 a 64 años años NO DEBEN ser mayor a los Exámenes Procesados de la misma edad. \",\"\")","v":""},{"$f":"IF(AD231<AE231,\"* Los exámenes Reactivos de 65 a 69 años años NO DEBEN ser mayor a los Exámenes Procesados de la misma edad. \",\"\")","v":""},{"$f":"IF(AF231<AG231,\"* Los exámenes Reactivos de 70 a 74 años años NO DEBEN ser mayor a los Exámenes Procesados de la misma edad. \",\"\")","v":""},{"$f":"IF(AH231<AI231,\"* Los exámenes Reactivos de 75 a 79 años años NO DEBEN ser mayor a los Exámenes Procesados de la misma edad. \",\"\")","v":""},{"$f":"IF(AJ231<AK231,\"* Los exámenes Reactivos de 80 y más años años NO DEBEN ser mayor a los Exámenes Procesados de la misma edad. \",\"\")","v":""},null,null,null,null,null,null,null,null,null,{"$f":"IF(D231<E231,1,0)","v":0},{"$f":"IF(F231<G231,1,0)","v":0},{"$f":"IF(H231<I231,1,0)","v":0},{"$f":"IF(J231<K231,1,0)","v":0},{"$f":"IF(L231<M231,1,0)","v":0},{"$f":"IF(N231<O231,1,0)","v":0},{"$f":"IF(P231<Q231,1,0)","v":0},{"$f":"IF(R231<S231,1,0)","v":0},{"$f":"IF(T231<U231,1,0)","v":0},{"$f":"IF(V231<W231,1,0)","v":0},{"$f":"IF(X231<Y231,1,0)","v":0},{"$f":"IF(Z231<AA231,1,0)","v":0},{"$f":"IF(AB231<AC231,1,0)","v":0},{"$f":"IF(AD231<AE231,1,0)","v":0},{"$f":"IF(AF231<AG231,1,0)","v":0},{"$f":"IF(AH231<AI231,1,0)","v":0},{"$f":"IF(AJ231<AK231,1,0)","v":0},null,null,null,0]
["COMERCIO SEXUAL",0,0,null,null,null,null,null,null,null,null,null,null,null,null,null,null,null,null,null,null,null,null,null,null,null,null,null,null,null,null,null,null,null,null,null,null,null,null,null,null,null,null,null,null,null,null,null,null,null,null,null,null,null,null,null,null,null,null,null,null,null,null,null,null,null,null,null,null,null,null,null,null,null,null,null,null,null,"","","","","","","","","","","","","","","","","","","","","","",null,null,null,null,null,null,null,null,null,0,0,0,0,0,0,0,0,0,0,0,0,0,0,0,0,0,null,null,null,0]
["PERSONAS VIH (+)",0,0,null,null,null,null,null,null,null,null,null,null,null,null,null,null,null,null,null,null,null,null,null,null,null,null,null,null,null,null,null,null,null,null,null,null,null,null,null,null,null,null,null,null,null,null,null,null,null,null,null,null,null,null,null,null,null,null,null,null,null,null,null,null,null,null,null,null,null,null,null,null,null,null,null,null,null,"","","","","","","","","","","","","","","","","","","","","","",null,null,null,null,null,null,null,null,null,0,0,0,0,0,0,0,0,0,0,0,0,0,0,0,0,0,null,null,null,0]
["CONSULTANTE ITS AMBULATORIO (nivel1º y 2º)",0,0,null,null,null,null,null,null,null,null,null,null,null,null,null,null,null,null,null,null,null,null,null,null,null,null,null,null,null,null,null,null,null,null,null,null,null,null,null,null,null,null,null,null,null,null,null,null,null,null,null,null,null,null,null,null,null,null,null,null,null,null,null,null,null,null,null,null,null,null,null,null,null,null,null,null,null,"","","","","","","","","","","","","","","","","","","","","","",null,null,null,null,null,null,null,null,null,0,0,0,0,0,0,0,0,0,0,0,0,0,0,0,0,0,null,null,null,0]
["CONSULTANTE ITS HOSPITALARIO (nivel 3º y urgencia)",0,0,null,null,null,null,null,null,null,null,null,null,null,null,null,null,null,null,null,null,null,null,null,null,null,null,null,null,null,null,null,null,null,null,null,null,null,null,null,null,null,null,null,null,null,null,null,null,null,null,null,null,null,null,null,null,null,null,null,null,null,null,null,null,null,null,null,null,null,null,null,null,null,null,null,null,null,"","","","","","","","","","","","","","","","","","","","","","",null,null,null,null,null,null,null,null,null,0,0,0,0,0,0,0,0,0,0,0,0,0,0,0,0,0,null,null,null,0]
["VICTIMA DE VIOLENCIA SEXUAL",0,0,null,null,null,null,null,null,null,null,null,null,null,null,null,null,null,null,null,null,null,null,null,null,null,null,null,null,null,null,null,null,null,null,null,null,null,null,null,null,null,null,null,null,null,null,null,null,null,null,null,null,null,null,null,null,null,null,null,null,null,null,null,null,null,null,null,null,null,null,null,null,null,null,null,null,null,"","","","","","","","","","","","","","","","","","","","","","",null,null,null,null,null,null,null,null,null,0,0,0,0,0,0,0,0,0,0,0,0,0,0,0,0,0,null,null,null,0]
["OTROS",0,0,null,null,null,null,null,null,null,null,null,null,null,null,null,null,null,null,null,null,null,null,null,null,null,null,null,null,null,null,null,null,null,null,null,null,null,null,null,null,null,null,null,null,null,null,null,null,null,null,null,null,null,null,null,null,null,null,null,null,null,null,null,null,null,null,null,null,null,null,null,null,null,null,null,null,null,"","","","","","","","","","","","","","","","","","","","","","",null,null,null,null,null,null,null,null,null,0,0,0,0,0,0,0,0,0,0,0,0,0,0,0,0,0,null,null,null,0]
["SECCIÓN G: EXÁMENES  DE  VIH POR TECNICA VISUAL/RAPIDA Y GRUPOS DE USUARIOS (Uso exclusivo de establecimientos NO LABORATORIOS)"]
["GRUPOS DE USUARIOS POR INSTANCIA",null,"TOTAL",null,null,null,null,null,null,null,null,null,null,null,null,null,null,null,null,null,null,null,null,null,null,null,null,null,null,null,null,null,null,null,null,null,"POR SEXO",null,null,null,"TRANS",null,null,null,"Pueblos originarios",null,"Migrantes",null,"14-18 años"]
[null,null,null,null,"Menor de 12 meses",null,"12-24 meses",null,"3 a 4 años",null,"5 a 9 años",null,"10 a 14 años",null,"15 a 19 años",null,"20 a 24 años",null,"25 a 29 años",null,"30 a 34 años",null,"35 a 39 años",null,"40 a 44 años",null,"45 a 49 años",null,"50 a 54 años",null,"55 a 59 años",null,"60 a 64 años",null,"65 y Mas años",null,"Hombres",null,"Mujeres",null,"Femenino",null,"Masculino"]
[null,null,"Procesados","Confirmados positivos por ISP","Procesados","Confirmados positivos por ISP","Procesados","Confirmados positivos por ISP","Procesados","Confirmados positivos por ISP","Procesados","Confirmados positivos por ISP","Procesados","Confirmados positivos por ISP","Procesados","Confirmados positivos por ISP","Procesados","Confirmados positivos por ISP","Procesados","Confirmados positivos por ISP","Procesados","Confirmados positivos por ISP","Procesados","Confirmados positivos por ISP","Procesados","Confirmados positivos por ISP","Procesados","Confirmados positivos por ISP","Procesados","Confirmados positivos por ISP","Procesados","Confirmados positivos por ISP","Procesados","Confirmados positivos por ISP","Procesados","Confirmados positivos por ISP","Procesados","Confirmados positivos por ISP","Procesados","Confirmados positivos por ISP","Procesados","Confirmados positivos por ISP","Procesados","Confirmados positivos por ISP","Procesados","Confirmados positivos por ISP","Procesados","Confirmados positivos por ISP","Procesados","Confirmados positivos por ISP"]
["INTERIOR ESTABLECIMIENTO SALUD (INTRAMURO)","GESTANTES PRIMER EXAMEN",{"$f":"+M242+O242+Q242+S242+U242+W242+Y242+AA242+AC242","v":0},0,null,null,null,null,null,null,null,null,null,null,null,null,null,null,null,null,null,null,null,null,null,null,null,null,null,null,null,null,null,null,null,null,null,null,null,null,null,null,null,null,null,null,null,null,null,null,{"$f":"$CA242&$CB242&$CC242&$CD242&$CE242&$CF242&$CG242&$CH242&$CI242&$CJ242&$CK242&$CL242&$CM242&$CN242&$CO242&$CP242&$CQ242&$CR242&$CS242&$CT242&$CU242&$CV242&$CW242&$CX242&$CY242&$CZ242","v":""},null,null,null,null,null,null,null,null,null,null,null,null,null,null,null,null,null,null,null,null,null,null,null,null,null,null,null,{"$f":"IF(DA242=1,\"* El total de Confirmados Positivos por ISP NO DEBE ser mayor que el total de Procesados. \",\"\")","v":""},null,{"$f":"IF((AO242+AQ242)>C242,\"* El Total de Procesados Trans NO DEBE ser mayor al Total de Procesados. \",IF((AP242+AR242)>D242,\"* El Total de Confirmados Trans NO DEBE ser mayor al Total de Confirmados. \",\"\"))","v":""},{"$f":"IF(AS242>C242,\"* El Total de Pueblos Originarios Procesados NO DEBE ser mayor al Total de Procesados. \",IF(AT242>D242,\"* El Total de Pueblos Originarios Confirmados NO DEBE ser mayor al Total de Confirmados. \",\"\"))","v":""},{"$f":"IF(AU242>C242,\"* El Total de Migrantes Procesados NO DEBE ser mayor al Total de Procesados. \",IF(AV242>D242,\"* El Total deMigrantes Confirmados NO DEBE ser mayor al Total de Confirmados. \",\"\"))","v":""},{"$f":"IF((M242+O242)<AW242,\"* El Total de Procesados de 14-18 años NO DEBE ser mayor al Total de Procesados registrados en los grupos de edad 10 a 14 y 15 a 19 años. \",IF((N242+P242)<AX242,\"* El Total de Confirmados de 14-18 años NO DEBE ser mayor al Total de Confirmados registrados en los grupos de edad 10 a 14 y 15 a 19 años. \",\"\"))","v":""},{"$f":"IF(DG242=1,CONCATENATE(\"* Los exámenes positivos de \",$E$158,\" NO DEBEN ser mayor a los exámenes procesados de la misma edad. \"),\"\")","v":""},{"$f":"IF(DH242=1,CONCATENATE(\"* Los exámenes positivos de \",$G$158,\" NO DEBEN ser mayor a los exámenes procesados de la misma edad. \"),\"\")","v":""},{"$f":"IF(DI242=1,CONCATENATE(\"* Los exámenes positivos de \",$I$158,\" NO DEBEN ser mayor a los exámenes procesados de la misma edad. \"),\"\")","v":""},{"$f":"IF(DJ242=1,CONCATENATE(\"* Los exámenes positivos de \",$K$158,\" NO DEBEN ser mayor a los exámenes procesados de la misma edad. \"),\"\")","v":""},{"$f":"IF(DK242=1,CONCATENATE(\"* Los exámenes positivos de \",$M$158,\" NO DEBEN ser mayor a los exámenes procesados de la misma edad. \"),\"\")","v":""},{"$f":"IF(DL242=1,CONCATENATE(\"* Los exámenes positivos de \",$O$158,\" NO DEBEN ser mayor a los exámenes procesados de la misma edad. \"),\"\")","v":""},{"$f":"IF(DM242=1,CONCATENATE(\"* Los exámenes positivos de \",$Q$158,\" NO DEBEN ser mayor a los exámenes procesados de la misma edad. \"),\"\")","v":""},{"$f":"IF(DN242=1,CONCATENATE(\"* Los exámenes positivos de \",$S$158,\" NO DEBEN ser mayor a los exámenes procesados de la misma edad. \"),\"\")","v":""},{"$f":"IF(DO242=1,CONCATENATE(\"* Los exámenes positivos de \",$U$158,\" NO DEBEN ser mayor a los exámenes procesados de la misma edad. \"),\"\")","v":""},{"$f":"IF(DP242=1,CONCATENATE(\"* Los exámenes positivos de \",$W$158,\" NO DEBEN ser mayor a los exámenes procesados de la misma edad. \"),\"\")","v":""},{"$f":"IF(DQ242=1,CONCATENATE(\"* Los exámenes positivos de \",$Y$158,\" NO DEBEN ser mayor a los exámenes procesados de la misma edad. \"),\"\")","v":""},{"$f":"IF(DR242=1,CONCATENATE(\"* Los exámenes positivos de \",$AA$158,\" NO DEBEN ser mayor a los exámenes procesados de la misma edad. \"),\"\")","v":""},{"$f":"IF(DS242=1,CONCATENATE(\"* Los exámenes positivos de \",$AC$158,\" NO DEBEN ser mayor a los exámenes procesados de la misma edad. \"),\"\")","v":""},{"$f":"IF(DT242=1,CONCATENATE(\"* Los exámenes positivos de \",$AE$158,\" NO DEBEN ser mayor a los exámenes procesados de la misma edad. \"),\"\")","v":""},{"$f":"IF(DU242=1,CONCATENATE(\"* Los exámenes positivos de \",$AG$158,\" NO DEBEN ser mayor a los exámenes procesados de la misma edad. \"),\"\")","v":""},{"$f":"IF(DV242=1,CONCATENATE(\"* Los exámenes positivos de \",$AI$158,\" NO DEBEN ser mayor a los exámenes procesados de la misma edad. \"),\"\")","v":""},{"$f":"IF(DW242=1,\"* No olvide digitar la columna Procesados Trans y/o Pueblos Originarios y/o Migrantes (Digite Cero si no tiene). \",\"\")","v":""},{"$f":"IF(DX242=1,\"* No olvide digitar la columna Confirmados Trans y/o Pueblos Originarios y/o Migrantes (Digite Cero si no tiene). \",\"\")","v":""},null,null,{"$f":"IF(C242<D242,1,0)","v":0},null,{"$f":"IF(OR((AO242+AQ242)>C242,(AP242+AR242)>D242),1,0)","v":0},{"$f":"IF(OR(AS242>C242,AT242>D242),1,0)","v":0},{"$f":"IF(OR(AV242>D242,AU242>C242),1,0)","v":0},{"$f":"IF(OR((M242+O242)<AW242,(N242+P242)<AX242),1,0)","v":0},{"$f":"IF(E242<F242,1,0)","v":0},{"$f":"IF(G242<H242,1,0)","v":0},{"$f":"IF(I242<J242,1,0)","v":0},{"$f":"IF(K242<L242,1,0)","v":0},{"$f":"IF(M242<N242,1,0)","v":0},{"$f":"IF(O242<P242,1,0)","v":0},{"$f":"IF(Q242<R242,1,0)","v":0},{"$f":"IF(S242<T242,1,0)","v":0},{"$f":"IF(U242<V242,1,0)","v":0},{"$f":"IF(W242<X242,1,0)","v":0},{"$f":"IF(Y242<Z242,1,0)","v":0},{"$f":"IF(AA242<AB242,1,0)","v":0},{"$f":"IF(AC242<AD242,1,0)","v":0},{"$f":"IF(AE242<AF242,1,0)","v":0},{"$f":"IF(AG242<AH242,1,0)","v":0},{"$f":"IF(AI242<AJ242,1,0)","v":0},{"$f":"IF(AND(C242<>0,OR(AO242=\"\",AQ242=\"\",AS242=\"\",AU242=\"\")),1,0)","v":0},{"$f":"IF(AND(D242<>0,OR(AP242=\"\",AR242=\"\",AT242=\"\",AV242=\"\")),1,0)","v":0}]
[null,"GESTANTES SEGUNDO EXAMEN",0,0,null,null,null,null,null,null,null,null,null,null,null,null,null,null,null,null,null,null,null,null,null,null,null,null,null,null,null,null,null,null,null,null,null,null,null,null,null,null,null,null,null,null,null,null,null,null,"",null,null,null,null,null,null,null,null,null,null,null,null,null,null,null,null,null,null,null,null,null,null,null,null,null,null,null,"",null,"","","","","","","","","","","","","","","","","","","","","","",null,null,{"$f":"IF(C243<D243,1,0)","v":0},null,0,0,0,0,0,0,0,0,0,0,0,0,0,0,{"$f":"IF(Y243<Z243,1,0)","v":0},0,0,0,0,0,0,0]
[null,"MUJER EN TRABAJO DE PRE PARTO O PARTO",0,0,null,null,null,null,null,null,null,null,null,null,null,null,null,null,null,null,null,null,null,null,null,null,null,null,null,null,null,null,null,null,null,null,null,null,null,null,null,null,null,null,null,null,null,null,null,null,"",null,null,null,null,null,null,null,null,null,null,null,null,null,null,null,null,null,null,null,null,null,null,null,null,null,null,null,"",null,"","","","","","","","","","","","","","","","","","","","","","",null,null,0,null,0,0,0,0,0,0,0,0,0,0,0,0,0,0,0,0,0,0,0,0,0,0]
[null,"PERSONAS EN CONTROL POR COMERCIO SEXUAL",{"$f":"+O245+Q245+S245+U245+W245+Y245+AA245+AC245+AE245+AG245+AI245","v":0},{"$f":"+P245+R245+T245+V245+X245+Z245+AB245+AD245+AF245+AH245+AJ245","v":0},null,null,null,null,null,null,null,null,null,null,null,null,null,null,null,null,null,null,null,null,null,null,null,null,null,null,null,null,null,null,null,null,null,null,null,null,null,null,null,null,null,null,null,null,null,null,"",null,null,null,null,null,null,null,null,null,null,null,null,null,null,null,null,null,null,null,null,null,null,null,null,null,null,null,"",null,"","","","","","","","","","","","","","","","","","","","","","",null,null,0,null,0,0,0,0,0,0,0,0,0,0,0,0,0,0,0,0,0,0,0,0,0,0]
[null,"POR CONSULTA ITS",{"$f":"+E246+G246+I246+K246+M246+O246+Q246+S246+U246+W246+Y246+AA246+AC246+AE246+AG246+AI246","v":0},{"$f":"+F246+H246+J246+L246+N246+P246+R246+T246+V246+X246+Z246+AB246+AD246+AF246+AH246+AJ246","v":0},null,null,null,null,null,null,null,null,null,null,null,null,null,null,null,null,null,null,null,null,null,null,null,null,null,null,null,null,null,null,null,null,null,null,null,null,null,null,null,null,null,null,null,null,null,null,"",null,null,null,null,null,null,null,null,null,null,null,null,null,null,null,null,null,null,null,null,null,null,null,null,null,null,null,"",null,"","","","","","","","","","","","","","","","","","","","","","",null,null,0,null,0,0,0,0,0,0,0,0,0,0,0,0,0,0,0,0,0,0,0,0,0,0]
[null,"PERSONAS EN CONTROL DE REGULACIÓN FECUNDIDAD, GINECOLOGICO, CLIMATERIO",{"$f":"+M247+O247+Q247+S247+U247+W247+Y247+AA247+AC247+AE247+AG247+AI247","v":0},{"$f":"+N247+P247+R247+T247+V247+X247+Z247+AB247+AD247+AF247+AH247+AJ247","v":0},null,null,null,null,null,null,null,null,null,null,null,null,null,null,null,null,null,null,null,null,null,null,null,null,null,null,null,null,null,null,null,null,null,null,null,null,null,null,null,null,null,null,null,null,null,null,"",null,null,null,null,null,null,null,null,null,null,null,null,null,null,null,null,null,null,null,null,null,null,null,null,null,null,null,"",null,"","","","","","","","","","","","","","","","","","","","","","",null,null,0,null,0,0,0,0,0,0,0,0,0,0,0,0,0,0,0,0,0,0,0,0,0,0]
[null,"PERSONAS CON EMP",{"$f":"+O248+Q248+S248+U248+W248+Y248+AA248+AC248+AE248+AG248+AI248","v":0},{"$f":"+P248+R248+T248+V248+X248+Z248+AB248+AD248+AF248+AH248+AJ248","v":0},null,null,null,null,null,null,null,null,null,null,null,null,null,null,null,null,null,null,null,null,null,null,null,null,null,null,null,null,null,null,null,null,null,null,null,null,null,null,null,null,null,null,null,null,null,null,"",null,null,null,null,null,null,null,null,null,null,null,null,null,null,null,null,null,null,null,null,null,null,null,null,null,null,null,"",null,"","","","","","","","","","","","","","","","","","","","","","",null,null,0,null,0,0,0,0,0,0,0,0,0,0,0,0,0,0,0,0,0,0,0,0,0,0]
[null,"PERSONAS EN CONTROL DE SALUD SEGÚN CICLO VITAL",{"$f":"+E249+G249+I249+K249+M249+O249+Q249+S249+U249+W249+Y249+AA249+AC249+AE249+AG249+AI249","v":0},{"$f":"+F249+H249+J249+L249+N249+P249+R249+T249+V249+X249+Z249+AB249+AD249+AF249+AH249+AJ249","v":0},null,null,null,null,null,null,null,null,null,null,null,null,null,null,null,null,null,null,null,null,null,null,null,null,null,null,null,null,null,null,null,null,null,null,null,null,null,null,null,null,null,null,null,null,null,null,"",null,null,null,null,null,null,null,null,null,null,null,null,null,null,null,null,null,null,null,null,null,null,null,null,null,null,null,"",null,"","","","","","","","","","","","","","","","","","","","","","",null,null,0,null,0,0,0,0,0,0,0,0,0,0,0,0,0,0,0,0,0,0,0,0,0,0]
[null,"DONANTES DE ÓRGANOS Y/O TEJIDOS",{"$f":"+M250+O250+Q250+S250+U250+W250+Y250+AA250+AC250+AE250+AG250+AI250","v":0},{"$f":"+N250+P250+R250+T250+V250+X250+Z250+AB250+AD250+AF250+AH250+AJ250","v":0},null,null,null,null,null,null,null,null,null,null,null,null,null,null,null,null,null,null,null,null,null,null,null,null,null,null,null,null,null,null,null,null,null,null,null,null,null,null,null,null,null,null,null,null,null,null,"",null,null,null,null,null,null,null,null,null,null,null,null,null,null,null,null,null,null,null,null,null,null,null,null,null,null,null,"",null,"","","","","","","","","","","","","","","","","","","","","","",null,null,0,null,0,0,0,0,0,0,0,0,0,0,0,0,0,0,0,0,0,0,0,0,0,0]
[null,"PERSONA EN CONTROL POR TBC",{"$f":"+M251+O251+Q251+S251+U251+W251+Y251+AA251+AC251+AE251+AG251+AI251","v":0},0,null,null,null,null,null,null,null,null,null,null,null,null,null,null,null,null,null,null,null,null,null,null,null,null,null,null,null,null,null,null,null,null,null,null,null,null,null,null,null,null,null,null,null,null,null,null,"",null,null,null,null,null,null,null,null,null,null,null,null,null,null,null,null,null,null,null,null,null,null,null,null,null,null,null,"",null,"","","","","","","","","","","","","","","","","","","","","","",null,null,0,null,0,0,0,0,0,0,0,0,0,0,0,0,0,0,0,0,0,0,0,0,0,0]
[null,"VÍCTIMA DE VIOLENCIA SEXUAL",{"$f":"+E252+G252+I252+K252+M252+O252+Q252+S252+U252+W252+Y252+AA252+AC252+AE252+AG252+AI252","v":0},{"$f":"+F252+H252+J252+L252+N252+P252+R252+T252+V252+X252+Z252+AB252+AD252+AF252+AH252+AJ252","v":0},null,null,null,null,null,null,null,null,null,null,null,null,null,null,null,null,null,null,null,null,null,null,null,null,null,null,null,null,null,null,null,null,null,null,null,null,null,null,null,null,null,null,null,null,null,null,"",null,null,null,null,null,null,null,null,null,null,null,null,null,null,null,null,null,null,null,null,null,null,null,null,null,null,null,"",null,"","","","","","","","","","","","","","","","","","","","","","",null,null,0,null,0,0,0,0,0,0,0,0,0,0,0,0,0,0,0,0,0,0,0,0,0,0]
[null,"PAREJA SERODISCORDANTE",{"$f":"+O253+Q253+S253+U253+W253+Y253+AA253+AC253+AE253+AG253+AI253","v":0},{"$f":"+P253+R253+T253+V253+X253+Z253+AB253+AD253+AF253+AH253+AJ253","v":0},null,null,null,null,null,null,null,null,null,null,null,null,null,null,null,null,null,null,null,null,null,null,null,null,null,null,null,null,null,null,null,null,null,null,null,null,null,null,null,null,null,null,null,null,null,null,"",null,null,null,null,null,null,null,null,null,null,null,null,null,null,null,null,null,null,null,null,null,null,null,null,null,null,null,"",null,"","","","","","","","","","","","","","","","","","","","","","",null,null,0,null,0,0,0,0,0,0,0,0,0,0,0,0,0,0,0,0,0,0,0,0,0,0]
[null,"PAREJA DE GESTANTE VIH POSITIVO",{"$f":"+M254+O254+Q254+S254+U254+W254+Y254+AA254+AC254+AE254+AG254+AI254","v":0},{"$f":"+N254+P254+R254+T254+V254+X254+Z254+AB254+AD254+AF254+AH254+AJ254","v":0},null,null,null,null,null,null,null,null,null,null,null,null,null,null,null,null,null,null,null,null,null,null,null,null,null,null,null,null,null,null,null,null,null,null,null,null,null,null,null,null,null,null,null,null,null,null,"",null,null,null,null,null,null,null,null,null,null,null,null,null,null,null,null,null,null,null,null,null,null,null,null,null,null,null,"",null,"","","","","","","","","","","","","","","","","","","","","","",null,null,0,null,0,0,0,0,0,0,0,0,0,0,0,0,0,0,0,0,0,0,0,0,0,0]
[null,"PERSONAL DE SALUD EXPUESTO A ACCIDENTE CORTOPUNZANTE",{"$f":"+Q255+S255+U255+W255+Y255+AA255+AC255+AE255+AG255+AI255","v":0},{"$f":"+R255+T255+V255+X255+Z255+AB255+AD255+AF255+AH255+AJ255","v":0},null,null,null,null,null,null,null,null,null,null,null,null,null,null,null,null,null,null,null,null,null,null,null,null,null,null,null,null,null,null,null,null,null,null,null,null,null,null,null,null,null,null,null,null,null,null,"",null,null,null,null,null,null,null,null,null,null,null,null,null,null,null,null,null,null,null,null,null,null,null,null,null,null,null,"",null,"","","","","","","","","","","","","","","","","","","","","","",null,null,0,null,0,0,0,0,0,0,0,0,0,0,0,0,0,0,0,0,0,0,0,0,0,0]
[null,"PACIENTES FUENTE DE ACCIDENTE CORTOPUNZANTE",{"$f":"+M256+O256+Q256+S256+U256+W256+Y256+AA256+AC256+AE256+AG256+AI256","v":0},{"$f":"+N256+P256+R256+T256+V256+X256+Z256+AB256+AD256+AF256+AH256+AJ256","v":0},null,null,null,null,null,null,null,null,null,null,null,null,null,null,null,null,null,null,null,null,null,null,null,null,null,null,null,null,null,null,null,null,null,null,null,null,null,null,null,null,null,null,null,null,null,null,"",null,null,null,null,null,null,null,null,null,null,null,null,null,null,null,null,null,null,null,null,null,null,null,null,null,null,null,"",null,"","","","","","","","","","","","","","","","","","","","","","",null,null,0,null,0,0,0,0,0,0,0,0,0,0,0,0,0,0,0,0,0,0,0,0,0,0]
[null,"PERSONA EN CONTROL POR HEPATITIS B",{"$f":"+M257+O257+Q257+S257+U257+W257+Y257+AA257+AC257+AE257+AG257+AI257","v":0},0,null,null,null,null,null,null,null,null,null,null,null,null,null,null,null,null,null,null,null,null,null,null,null,null,null,null,null,null,null,null,null,null,null,null,null,null,null,null,null,null,null,null,null,null,null,null,"",null,null,null,null,null,null,null,null,null,null,null,null,null,null,null,null,null,null,null,null,null,null,null,null,null,null,null,"",null,"","","","","","","","","","","","","","","","","","","","","","",null,null,0,null,0,0,0,0,0,0,0,0,0,0,0,0,0,0,0,0,0,0,0,0,0,0]
[null,"PERSONA EN CONTROL POR HEPATITIS C",{"$f":"+M258+O258+Q258+S258+U258+W258+Y258+AA258+AC258+AE258+AG258+AI258","v":0},0,null,null,null,null,null,null,null,null,null,null,null,null,null,null,null,null,null,null,null,null,null,null,null,null,null,null,null,null,null,null,null,null,null,null,null,null,null,null,null,null,null,null,null,null,null,null,"",null,null,null,null,null,null,null,null,null,null,null,null,null,null,null,null,null,null,null,null,null,null,null,null,null,null,null,"",null,"","","","","","","","","","","","","","","","","","","","","","",null,null,0,null,0,0,0,0,0,0,0,0,0,0,0,0,0,0,0,0,0,0,0,0,{"$f":"IF(AND(C258<>0,OR(AO258=\"\",AQ258=\"\",AS258=\"\",AU258=\"\")),1,0)","v":0},0]
[null,"CONSULTANTES POR MORBILIDAD",{"$f":"+M259+O259+Q259+S259+U259+W259+Y259+AA259+AC259+AE259+AG259+AI259","v":0},0,null,null,null,null,null,null,null,null,null,null,null,null,null,null,null,null,null,null,null,null,null,null,null,null,null,null,null,null,null,null,null,null,null,null,null,null,null,null,null,null,null,null,null,null,null,null,"",null,null,null,null,null,null,null,null,null,null,null,null,null,null,null,null,null,null,null,null,null,null,null,null,null,null,null,"",null,"","","","","","","","","","","","","","","","","","","","","","",null,null,0,null,0,0,0,0,0,0,0,0,0,0,0,0,0,0,0,0,0,0,0,0,0,0]
[null,"POR CONSULTA ESPONTÁNEA",{"$f":"+M260+O260+Q260+S260+U260+W260+Y260+AA260+AC260+AE260+AG260+AI260","v":0},{"$f":"+N260+P260+R260+T260+V260+X260+Z260+AB260+AD260+AF260+AH260+AJ260","v":0},null,null,null,null,null,null,null,null,null,null,null,null,null,null,null,null,null,null,null,null,null,null,null,null,null,null,null,null,null,null,null,null,null,null,null,null,null,null,null,null,null,null,null,null,null,null,"",null,null,null,null,null,null,null,null,null,null,null,null,null,null,null,null,null,null,null,null,null,null,null,null,null,null,null,"",null,"","","","","","","","","","","","","","","","","","","","","","",null,null,0,null,0,0,0,0,0,0,0,0,0,0,0,0,0,0,0,0,0,0,0,0,0,0]
["EXTERIOR ESTABLECIMIENTO DE SALUD (EXTRAMURO)","CENTROS PENITENCIARIOS",{"$f":"+E261+G261+I261+K261+M261+O261+Q261+S261+U261+W261+Y261+AA261+AC261+AE261+AG261+AI261","v":0},0,null,null,null,null,null,null,null,null,null,null,null,null,null,null,null,null,null,null,null,null,null,null,null,null,null,null,null,null,null,null,null,null,null,null,null,null,null,null,null,null,null,null,null,null,null,null,"",null,null,null,null,null,null,null,null,null,null,null,null,null,null,null,null,null,null,null,null,null,null,null,null,null,null,null,"",null,"","","","","","","","","","","","","","","","","","","","","","",null,null,0,null,0,0,0,0,0,0,0,0,0,0,0,0,0,0,0,0,0,0,0,0,0,0]
[null,"CENTROS SENAME",0,0,null,null,null,null,null,null,null,null,null,null,null,null,null,null,null,null,null,null,null,null,null,null,null,null,null,null,null,null,null,null,null,null,null,null,null,null,null,null,null,null,null,null,null,null,null,null,"",null,null,null,null,null,null,null,null,null,null,null,null,null,null,null,null,null,null,null,null,null,null,null,null,null,null,null,"",null,"","","","","","","","","","","","","","","","","","","","","","",null,null,0,null,0,0,0,0,0,0,0,0,0,0,0,0,0,0,0,0,0,0,0,0,0,0]
[null,"CENTROS EDUCACIONALES",0,0,null,null,null,null,null,null,null,null,null,null,null,null,null,null,null,null,null,null,null,null,null,null,null,null,null,null,null,null,null,null,null,null,null,null,null,null,null,null,null,null,null,null,null,null,null,null,"",null,null,null,null,null,null,null,null,null,null,null,null,null,null,null,null,null,null,null,null,null,null,null,null,null,null,null,"",null,"","","","","","","","","","","","","","","","","","","","","","",null,null,0,null,0,0,0,0,0,0,0,0,0,0,0,0,0,0,0,0,0,0,0,0,0,0]
[null,"OTROS ",0,0,null,null,null,null,null,null,null,null,null,null,null,null,null,null,null,null,null,null,null,null,null,null,null,null,null,null,null,null,null,null,null,null,null,null,null,null,null,null,null,null,null,null,null,null,null,null,"",null,null,null,null,null,null,null,null,null,null,null,null,null,null,null,null,null,null,null,null,null,null,null,null,null,null,null,"",null,"","","","","","","","","","","","","","","","","","","","","","",null,null,0,null,0,0,0,0,0,0,0,0,0,0,0,0,0,0,0,0,0,0,0,0,0,0]
[]
[]
[]
[]
[]
[]
[]
[]
[]
[]
[]
[]
[]
[]
[]
[]
[]
[]
[{"$f":"SUM(B12:B29, B34:B51, B56:B73, B78:B95, B100:B117, B122:B139,C143:P147,C151:P155,C160:D182,C187:D209,B212:B215, B220:B226, B231:B237,C242:C264)","v":0},{"$f":"SUM(DA12:DZ264)","v":0}]

{"sheet":"A19a","index":11,"n_rows":194,"n_cols":88,"rows_kept":194,"cut":false,"hidden":false,"merged":[[5,0,5,19],[7,0,7,1],[9,0,12,0],[9,1,12,1],[9,2,11,4],[9,5,10,38],[11,21,11,22],[11,37,11,38],[11,25,11,26],[11,27,11,28],[11,29,11,30],[11,31,11,32],[11,33,11,34],[9,42,12,42],[9,43,12,43],[9,44,12,44],[9,45,12,45],[9,39,12,39],[9,40,11,41],[64,0,67,0],[11,35,11,36],[11,13,11,14],[11,15,11,16],[11,17,11,18],[11,23,11,24],[13,0,23,0],[24,0,34,0],[35,0,45,0],[46,0,56,0],[57,0,63,0],[11,5,11,6],[11,7,11,8],[11,9,11,10],[11,11,11,12],[11,19,11,20],[90,43,92,43],[91,5,91,6],[91,7,91,8],[91,9,91,10],[91,11,91,12],[91,35,91,36],[91,23,91,24],[90,5,90,38],[91,31,91,32],[91,33,91,34],[90,39,91,40],[68,0,74,0],[75,0,79,0],[81,0,88,0],[90,0,92,0],[90,42,92,42],[90,2,91,4],[90,41,92,41],[91,13,91,14],[91,15,91,16],[91,17,91,18],[91,19,91,20],[91,21,91,22],[91,37,91,38],[91,27,91,28],[91,29,91,30],[91,25,91,26],[93,0,98,0],[99,0,104,0],[106,0,115,0],[117,0,119,0],[117,2,118,4],[90,1,92,1],[118,29,118,30],[118,19,118,20],[118,15,118,16],[118,17,118,18],[118,25,118,26],[118,21,118,22],[117,5,117,36],[118,5,118,6],[118,7,118,8],[118,9,118,10],[118,31,118,32],[118,33,118,34],[118,11,118,12],[127,0,130,0],[118,13,118,14],[139,0,142,0],[118,35,118,36],[120,0,122,0],[125,0,126,0],[125,1,126,1],[125,2,126,2],[125,3,125,9],[125,10,126,10],[125,11,126,11],[118,23,118,24],[131,0,134,0],[135,0,138,0],[118,27,118,28]]}
["SERVICIO DE SALUD"]
[{"$f":"CONCATENATE(\"COMUNA: \",NOMBRE!B2,\" - \",\"( \",NOMBRE!C2,NOMBRE!D2,NOMBRE!E2,NOMBRE!F2,NOMBRE!G2,\" )\")","v":"COMUNA:  - (  )"}]
[{"$f":"CONCATENATE(\"ESTABLECIMIENTO/ESTRATEGIA: \",NOMBRE!B3,\" - \",\"( \",NOMBRE!C3,NOMBRE!D3,NOMBRE!E3,NOMBRE!F3,NOMBRE!G3,NOMBRE!H3,\" )\")","v":"ESTABLECIMIENTO/ESTRATEGIA:  - (  )"}]
[{"$f":"CONCATENATE(\"MES: \",NOMBRE!B6,\" - \",\"( \",NOMBRE!C6,NOMBRE!D6,\" )\")","v":"MES:  - (  )"}]
[{"$f":"CONCATENATE(\"AÑO: \",NOMBRE!B7)","v":"AÑO: 2020"}]
["REM-19a.   ACTIVIDADES DE PROMOCIÓN Y PREVENCIÓN DE LA SALUD"]
[]
["SECCIÓN A: CONSEJERÍAS"]
["SECCIÓN A.1: CONSEJERÍAS INDIVIDUALES"]
["ACTIVIDADES Y ÁREAS TEMÁTICAS","PROFESIONAL","TOTAL              ",null,null,"GRUPOS DE EDAD (en años)",null,null,null,null,null,null,null,null,null,null,null,null,null,null,null,null,null,null,null,null,null,null,null,null,null,null,null,null,null,null,null,null,null,"Espacios Amigables / adolescentes","TRANS",null,"Pueblos Originarios","Migrantes","14-18 años","Niños, Niñas, Adolescentes y Jóvenes Población SENAME"]
[]
[null,null,null,null,null,"0 - 4",null,"5 - 9",null,"10 - 14",null,"15-19 ",null,"20-24 ",null,"25-29 ",null,"30-34 ",null,"35-39",null,"40-44 ",null,"45-49 ",null,"50-54 ",null,"55-59",null,"60-64 ",null,"65-69 ",null,"70-74 ",null,"75- 79",null,"80 y mas"]
[null,null,"AMBOS SEXOS","HOMBRES","MUJERES","HOMBRES","MUJERES","HOMBRES","MUJERES","HOMBRES","MUJERES","HOMBRES","MUJERES","HOMBRES","MUJERES","HOMBRES","MUJERES","HOMBRES","MUJERES","HOMBRES","MUJERES","HOMBRES","MUJERES","HOMBRES","MUJERES","HOMBRES","MUJERES","HOMBRES","MUJERES","HOMBRES","MUJERES","HOMBRES","MUJERES","HOMBRES","MUJERES","HOMBRES","MUJERES","HOMBRES","MUJERES",null,"Masculino","Femenino"]
["ACTIVIDAD FÍSICA","MÉDICO",{"$f":"SUM(D14+E14)","v":0},{"$f":"SUM(F14+H14+J14+L14+N14+P14+R14+T14+V14+X14+Z14+AB14+AD14+AF14+AH14+AJ14+AL14)","v":0},{"$f":"SUM(G14+I14+K14+M14+O14+Q14+S14+U14+W14+Y14+AA14+AC14+AE14+AG14+AI14+AK14+AM14)","v":0},null,null,null,null,null,null,null,null,null,null,null,null,null,null,null,null,null,null,null,null,null,null,null,null,null,null,null,null,null,null,null,null,null,null,null,null,null,null,null,null,null,{"$f":"$CA14&$CB14&$CC14&$CD14","v":""},null,null,null,null,null,null,null,null,null,null,null,null,null,null,null,null,null,null,null,null,null,null,null,null,null,null,null,null,null,null,null,{"$f":"IF(CG14=1,\"* No olvide digitar la columna Trans y/o Pueblos Originarios y/o Migrantes y/o Población SENAME (Digite Cero si no tiene). \",\"\")","v":""},{"$f":"IF(CH14=1,\"* El número de Trans y/o Pueblos Originarios y/o Migrantes y/o Población SENAME NO DEBE ser mayor que el Total. \",\"\")","v":""},{"$f":"IF(CI14=1,\"* Las consejerías realizadas en Espacios amigables NO DEBEN ser mayor al Total. \",\"\")","v":""},{"$f":"IF(CJ14=1,\"* La columna 14-18 AÑOS no puede ser mayor al total por grupo edad de 10 a 19 años. \",\"\")","v":""},null,null,{"$f":"IF(AND(C14<>0,OR(AO14=\"\",AP14=\"\",AQ14=\"\",AR14=\"\",AT14=\"\")),1,0)","v":0},{"$f":"IF(OR(C14<(AO14+AP14),C14<AQ14,C14<AR14,C14<AT14),1,0)","v":0},{"$f":"IF(C14<AN14,1,0)","v":0},{"$f":"IF((J14+K14+L14+M14)<AS14,1,0)","v":0}]
[null,"ENFERMERA /O",0,0,0,null,null,null,null,null,null,null,null,null,null,null,null,null,null,null,null,null,null,null,null,null,null,null,null,null,null,null,null,null,null,null,null,null,null,null,null,null,null,null,null,null,"",null,null,null,null,null,null,null,null,null,null,null,null,null,null,null,null,null,null,null,null,null,null,null,null,null,null,null,null,null,null,null,"","","","",null,null,0,0,0,0]
[null,"MATRONA /ÓN",0,0,0,null,null,null,null,null,null,null,null,null,null,null,null,null,null,null,null,null,null,null,null,null,null,null,null,null,null,null,null,null,null,null,null,null,null,null,null,null,null,null,null,null,"",null,null,null,null,null,null,null,null,null,null,null,null,null,null,null,null,null,null,null,null,null,null,null,null,null,null,null,null,null,null,null,"","","","",null,null,0,0,0,0]
[null,"NUTRICIONISTA",0,0,0,null,null,null,null,null,null,null,null,null,null,null,null,null,null,null,null,null,null,null,null,null,null,null,null,null,null,null,null,null,null,null,null,null,null,null,null,null,null,null,null,null,"",null,null,null,null,null,null,null,null,null,null,null,null,null,null,null,null,null,null,null,null,null,null,null,null,null,null,null,null,null,null,null,"","","","",null,null,0,0,0,0]
[null,"ASISTENTE SOCIAL",0,0,0,null,null,null,null,null,null,null,null,null,null,null,null,null,null,null,null,null,null,null,null,null,null,null,null,null,null,null,null,null,null,null,null,null,null,null,null,null,null,null,null,null,"",null,null,null,null,null,null,null,null,null,null,null,null,null,null,null,null,null,null,null,null,null,null,null,null,null,null,null,null,null,null,null,"","","","",null,null,0,0,0,0]
[null,"PSICÓLOGO /A",0,0,0,null,null,null,null,null,null,null,null,null,null,null,null,null,null,null,null,null,null,null,null,null,null,null,null,null,null,null,null,null,null,null,null,null,null,null,null,null,null,null,null,null,"",null,null,null,null,null,null,null,null,null,null,null,null,null,null,null,null,null,null,null,null,null,null,null,null,null,null,null,null,null,null,null,"","","","",null,null,0,0,0,0]
[null,"KINESIÓLOGO",0,0,0,null,null,null,null,null,null,null,null,null,null,null,null,null,null,null,null,null,null,null,null,null,null,null,null,null,null,null,null,null,null,null,null,null,null,null,null,null,null,null,null,null,"",null,null,null,null,null,null,null,null,null,null,null,null,null,null,null,null,null,null,null,null,null,null,null,null,null,null,null,null,null,null,null,"","","","",null,null,0,0,0,0]
[null,"TERAPEUTA OCUPACIONAL",0,0,0,null,null,null,null,null,null,null,null,null,null,null,null,null,null,null,null,null,null,null,null,null,null,null,null,null,null,null,null,null,null,null,null,null,null,null,null,null,null,null,null,null,"",null,null,null,null,null,null,null,null,null,null,null,null,null,null,null,null,null,null,null,null,null,null,null,null,null,null,null,null,null,null,null,"","","","",null,null,0,0,0,0]
[null,"OTRO PROFESIONAL",0,0,0,null,null,null,null,null,null,null,null,null,null,null,null,null,null,null,null,null,null,null,null,null,null,null,null,null,null,null,null,null,null,null,null,null,null,null,null,null,null,null,null,null,"",null,null,null,null,null,null,null,null,null,null,null,null,null,null,null,null,null,null,null,null,null,null,null,null,null,null,null,null,null,null,null,"","","","",null,null,0,0,0,0]
[null,"FACILITADOR/A INTERCULTURAL",0,0,0,null,null,null,null,null,null,null,null,null,null,null,null,null,null,null,null,null,null,null,null,null,null,null,null,null,null,null,null,null,null,null,null,null,null,null,null,null,null,null,null,null,"",null,null,null,null,null,null,null,null,null,null,null,null,null,null,null,null,null,null,null,null,null,null,null,null,null,null,null,null,null,null,null,"","","","",null,null,0,0,0,0]
[null,"TÉCNICO PARAMÉDICO",0,0,0,null,null,null,null,null,null,null,null,null,null,null,null,null,null,null,null,null,null,null,null,null,null,null,null,null,null,null,null,null,null,null,null,null,null,null,null,null,null,null,null,null,"",null,null,null,null,null,null,null,null,null,null,null,null,null,null,null,null,null,null,null,null,null,null,null,null,null,null,null,null,null,null,null,"","","","",null,null,0,0,0,0]
["ALIMENTACIÓN SALUDABLE","MÉDICO",0,0,0,null,null,null,null,null,null,null,null,null,null,null,null,null,null,null,null,null,null,null,null,null,null,null,null,null,null,null,null,null,null,null,null,null,null,null,null,null,null,null,null,null,"",null,null,null,null,null,null,null,null,null,null,null,null,null,null,null,null,null,null,null,null,null,null,null,null,null,null,null,null,null,null,null,"","","","",null,null,0,0,0,0]
[null,"ENFERMERA /O",0,0,0,null,null,null,null,null,null,null,null,null,null,null,null,null,null,null,null,null,null,null,null,null,null,null,null,null,null,null,null,null,null,null,null,null,null,null,null,null,null,null,null,null,"",null,null,null,null,null,null,null,null,null,null,null,null,null,null,null,null,null,null,null,null,null,null,null,null,null,null,null,null,null,null,null,"","","","",null,null,0,0,0,0]
[null,"MATRONA /ÓN",0,0,0,null,null,null,null,null,null,null,null,null,null,null,null,null,null,null,null,null,null,null,null,null,null,null,null,null,null,null,null,null,null,null,null,null,null,null,null,null,null,null,null,null,"",null,null,null,null,null,null,null,null,null,null,null,null,null,null,null,null,null,null,null,null,null,null,null,null,null,null,null,null,null,null,null,"","","","",null,null,0,0,0,0]
[null,"NUTRICIONISTA",0,0,0,null,null,null,null,null,null,null,null,null,null,null,null,null,null,null,null,null,null,null,null,null,null,null,null,null,null,null,null,null,null,null,null,null,null,null,null,null,null,null,null,null,"",null,null,null,null,null,null,null,null,null,null,null,null,null,null,null,null,null,null,null,null,null,null,null,null,null,null,null,null,null,null,null,"","","","",null,null,0,0,0,0]
[null,"ASISTENTE SOCIAL",0,0,0,null,null,null,null,null,null,null,null,null,null,null,null,null,null,null,null,null,null,null,null,null,null,null,null,null,null,null,null,null,null,null,null,null,null,null,null,null,null,null,null,null,"",null,null,null,null,null,null,null,null,null,null,null,null,null,null,null,null,null,null,null,null,null,null,null,null,null,null,null,null,null,null,null,"","","","",null,null,0,0,0,0]
[null,"PSICÓLOGO /A",0,0,0,null,null,null,null,null,null,null,null,null,null,null,null,null,null,null,null,null,null,null,null,null,null,null,null,null,null,null,null,null,null,null,null,null,null,null,null,null,null,null,null,null,"",null,null,null,null,null,null,null,null,null,null,null,null,null,null,null,null,null,null,null,null,null,null,null,null,null,null,null,null,null,null,null,"","","","",null,null,0,0,0,0]
[null,"KINESIÓLOGO",0,0,0,null,null,null,null,null,null,null,null,null,null,null,null,null,null,null,null,null,null,null,null,null,null,null,null,null,null,null,null,null,null,null,null,null,null,null,null,null,null,null,null,null,"",null,null,null,null,null,null,null,null,null,null,null,null,null,null,null,null,null,null,null,null,null,null,null,null,null,null,null,null,null,null,null,"","","","",null,null,0,0,0,0]
[null,"TERAPEUTA OCUPACIONAL",0,0,0,null,null,null,null,null,null,null,null,null,null,null,null,null,null,null,null,null,null,null,null,null,null,null,null,null,null,null,null,null,null,null,null,null,null,null,null,null,null,null,null,null,"",null,null,null,null,null,null,null,null,null,null,null,null,null,null,null,null,null,null,null,null,null,null,null,null,null,null,null,null,null,null,null,"","","","",null,null,0,0,0,0]
[null,"OTRO PROFESIONAL",0,0,0,null,null,null,null,null,null,null,null,null,null,null,null,null,null,null,null,null,null,null,null,null,null,null,null,null,null,null,null,null,null,null,null,null,null,null,null,null,null,null,null,null,"",null,null,null,null,null,null,null,null,null,null,null,null,null,null,null,null,null,null,null,null,null,null,null,null,null,null,null,null,null,null,null,"","","","",null,null,0,0,0,0]
[null,"FACILITADOR/A INTERCULTURAL",0,0,0,null,null,null,null,null,null,null,null,null,null,null,null,null,null,null,null,null,null,null,null,null,null,null,null,null,null,null,null,null,null,null,null,null,null,null,null,null,null,null,null,null,"",null,null,null,null,null,null,null,null,null,null,null,null,null,null,null,null,null,null,null,null,null,null,null,null,null,null,null,null,null,null,null,"","","","",null,null,0,0,0,0]
[null,"TÉCNICO PARAMÉDICO",0,0,0,null,null,null,null,null,null,null,null,null,null,null,null,null,null,null,null,null,null,null,null,null,null,null,null,null,null,null,null,null,null,null,null,null,null,null,null,null,null,null,null,null,"",null,null,null,null,null,null,null,null,null,null,null,null,null,null,null,null,null,null,null,null,null,null,null,null,null,null,null,null,null,null,null,"","","","",null,null,0,0,0,0]
["TABAQUISMO","MÉDICO",0,0,0,null,null,null,null,null,null,null,null,null,null,null,null,null,null,null,null,null,null,null,null,null,null,null,null,null,null,null,null,null,null,null,null,null,null,null,null,null,null,null,null,null,"",null,null,null,null,null,null,null,null,null,null,null,null,null,null,null,null,null,null,null,null,null,null,null,null,null,null,null,null,null,null,null,"","","","",null,null,0,0,0,0]
[null,"ENFERMERA /O",0,0,0,null,null,null,null,null,null,null,null,null,null,null,null,null,null,null,null,null,null,null,null,null,null,null,null,null,null,null,null,null,null,null,null,null,null,null,null,null,null,null,null,null,"",null,null,null,null,null,null,null,null,null,null,null,null,null,null,null,null,null,null,null,null,null,null,null,null,null,null,null,null,null,null,null,"","","","",null,null,0,0,0,0]
[null,"MATRONA /ÓN",0,0,0,null,null,null,null,null,null,null,null,null,null,null,null,null,null,null,null,null,null,null,null,null,null,null,null,null,null,null,null,null,null,null,null,null,null,null,null,null,null,null,null,null,"",null,null,null,null,null,null,null,null,null,null,null,null,null,null,null,null,null,null,null,null,null,null,null,null,null,null,null,null,null,null,null,"","","","",null,null,0,0,0,0]
[null,"NUTRICIONISTA",0,0,0,null,null,null,null,null,null,null,null,null,null,null,null,null,null,null,null,null,null,null,null,null,null,null,null,null,null,null,null,null,null,null,null,null,null,null,null,null,null,null,null,null,"",null,null,null,null,null,null,null,null,null,null,null,null,null,null,null,null,null,null,null,null,null,null,null,null,null,null,null,null,null,null,null,"","","","",null,null,0,0,0,0]
[null,"ASISTENTE SOCIAL",0,0,0,null,null,null,null,null,null,null,null,null,null,null,null,null,null,null,null,null,null,null,null,null,null,null,null,null,null,null,null,null,null,null,null,null,null,null,null,null,null,null,null,null,"",null,null,null,null,null,null,null,null,null,null,null,null,null,null,null,null,null,null,null,null,null,null,null,null,null,null,null,null,null,null,null,"","","","",null,null,0,0,0,0]
[null,"PSICÓLOGO /A",0,0,0,null,null,null,null,null,null,null,null,null,null,null,null,null,null,null,null,null,null,null,null,null,null,null,null,null,null,null,null,null,null,null,null,null,null,null,null,null,null,null,null,null,"",null,null,null,null,null,null,null,null,null,null,null,null,null,null,null,null,null,null,null,null,null,null,null,null,null,null,null,null,null,null,null,"","","","",null,null,0,0,0,0]
[null,"KINESIÓLOGO",0,0,0,null,null,null,null,null,null,null,null,null,null,null,null,null,null,null,null,null,null,null,null,null,null,null,null,null,null,null,null,null,null,null,null,null,null,null,null,null,null,null,null,null,"",null,null,null,null,null,null,null,null,null,null,null,null,null,null,null,null,null,null,null,null,null,null,null,null,null,null,null,null,null,null,null,"","","","",null,null,0,0,0,0]
[null,"TERAPEUTA OCUPACIONAL",0,0,0,null,null,null,null,null,null,null,null,null,null,null,null,null,null,null,null,null,null,null,null,null,null,null,null,null,null,null,null,null,null,null,null,null,null,null,null,null,null,null,null,null,"",null,null,null,null,null,null,null,null,null,null,null,null,null,null,null,null,null,null,null,null,null,null,null,null,null,null,null,null,null,null,null,"","","","",null,null,0,0,0,0]
[null,"OTRO PROFESIONAL",0,0,0,null,null,null,null,null,null,null,null,null,null,null,null,null,null,null,null,null,null,null,null,null,null,null,null,null,null,null,null,null,null,null,null,null,null,null,null,null,null,null,null,null,"",null,null,null,null,null,null,null,null,null,null,null,null,null,null,null,null,null,null,null,null,null,null,null,null,null,null,null,null,null,null,null,"","","","",null,null,0,0,0,0]
[null,"FACILITADOR/A INTERCULTURAL",0,0,0,null,null,null,null,null,null,null,null,null,null,null,null,null,null,null,null,null,null,null,null,null,null,null,null,null,null,null,null,null,null,null,null,null,null,null,null,null,null,null,null,null,"",null,null,null,null,null,null,null,null,null,null,null,null,null,null,null,null,null,null,null,null,null,null,null,null,null,null,null,null,null,null,null,"","","","",null,null,0,0,0,0]
[null,"TÉCNICO PARAMÉDICO",{"$f":"SUM(D46+E46)","v":0},{"$f":"SUM(F46+H46+J46+L46+N46+P46+R46+T46+V46+X46+Z46+AB46+AD46+AF46+AH46+AJ46+AL46)","v":0},{"$f":"SUM(G46+I46+K46+M46+O46+Q46+S46+U46+W46+Y46+AA46+AC46+AE46+AG46+AI46+AK46+AM46)","v":0},null,null,null,null,null,null,null,null,null,null,null,null,null,null,null,null,null,null,null,null,null,null,null,null,null,null,null,null,null,null,null,null,null,null,null,null,null,null,null,null,null,{"$f":"$CA46&$CB46&$CC46&$CD46","v":""},null,null,null,null,null,null,null,null,null,null,null,null,null,null,null,null,null,null,null,null,null,null,null,null,null,null,null,null,null,null,null,{"$f":"IF(CG46=1,\"* No olvide digitar la columna Trans y/o Pueblos Originarios y/o Migrantes y/o Población SENAME (Digite Cero si no tiene). \",\"\")","v":""},{"$f":"IF(CH46=1,\"* El número de Trans y/o Pueblos Originarios y/o Migrantes y/o Población SENAME NO DEBE ser mayor que el Total. \",\"\")","v":""},{"$f":"IF(CI46=1,\"* Las consejerías realizadas en Espacios amigables NO DEBEN ser mayor al Total. \",\"\")","v":""},{"$f":"IF(CJ46=1,\"* La columna 14-18 AÑOS no puede ser mayor al total por grupo edad de 10 a 19 años. \",\"\")","v":""},null,null,{"$f":"IF(AND(C46<>0,OR(AO46=\"\",AP46=\"\",AQ46=\"\",AR46=\"\",AT46=\"\")),1,0)","v":0},{"$f":"IF(OR(C46<(AO46+AP46),C46<AQ46,C46<AR46,C46<AT46),1,0)","v":0},{"$f":"IF(C46<AN46,1,0)","v":0},{"$f":"IF((J46+K46+L46+M46)<AS46,1,0)","v":0}]
["CONSUMO DE DROGAS","MÉDICO",0,0,0,null,null,null,null,null,null,null,null,null,null,null,null,null,null,null,null,null,null,null,null,null,null,null,null,null,null,null,null,null,null,null,null,null,null,null,null,null,null,null,null,null,"",null,null,null,null,null,null,null,null,null,null,null,null,null,null,null,null,null,null,null,null,null,null,null,null,null,null,null,null,null,null,null,"","","","",null,null,0,0,0,0]
[null,"ENFERMERA /O",0,0,0,null,null,null,null,null,null,null,null,null,null,null,null,null,null,null,null,null,null,null,null,null,null,null,null,null,null,null,null,null,null,null,null,null,null,null,null,null,null,null,null,null,"",null,null,null,null,null,null,null,null,null,null,null,null,null,null,null,null,null,null,null,null,null,null,null,null,null,null,null,null,null,null,null,"","","","",null,null,0,0,0,0]
[null,"MATRONA /ÓN",0,0,0,null,null,null,null,null,null,null,null,null,null,null,null,null,null,null,null,null,null,null,null,null,null,null,null,null,null,null,null,null,null,null,null,null,null,null,null,null,null,null,null,null,"",null,null,null,null,null,null,null,null,null,null,null,null,null,null,null,null,null,null,null,null,null,null,null,null,null,null,null,null,null,null,null,"","","","",null,null,0,0,0,0]
[null,"NUTRICIONISTA",0,0,0,null,null,null,null,null,null,null,null,null,null,null,null,null,null,null,null,null,null,null,null,null,null,null,null,null,null,null,null,null,null,null,null,null,null,null,null,null,null,null,null,null,"",null,null,null,null,null,null,null,null,null,null,null,null,null,null,null,null,null,null,null,null,null,null,null,null,null,null,null,null,null,null,null,"","","","",null,null,0,0,0,0]
[null,"ASISTENTE SOCIAL",0,0,0,null,null,null,null,null,null,null,null,null,null,null,null,null,null,null,null,null,null,null,null,null,null,null,null,null,null,null,null,null,null,null,null,null,null,null,null,null,null,null,null,null,"",null,null,null,null,null,null,null,null,null,null,null,null,null,null,null,null,null,null,null,null,null,null,null,null,null,null,null,null,null,null,null,"","","","",null,null,0,0,0,0]
[null,"PSICÓLOGO /A",0,0,0,null,null,null,null,null,null,null,null,null,null,null,null,null,null,null,null,null,null,null,null,null,null,null,null,null,null,null,null,null,null,null,null,null,null,null,null,null,null,null,null,null,"",null,null,null,null,null,null,null,null,null,null,null,null,null,null,null,null,null,null,null,null,null,null,null,null,null,null,null,null,null,null,null,"","","","",null,null,0,0,0,0]
[null,"KINESIÓLOGO",0,0,0,null,null,null,null,null,null,null,null,null,null,null,null,null,null,null,null,null,null,null,null,null,null,null,null,null,null,null,null,null,null,null,null,null,null,null,null,null,null,null,null,null,"",null,null,null,null,null,null,null,null,null,null,null,null,null,null,null,null,null,null,null,null,null,null,null,null,null,null,null,null,null,null,null,"","","","",null,null,0,0,0,0]
[null,"TERAPEUTA OCUPACIONAL",0,0,0,null,null,null,null,null,null,null,null,null,null,null,null,null,null,null,null,null,null,null,null,null,null,null,null,null,null,null,null,null,null,null,null,null,null,null,null,null,null,null,null,null,"",null,null,null,null,null,null,null,null,null,null,null,null,null,null,null,null,null,null,null,null,null,null,null,null,null,null,null,null,null,null,null,"","","","",null,null,0,0,0,0]
[null,"OTRO PROFESIONAL",0,0,0,null,null,null,null,null,null,null,null,null,null,null,null,null,null,null,null,null,null,null,null,null,null,null,null,null,null,null,null,null,null,null,null,null,null,null,null,null,null,null,null,null,"",null,null,null,null,null,null,null,null,null,null,null,null,null,null,null,null,null,null,null,null,null,null,null,null,null,null,null,null,null,null,null,"","","","",null,null,0,0,0,0]
[null,"FACILITADOR/A INTERCULTURAL",0,0,0,null,null,null,null,null,null,null,null,null,null,null,null,null,null,null,null,null,null,null,null,null,null,null,null,null,null,null,null,null,null,null,null,null,null,null,null,null,null,null,null,null,"",null,null,null,null,null,null,null,null,null,null,null,null,null,null,null,null,null,null,null,null,null,null,null,null,null,null,null,null,null,null,null,"","","","",null,null,0,0,0,0]
[null,"TÉCNICO PARAMÉDICO",0,0,0,null,null,null,null,null,null,null,null,null,null,null,null,null,null,null,null,null,null,null,null,null,null,null,null,null,null,null,null,null,null,null,null,null,null,null,null,null,null,null,null,null,"",null,null,null,null,null,null,null,null,null,null,null,null,null,null,null,null,null,null,null,null,null,null,null,null,null,null,null,null,null,null,null,"","","","",null,null,0,0,0,0]
["SALUD SEXUAL Y REPRODUCTIVA","MÉDICO",0,0,0,null,null,null,null,null,null,null,null,null,null,null,null,null,null,null,null,null,null,null,null,null,null,null,null,null,null,null,null,null,null,null,null,null,null,null,null,null,null,null,null,null,"",null,null,null,null,null,null,null,null,null,null,null,null,null,null,null,null,null,null,null,null,null,null,null,null,null,null,null,null,null,null,null,"","","","",null,null,0,0,0,0]
[null,"ENFERMERA /O",0,0,0,null,null,null,null,null,null,null,null,null,null,null,null,null,null,null,null,null,null,null,null,null,null,null,null,null,null,null,null,null,null,null,null,null,null,null,null,null,null,null,null,null,"",null,null,null,null,null,null,null,null,null,null,null,null,null,null,null,null,null,null,null,null,null,null,null,null,null,null,null,null,null,null,null,"","","","",null,null,0,0,0,0]
[null,"MATRONA /ÓN",0,0,0,null,null,null,null,null,null,null,null,null,null,null,null,null,null,null,null,null,null,null,null,null,null,null,null,null,null,null,null,null,null,null,null,null,null,null,null,null,null,null,null,null,"",null,null,null,null,null,null,null,null,null,null,null,null,null,null,null,null,null,null,null,null,null,null,null,null,null,null,null,null,null,null,null,"","","","",null,null,0,0,0,0]
[null,"ASISTENTE SOCIAL",0,0,0,null,null,null,null,null,null,null,null,null,null,null,null,null,null,null,null,null,null,null,null,null,null,null,null,null,null,null,null,null,null,null,null,null,null,null,null,null,null,null,null,null,"",null,null,null,null,null,null,null,null,null,null,null,null,null,null,null,null,null,null,null,null,null,null,null,null,null,null,null,null,null,null,null,"","","","",null,null,0,0,0,0]
[null,"PSICÓLOGO /A",0,0,0,null,null,null,null,null,null,null,null,null,null,null,null,null,null,null,null,null,null,null,null,null,null,null,null,null,null,null,null,null,null,null,null,null,null,null,null,null,null,null,null,null,"",null,null,null,null,null,null,null,null,null,null,null,null,null,null,null,null,null,null,null,null,null,null,null,null,null,null,null,null,null,null,null,"","","","",null,null,0,0,0,0]
[null,"FACILITADOR/A INTERCULTURAL",0,0,0,null,null,null,null,null,null,null,null,null,null,null,null,null,null,null,null,null,null,null,null,null,null,null,null,null,null,null,null,null,null,null,null,null,null,null,null,null,null,null,null,null,"",null,null,null,null,null,null,null,null,null,null,null,null,null,null,null,null,null,null,null,null,null,null,null,null,null,null,null,null,null,null,null,"","","","",null,null,0,0,0,0]
[null,"OTRO PROFESIONAL",0,0,0,null,null,null,null,null,null,null,null,null,null,null,null,null,null,null,null,null,null,null,null,null,null,null,null,null,null,null,null,null,null,null,null,null,null,null,null,null,null,null,null,null,"",null,null,null,null,null,null,null,null,null,null,null,null,null,null,null,null,null,null,null,null,null,null,null,null,null,null,null,null,null,null,null,"","","","",null,null,0,0,0,0]
["REGULACIÓN DE FERTILIDAD","MÉDICO",0,0,0,null,null,null,null,null,null,null,null,null,null,null,null,null,null,null,null,null,null,null,null,null,null,null,null,null,null,null,null,null,null,null,null,null,null,null,null,null,null,null,null,null,"",null,null,null,null,null,null,null,null,null,null,null,null,null,null,null,null,null,null,null,null,null,null,null,null,null,null,null,null,null,null,null,"","","","",null,null,0,0,0,0]
[null,"MATRONA /ÓN",0,0,0,null,null,null,null,null,null,null,null,null,null,null,null,null,null,null,null,null,null,null,null,null,null,null,null,null,null,null,null,null,null,null,null,null,null,null,null,null,null,null,null,null,"",null,null,null,null,null,null,null,null,null,null,null,null,null,null,null,null,null,null,null,null,null,null,null,null,null,null,null,null,null,null,null,"","","","",null,null,0,0,0,0]
[null,"FACILITADOR/A INTERCULTURAL",0,0,0,null,null,null,null,null,null,null,null,null,null,null,null,null,null,null,null,null,null,null,null,null,null,null,null,null,null,null,null,null,null,null,null,null,null,null,null,null,null,null,null,null,"",null,null,null,null,null,null,null,null,null,null,null,null,null,null,null,null,null,null,null,null,null,null,null,null,null,null,null,null,null,null,null,"","","","",null,null,0,0,0,0]
[null,"OTRO PROFESIONAL",0,0,0,null,null,null,null,null,null,null,null,null,null,null,null,null,null,null,null,null,null,null,null,null,null,null,null,null,null,null,null,null,null,null,null,null,null,null,null,null,null,null,null,null,"",null,null,null,null,null,null,null,null,null,null,null,null,null,null,null,null,null,null,null,null,null,null,null,null,null,null,null,null,null,null,null,"","","","",null,null,0,0,0,0]
["PREVENCIÓN VIH E INFECCIÓN DE TRANSMISIÓN SEXUAL (ITS)","MÉDICO",0,0,0,null,null,null,null,null,null,null,null,null,null,null,null,null,null,null,null,null,null,null,null,null,null,null,null,null,null,null,null,null,null,null,null,null,null,null,null,null,null,null,null,null,"",null,null,null,null,null,null,null,null,null,null,null,null,null,null,null,null,null,null,null,null,null,null,null,null,null,null,null,null,null,null,null,"","","","",null,null,0,0,0,0]
[null,"ENFERMERA /O",0,0,0,null,null,null,null,null,null,null,null,null,null,null,null,null,null,null,null,null,null,null,null,null,null,null,null,null,null,null,null,null,null,null,null,null,null,null,null,null,null,null,null,null,"",null,null,null,null,null,null,null,null,null,null,null,null,null,null,null,null,null,null,null,null,null,null,null,null,null,null,null,null,null,null,null,"","","","",null,null,0,0,0,0]
[null,"MATRONA /ÓN",0,0,0,null,null,null,null,null,null,null,null,null,null,null,null,null,null,null,null,null,null,null,null,null,null,null,null,null,null,null,null,null,null,null,null,null,null,null,null,null,null,null,null,null,"",null,null,null,null,null,null,null,null,null,null,null,null,null,null,null,null,null,null,null,null,null,null,null,null,null,null,null,null,null,null,null,"","","","",null,null,0,0,0,0]
[null,"ASISTENTE SOCIAL",0,0,0,null,null,null,null,null,null,null,null,null,null,null,null,null,null,null,null,null,null,null,null,null,null,null,null,null,null,null,null,null,null,null,null,null,null,null,null,null,null,null,null,null,"",null,null,null,null,null,null,null,null,null,null,null,null,null,null,null,null,null,null,null,null,null,null,null,null,null,null,null,null,null,null,null,"","","","",null,null,0,0,0,0]
[null,"PSICÓLOGO /A",0,0,0,null,null,null,null,null,null,null,null,null,null,null,null,null,null,null,null,null,null,null,null,null,null,null,null,null,null,null,null,null,null,null,null,null,null,null,null,null,null,null,null,null,"",null,null,null,null,null,null,null,null,null,null,null,null,null,null,null,null,null,null,null,null,null,null,null,null,null,null,null,null,null,null,null,"","","","",null,null,0,0,0,0]
[null,"FACILITADOR/A INTERCULTURAL",0,0,0,null,null,null,null,null,null,null,null,null,null,null,null,null,null,null,null,null,null,null,null,null,null,null,null,null,null,null,null,null,null,null,null,null,null,null,null,null,null,null,null,null,"",null,null,null,null,null,null,null,null,null,null,null,null,null,null,null,null,null,null,null,null,null,null,null,null,null,null,null,null,null,null,null,"","","","",null,null,0,0,0,0]
[null,"OTRO PROFESIONAL",0,0,0,null,null,null,null,null,null,null,null,null,null,null,null,null,null,null,null,null,null,null,null,null,null,null,null,null,null,null,null,null,null,null,null,null,null,null,null,null,null,null,null,null,"",null,null,null,null,null,null,null,null,null,null,null,null,null,null,null,null,null,null,null,null,null,null,null,null,null,null,null,null,null,null,null,"","","","",null,null,0,0,0,0]
["PREVENCIÓN DE LA TRANSMISIÓN VERTICAL DEL VIH (EMBARAZADAS)","MÉDICO PRE TEST",0,0,0,null,null,null,null,null,null,null,null,null,null,null,null,null,null,null,null,null,null,null,null,null,null,null,null,null,null,null,null,null,null,null,null,null,null,null,null,null,null,null,null,null,"",null,null,null,null,null,null,null,null,null,null,null,null,null,null,null,null,null,null,null,null,null,null,null,null,null,null,null,null,null,null,null,"","","","",null,null,0,0,0,0]
[null,"MATRONA /ÓN PRE TEST",0,0,0,null,null,null,null,null,null,null,null,null,null,null,null,null,null,null,null,null,null,null,null,null,null,null,null,null,null,null,null,null,null,null,null,null,null,null,null,null,null,null,null,null,"",null,null,null,null,null,null,null,null,null,null,null,null,null,null,null,null,null,null,null,null,null,null,null,null,null,null,null,null,null,null,null,"","","","",null,null,0,0,0,0]
[null,"MÉDICO POST TEST",{"$f":"SUM(D78+E78)","v":0},0,0,null,null,null,null,null,null,null,null,null,null,null,null,null,null,null,null,null,null,null,null,null,null,null,null,null,null,null,null,null,null,null,null,null,null,null,null,null,null,null,null,null,{"$f":"$CA78&$CB78&$CC78&$CD78","v":""},null,null,null,null,null,null,null,null,null,null,null,null,null,null,null,null,null,null,null,null,null,null,null,null,null,null,null,null,null,null,null,{"$f":"IF(CG78=1,\"* No olvide digitar la columna Trans y/o Pueblos Originarios y/o Migrantes y/o Población SENAME (Digite Cero si no tiene). \",\"\")","v":""},{"$f":"IF(CH78=1,\"* El número de Trans y/o Pueblos Originarios y/o Migrantes y/o Población SENAME NO DEBE ser mayor que el Total. \",\"\")","v":""},{"$f":"IF(CI78=1,\"* Las consejerías realizadas en Espacios amigables NO DEBEN ser mayor al Total. \",\"\")","v":""},{"$f":"IF(CJ78=1,\"* La columna 14-18 AÑOS no puede ser mayor al total por grupo edad de 10 a 19 años. \",\"\")","v":""},null,null,{"$f":"IF(AND(C78<>0,OR(AO78=\"\",AP78=\"\",AQ78=\"\",AR78=\"\",AT78=\"\")),1,0)","v":0},{"$f":"IF(OR(C78<(AO78+AP78),C78<AQ78,C78<AR78,C78<AT78),1,0)","v":0},{"$f":"IF(C78<AN78,1,0)","v":0},{"$f":"IF((J78+K78+L78+M78)<AS78,1,0)","v":0}]
[null,"MATRONA /ÓN POST TEST",0,0,0,null,null,null,null,null,null,null,null,null,null,null,null,null,null,null,null,null,null,null,null,null,null,null,null,null,null,null,null,null,null,null,null,null,null,null,null,null,null,null,null,null,"",null,null,null,null,null,null,null,null,null,null,null,null,null,null,null,null,null,null,null,null,null,null,null,null,null,null,null,null,null,null,null,"","","","",null,null,0,0,0,0]
[null,"FACILITADOR/A INTERCULTURAL",0,0,0,null,null,null,null,null,null,null,null,null,null,null,null,null,null,null,null,null,null,null,null,null,null,null,null,null,null,null,null,null,null,null,null,null,null,null,null,null,null,null,null,null,"",null,null,null,null,null,null,null,null,null,null,null,null,null,null,null,null,null,null,null,null,null,null,null,null,null,null,null,null,null,null,null,"","","","",null,null,0,0,0,0]
["DESARROLLO INFANTIL INTEGRAL","ENFERMERA /O",0,{"$f":"SUM(F81+H81+J81)","v":0},{"$f":"SUM(G81+I81+K81)","v":0},null,null,null,null,null,null,null,null,null,null,null,null,null,null,null,null,null,null,null,null,null,null,null,null,null,null,null,null,null,null,null,null,null,null,null,null,null,null,null,null,null,"",null,null,null,null,null,null,null,null,null,null,null,null,null,null,null,null,null,null,null,null,null,null,null,null,null,null,null,null,null,null,null,"","","","",null,null,0,0,0,0]
["OTRAS ÁREAS","MÉDICO",0,{"$f":"SUM(F82+H81+J82+L82+N82+P82+R82+T82+V82+X82+Z82+AB82+AD82+AF82+AH82+AJ82+AL82)","v":0},{"$f":"SUM(G82+I82+K82+M82+O82+Q82+S82+U82+W82+Y82+AA82+AC82+AE82+AG82+AI82+AK82+AM82)","v":0},null,null,null,null,null,null,null,null,null,null,null,null,null,null,null,null,null,null,null,null,null,null,null,null,null,null,null,null,null,null,null,null,null,null,null,null,null,null,null,null,null,"",null,null,null,null,null,null,null,null,null,null,null,null,null,null,null,null,null,null,null,null,null,null,null,null,null,null,null,null,null,null,null,"","","","",null,null,0,0,0,0]
[null,"ENFERMERA /O",0,{"$f":"SUM(F83+H83+J83+L83+N83+P83+R83+T83+V83+X83+Z83+AB83+AD83+AF83+AH83+AJ83+AL83)","v":0},0,null,null,null,null,null,null,null,null,null,null,null,null,null,null,null,null,null,null,null,null,null,null,null,null,null,null,null,null,null,null,null,null,null,null,null,null,null,null,null,null,null,"",null,null,null,null,null,null,null,null,null,null,null,null,null,null,null,null,null,null,null,null,null,null,null,null,null,null,null,null,null,null,null,"","","","",null,null,0,0,0,0]
[null,"MATRONA /ÓN",0,0,0,null,null,null,null,null,null,null,null,null,null,null,null,null,null,null,null,null,null,null,null,null,null,null,null,null,null,null,null,null,null,null,null,null,null,null,null,null,null,null,null,null,"",null,null,null,null,null,null,null,null,null,null,null,null,null,null,null,null,null,null,null,null,null,null,null,null,null,null,null,null,null,null,null,"","","","",null,null,0,0,0,0]
[null,"ASISTENTE SOCIAL",0,0,0,null,null,null,null,null,null,null,null,null,null,null,null,null,null,null,null,null,null,null,null,null,null,null,null,null,null,null,null,null,null,null,null,null,null,null,null,null,null,null,null,null,"",null,null,null,null,null,null,null,null,null,null,null,null,null,null,null,null,null,null,null,null,null,null,null,null,null,null,null,null,null,null,null,"","","","",null,null,0,0,0,0]
[null,"PSICÓLOGO /A",0,0,0,null,null,null,null,null,null,null,null,null,null,null,null,null,null,null,null,null,null,null,null,null,null,null,null,null,null,null,null,null,null,null,null,null,null,null,null,null,null,null,null,null,"",null,null,null,null,null,null,null,null,null,null,null,null,null,null,null,null,null,null,null,null,null,null,null,null,null,null,null,null,null,null,null,"","","","",null,null,0,0,0,0]
[null,"TERAPEUTA OCUPACIONAL",0,0,0,null,null,null,null,null,null,null,null,null,null,null,null,null,null,null,null,null,null,null,null,null,null,null,null,null,null,null,null,null,null,null,null,null,null,null,null,null,null,null,null,null,"",null,null,null,null,null,null,null,null,null,null,null,null,null,null,null,null,null,null,null,null,null,null,null,null,null,null,null,null,null,null,null,"","","","",null,null,0,0,0,0]
[null,"FACILITADOR/A INTERCULTURAL",0,0,0,null,null,null,null,null,null,null,null,null,null,null,null,null,null,null,null,null,null,null,null,null,null,null,null,null,null,null,null,null,null,null,null,null,null,null,null,null,null,null,null,null,"",null,null,null,null,null,null,null,null,null,null,null,null,null,null,null,null,null,null,null,null,null,null,null,null,null,null,null,null,null,null,null,"","","","",null,null,0,0,0,0]
[null,"OTRO PROFESIONAL",0,0,0,null,null,null,null,null,null,null,null,null,null,null,null,null,null,null,null,null,null,null,null,null,null,null,null,null,null,null,null,null,null,null,null,null,null,null,null,null,null,null,null,null,"",null,null,null,null,null,null,null,null,null,null,null,null,null,null,null,null,null,null,null,null,null,null,null,null,null,null,null,null,null,null,null,"","","","",null,null,0,0,0,0]
["SECCIÓN A.2: CONSEJERÍAS INDIVIDUALES POR VIH (NO INCLUIDAS EN LA SECCIÓN A.1)"]
["CONSEJERÍAS","ÁREA O NIVEL","TOTAL              ",null,null,"GRUPOS DE EDAD (en años)",null,null,null,null,null,null,null,null,null,null,null,null,null,null,null,null,null,null,null,null,null,null,null,null,null,null,null,null,null,null,null,null,null,"TRANS",null,"Pueblos Originarios","Migrantes","Niños, Niñas, Adolescentes y Jóvenes Población SENAME"]
[null,null,null,null,null,"0 - 4",null,"5 - 9",null,"10 a 14",null,"15 a 19",null,"20 a 24",null,"25 - 29",null,"30 - 34",null,"35 - 39",null,"40 - 44",null,"45 - 49",null,"50 - 54",null,"55 - 59",null,"60 - 64",null,"65 - 69",null,"70 - 74",null,"75 - 79",null,"80 y mas"]
[null,null,"AMBOS SEXOS","HOMBRES","MUJERES","HOMBRES","MUJERES","HOMBRES","MUJERES","HOMBRES","MUJERES","HOMBRES","MUJERES","HOMBRES","MUJERES","HOMBRES","MUJERES","HOMBRES","MUJERES","HOMBRES","MUJERES","HOMBRES","MUJERES","HOMBRES","MUJERES","HOMBRES","MUJERES","HOMBRES","MUJERES","HOMBRES","MUJERES","HOMBRES","MUJERES","HOMBRES","MUJERES","HOMBRES","MUJERES","HOMBRES","MUJERES","Masculino","Femenino"]
["ORIENTACIÓN E INFORMACIÓN PREVIA AL EXAMEN VIH","EN BANCO DE SANGRE  (DONANTES)",{"$f":"SUM(D94+E94)","v":0},{"$f":"+L94+N94+P94+R94+T94+V94+X94+Z94+AB94+AD94","v":0},{"$f":"+M94+O94+Q94+S94+U94+W94+Y94+AA94+AC94+AE94","v":0},null,null,null,null,null,null,null,null,null,null,null,null,null,null,null,null,null,null,null,null,null,null,null,null,null,null,null,null,null,null,null,null,null,null,null,null,null,null,null,{"$f":"$CA94&$CB94&$CC94&$CD94","v":""},null,null,null,null,null,null,null,null,null,null,null,null,null,null,null,null,null,null,null,null,null,null,null,null,null,null,null,null,null,null,null,null,null,{"$f":"IF(CG94=1,\"* No olvide digitar la columna Trans y/o Pueblos Originarios y/o Migrantes y/o Población SENAME (Digite Cero si no tiene). \",\"\")","v":""},{"$f":"IF(CH94=1,\"* El número de Trans y/o Pueblos Originarios y/o Migrantes y/o Población SENAME NO DEBE ser mayor que el Total. \",\"\")","v":""},null,null,null,null,{"$f":"IF(AND(C94<>0,OR(AO94=\"\",AP94=\"\",AQ94=\"\",AR94=\"\",AN94=\"\")),1,0)","v":0},{"$f":"IF(OR(C94<(AN94+AO94),C94<AQ94,C94<AP94,C94<AR94),1,0)","v":0}]
[null,"HOSPITALIZACIÓN",0,{"$f":"SUM(F95+H95+J95+L95+N95+P95+R95+T95+V95+X95+Z95+AB95+AD95+AF95+AH95+AJ95+AL95)","v":0},{"$f":"SUM(G95+I95+K95+M95+O95+Q95+S95+U95+W95+Y95+AA95+AC95+AE95+AG95+AI95+AK95+AM95)","v":0},null,null,null,null,null,null,null,null,null,null,null,null,null,null,null,null,null,null,null,null,null,null,null,null,null,null,null,null,null,null,null,null,null,null,null,null,null,null,null,"",null,null,null,null,null,null,null,null,null,null,null,null,null,null,null,null,null,null,null,null,null,null,null,null,null,null,null,null,null,null,null,null,null,"","",null,null,null,null,0,0]
[null,"EN CDT - CRS",0,0,0,null,null,null,null,null,null,null,null,null,null,null,null,null,null,null,null,null,null,null,null,null,null,null,null,null,null,null,null,null,null,null,null,null,null,null,null,null,null,null,"",null,null,null,null,null,null,null,null,null,null,null,null,null,null,null,null,null,null,null,null,null,null,null,null,null,null,null,null,null,null,null,null,null,"","",null,null,null,null,0,0]
[null,"EN APS",0,0,0,null,null,null,null,null,null,null,null,null,null,null,null,null,null,null,null,null,null,null,null,null,null,null,null,null,null,null,null,null,null,null,null,null,null,null,null,null,null,null,"",null,null,null,null,null,null,null,null,null,null,null,null,null,null,null,null,null,null,null,null,null,null,null,null,null,null,null,null,null,null,null,null,null,"","",null,null,null,null,0,0]
[null,"EN APS - ESPACIOS AMIGABLES",0,{"$f":"+J98+L98+N98","v":0},{"$f":"+K98+M98+O98","v":0},null,null,null,null,null,null,null,null,null,null,null,null,null,null,null,null,null,null,null,null,null,null,null,null,null,null,null,null,null,null,null,null,null,null,null,null,null,null,null,"",null,null,null,null,null,null,null,null,null,null,null,null,null,null,null,null,null,null,null,null,null,null,null,null,null,null,null,null,null,null,null,null,null,"","",null,null,null,null,0,0]
[null,"EN OTRAS INSTANCIAS",0,{"$f":"SUM(F99+H99+J99+L99+N99+P99+R99+T99+V99+X99+Z99+AB99+AD99+AF99+AH99+AJ99+AL99)","v":0},{"$f":"SUM(G99+I99+K99+M99+O99+Q99+S99+U99+W99+Y99+AA99+AC99+AE99+AG99+AI99+AK99+AM99)","v":0},null,null,null,null,null,null,null,null,null,null,null,null,null,null,null,null,null,null,null,null,null,null,null,null,null,null,null,null,null,null,null,null,null,null,null,null,null,null,null,"",null,null,null,null,null,null,null,null,null,null,null,null,null,null,null,null,null,null,null,null,null,null,null,null,null,null,null,null,null,null,null,null,null,"","",null,null,null,null,0,0]
["CONSEJERÍAS POST TEST VIH","EN BANCO DE SANGRE  (DONANTES)",0,{"$f":"+L100+N100+P100+R100+T100+V100+X100+Z100+AB100+AD100","v":0},{"$f":"+M100+O100+Q100+S100+U100+W100+Y100+AA100+AC100+AE100","v":0},null,null,null,null,null,null,null,null,null,null,null,null,null,null,null,null,null,null,null,null,null,null,null,null,null,null,null,null,null,null,null,null,null,null,null,null,null,null,null,"",null,null,null,null,null,null,null,null,null,null,null,null,null,null,null,null,null,null,null,null,null,null,null,null,null,null,null,null,null,null,null,null,null,"","",null,null,null,null,0,0]
[null,"HOSPITALIZACIÓN",0,{"$f":"SUM(F101+H101+J101+L101+N101+P101+R101+T101+V101+X101+Z101+AB101+AD101+AF101+AH101+AJ101+AL101)","v":0},0,null,null,null,null,null,null,null,null,null,null,null,null,null,null,null,null,null,null,null,null,null,null,null,null,null,null,null,null,null,null,null,null,null,null,null,null,null,null,null,"",null,null,null,null,null,null,null,null,null,null,null,null,null,null,null,null,null,null,null,null,null,null,null,null,null,null,null,null,null,null,null,null,null,"","",null,null,null,null,0,0]
[null,"EN CDT - CRS",0,{"$f":"SUM(F102+H102+J102+L102+N102+P102+R102+T102+V102+X102+Z102+AB102+AD102+AF102+AH102+AJ102+AL102)","v":0},0,null,null,null,null,null,null,null,null,null,null,null,null,null,null,null,null,null,null,null,null,null,null,null,null,null,null,null,null,null,null,null,null,null,null,null,null,null,null,null,"",null,null,null,null,null,null,null,null,null,null,null,null,null,null,null,null,null,null,null,null,null,null,null,null,null,null,null,null,null,null,null,null,null,"","",null,null,null,null,0,0]
[null,"EN APS",0,0,0,null,null,null,null,null,null,null,null,null,null,null,null,null,null,null,null,null,null,null,null,null,null,null,null,null,null,null,null,null,null,null,null,null,null,null,null,null,null,null,"",null,null,null,null,null,null,null,null,null,null,null,null,null,null,null,null,null,null,null,null,null,null,null,null,null,null,null,null,null,null,null,null,null,"","",null,null,null,null,0,0]
[null,"EN APS - ESPACIOS AMIGABLES",0,{"$f":"+J104+L104+N104","v":0},{"$f":"+K104+M104+O104","v":0},null,null,null,null,null,null,null,null,null,null,null,null,null,null,null,null,null,null,null,null,null,null,null,null,null,null,null,null,null,null,null,null,null,null,null,null,null,null,null,"",null,null,null,null,null,null,null,null,null,null,null,null,null,null,null,null,null,null,null,null,null,null,null,null,null,null,null,null,null,null,null,null,null,"","",null,null,null,null,0,0]
[null,"EN OTRAS INSTANCIAS",0,{"$f":"SUM(F105+H105+J105+L105+N105+P105+R105+T105+V105+X105+Z105+AB105+AD105+AF105+AH105+AJ105+AL105)","v":0},{"$f":"SUM(G105+I105+K105+M105+O105+Q105+S105+U105+W105+Y105+AA105+AC105+AE105+AG105+AI105+AK105+AM105)","v":0},null,null,null,null,null,null,null,null,null,null,null,null,null,null,null,null,null,null,null,null,null,null,null,null,null,null,null,null,null,null,null,null,null,null,null,null,null,null,null,"",null,null,null,null,null,null,null,null,null,null,null,null,null,null,null,null,null,null,null,null,null,null,null,null,null,null,null,null,null,null,null,null,null,"","",null,null,null,null,0,0]
["SECCIÓN A.3: CONSEJERÍAS FAMILIARES"]
["TEMAS PRIORIDAD","FAMILIA","TOTAL ACTIVIDADES","ESPACIOS AMIGABLES"]
[null,"CON RIESGO PSICOSOCIAL",null,null,{"$f":"$CA108&$CB108&$CC108&$CD108","v":""},null,null,null,null,null,null,null,null,null,null,null,null,null,null,null,null,null,null,null,null,null,null,null,null,null,null,null,null,null,null,null,null,null,null,null,null,null,null,null,null,null,null,null,null,null,null,null,null,null,null,null,null,null,null,null,null,null,null,null,null,null,null,null,null,null,null,null,null,null,null,null,null,null,{"$f":"IF(D108<=C108,\"\",\"* Las consejerías realizadas en Espacios Amigables NO DEBEN ser mayor al Total de Actividades. \")","v":""},null,null,null,null,null,{"$f":"IF(D108<=C108,0,1)","v":0}]
[null,"CON INTEGRANTE DE PATOLOGÍA CRÓNICA",null,null,{"$f":"$CA109&$CB109&$CC109&$CD109","v":""},null,null,null,null,null,null,null,null,null,null,null,null,null,null,null,null,null,null,null,null,null,null,null,null,null,null,null,null,null,null,null,null,null,null,null,null,null,null,null,null,null,null,null,null,null,null,null,null,null,null,null,null,null,null,null,null,null,null,null,null,null,null,null,null,null,null,null,null,null,null,null,null,null,{"$f":"IF(D109<=C109,\"\",\"* Las consejerías realizadas en Espacios Amigables NO DEBEN ser mayor al Total de Actividades. \")","v":""},null,null,null,null,null,{"$f":"IF(D109<=C109,0,1)","v":0}]
[null,"CON INTEGRANTE CON PROBLEMA DE SALUD MENTAL",null,null,{"$f":"$CA110&$CB110&$CC110&$CD110","v":""},null,null,null,null,null,null,null,null,null,null,null,null,null,null,null,null,null,null,null,null,null,null,null,null,null,null,null,null,null,null,null,null,null,null,null,null,null,null,null,null,null,null,null,null,null,null,null,null,null,null,null,null,null,null,null,null,null,null,null,null,null,null,null,null,null,null,null,null,null,null,null,null,null,{"$f":"IF(D110<=C110,\"\",\"* Las consejerías realizadas en Espacios Amigables NO DEBEN ser mayor al Total de Actividades. \")","v":""},null,null,null,null,null,{"$f":"IF(D110<=C110,0,1)","v":0}]
[null,"CON ADULTO MAYOR DEPENDIENTE"]
[null,"CON ADULTO MAYOR CON DEMENCIA"]
[null,"CON INTEGRANTE CON ENFERMEDAD TERMINAL",null,null,{"$f":"$CA113&$CB113&$CC113&$CD113","v":""},null,null,null,null,null,null,null,null,null,null,null,null,null,null,null,null,null,null,null,null,null,null,null,null,null,null,null,null,null,null,null,null,null,null,null,null,null,null,null,null,null,null,null,null,null,null,null,null,null,null,null,null,null,null,null,null,null,null,null,null,null,null,null,null,null,null,null,null,null,null,null,null,null,{"$f":"IF(D113<=C113,\"\",\"* Las consejerías realizadas en Espacios Amigables NO DEBEN ser mayor al Total de Actividades. \")","v":""},null,null,null,null,null,{"$f":"IF(D113<=C113,0,1)","v":0}]
[null,"CON INTEGRANTE DEPENDIENTE SEVERO",null,null,{"$f":"$CA114&$CB114&$CC114&$CD114","v":""},null,null,null,null,null,null,null,null,null,null,null,null,null,null,null,null,null,null,null,null,null,null,null,null,null,null,null,null,null,null,null,null,null,null,null,null,null,null,null,null,null,null,null,null,null,null,null,null,null,null,null,null,null,null,null,null,null,null,null,null,null,null,null,null,null,null,null,null,null,null,null,null,null,{"$f":"IF(D114<=C114,\"\",\"* Las consejerías realizadas en Espacios Amigables NO DEBEN ser mayor al Total de Actividades. \")","v":""},null,null,null,null,null,{"$f":"IF(D114<=C114,0,1)","v":0}]
[null,"OTRAS ÁREAS DE INTERVENCIÓN",null,null,{"$f":"$CA115&$CB115&$CC115&$CD115","v":""},null,null,null,null,null,null,null,null,null,null,null,null,null,null,null,null,null,null,null,null,null,null,null,null,null,null,null,null,null,null,null,null,null,null,null,null,null,null,null,null,null,null,null,null,null,null,null,null,null,null,null,null,null,null,null,null,null,null,null,null,null,null,null,null,null,null,null,null,null,null,null,null,null,{"$f":"IF(D115<=C115,\"\",\"* Las consejerías realizadas en Espacios Amigables NO DEBEN ser mayor al Total de Actividades. \")","v":""},null,null,null,null,null,{"$f":"IF(D115<=C115,0,1)","v":0}]
[null,"CON ADOLESCENTE VIH (+)",null,null,{"$f":"$CA116&$CB116&$CC116&$CD116","v":""},null,null,null,null,null,null,null,null,null,null,null,null,null,null,null,null,null,null,null,null,null,null,null,null,null,null,null,null,null,null,null,null,null,null,null,null,null,null,null,null,null,null,null,null,null,null,null,null,null,null,null,null,null,null,null,null,null,null,null,null,null,null,null,null,null,null,null,null,null,null,null,null,null,{"$f":"IF(D116<=C116,\"\",\"* Las consejerías realizadas en Espacios Amigables NO DEBEN ser mayor al Total de Actividades. \")","v":""},null,null,null,null,null,{"$f":"IF(D116<=C116,0,1)","v":0}]
["SECCIÓN A.4: CONSEJERÍAS INDIVIDUALES  CON ENTREGA DE PRESERVATIVOS (INCLUIDAS EN SECCIÓN A.1)"]
["ACTIVIDAD",null,"TOTAL",null,null,"GRUPOS DE EDAD (en años)"]
[null,null,null,null,null,"10 - 14",null,"15-19 ",null,"20-24 ",null,"25-29 ",null,"30-34 ",null,"35-39",null,"40-44 ",null,"45-49 ",null,"50-54 ",null,"55-59",null,"60-64 ",null,"65-69 ",null,"70-74 ",null,"75- 79",null,"80 y mas",null,"14 a 18"]
[null,null,"AMBOS SEXOS","HOMBRES","MUJERES","HOMBRES","MUJERES","HOMBRES","MUJERES","HOMBRES","MUJERES","HOMBRES","MUJERES","HOMBRES","MUJERES","HOMBRES","MUJERES","HOMBRES","MUJERES","HOMBRES","MUJERES","HOMBRES","MUJERES","HOMBRES","MUJERES","HOMBRES","MUJERES","HOMBRES","MUJERES","HOMBRES","MUJERES","HOMBRES","MUJERES","HOMBRES","MUJERES","HOMBRES","MUJERES"]
["CONSEJERÍA CON ENTREGA DE PRESERVATIVOS ","CONDONES MASCULINOS",{"$f":"SUM(D121:E121)","v":0},{"$f":"+F121+H121+J121+L121+N121+P121+R121+T121+V121+X121+Z121+AB121+AD121+AF121+AH121","v":0},{"$f":"+G121+I121+K121+M121+O121+Q121+S121+U121+W121+Y121+AA121+AC121+AE121+AG121+AI121","v":0}]
[null,"CONDONES FEMENINOS",{"$f":"SUM(D122:E122)","v":0},{"$f":"+F122+H122+J122+L122+N122+P122+R122+T122+V122+X122+Z122+AB122+AD122+AF122+AH122","v":0},{"$f":"+G122+I122+K122+M122+O122+Q122+S122+U122+W122+Y122+AA122+AC122+AE122+AG122+AI122","v":0}]
[null,"AMBOS TIPOS DE CONDONES",{"$f":"SUM(D123:E123)","v":0},0,0]
["SECCIÓN B: ACTIVIDADES DE PROMOCIÓN"]
["SECCIÓN B.1: ACTIVIDADES DE PROMOCIÓN SEGÚN ESTRATEGIAS Y CONDICIONANTES ABORDADAS Y NÚMERO DE PARTICIPANTES"]
["ACTIVIDADES","ESTRATEGIA, ESPACIOS  O LÍNEAS DE ACCIÓN ","TOTAL ACTIVIDADES","CONDICIONANTES ABORDADAS",null,null,null,null,null,null,"DETERMINANTES SOCIALES DE LA SALUD ABORDADAS - CHILE CRECE CONTIGO","TOTAL PARTICIPANTES "]
[null,null,null,"Actividad física","Alimentación ","Ambiente libre de humo de tabaco","Factores protectores psicosociales","Factores protectores ambientales","Derechos humanos","Salud sexual y prevención de VIH/SIDA e ITS"]
["EVENTOS  MASIVOS ","COMUNAS, COMUNIDADES.",{"$f":"SUM(D128:J128)","v":0}]
[null,"ESPACIOS AMIGABLES EN APS",0]
[null,"LUGARES DE TRABAJO",0]
[null,"ESTABLECIMIENTOS EDUCACIÓN",0]
["REUNIONES DE PLANIFICACIÓN PARTICIPATIVA","COMUNAS, COMUNIDADES.",0]
[null,"ESPACIOS AMIGABLES EN APS",0]
[null,"LUGARES DE TRABAJO",0]
[null,"ESTABLECIMIENTOS EDUCACIÓN",0]
["\nJORNADAS Y  \nSEMINARIOS","COMUNAS, COMUNIDADES.",0]
[null,"ESPACIOS AMIGABLES EN APS",0]
[null,"LUGARES DE TRABAJO",0]
[null,"ESTABLECIMIENTOS EDUCACIÓN",0]
["EDUCACIÓN GRUPAL ","COMUNAS, COMUNIDADES.",0]
[null,"ESPACIOS AMIGABLES EN APS",0]
[null,"LUGARES DE TRABAJO",0]
[null,"ESTABLECIMIENTOS EDUCACIÓN",0]
["SECCIÓN B.2: TALLERES GRUPALES DE VIDA SANA SEGÚN TIPO, POR ESPACIOS DE ACCIÓN"]
["ESPACIOS DE ACCIÓN","TOTAL  TALLERES","\"AUTOESTIMA Y AUTOCUIDADO\" ","\"MENTE SANA Y CUERPO SANO\"","\"COMUNICACIÓN\"","\"YO ME CUIDO\"","CONTROL DEL TABACO","OTROS TIPO DE TALLERES"]
["COMUNAS, COMUNIDADES"]
["ESPACIOS AMIGABLES EN APS"]
["LUGARES DE TRABAJO"]
["ESTABLECIMIENTOS EDUCACIONALES"]
["SECCIÓN B.3: ACTIVIDADES DE GESTIÓN SEGÚN TIPO, POR ESPACIOS DE ACCIÓN"]
["ESPACIOS DE ACCIÓN","TOTAL ACTIVIDADES","REUNIONES DE GESTIÓN ","REUNIONES  MASIVAS DE GESTIÓN","ACCIONES DE COMUNICACIÓN Y DIFUSIÓN","PREPARACIÓN ACTIVIDADES EDUCATIVAS","ENTREVISTAS","INVESTIGACIÓN Y CAPACITACIÓN DE RRHH"]
["COMUNAS, COMUNIDADES",{"$f":"SUM(C152:H152)","v":0}]
["ESPACIOS AMIGABLES EN APS",0]
["LUGARES DE TRABAJO",0]
["ESTABLECIMIENTOS \nEDUCACIONALES",0]
["OFICINA INTERCULTURAL",0]
["OTROS",0]
["SECCIÓN B.4: TALLERES GRUPALES SEGÚN TEMÁTICA Y NUMERO DE PARTICIPANTES EN PROGRAMA ESPACIOS AMIGABLES "]
["ESPACIOS DE ACCIÓN","TOTAL TALLERES","TOTAL PARTICIPANTES","ACTIVIDAD FÍSICA","ALIMENTACIÓN","AMBIENTE LIBRE DE HUMO DEL TABACO","FACTORES PROTECTORES PSICOSOCIALES","PREVENCIÓN CONSUMO DE ALCOHOL Y OTRAS DROGAS","SALUD SEXUAL Y PREVENCIÓN DE VIH/SIDA e ITS","OTROS TIPOS DE TALLERES"]
["ESPACIOS COMUNITARIOS"]
["ESTABLECIMIENTOS EDUCACIONALES"]
["CENTROS DE SALUD"]
[]
[]
[]
[]
[]
[]
[]
[]
[]
[]
[]
[]
[]
[]
[]
[]
[]
[]
[]
[]
[]
[]
[]
[]
[]
[]
[]
[]
[]
[]
[]
[{"$f":"SUM(C14:C89,C94:C105,C128:C143,B146:B149,B152:B157,C108:C115)","v":0},{"$f":"SUM(CG11:CO151)","v":0}]

{"sheet":"A19b","index":12,"n_rows":195,"n_cols":79,"rows_kept":195,"cut":false,"hidden":false,"merged":[[47,0,47,1],[48,0,48,1],[40,0,40,1],[41,0,41,1],[42,0,42,1],[43,0,43,1],[44,0,44,1],[46,0,46,1],[39,0,39,1],[30,0,31,1],[30,2,30,5],[30,6,30,9],[30,10,30,12],[32,0,32,1],[33,0,33,1],[34,0,34,1],[35,0,35,1],[36,0,36,1],[37,0,37,1],[38,0,38,1],[5,0,5,15],[8,0,9,0],[8,1,8,3],[8,4,8,5],[8,6,9,6],[8,7,8,8]]}
["SERVICIO DE SALUD"]
[{"$f":"CONCATENATE(\"COMUNA: \",NOMBRE!B2,\" - \",\"( \",NOMBRE!C2,NOMBRE!D2,NOMBRE!E2,NOMBRE!F2,NOMBRE!G2,\" )\")","v":"COMUNA:  - (  )"}]
[{"$f":"CONCATENATE(\"ESTABLECIMIENTO/ESTRATEGIA: \",NOMBRE!B3,\" - \",\"( \",NOMBRE!C3,NOMBRE!D3,NOMBRE!E3,NOMBRE!F3,NOMBRE!G3,NOMBRE!H3,\" )\")","v":"ESTABLECIMIENTO/ESTRATEGIA:  - (  )"}]
[{"$f":"CONCATENATE(\"MES: \",NOMBRE!B6,\" - \",\"( \",NOMBRE!C6,NOMBRE!D6,\" )\")","v":"MES:  - (  )"}]
[{"$f":"CONCATENATE(\"AÑO: \",NOMBRE!B7)","v":"AÑO: 2020"}]
["REM-19b.   ACTIVIDADES DE PARTICIPACIÓN SOCIAL"]
[]
["SECCIÓN A: ATENCIÓN OFICINAS DE INFORMACIONES (SISTEMA INTEGRAL DE ATENCIÓN A USUARIOS)"]
["TIPO DE ATENCION","Nº DE ATENCIONES EN EL MES",null,null,"RESPUESTAS DEL MES DENTRO DE PLAZOS LEGALES ( 15 DIAS HÁBILES)",null,"RECLAMOS RESPONDIDOS FUERA DE PLAZOS LEGALES","RECLAMOS PENDIENTES"]
[null,"Total","Hombres","Mujeres","Reclamos generados en el mes","Reclamos generados en el mes anterior",null,"Respuestas pendientes dentro del plazo legal","Respuestas pendientes fuera del plazo legal"]
["TOTAL DE RECLAMOS ",{"$f":"SUM(C11+D11)","v":0},{"$f":"SUM(C12:C24)","v":0},0,0,0,0,0,0]
["TRATO",{"$f":"SUM(C12+D12)","v":0}]
["COMPETENCIA TÉCNICA",{"$f":"SUM(C13+D13)","v":0}]
["INFRAESTRUCTURA",0]
["TIEMPO DE ESPERA (EN SALA DE ESPERA)",0]
["TIEMPO DE ESPERA, POR CONSULTA ESPECIALIDAD (POR LISTA DE ESPERA)",0]
["TIEMPO DE ESPERA, POR PROCEDIMIENTO (LISTA DE ESPERA)",0]
["TIEMPO DE ESPERA , POR CIRUGÍA (LISTA DE ESPERA)",0]
["INFORMACIÓN",0]
["PROCEDIMIENTOS ADMINISTRATIVOS",0]
["PROBIDAD ADMINISTRATIVA",0]
["INCUMPLIMIENTO GARANTÍAS EXPLÍCITAS EN SALUD (GES)",0]
["INCUMPLIMIENTO DE GARANTÍAS LEY RICARTE SOTO",0]
["INCUMPLIMIENTO DE GARANTÍAS FOFAR",0]
["CONSULTAS",0]
["SUGERENCIAS",0]
["FELICITACIONES",0]
["SOLICITUDES",0]
["SOLICITUDES LEY 20.285 (Ley de Transparencia)",0]
["SECCIÓN B: ACTIVIDADES POR ESTRATEGIA/LÍNEA DE ACCIÓN O ESPACIO / INSTANCIA DE PARTICIPACIÓN SOCIAL"]
["TIPO DE ACTIVIDADES",null,"ESPACIOS/INSTANCIAS ",null,null,null,"ESTRATEGIAS/LÍNEAS DE ACCIÓN",null,null,null,"PARTICIPANTES"]
[null,null,"Consultas Ciudadanas","Consejo de la Sociedad Civil, Consejos consultivos, de desarrollo y comités locales"," Consejos consultivos de Adolescentes y Jóvenes","Mesas: Territoriales, diálogos ciudadanos, mesa salud intercultural","Cuentas públicas participativas","Presupuestos participativos","Estrategias de satisfacción usuaria","Planificación local participativa (Diagnósticos, programación y evaluación)","Total participantes","Total hombres","Total mujeres"]
["ADMINISTRACIÓN Y GESTIÓN",null,null,null,null,null,null,null,null,null,{"$f":"SUM(L33+M33)","v":0}]
["ENTREVISTAS",null,null,null,null,null,null,null,null,null,{"$f":"SUM(L34+M34)","v":0}]
["REUNIONES INTRASECTOR",null,null,null,null,null,null,null,null,null,{"$f":"SUM(L35+M35)","v":0}]
["REUNIONES INTERSECTOR",null,null,null,null,null,null,null,null,null,{"$f":"SUM(L36+M36)","v":0}]
["ACTIVIDADES DE MONITOREO"]
["ASESORÍA TÉCNICA"]
["JORNADAS DE INTERCAMBIO DE EXPERIENCIAS"]
["ACTIVIDADES DE DIFUSIÓN Y COMUNICACIÓN"]
["EDUCACIÓN Y CAPACITACIÓN COMUNITARIA",null,null,null,null,null,null,null,null,null,{"$f":"SUM(L41+M41)","v":0}]
["EVENTOS MASIVOS (ASAMBLEAS, CABILDOS, OTROS)"]
["ACTIVIDADES A PUEBLOS INDÍGENAS",null,null,null,null,null,null,null,null,null,{"$f":"SUM(L43+M43)","v":0}]
["TOTAL DE ACTIVIDADES",null,{"$f":"SUM(C33:C43)","v":0},{"$f":"SUM(D33:D43)","v":0},{"$f":"SUM(E33:E43)","v":0},0,{"$f":"SUM(G33:G42)","v":0},0,0,0,{"$f":"SUM(K33+K34+K35+K36+K39+K40+K41+K43)","v":0},{"$f":"SUM(L33+L34+L35+L36+L41+L43)","v":0},{"$f":"SUM(M33+M34+M35+M36+M41+M43)","v":0}]
["ACTIVIDADES DE PARTICIPACIÓN SOCIAL POR TEC. PARAMÉDICO",null,null,null,null,null,null,null,null,null,{"$f":"SUM(L45+M45)","v":0}]
["SECCIÓN C: REUNIONES DE ADULTO MAYOR"]
["TIPO DE REUNIÓN",null,"TOTAL","CASOS/INSTI-\nTUCIONES"]
["CLÍNICAS ",null,null,null,null,null,null,null,null,null,null,null,null,null,null,null,null,null,null,null,null,null,null,null,null,null,null,null,null,null,null,null,null,null,null,null,null,null,null,null,null,null,null,null,null,null,null,null,null,null,null,null,null,null,null,null,null,null,null,null,null,null,null,null,null,null,null,null,null,null,null,null,null,null,null,null,null,null,{"$f":"IF(D48>C48,\"Casos/Instituciones deben ser menor o iguales al total Reuniones A. Mayor\",\"\")","v":""}]
["CON INSTITUCIONES DE LARGA ESTADÍA"]
[]
[]
[]
[]
[]
[]
[]
[]
[]
[]
[]
[]
[]
[]
[]
[]
[]
[]
[]
[]
[]
[]
[]
[]
[]
[]
[]
[]
[]
[]
[]
[]
[]
[]
[]
[]
[]
[]
[]
[]
[]
[]
[]
[]
[]
[]
[]
[]
[]
[]
[]
[]
[]
[]
[]
[]
[]
[]
[]
[]
[]
[]
[]
[]
[]
[]
[]
[]
[]
[]
[]
[]
[]
[]
[]
[]
[]
[]
[]
[]
[]
[]
[]
[]
[]
[]
[]
[]
[]
[]
[]
[]
[]
[]
[]
[]
[]
[]
[]
[]
[]
[]
[]
[]
[]
[]
[]
[]
[]
[]
[]
[]
[]
[]
[]
[]
[]
[]
[]
[]
[]
[]
[]
[]
[]
[]
[]
[]
[]
[]
[]
[]
[]
[]
[]
[]
[]
[]
[]
[]
[]
[]
[]
[]
[]
[{"$f":"SUM(B11,B25:B29,C44:M44,C48:C49)","v":0},{"$f":"SUM(CG6:CM50)","v":0}]

{"sheet":"A21","index":13,"n_rows":197,"n_cols":90,"rows_kept":197,"cut":false,"hidden":false,"merged":[[52,0,52,1],[53,0,54,0],[55,0,56,0],[8,0,10,0],[8,1,10,1],[50,0,50,4],[25,0,26,1],[31,0,32,0],[25,3,25,4],[25,2,26,2],[8,2,10,2],[27,0,27,1],[28,0,28,1],[29,0,29,1],[30,0,30,1],[33,0,33,1],[8,25,9,27],[8,3,10,3],[8,4,10,4],[25,5,25,10],[8,15,9,19],[8,20,9,24],[8,10,9,14],[8,5,10,5],[8,6,9,9],[58,0,60,0],[58,1,59,2],[58,3,59,4],[75,1,75,6],[58,5,58,8],[59,5,59,6],[59,7,59,8],[74,0,74,6],[75,0,76,0]]}
["SERVICIO DE SALUD"]
[{"$f":"CONCATENATE(\"COMUNA: \",NOMBRE!B2,\" - \",\"( \",NOMBRE!C2,NOMBRE!D2,NOMBRE!E2,NOMBRE!F2,NOMBRE!G2,\" )\")","v":"COMUNA:  - (  )"}]
[{"$f":"CONCATENATE(\"ESTABLECIMIENTO/ESTRATEGIA: \",NOMBRE!B3,\" - \",\"( \",NOMBRE!C3,NOMBRE!D3,NOMBRE!E3,NOMBRE!F3,NOMBRE!G3,NOMBRE!H3,\" )\")","v":"ESTABLECIMIENTO/ESTRATEGIA:  - (  )"}]
[{"$f":"CONCATENATE(\"MES: \",NOMBRE!B6,\" - \",\"( \",NOMBRE!C6,NOMBRE!D6,\" )\")","v":"MES:  - (  )"}]
[{"$f":"CONCATENATE(\"AÑO: \",NOMBRE!B7)","v":"AÑO: 2020"}]
[null,null,null,null,null,"REM-21.   QUIRÓFANOS Y OTROS RECURSOS HOSPITALARIOS"]
[]
["SECCIÓN A:  CAPACIDAD INSTALADA Y UTILIZACIÓN DE LOS QUIRÓFANOS"]
["TIPO DE QUIRÓFANOS","NÙMERO DE QUIRÓFANOS EN DOTACIÓN","PROMEDIO MENSUAL DE QUIRÓFANOS HABILITADOS","PROMEDIO MENSUAL  DE QUIRÓFANOS EN TRABAJO","TOTAL  DE HORAS MENSUALES DE QUIRÓFANOS HABILITADOS (HORARIO HÁBIL)","TOTAL DE HORAS MENSUALES DE QUIRÓFANOS EN TRABAJO","HORAS MENSUALES PROGRAMADAS DE TABLA QUIRÚRGICA DE QUIRÓFANOS EN TRABAJO",null,null,null,"HORAS MENSUALES OCUPADAS DE QUIRÓFANOS EN TRABAJO HORARIO HÁBIL",null,null,null,null,"HORAS MENSUALES OCUPADAS DE QUIRÓFANOS EN TRABAJO HORARIO INHÁBIL DE LUNES A VIERNES",null,null,null,null,"HORAS MENSUALES OCUPADAS DE QUIRÓFANOS EN TRABAJO HORARIO SÁBADO, DOMINGO Y FESTIVO",null,null,null,null,"TOTAL HORAS MENSUALES OCUPADAS DE QUIRÓFANOS EN TRABAJO "]
[]
[null,null,null,null,null,null,"Totales","Beneficiarios MAI","Beneficiarios MLE","Otros","Totales","Beneficiarios MAI","Beneficiarios MLE","Otros","De preparación","Totales","Beneficiarios MAI","Beneficiarios MOLE","Otros","De preparación","Totales","Beneficiarios MAI","Beneficiarios MLE","Otros","De preparación","Totales","Cirugía Menor","Otros Procedimientos"]
["TOTAL QUIRÓFANOS",{"$f":"SUM(B13:B16)","v":0},0,0,0,0,0,0,0,0,0,0,0,0,0,0,0,0,0,0,0,0,0,0,0,{"$f":"SUM(AA12:AB12)","v":0}]
["DE CIRUGÍA ELECTIVA",null,null,null,null,null,{"$f":"SUM(H13:J13)","v":0},null,null,null,{"$f":"SUM(L13:O13)","v":0},null,null,null,null,{"$f":"SUM(Q13:T13)","v":0},null,null,null,null,{"$f":"SUM(V13:Y13)","v":0},null,null,null,null,{"$f":"SUM(AA13:AB13)","v":0}]
["DE URGENCIA",null,null,null,null,null,{"$f":"SUM(H14:J14)","v":0},null,null,null,{"$f":"SUM(L14:O14)","v":0},null,null,null,null,{"$f":"SUM(Q14:T14)","v":0},null,null,null,null,{"$f":"SUM(V14:Y14)","v":0},null,null,null,null,{"$f":"SUM(AA14:AB14)","v":0}]
["OBSTÉTRICO",null,null,null,null,null,{"$f":"SUM(H15:J15)","v":0},null,null,null,{"$f":"SUM(L15:O15)","v":0},null,null,null,null,{"$f":"SUM(Q15:T15)","v":0},null,null,null,null,{"$f":"SUM(V15:Y15)","v":0},null,null,null,null,{"$f":"SUM(AA15:AB15)","v":0}]
["INDIFERENCIADO",null,null,null,null,null,{"$f":"SUM(H16:J16)","v":0},null,null,null,{"$f":"SUM(L16:O16)","v":0},null,null,null,null,{"$f":"SUM(Q16:T16)","v":0},null,null,null,null,{"$f":"SUM(V16:Y16)","v":0},null,null,null,null,{"$f":"SUM(AA16:AB16)","v":0}]
["SECCIÓN B:  PROCEDIMIENTOS COMPLEJOS AMBULATORIOS"]
["COMPONENTES","TOTAL","QUIMIOTERAPIA","HEMODIÁLISIS","CIRUGÍA \nMAYOR\nAMBULATORIA","CORONARIO\nGRAFÍA","OTRAS"]
["RECURSO DISPONIBLE",{"$f":"SUM(C19:G19)","v":0}]
["INGRESOS",{"$f":"SUM(C20:G20)","v":0}]
["PERSONAS ATENDIDAS",{"$f":"SUM(C21:G21)","v":0}]
["DÍAS PERSONAS ATENDIDAS",{"$f":"SUM(C22:G22)","v":0}]
["ALTAS",{"$f":"SUM(C23:G23)","v":0}]
["SECCIÓN C:  HOSPITALIZACIÓN DOMICILIARIA"]
["SECCIÓN C.1:  PERSONAS ATENDIDAS EN EL PROGRAMA"]
["COMPONENTES",null,"TOTAL","EDAD",null,"ORIGEN DE LA DERIVACIÓN"]
[null,null,null,"Menores de 15 años","15 años y más","APS","Urgencia","Hospitalización","Ambulatorio","Ley de Urgencia","UGCC"]
["INGRESOS",null,{"$f":"SUM(D28:E28)","v":0},null,null,null,null,null,null,null,null,{"$f":"CA28","v":""},null,null,null,null,null,null,null,null,null,null,null,null,null,null,null,null,null,null,null,null,null,null,null,null,null,null,null,null,null,null,null,null,null,null,null,null,null,null,null,null,null,null,null,null,null,null,null,null,null,null,null,null,null,null,null,null,null,null,null,null,null,null,null,null,null,null,{"$f":"IF(CG28=1,\" * La Suma de Personas por Origen de Derivación no puede ser Mayor a la suma de Personas por Edad. \",\"\")","v":""},null,null,null,null,null,{"$f":"IF(SUM(F28:K28)>C28,1,0)","v":0}]
["PERSONAS ATENDIDAS",null,0,null,null,null,null,null,null,null,null,{"$f":"CA29","v":""},null,null,null,null,null,null,null,null,null,null,null,null,null,null,null,null,null,null,null,null,null,null,null,null,null,null,null,null,null,null,null,null,null,null,null,null,null,null,null,null,null,null,null,null,null,null,null,null,null,null,null,null,null,null,null,null,null,null,null,null,null,null,null,null,null,null,{"$f":"IF(CG29=1,\" * La Suma de Personas por Origen de Derivación no puede ser Mayor a la suma de Personas por Edad. \",\"\")","v":""},null,null,null,null,null,{"$f":"IF(SUM(F29:K29)>C29,1,0)","v":0}]
["DÍAS PERSONAS ATENDIDAS",null,0,null,null,null,null,null,null,null,null,"",null,null,null,null,null,null,null,null,null,null,null,null,null,null,null,null,null,null,null,null,null,null,null,null,null,null,null,null,null,null,null,null,null,null,null,null,null,null,null,null,null,null,null,null,null,null,null,null,null,null,null,null,null,null,null,null,null,null,null,null,null,null,null,null,null,null,"",null,null,null,null,null,0]
["ALTAS",null,0,null,null,null,null,null,null,null,null,"",null,null,null,null,null,null,null,null,null,null,null,null,null,null,null,null,null,null,null,null,null,null,null,null,null,null,null,null,null,null,null,null,null,null,null,null,null,null,null,null,null,null,null,null,null,null,null,null,null,null,null,null,null,null,null,null,null,null,null,null,null,null,null,null,null,null,"",null,null,null,null,null,0]
["FALLECIDOS","Esperados",0,null,null,null,null,null,null,null,null,"",null,null,null,null,null,null,null,null,null,null,null,null,null,null,null,null,null,null,null,null,null,null,null,null,null,null,null,null,null,null,null,null,null,null,null,null,null,null,null,null,null,null,null,null,null,null,null,null,null,null,null,null,null,null,null,null,null,null,null,null,null,null,null,null,null,null,"",null,null,null,null,null,0]
[null,"No esperados ",0,null,null,null,null,null,null,null,null,"",null,null,null,null,null,null,null,null,null,null,null,null,null,null,null,null,null,null,null,null,null,null,null,null,null,null,null,null,null,null,null,null,null,null,null,null,null,null,null,null,null,null,null,null,null,null,null,null,null,null,null,null,null,null,null,null,null,null,null,null,null,null,null,null,null,null,"",null,null,null,null,null,0]
["REINGRESOS A HOSPITALIZACIÓN TRADICIONAL",null,0,null,null,null,null,null,null,null,null,"",null,null,null,null,null,null,null,null,null,null,null,null,null,null,null,null,null,null,null,null,null,null,null,null,null,null,null,null,null,null,null,null,null,null,null,null,null,null,null,null,null,null,null,null,null,null,null,null,null,null,null,null,null,null,null,null,null,null,null,null,null,null,null,null,null,null,"",null,null,null,null,null,0]
["SECCIÓN C.2:  VISITAS REALIZADAS "]
["COMPONENTE","Total"]
["MÉDICO"]
["ENFERMERA"]
["TÉCNICO PARAMÉDICO"]
["MATRONA"]
["KINESIÓLOGO"]
["PSICÓLOGO"]
["FONOAUDIÓLOGO"]
["TRABAJADOR SOCIAL"]
["TERAPEUTA OCUPACIONAL"]
["SECCIÓN C.3:  CUPOS DISPONIBLES"]
["COMPONENTES","TOTAL","N° de Cupos","N° de cupos CAM INV Adicionales"]
["NÚMERO CUPOS PROGRAMADOS",{"$f":"SUM(C48:D48)","v":0}]
["NÚMERO CUPOS UTILIZADOS",{"$f":"SUM(C49:D49)","v":0}]
["NÚMERO DE CUPOS DISPONIBLES",{"$f":"SUM(C50:D50)","v":0}]
["SECCIÓN D: APOYO PSICOSOCIAL EN NIÑOS (AS) HOSPITALIZADOS"]
["CONCEPTO","INTERVENCIÓN","TOTAL","Hasta 28 días","29 días hasta menor de 1 año ","1 a 4 años","5 a 9 años","10 a 14 años","15 a 19 años"]
["TOTAL DE EGRESOS (en el período)",null,{"$f":"SUM(D53:I53)","v":0},null,null,null,null,null,null,null,null,null,null,null,null,null,null,null,null,null,null,null,null,null,null,null,null,null,null,null,null,null,null,null,null,null,null,null,null,null,null,null,null,null,null,null,null,null,null,null,null,null,null,null,null,null,null,null,null,null,null,null,null,null,null,null,null,null,null,null,null,null,null,null,null,null,null,null,{"$f":"IF(D54+D55>D53,\"* La suma del Total egresados con apoyo psicosocial Hasta 28 días deben ser menor o igual al Total de Egresos de Hasta 28 días. \",\"\")","v":""},{"$f":"IF(E54+E55>E53,\"* La suma del Total egresados con apoyo psicosocial de 29 dias hasta menor de 1 año deben ser menor al Total de Egresos de de 29 dias hasta menor de 1 año. \",\"\")","v":""},{"$f":"IF(F54+F55>F53,\"* La suma del Total egresados con apoyo psicosocial de 1 a 4 años deben ser menor al Total de Egresos de 1 a 4 años. \",\"\")","v":""},{"$f":"IF(G54+G55>G53,\"* La suma del Total egresados con apoyo psicosocial de 9 años deben ser menor o igual al Total de Egresos de de 5 a 9 años. \",\"\")","v":""},{"$f":"IF(H54+H55>H53,\"* La suma del Total egresados con apoyo psicosocial de 10 a 14 años deben ser menor al Total de Egresos de 10 a 14 años. \",\"\")","v":""},{"$f":"IF(I54+I55>I53,\"* La suma del Total egresados con apoyo psicosocial de 15 a 19 años deben ser menor al Total de Egresos de 15 a 19 años. \",\"\")","v":""},{"$f":"IF(D54+D55>D53,1,0)","v":0},0,0,0,0,0]
["EGRESADOS CON APOYO PSICOSOCIAL (en el período)","Intervención Psicosocial",{"$f":"SUM(D54:I54)","v":0}]
[null,"Estimulación del Desarrollo",{"$f":"SUM(D55:I55)","v":0}]
["Nº DE ATENCIONES (en el mes)","Intervención Psicosocial",{"$f":"SUM(D56:I56)","v":0}]
[null,"Estimulación del Desarrollo",{"$f":"SUM(D57:I57)","v":0}]
["SECCIÓN E: GESTIÓN DE PROCESOS DE PACIENTES QUIRÚRGICOS CON CIRUGÍA ELECTIVA"]
["ESPECIALIDAD","DÍAS DE ESTADA PREQUIRÚRGICOS",null,"PACIENTES INTERVENIDOS",null,"PROGRAMACIÓN DE TABLA QUIRÚRGICA (N° DE PACIENTES)"]
[null,null,null,null,null,"PACIENTES PROGRAMADOS",null,"PACIENTES SUSPENDIDOS"]
[null,"Menores de 15 años","15 años y más","Menores de 15 años","15 años y más","Menores de 15 años","15 años y más","Menores de 15 años","15 años y más"]
["CIRUGÍA GENERAL",null,null,null,null,null,null,null,null,{"$f":"CA62","v":""},null,null,null,null,null,null,null,null,null,null,null,null,null,null,null,null,null,null,null,null,null,null,null,null,null,null,null,null,null,null,null,null,null,null,null,null,null,null,null,null,null,null,null,null,null,null,null,null,null,null,null,null,null,null,null,null,null,null,null,null,null,null,null,null,null,null,null,null,{"$f":"IF(CG62=1,\" * La suma de los Pacientes Intervenidos debe ser mayor o igual a la Suma de Pacientes Programados menos la Suma de Pacientes Suspendidos. \",\"\")","v":""},null,null,null,null,null,{"$f":"IF(((F62+G62)-(H62+I62))>(D62+E62),1,0)","v":0}]
["CIRUGÍA CARDIOVASCULAR",null,null,null,null,null,null,null,null,{"$f":"CA63","v":""},null,null,null,null,null,null,null,null,null,null,null,null,null,null,null,null,null,null,null,null,null,null,null,null,null,null,null,null,null,null,null,null,null,null,null,null,null,null,null,null,null,null,null,null,null,null,null,null,null,null,null,null,null,null,null,null,null,null,null,null,null,null,null,null,null,null,null,null,{"$f":"IF(CG63=1,\" * La suma de los Pacientes Intervenidos debe ser mayor o igual a la Suma de Pacientes Programados menos la Suma de Pacientes Suspendidos. \",\"\")","v":""},null,null,null,null,null,{"$f":"IF(((F63+G63)-(H63+I63))>(D63+E63),1,0)","v":0}]
["CIRUGÍA MÁXILOFACIAL",null,null,null,null,null,null,null,null,"",null,null,null,null,null,null,null,null,null,null,null,null,null,null,null,null,null,null,null,null,null,null,null,null,null,null,null,null,null,null,null,null,null,null,null,null,null,null,null,null,null,null,null,null,null,null,null,null,null,null,null,null,null,null,null,null,null,null,null,null,null,null,null,null,null,null,null,null,"",null,null,null,null,null,0]
["CIRUGÍA TÓRAX",null,null,null,null,null,null,null,null,"",null,null,null,null,null,null,null,null,null,null,null,null,null,null,null,null,null,null,null,null,null,null,null,null,null,null,null,null,null,null,null,null,null,null,null,null,null,null,null,null,null,null,null,null,null,null,null,null,null,null,null,null,null,null,null,null,null,null,null,null,null,null,null,null,null,null,null,null,"",null,null,null,null,null,0]
["TRAUMATOLOGÍA",null,null,null,null,null,null,null,null,"",null,null,null,null,null,null,null,null,null,null,null,null,null,null,null,null,null,null,null,null,null,null,null,null,null,null,null,null,null,null,null,null,null,null,null,null,null,null,null,null,null,null,null,null,null,null,null,null,null,null,null,null,null,null,null,null,null,null,null,null,null,null,null,null,null,null,null,null,"",null,null,null,null,null,0]
["NEUROCIRUGÍA",null,null,null,null,null,null,null,null,"",null,null,null,null,null,null,null,null,null,null,null,null,null,null,null,null,null,null,null,null,null,null,null,null,null,null,null,null,null,null,null,null,null,null,null,null,null,null,null,null,null,null,null,null,null,null,null,null,null,null,null,null,null,null,null,null,null,null,null,null,null,null,null,null,null,null,null,null,"",null,null,null,null,null,0]
["OTORRINOLARINGOLOGÍA",null,null,null,null,null,null,null,null,"",null,null,null,null,null,null,null,null,null,null,null,null,null,null,null,null,null,null,null,null,null,null,null,null,null,null,null,null,null,null,null,null,null,null,null,null,null,null,null,null,null,null,null,null,null,null,null,null,null,null,null,null,null,null,null,null,null,null,null,null,null,null,null,null,null,null,null,null,"",null,null,null,null,null,0]
["OFTALMOLOGÍA",null,null,null,null,null,null,null,null,"",null,null,null,null,null,null,null,null,null,null,null,null,null,null,null,null,null,null,null,null,null,null,null,null,null,null,null,null,null,null,null,null,null,null,null,null,null,null,null,null,null,null,null,null,null,null,null,null,null,null,null,null,null,null,null,null,null,null,null,null,null,null,null,null,null,null,null,null,"",null,null,null,null,null,0]
["OBSTETRICIA Y GINECOLOGÍA",null,null,null,null,null,null,null,null,"",null,null,null,null,null,null,null,null,null,null,null,null,null,null,null,null,null,null,null,null,null,null,null,null,null,null,null,null,null,null,null,null,null,null,null,null,null,null,null,null,null,null,null,null,null,null,null,null,null,null,null,null,null,null,null,null,null,null,null,null,null,null,null,null,null,null,null,null,"",null,null,null,null,null,0]
["GINECOLOGÍA",null,null,null,null,null,null,null,null,"",null,null,null,null,null,null,null,null,null,null,null,null,null,null,null,null,null,null,null,null,null,null,null,null,null,null,null,null,null,null,null,null,null,null,null,null,null,null,null,null,null,null,null,null,null,null,null,null,null,null,null,null,null,null,null,null,null,null,null,null,null,null,null,null,null,null,null,null,"",null,null,null,null,null,0]
["UROLOGÍA",null,null,null,null,null,null,null,null,"",null,null,null,null,null,null,null,null,null,null,null,null,null,null,null,null,null,null,null,null,null,null,null,null,null,null,null,null,null,null,null,null,null,null,null,null,null,null,null,null,null,null,null,null,null,null,null,null,null,null,null,null,null,null,null,null,null,null,null,null,null,null,null,null,null,null,null,null,"",null,null,null,null,null,0]
["RESTO ESPECIALIDADES",null,null,null,null,null,null,null,null,"",null,null,null,null,null,null,null,null,null,null,null,null,null,null,null,null,null,null,null,null,null,null,null,null,null,null,null,null,null,null,null,null,null,null,null,null,null,null,null,null,null,null,null,null,null,null,null,null,null,null,null,null,null,null,null,null,null,null,null,null,null,null,null,null,null,null,null,null,{"$f":"IF(CG73=1,\" * La suma de los Pacientes Intervenidos debe ser mayor o igual a la Suma de Pacientes Programados menos la Suma de Pacientes Suspendidos. \",\"\")","v":""},null,null,null,null,null,0]
["TOTAL",{"$f":"SUM(B62:B73)","v":0},0,0,0,0,0,0,0]
["SECCIÓN F: CAUSAS DE SUSPENSIÓN DE CIRUGÍAS ELECTIVAS"]
["CAUSAS DE SUSPENSIÓN ATRIBUIBLES A:\n","Nº DE PERSONAS"]
[null,"TOTALES","Menores de 15 años","15 años y más","Beneficiarios MAI","Beneficiarios MLE","Otros"]
["PACIENTE",{"$f":"SUM(C78+D78)","v":0},null,null,null,null,null,{"$f":"CA78","v":""},null,null,null,null,null,null,null,null,null,null,null,null,null,null,null,null,null,null,null,null,null,null,null,null,null,null,null,null,null,null,null,null,null,null,null,null,null,null,null,null,null,null,null,null,null,null,null,null,null,null,null,null,null,null,null,null,null,null,null,null,null,null,null,null,null,null,null,null,null,null,{"$f":"IF(CH78=1,\" * La suma de los Beneficiarios MAI, MLE y Otros debe seri igual al Total. \",\"\")","v":""},null,null,null,null,null,null,{"$f":"IF(B78<>(E78+F78+G78),1,0)","v":0}]
["ADMINISTRATIVAS",0,null,null,null,null,null,{"$f":"CA79","v":""},null,null,null,null,null,null,null,null,null,null,null,null,null,null,null,null,null,null,null,null,null,null,null,null,null,null,null,null,null,null,null,null,null,null,null,null,null,null,null,null,null,null,null,null,null,null,null,null,null,null,null,null,null,null,null,null,null,null,null,null,null,null,null,null,null,null,null,null,null,null,{"$f":"IF(CH79=1,\" * La suma de los Beneficiarios MAI, MLE y Otros debe seri igual al Total. \",\"\")","v":""},null,null,null,null,null,null,0]
["UNIDAD DE APOYO CLÍNICO",0,null,null,null,null,null,"",null,null,null,null,null,null,null,null,null,null,null,null,null,null,null,null,null,null,null,null,null,null,null,null,null,null,null,null,null,null,null,null,null,null,null,null,null,null,null,null,null,null,null,null,null,null,null,null,null,null,null,null,null,null,null,null,null,null,null,null,null,null,null,null,null,null,null,null,null,null,"",null,null,null,null,null,null,0]
["EQUIPO QUIRÚRGICO",0,null,null,null,null,null,"",null,null,null,null,null,null,null,null,null,null,null,null,null,null,null,null,null,null,null,null,null,null,null,null,null,null,null,null,null,null,null,null,null,null,null,null,null,null,null,null,null,null,null,null,null,null,null,null,null,null,null,null,null,null,null,null,null,null,null,null,null,null,null,null,null,null,null,null,null,null,"",null,null,null,null,null,null,0]
["INFRAESTRUCTURA",0,null,null,null,null,null,"",null,null,null,null,null,null,null,null,null,null,null,null,null,null,null,null,null,null,null,null,null,null,null,null,null,null,null,null,null,null,null,null,null,null,null,null,null,null,null,null,null,null,null,null,null,null,null,null,null,null,null,null,null,null,null,null,null,null,null,null,null,null,null,null,null,null,null,null,null,null,"",null,null,null,null,null,null,0]
["EMERGENCIAS",0,null,null,null,null,null,"",null,null,null,null,null,null,null,null,null,null,null,null,null,null,null,null,null,null,null,null,null,null,null,null,null,null,null,null,null,null,null,null,null,null,null,null,null,null,null,null,null,null,null,null,null,null,null,null,null,null,null,null,null,null,null,null,null,null,null,null,null,null,null,null,null,null,null,null,null,null,"",null,null,null,null,null,null,0]
["GREMIALES",0,null,null,null,null,null,"",null,null,null,null,null,null,null,null,null,null,null,null,null,null,null,null,null,null,null,null,null,null,null,null,null,null,null,null,null,null,null,null,null,null,null,null,null,null,null,null,null,null,null,null,null,null,null,null,null,null,null,null,null,null,null,null,null,null,null,null,null,null,null,null,null,null,null,null,null,null,"",null,null,null,null,null,null,0]
["TOTAL",{"$f":"SUM(B78:B84)","v":0},0,0,0,0,0,"",null,null,null,null,null,null,null,null,null,null,null,null,null,null,null,null,null,null,null,null,null,null,null,null,null,null,null,null,null,null,null,null,null,null,null,null,null,null,null,null,null,null,null,null,null,null,null,null,null,null,null,null,null,null,null,null,null,null,null,null,null,null,null,null,null,null,null,null,null,null,{"$f":"IF(CG85=1,\" * El total de causas de suspensión debe coincidir con la suma de Suspendidos sección F. \",\"\")","v":""},null,null,null,null,null,{"$f":"IF(B85<>(H74+I74),1,0)","v":0}]
[]
[]
[]
[]
[]
[]
[]
[]
[]
[]
[]
[]
[]
[]
[]
[]
[]
[]
[]
[]
[]
[]
[]
[]
[]
[]
[]
[]
[]
[]
[]
[]
[]
[]
[]
[]
[]
[]
[]
[]
[]
[]
[]
[]
[]
[]
[]
[]
[]
[]
[]
[]
[]
[]
[]
[]
[]
[]
[]
[]
[]
[]
[]
[]
[]
[]
[]
[]
[]
[]
[]
[]
[]
[]
[]
[]
[]
[]
[]
[]
[]
[]
[]
[]
[]
[]
[]
[]
[]
[]
[]
[]
[]
[]
[]
[]
[]
[]
[]
[]
[]
[]
[]
[]
[]
[]
[]
[]
[]
[]
[]
[{"$f":"SUM(B12:O12,B19:B23,B45,C53,B74:I74,B85:G85,C54:C57,B48:B50,C28:C34)","v":0},{"$f":"SUM(CG3:CN101)","v":0}]

{"sheet":"A23","index":14,"n_rows":197,"n_cols":86,"rows_kept":197,"cut":false,"hidden":false,"merged":[[156,0,156,1],[157,0,157,1],[165,0,166,1],[165,2,166,2],[165,3,165,4],[167,0,167,1],[168,0,168,1],[158,0,158,1],[159,0,159,1],[161,0,162,2],[161,3,162,3],[161,4,161,5],[163,0,163,2],[151,0,151,2],[153,0,154,1],[153,2,154,4],[153,5,153,36],[154,5,154,6],[154,7,154,8],[154,9,154,10],[154,11,154,12],[154,13,154,14],[154,15,154,16],[154,29,154,30],[154,31,154,32],[154,33,154,34],[154,35,154,36],[154,17,154,18],[154,19,154,20],[154,21,154,22],[154,23,154,24],[154,25,154,26],[154,27,154,28],[146,1,146,2],[147,0,150,0],[147,1,147,2],[148,1,148,2],[149,1,149,2],[150,1,150,2],[139,0,139,2],[141,0,141,2],[142,0,145,0],[142,1,142,2],[143,1,143,2],[144,1,144,2],[145,1,145,2],[133,0,133,2],[134,0,134,2],[135,0,135,2],[136,0,136,2],[137,0,137,2],[138,0,138,2],[121,29,121,30],[121,31,121,32],[121,33,121,34],[129,0,129,1],[132,0,132,2],[121,17,121,18],[121,19,121,20],[121,21,121,22],[121,23,121,24],[121,25,121,26],[121,27,121,28],[120,0,122,1],[120,2,121,4],[120,5,120,36],[120,37,122,37],[121,5,121,6],[121,7,121,8],[121,9,121,10],[121,11,121,12],[121,13,121,14],[121,15,121,16],[113,0,113,1],[114,0,114,1],[115,0,115,1],[116,0,116,1],[117,0,117,1],[118,0,118,1],[121,35,121,36],[105,0,105,1],[106,0,106,1],[108,0,108,1],[109,0,109,1],[110,0,110,1],[111,0,111,1],[99,0,99,1],[100,0,100,1],[101,0,101,1],[102,0,102,1],[103,0,103,1],[104,0,104,1],[93,0,93,1],[94,0,94,1],[96,0,98,1],[96,2,97,4],[96,5,96,36],[96,37,98,37],[97,5,97,6],[97,7,97,8],[97,9,97,10],[97,11,97,12],[97,25,97,26],[97,27,97,28],[97,29,97,30],[97,31,97,32],[97,33,97,34],[97,35,97,36],[97,13,97,14],[97,15,97,16],[97,17,97,18],[97,19,97,20],[97,21,97,22],[97,23,97,24],[89,10,90,10],[89,11,90,11],[89,12,90,12],[89,13,89,14],[91,0,91,1],[92,0,92,1],[89,3,90,3],[89,4,90,4],[89,5,90,5],[89,6,90,6],[89,7,90,7],[89,8,90,8],[84,0,84,1],[85,0,85,1],[86,0,86,1],[87,0,87,1],[89,0,90,1],[89,2,90,2],[79,31,79,32],[79,33,79,34],[79,35,79,36],[81,0,81,1],[82,0,82,1],[83,0,83,1],[79,19,79,20],[79,21,79,22],[79,23,79,24],[79,25,79,26],[79,27,79,28],[79,29,79,30],[78,0,80,1],[78,2,79,4],[78,5,78,36],[79,5,79,6],[79,7,79,8],[79,9,79,10],[79,11,79,12],[79,13,79,14],[79,15,79,16],[79,17,79,18],[72,31,72,32],[72,33,72,34],[72,35,72,36],[74,0,74,1],[75,0,75,1],[76,0,76,1],[71,38,73,38],[72,5,72,6],[72,7,72,8],[72,9,72,10],[72,11,72,12],[72,13,72,14],[72,15,72,16],[72,17,72,18],[72,19,72,20],[72,21,72,22],[68,0,68,1],[69,0,69,1],[71,0,73,1],[71,2,72,4],[71,5,71,36],[71,37,73,37],[72,23,72,24],[72,25,72,26],[72,27,72,28],[72,29,72,30],[66,0,66,1],[67,0,67,1],[63,37,65,37],[64,5,64,6],[64,7,64,8],[64,9,64,10],[64,11,64,12],[64,13,64,14],[64,15,64,16],[64,17,64,18],[64,19,64,20],[64,21,64,22],[61,0,61,1],[63,0,65,1],[63,2,64,4],[63,5,63,36],[64,23,64,24],[64,25,64,26],[64,27,64,28],[64,29,64,30],[64,31,64,32],[64,33,64,34],[64,35,64,36],[57,37,60,37],[58,5,59,6],[58,7,59,8],[58,9,59,10],[58,11,59,12],[58,13,59,14],[58,15,59,16],[58,17,59,18],[58,19,59,20],[58,21,59,22],[58,31,59,32],[58,33,59,34],[58,35,59,36],[53,0,53,1],[54,0,54,1],[55,0,55,1],[57,0,60,1],[57,2,59,4],[57,5,57,36],[58,23,59,24],[58,25,59,26],[58,27,59,28],[58,29,59,30],[48,0,48,1],[49,0,49,1],[50,0,50,1],[51,0,51,1],[52,0,52,1],[45,27,46,28],[45,29,46,30],[45,31,46,32],[45,33,46,34],[45,15,46,16],[45,17,46,18],[45,19,46,20],[45,21,46,22],[45,23,46,24],[45,25,46,26],[42,0,42,1],[44,0,47,1],[44,2,46,4],[44,5,44,36],[44,37,45,38],[45,5,46,6],[45,7,46,8],[45,9,46,10],[45,11,46,12],[45,13,46,14],[46,38,47,38],[45,35,46,36],[46,37,47,37],[35,0,36,0],[37,0,37,1],[38,0,38,1],[39,0,39,1],[40,0,40,1],[41,0,41,1],[26,29,27,30],[26,31,27,32],[26,33,27,34],[29,0,31,0],[32,0,34,0],[26,17,27,18],[26,19,27,20],[26,21,27,22],[26,23,27,24],[26,25,27,26],[26,27,27,28],[25,0,28,1],[25,2,27,4],[25,5,25,36],[25,37,28,37],[26,5,27,6],[26,7,27,8],[26,9,27,10],[26,11,27,12],[26,13,27,14],[26,15,27,16],[18,0,18,1],[19,0,19,1],[20,0,20,1],[21,0,21,1],[22,0,22,1],[23,0,23,1],[26,35,27,36],[12,0,12,1],[13,0,13,1],[14,0,14,1],[15,0,15,1],[16,0,16,1],[17,0,17,1],[9,25,10,26],[9,27,10,28],[9,29,10,30],[5,0,5,21],[8,0,11,1],[8,2,10,4],[8,5,8,36],[8,37,11,37],[8,38,11,38],[9,5,10,6],[9,7,10,8],[9,9,10,10],[9,11,10,12],[9,31,10,32],[9,33,10,34],[9,35,10,36],[9,13,10,14],[9,15,10,16],[9,17,10,18],[9,19,10,20],[9,21,10,22],[9,23,10,24]]}
["SERVICIO DE SALUD"]
[{"$f":"CONCATENATE(\"COMUNA: \",NOMBRE!B2,\" - \",\"( \",NOMBRE!C2,NOMBRE!D2,NOMBRE!E2,NOMBRE!F2,NOMBRE!G2,\" )\")","v":"COMUNA:  - (  )"}]
[{"$f":"CONCATENATE(\"ESTABLECIMIENTO/ESTRATEGIA: \",NOMBRE!B3,\" - \",\"( \",NOMBRE!C3,NOMBRE!D3,NOMBRE!E3,NOMBRE!F3,NOMBRE!G3,NOMBRE!H3,\" )\")","v":"ESTABLECIMIENTO/ESTRATEGIA:  - (  )"}]
[{"$f":"CONCATENATE(\"MES: \",NOMBRE!B6,\" - \",\"( \",NOMBRE!C6,NOMBRE!D6,\" )\")","v":"MES:  - (  )"}]
[{"$f":"CONCATENATE(\"AÑO: \",NOMBRE!B7)","v":"AÑO: 2020"}]
["REM-23.   SALAS: IRA, ERA Y MIXTAS EN APS"]
[]
["SECCIÓN A: INGRESOS AGUDOS SEGÚN DIAGNOSTICO"]
["DIAGNÓSTICOS",null,"TOTAL",null,null,"POR EDAD",null,null,null,null,null,null,null,null,null,null,null,null,null,null,null,null,null,null,null,null,null,null,null,null,null,null,null,null,null,null,null," REINGRESOS","Por Campaña de Invierno"]
[null,null,null,null,null,"Menos \n1 año",null,"1 - 4 \naños",null,"5 - 9 \naños",null,"10 - 14\naños",null,"15 - 19\naños",null,"20 a 24 años\n",null,"25 a 39 años",null,"40 - 44 años",null,"45 - 49 años",null,"50 - 54 años",null,"55 - 59 años",null,"60 - 64 años",null,"65 - 69 años",null,"70 - 74 años",null,"75 - 79 años",null,"80 y mas años"]
[]
[null,null,"Ambos Sexos","Hombres","Mujeres","Hombres","Mujeres","Hombres","Mujeres","Hombres","Mujeres","Hombres","Mujeres","Hombres","Mujeres","Hombres","Mujeres","Hombres","Mujeres","Hombres","Mujeres","Hombres","Mujeres","Hombres","Mujeres","Hombres","Mujeres","Hombres","Mujeres","Hombres","Mujeres","Hombres","Mujeres","Hombres","Mujeres","Hombres","Mujeres"]
["I.R.A. ALTA",null,{"$f":"SUM(D13+E13)","v":0},{"$f":"SUM(F13+H13+J13+L13+N13+P13+R13+T13+V13+X13+Z13+AB13+AD13+AF13+AH13+AJ13)","v":0},{"$f":"SUM(G13+I13+K13+M13+O13+Q13+S13+U13+W13+Y13+AA13+AC13+AE13+AG13+AI13+AK13)","v":0}]
["INFLUENZA",null,{"$f":"SUM(D14+E14)","v":0},{"$f":"SUM(F14+H14+J14+L14+N14+P14+R14+T14+V14+X14+Z14+AB14+AD14+AF14+AH14+AJ14)","v":0},0]
["NEUMONÍA ",null,0,0,0]
["COQUELUCHE",null,0,0,0]
["BRONQUITIS OBSTRUCTIVA AGUDA",null,0,0,0]
["OTRAS IRAS  BAJAS",null,0,0,0]
["EXACERBACIÓN SÍNDROME BRONQUIAL OBSTRUCTIVO RECURRENTE (SBOR)",null,0,0,0]
["EXACERBACIÓN ASMA",null,0,0,0]
["EXACERBACIÓN DE ENFERMEDAD PULMONAR OBSTRUCTIVA CRÓNICA (EPOC)",null,0,0,0]
["EXACERBACIÓN FIBROSIS QUÍSTICA",null,0,0,0]
["EXACERBACIÓN OTRAS RESPIRATORIAS CRÓNICAS",null,0,0,0]
["TOTAL",null,{"$f":"SUM(C13:C23)","v":0},0,0,0,0,0,0,0,0,0,0,0,0,0,0,0,0,0,0,0,0,0,0,0,0,0,0,0,0,0,0,0,0,0,0,0,0]
["SECCIÓN B: INGRESO CRÓNICO SEGÚN DIAGNÓSTICO (SOLO MÉDICO)"]
["DIAGNÓSTICOS",null,"TOTAL",null,null,"POR EDAD",null,null,null,null,null,null,null,null,null,null,null,null,null,null,null,null,null,null,null,null,null,null,null,null,null,null,null,null,null,null,null," REINGRESOS"]
[null,null,null,null,null,"Menos \n1 año",null,"1 - 4 \naños",null,"5 - 9 \naños",null,"10 - 14\naños",null,"15 - 19\naños",null,"20 a 24 años\n",null,"25 a 39 años",null,"40 - 44 años",null,"45 - 49 años",null,"50 - 54 años",null,"55 - 59 años",null,"60 - 64 años",null,"65 - 69 años",null,"70 - 74 años",null,"75 - 79 años",null,"80 y mas años"]
[]
[null,null,"Ambos Sexos","Hombres","Mujeres","Hombres","Mujeres","Hombres","Mujeres","Hombres","Mujeres","Hombres","Mujeres","Hombres","Mujeres","Hombres","Mujeres","Hombres","Mujeres","Hombres","Mujeres","Hombres","Mujeres","Hombres","Mujeres","Hombres","Mujeres","Hombres","Mujeres","Hombres","Mujeres","Hombres","Mujeres","Hombres","Mujeres","Hombres","Mujeres"]
["SÍNDROME BRONQUIAL OBSTRUCTIVO RECURRENTE (SBOR)","Leve",{"$f":"SUM(D30+E30)","v":0},{"$f":"SUM(F30+H30)","v":0},0]
[null,"Moderado",0,0,0]
[null,"Severo",0,0,0]
["ASMA BRONQUIAL","Leve",0,{"$f":"SUM(H33+J33+L33+N33+P33+R33+T33+V33+X33+Z33+AB33+AD33+AF33+AH33+AJ33)","v":0},0]
[null,"Moderado",0,0,0]
[null,"Severo",0,0,0]
["ENFERMEDAD PULMONAR OBSTRUCTIVA CRÓNICA (EPOC)","Tipo A",0,{"$f":"SUM(T36+V36+X36+Z36+AB36+AD36+AF36+AH36+AJ36)","v":0},{"$f":"SUM(U36+W36+Y36+AA36+AC36+AE36+AG36+AI36+AK36)","v":0}]
[null,"Tipo B",0,{"$f":"SUM(F37+H37+J37+L37+N37+P37+R37+T37+V37+X37+Z37+AB37+AD37+AF37+AH37+AJ37)","v":0},0]
["DISPLASIA BRONCOPULMONAR",null,0,0,0]
["FIBROSIS QUÍSTICA",null,0,0,0]
["OXIGENO DEPENDIENTE",null,0,0,0]
["ASISTENCIA VENTILATORIA NO INVASIVA O INVASIVA ",null,0,0,0]
["OTRAS RESPIRATORIAS CRÓNICAS",null,0,0,0]
["TOTAL",null,{"$f":"SUM(C30:C42)","v":0},0,0,0,0,0,0,0,0,0,0,0,0,0,0,0,0,0,0,0,0,0,0,0,0,0,0,0,0,0,0,0,0,0,0,0]
["SECCION C: EGRESOS"]
["PROGRAMAS",null,"TOTAL",null,null,"POR EDAD",null,null,null,null,null,null,null,null,null,null,null,null,null,null,null,null,null,null,null,null,null,null,null,null,null,null,null,null,null,null,null,"CAUSAL"]
[null,null,null,null,null,"Menos \n1 año",null,"1 - 4 \naños",null,"5 - 9 \naños",null,"10 - 14\naños",null,"15 - 19\naños",null,"20 a 24 años\n",null,"25 a 39 años",null,"40 - 44 años",null,"45 - 49 años",null,"50 - 54 años",null,"55 - 59 años",null,"60 - 64 años",null,"65 - 69 años",null,"70 - 74 años",null,"75 - 79 años",null,"80 y mas años"]
[null,null,null,null,null,null,null,null,null,null,null,null,null,null,null,null,null,null,null,null,null,null,null,null,null,null,null,null,null,null,null,null,null,null,null,null,null,"Abandono","Fallecimiento"]
[null,null,"Ambos Sexos","Hombres","Mujeres","Hombres","Mujeres","Hombres","Mujeres","Hombres","Mujeres","Hombres","Mujeres","Hombres","Mujeres","Hombres","Mujeres","Hombres","Mujeres","Hombres","Mujeres","Hombres","Mujeres","Hombres","Mujeres","Hombres","Mujeres","Hombres","Mujeres","Hombres","Mujeres","Hombres","Mujeres","Hombres","Mujeres","Hombres","Mujeres"]
["SÍNDROME BRONQUIAL OBSTRUCTIVA RECURRENTE (SBOR)",null,{"$f":"SUM(D49+E49)","v":0},{"$f":"SUM(F49+H49)","v":0},{"$f":"SUM(G49+I49)","v":0},null,null,null,null,null,null,null,null,null,null,null,null,null,null,null,null,null,null,null,null,null,null,null,null,null,null,null,null,null,null,null,null,null,null,null,null,null,null,null,null,null,null,null,null,null,null,null,null,null,null,null,null,null,null,null,null,null,null,null,null,null,null,null,null,null,null,null,null,null,null,null,null,null,null,null,null,null,null,null,0]
["ASMA BRONQUIAL",null,0,{"$f":"SUM(H50+J50+L50+N50+P50+R50+T50+V50+X50+Z50+AB50+AD50+AF50+AH50+AJ50)","v":0},{"$f":"SUM(I50+K50+M50+O50+Q50+S50+U50+W50+Y50+AA50+AC50+AE50+AG50+AI50+AK50)","v":0},null,null,null,null,null,null,null,null,null,null,null,null,null,null,null,null,null,null,null,null,null,null,null,null,null,null,null,null,null,null,null,null,null,null,null,null,null,null,null,null,null,null,null,null,null,null,null,null,null,null,null,null,null,null,null,null,null,null,null,null,null,null,null,null,null,null,null,null,null,null,null,null,null,null,null,null,null,null,null,0]
["ENFERMEDAD PULMONAR OBSTRUCTIVA CRÓNICA (EPOC)",null,0,{"$f":"SUM(T51+V51+X51+Z51+AB51+AD51+AF51+AH51+AJ51)","v":0},{"$f":"SUM(U51+W51+Y51+AA51+AC51+AE51+AG51+AI51+AK51)","v":0},null,null,null,null,null,null,null,null,null,null,null,null,null,null,null,null,null,null,null,null,null,null,null,null,null,null,null,null,null,null,null,null,null,null,null,null,null,null,null,null,null,null,null,null,null,null,null,null,null,null,null,null,null,null,null,null,null,null,null,null,null,null,null,null,null,null,null,null,null,null,null,null,null,null,null,null,null,null,null,0]
["DISPLASIA BRONCOPULMONAR",null,0,{"$f":"SUM(F52+H52+J52+L52+N52+P52+R52+T52+V52+X52+Z52+AB52+AD52+AF52+AH52+AJ52)","v":0},0,null,null,null,null,null,null,null,null,null,null,null,null,null,null,null,null,null,null,null,null,null,null,null,null,null,null,null,null,null,null,null,null,null,null,null,null,null,null,null,null,null,null,null,null,null,null,null,null,null,null,null,null,null,null,null,null,null,null,null,null,null,null,null,null,null,null,null,null,null,null,null,null,null,null,null,null,null,null,null,0]
["FIBROSIS QUÍSTICA",null,0,0,0,null,null,null,null,null,null,null,null,null,null,null,null,null,null,null,null,null,null,null,null,null,null,null,null,null,null,null,null,null,null,null,null,null,null,null,null,null,null,null,null,null,null,null,null,null,null,null,null,null,null,null,null,null,null,null,null,null,null,null,null,null,null,null,null,null,null,null,null,null,null,null,null,null,null,null,null,null,null,null,0]
["OXÍGENO DEPENDIENTE",null,0,0,0,null,null,null,null,null,null,null,null,null,null,null,null,null,null,null,null,null,null,null,null,null,null,null,null,null,null,null,null,null,null,null,null,null,null,null,null,null,null,null,null,null,null,null,null,null,null,null,null,null,null,null,null,null,null,null,null,null,null,null,null,null,null,null,null,null,null,null,null,null,null,null,null,null,null,null,null,null,null,null,0]
["ASISTENCIA VENTILATORIA NO INVASIVA O INVASIVA ",null,0,0,0,null,null,null,null,null,null,null,null,null,null,null,null,null,null,null,null,null,null,null,null,null,null,null,null,null,null,null,null,null,null,null,null,null,null,null,null,null,null,null,null,null,null,null,null,null,null,null,null,null,null,null,null,null,null,null,null,null,null,null,null,null,null,null,null,null,null,null,null,null,null,null,null,null,null,null,null,null,null,null,0]
["OTRAS RESPIRATORIAS CRÓNICAS",null,0,0,0,null,null,null,null,null,null,null,null,null,null,null,null,null,null,null,null,null,null,null,null,null,null,null,null,null,null,null,null,null,null,null,null,null,null,null,null,null,null,null,null,null,null,null,null,null,null,null,null,null,null,null,null,null,null,null,null,null,null,null,null,null,null,null,null,null,null,null,null,null,null,null,null,null,null,null,null,null,null,null,0]
["SECCIÓN D: CONSULTAS DE MORBILIDAD POR ENFERMEDADES RESPIRATORIAS EN SALAS IRA, ERA Y MIXTA"]
["PROFESIONAL",null,"TOTAL",null,null,"POR EDAD",null,null,null,null,null,null,null,null,null,null,null,null,null,null,null,null,null,null,null,null,null,null,null,null,null,null,null,null,null,null,null,"A BENEFICIARIOS"]
[null,null,null,null,null,"Menos \n1 año",null,"1 - 4 \naños",null,"5 - 9 \naños",null,"10 - 14\naños",null,"15 - 19\naños",null,"20 a 24 años\n",null,"25 a 39 años",null,"40 - 44 años",null,"45 - 49 años",null,"50 - 54 años",null,"55 - 59 años",null,"60 - 64 años",null,"65 - 69 años",null,"70 - 74 años",null,"75 - 79 años",null,"80 y mas años"]
[]
[null,null,"Ambos Sexos","Hombres","Mujeres","Hombres","Mujeres","Hombres","Mujeres","Hombres","Mujeres","Hombres","Mujeres","Hombres","Mujeres","Hombres","Mujeres","Hombres","Mujeres","Hombres","Mujeres","Hombres","Mujeres","Hombres","Mujeres","Hombres","Mujeres","Hombres","Mujeres","Hombres","Mujeres","Hombres","Mujeres","Hombres","Mujeres","Hombres","Mujeres"]
["MÉDICO",null,{"$f":"SUM(D62+E62)","v":0},{"$f":"SUM(F62+H62+J62+L62+N62+P62+R62+T62+V62+X62+Z62+AB62+AD62+AF62+AH62+AJ62)","v":0},{"$f":"SUM(G62+I62+K62+M62+O62+Q62+S62+U62+W62+Y62+AA62+AC62+AE62+AG62+AI62+AK62)","v":0},null,null,null,null,null,null,null,null,null,null,null,null,null,null,null,null,null,null,null,null,null,null,null,null,null,null,null,null,null,null,null,null,null,null,null,null,null,null,null,null,null,null,null,null,null,null,null,null,null,null,null,null,null,null,null,null,null,null,null,null,null,null,null,null,null,null,null,null,null,null,null,null,null,null,null,null,null,null,null,0,0]
["SECCIÓN E: CONTROLES REALIZADOS (CRONICOS)"]
["PROFESIONAL",null,"TOTAL",null,null,"POR EDAD",null,null,null,null,null,null,null,null,null,null,null,null,null,null,null,null,null,null,null,null,null,null,null,null,null,null,null,null,null,null,null,"A BENEFICIARIOS"]
[null,null,null,null,null,"Menos \n1 año",null,"1 - 4 \naños",null,"5 - 9 \naños",null,"10 - 14\naños",null,"15 - 19\naños",null,"20 a 24 años\n",null,"25 a 39 años",null,"40 - 44 años",null,"45 - 49 años",null,"50 - 54 años",null,"55 - 59 años",null,"60 - 64 años",null,"65 - 69 años",null,"70 - 74 años",null,"75 - 79 años",null,"80 y mas años"]
[null,null,"Ambos Sexos","Hombres","Mujeres","Hombres","Mujeres","Hombres","Mujeres","Hombres","Mujeres","Hombres","Mujeres","Hombres","Mujeres","Hombres","Mujeres","Hombres","Mujeres","Hombres","Mujeres","Hombres","Mujeres","Hombres","Mujeres","Hombres","Mujeres","Hombres","Mujeres","Hombres","Mujeres","Hombres","Mujeres","Hombres","Mujeres","Hombres","Mujeres"]
["MÉDICO",null,{"$f":"SUM(D67+E67)","v":0},{"$f":"SUM(F67+H67+J67+L67+N67+P67+R67+T67+V67+X67+Z67+AB67+AD67+AF67+AH67+AJ67)","v":0},0,null,null,null,null,null,null,null,null,null,null,null,null,null,null,null,null,null,null,null,null,null,null,null,null,null,null,null,null,null,null,null,null,null,null,null,null,null,null,null,null,null,null,null,null,null,null,null,null,null,null,null,null,null,null,null,null,null,null,null,null,null,null,null,null,null,null,null,null,null,null,null,null,null,null,null,null,null,null,null,0,0]
["ENFERMERA",null,{"$f":"SUM(D68+E68)","v":0},0,0,null,null,null,null,null,null,null,null,null,null,null,null,null,null,null,null,null,null,null,null,null,null,null,null,null,null,null,null,null,null,null,null,null,null,null,null,null,null,null,null,null,null,null,null,null,null,null,null,null,null,null,null,null,null,null,null,null,null,null,null,null,null,null,null,null,null,null,null,null,null,null,null,null,null,null,null,null,null,null,0,0]
["KINESIÓLOGO",null,{"$f":"SUM(D69+E69)","v":0},0,0,null,null,null,null,null,null,null,null,null,null,null,null,null,null,null,null,null,null,null,null,null,null,null,null,null,null,null,null,null,null,null,null,null,null,null,null,null,null,null,null,null,null,null,null,null,null,null,null,null,null,null,null,null,null,null,null,null,null,null,null,null,null,null,null,null,null,null,null,null,null,null,null,null,null,null,null,null,null,null,0,0]
["TOTAL",null,{"$f":"SUM(C67:C69)","v":0},0,0,0,0,0,0,0,0,0,0,0,0,0,0,0,0,0,0,0,0,0,0,0,0,0,0,0,0,0,0,0,0,0,0,0]
["SECCIÓN F: SEGUIMIENTO DE ATENCIONES REALIZADAS EN AGUDOS"]
["PROFESIONAL",null,"TOTAL",null,null,"POR EDAD",null,null,null,null,null,null,null,null,null,null,null,null,null,null,null,null,null,null,null,null,null,null,null,null,null,null,null,null,null,null,null,"A BENEFICIARIOS","Por Campaña de Invierno"]
[null,null,null,null,null,"Menos \n1 año",null,"1 - 4 \naños",null,"5 - 9 \naños",null,"10 - 14\naños",null,"15 - 19\naños",null,"20 a 24 años\n",null,"25 a 39 años",null,"40 - 44 años",null,"45 - 49 años",null,"50 - 54 años",null,"55 - 59 años",null,"60 - 64 años",null,"65 - 69 años",null,"70 - 74 años",null,"75 - 79 años",null,"80 y mas años"]
[null,null,"Ambos Sexos","Hombres","Mujeres","Hombres","Mujeres","Hombres","Mujeres","Hombres","Mujeres","Hombres","Mujeres","Hombres","Mujeres","Hombres","Mujeres","Hombres","Mujeres","Hombres","Mujeres","Hombres","Mujeres","Hombres","Mujeres","Hombres","Mujeres","Hombres","Mujeres","Hombres","Mujeres","Hombres","Mujeres","Hombres","Mujeres","Hombres","Mujeres"]
["ENFERMERA",null,{"$f":"SUM(D75+E75)","v":0},{"$f":"SUM(F75+H75+J75+L75+N75+P75+R75+T75+V75+X75+Z75+AB75+AD75+AF75+AH75+AJ75)","v":0},{"$f":"SUM(G75+I75+K75+M75+O75+Q75+S75+U75+W75+Y75+AA75+AC75+AE75+AG75+AI75+AK75)","v":0},null,null,null,null,null,null,null,null,null,null,null,null,null,null,null,null,null,null,null,null,null,null,null,null,null,null,null,null,null,null,null,null,null,null,null,null,null,null,null,null,null,null,null,null,null,null,null,null,null,null,null,null,null,null,null,null,null,null,null,null,null,null,null,null,null,null,null,null,null,null,null,null,null,null,null,null,null,null,null,0,0]
["KINESIÓLOGO",null,{"$f":"SUM(D76+E76)","v":0},{"$f":"SUM(F76+H76+J76+L76+N76+P76+R76+T76+V76+X76+Z76+AB76+AD76+AF76+AH76+AJ76)","v":0},{"$f":"SUM(G76+I76+K76+M76+O76+Q76+S76+U76+W76+Y76+AA76+AC76+AE76+AG76+AI76+AK76)","v":0},null,null,null,null,null,null,null,null,null,null,null,null,null,null,null,null,null,null,null,null,null,null,null,null,null,null,null,null,null,null,null,null,null,null,null,null,null,null,null,null,null,null,null,null,null,null,null,null,null,null,null,null,null,null,null,null,null,null,null,null,null,null,null,null,null,null,null,null,null,null,null,null,null,null,null,null,null,null,null,0,0]
["TOTAL",null,{"$f":"SUM(C75:C76)","v":0},{"$f":"SUM(D75:D76)","v":0},0,{"$f":"SUM(F75:F76)","v":0},0,0,0,0,0,0,0,0,0,0,0,0,0,0,0,0,0,0,0,0,0,0,0,0,0,0,0,0,0,0,0,0,{"$f":"+AM76","v":0}]
["SECCIÓN G: INASISTENTES A CONTROL DE CRÓNICOS"]
["DIAGNÓSTICOS",null,"TOTAL",null,null,"POR EDAD"]
[null,null,null,null,null,"Menos \n1 año",null,"1 - 4 \naños",null,"5 - 9 \naños",null,"10 - 14\naños",null,"15 - 19\naños",null,"20 a 24 años\n",null,"25 a 39 años",null,"40 - 44 años",null,"45 - 49 años",null,"50 - 54 años",null,"55 - 59 años",null,"60 - 64 años",null,"65 - 69 años",null,"70 - 74 años",null,"75 - 79 años",null,"80 y mas años"]
[null,null,"Ambos Sexos","Hombres","Mujeres","Hombres","Mujeres","Hombres","Mujeres","Hombres","Mujeres","Hombres","Mujeres","Hombres","Mujeres","Hombres","Mujeres","Hombres","Mujeres","Hombres","Mujeres","Hombres","Mujeres","Hombres","Mujeres","Hombres","Mujeres","Hombres","Mujeres","Hombres","Mujeres","Hombres","Mujeres","Hombres","Mujeres","Hombres","Mujeres"]
["S.B.O. RECURRENTE",null,{"$f":"SUM(D82+E82)","v":0},{"$f":"SUM(F82+H82)","v":0},{"$f":"SUM(G82+I82)","v":0}]
["DISPLASIA BRONCOPULMONAR",null,0,{"$f":"SUM(F83+H83+J83+L83+N83+P83+R83+T83+V83+X83+Z83+AB83+AD83+AF83+AH83+AJ83)","v":0},{"$f":"SUM(G83+I83+K83+M83+O83+Q83+S83+U83+W83+Y83+AA83+AC83+AE83+AG83+AI83+AK83)","v":0}]
["FIBROSIS QUÍSTICA",null,0,{"$f":"SUM(F84+H84+J84+L84+N84+P84+R84+T84+V84+X84+Z84+AB84+AD84+AF84+AH84+AJ84)","v":0},{"$f":"SUM(G84+I84+K84+M84+O84+Q84+S84+U84+W84+Y84+AA84+AC84+AE84+AG84+AI84+AK84)","v":0}]
["ASMA",null,0,{"$f":"SUM(H85+J85+L85+N85+P85+R85+T85+V85+X85+Z85+AB85+AD85+AF85+AH85+AJ85)","v":0},{"$f":"SUM(I85+K85+M85+O85+Q85+S85+U85+W85+Y85+AA85+AC85+AE85+AG85+AI85+AK85)","v":0}]
["ENFERMEDAD PULMONAR OBSTRUCTIVA CRÓNICA",0,0,{"$f":"SUM(T86+V86+X86+Z86+AB86+AD86+AF86+AH86+AJ86)","v":0},{"$f":"SUM(U86+W86+Y86+AA86+AC86+AE86+AG86+AI86+AK86)","v":0}]
["OTRAS RESPIRATORIAS CRÓNICAS",null,0,{"$f":"SUM(F87+H87+J87+L87+N87+P87+R87+T87+V87+X87+Z87+AB87+AD87+AF87+AH87+AJ87)","v":0},{"$f":"SUM(G87+I87+K87+M87+O87+Q87+S87+U87+W87+Y87+AA87+AC87+AE87+AG87+AI87+AK87)","v":0}]
["TOTAL",null,{"$f":"SUM(C82:C87)","v":0},0,0,0,0,0,0,0,0,0,0,0,0,0,0,0,0,0,0,0,0,0,0,0,0,0,0,0,0,0,0,0,0,0,0]
["SECCIÓN H: INASISTENTES A CITACIÓN AGENDADA"]
["PROFESIONAL",null,"TOTAL","Menor de 20 años","De 20 años y más"]
[]
["MÉDICO",null,{"$f":"SUM(D92+E92)","v":0}]
["KINESIÓLOGO",null,{"$f":"SUM(D93+E93)","v":0}]
["ENFERMERA",null,{"$f":"SUM(D94+E94)","v":0}]
["TOTAL",null,{"$f":"SUM(C92:C94)","v":0},{"$f":"SUM(D92:D94)","v":0},{"$f":"SUM(E92:E94)","v":0}]
["SECCIÓN I: PROCEDIMIENTOS REALIZADOS"]
["PROCEDIMIENTO",null,"TOTAL",null,null,"POR EDAD",null,null,null,null,null,null,null,null,null,null,null,null,null,null,null,null,null,null,null,null,null,null,null,null,null,null,null,null,null,null,null,"MÉDICO"]
[null,null,null,null,null,"Menos \n1 año",null,"1 - 4 \naños",null,"5 - 9 \naños",null,"10 - 14\naños",null,"15 - 19\naños",null,"20 a 24 años\n",null,"25 a 39 años",null,"40 - 44 años",null,"45 - 49 años",null,"50 - 54 años",null,"55 - 59 años",null,"60 - 64 años",null,"65 - 69 años",null,"70 - 74 años",null,"75 - 79 años",null,"80 y mas años"]
[null,null,"Ambos Sexos","Hombres","Mujeres","Hombres","Mujeres","Hombres","Mujeres","Hombres","Mujeres","Hombres","Mujeres","Hombres","Mujeres","Hombres","Mujeres","Hombres","Mujeres","Hombres","Mujeres","Hombres","Mujeres","Hombres","Mujeres","Hombres","Mujeres","Hombres","Mujeres","Hombres","Mujeres","Hombres","Mujeres","Hombres","Mujeres","Hombres","Mujeres"]
["ESPIROMETRÍA BASAL ",null,{"$f":"SUM(D100+E100)","v":0},{"$f":"SUM(J100+L100+N100+P100+R100+T100+V100+X100+Z100+AB100+AD100+AF100+AH100+AJ100)","v":0},0,null,null,null,null,null,null,null,null,null,null,null,null,null,null,null,null,null,null,null,null,null,null,null,null,null,null,null,null,null,null,null,null,null,null,null,null,null,null,null,null,null,null,null,null,null,null,null,null,null,null,null,null,null,null,null,null,null,null,null,null,null,null,null,null,null,null,null,null,null,null,null,null,null,null,null,null,null,null,null,0]
["ESPIROMETRÍA POST BD",null,0,0,0,null,null,null,null,null,null,null,null,null,null,null,null,null,null,null,null,null,null,null,null,null,null,null,null,null,null,null,null,null,null,null,null,null,null,null,null,null,null,null,null,null,null,null,null,null,null,null,null,null,null,null,null,null,null,null,null,null,null,null,null,null,null,null,null,null,null,null,null,null,null,null,null,null,null,null,null,null,null,null,0]
["FLUJOMETRÍA BASAL ",null,0,0,{"$f":"SUM(K102+M102+O102+Q102+S102+U102+W102+Y102+AA102+AC102+AE102+AG102+AI102+AK102)","v":0},null,null,null,null,null,null,null,null,null,null,null,null,null,null,null,null,null,null,null,null,null,null,null,null,null,null,null,null,null,null,null,null,null,null,null,null,null,null,null,null,null,null,null,null,null,null,null,null,null,null,null,null,null,null,null,null,null,null,null,null,null,null,null,null,null,null,null,null,null,null,null,null,null,null,null,null,null,null,null,0]
["FLUJOMETRÍA POST BD",null,0,{"$f":"SUM(J103+L103+N103+P103+R103+T103+V103+X103+Z103+AB103+AD103+AF103+AH103+AJ103)","v":0},0,null,null,null,null,null,null,null,null,null,null,null,null,null,null,null,null,null,null,null,null,null,null,null,null,null,null,null,null,null,null,null,null,null,null,null,null,null,null,null,null,null,null,null,null,null,null,null,null,null,null,null,null,null,null,null,null,null,null,null,null,null,null,null,null,null,null,null,null,null,null,null,null,null,null,null,null,null,null,null,0]
["PIMOMETRÍA",null,0,0,0,null,null,null,null,null,null,null,null,null,null,null,null,null,null,null,null,null,null,null,null,null,null,null,null,null,null,null,null,null,null,null,null,null,null,null,null,null,null,null,null,null,null,null,null,null,null,null,null,null,null,null,null,null,null,null,null,null,null,null,null,null,null,null,null,null,null,null,null,null,null,null,null,null,null,null,null,null,null,null,0]
["TEST DE PROVOCACIÓN CON EJERCICIO",null,0,0,0,null,null,null,null,null,null,null,null,null,null,null,null,null,null,null,null,null,null,null,null,null,null,null,null,null,null,null,null,null,null,null,null,null,null,null,null,null,null,null,null,null,null,null,null,null,null,null,null,null,null,null,null,null,null,null,null,null,null,null,null,null,null,null,null,null,null,null,null,null,null,null,null,null,null,null,null,null,null,null,0]
["TEST DE MARCHA 6 MINUTOS",null,0,0,0,null,null,null,null,null,null,null,null,null,null,null,null,null,null,null,null,null,null,null,null,null,null,null,null,null,null,null,null,null,null,null,null,null,null,null,null,null,null,null,null,null,null,null,null,null,null,null,null,null,null,null,null,null,null,null,null,null,null,null,null,null,null,null,null,null,null,null,null,null,null,null,null,null,null,null,null,null,null,null,0]
["SESIONES DE KINESIOTERAPIA RESPIRATORIA",null,0,{"$f":"SUM(F107+H107+J107+L107+N107+P107+R107+T107+V107+X107+Z107+AB107+AD107+AF107+AH107+AJ107)","v":0},{"$f":"SUM(G107+I107+K107+M107+O107+Q107+S107+U107+W107+Y107+AA107+AC107+AE107+AG107+AI107+AK107)","v":0},null,null,null,null,null,null,null,null,null,null,null,null,null,null,null,null,null,null,null,null,null,null,null,null,null,null,null,null,null,null,null,null,null,null,null,null,null,null,null,null,null,null,null,null,null,null,null,null,null,null,null,null,null,null,null,null,null,null,null,null,null,null,null,null,null,null,null,null,null,null,null,null,null,null,null,null,null,null,null,0]
["SECCIÓN J: DERIVACIÓN DE PACIENTES SEGÚN DESTINO"]
["DESTINO",null,"TOTAL","Menor de 20 años","De 20 años y más"]
["UNIDAD EMERGENCIA HOSPITALARIA",null,{"$f":"SUM(D110+E110)","v":0}]
["SAPU, SUR O SAR",null,{"$f":"SUM(D111+E111)","v":0}]
["CAE / CDT / CRS",null,{"$f":"SUM(D112+E112)","v":0}]
["SECCIÓN K: RECEPCIÓN DE PACIENTES SEGÚN ORIGEN"]
["ORIGEN",null,"TOTAL","Menor de 20 años","De 20 años y más"]
["UNIDAD EMERGENCIA HOSPITALARIA",null,{"$f":"SUM(D115+E115)","v":0}]
["SAPU , SUR O SAR",null,{"$f":"SUM(D116+E116)","v":0}]
["CONSULTA DE MORBILIDAD",null,{"$f":"SUM(D117+E117)","v":0}]
["CAE / CDT / CRS",null,{"$f":"SUM(D118+E118)","v":0}]
["EXTRASISTEMA",null,{"$f":"SUM(D119+E119)","v":0}]
["SECCIÓN L: HOSPITALIZACION ABREVIADA / INTERVENCION EN CRISIS RESPIRATORIA"]
["DIAGNÓSTICOS",null,"TOTAL",null,null,"POR EDAD",null,null,null,null,null,null,null,null,null,null,null,null,null,null,null,null,null,null,null,null,null,null,null,null,null,null,null,null,null,null,null,"Por Campaña de Invierno"]
[null,null,null,null,null,"Menos \n1 año",null,"1 - 4 \naños",null,"5 - 9 \naños",null,"10 - 14\naños",null,"15 - 19\naños",null,"20 a 24 años\n",null,"25 a 39 años",null,"40 - 44 años",null,"45 - 49 años",null,"50 - 54 años",null,"55 - 59 años",null,"60 - 64 años",null,"65 - 69 años",null,"70 - 74 años",null,"75 - 79 años",null,"80 y mas años"]
[null,null,"Ambos Sexos","Hombres","Mujeres","Hombres","Mujeres","Hombres","Mujeres","Hombres","Mujeres","Hombres","Mujeres","Hombres","Mujeres","Hombres","Mujeres","Hombres","Mujeres","Hombres","Mujeres","Hombres","Mujeres","Hombres","Mujeres","Hombres","Mujeres","Hombres","Mujeres","Hombres","Mujeres","Hombres","Mujeres","Hombres","Mujeres","Hombres","Mujeres"]
["BRONQUITIS OBSTRUCTIVA",null,{"$f":"SUM(D124+E124)","v":0},{"$f":"SUM(F124+H124+J124+L124+N124+P124+R124+T124+V124+X124+Z124+AB124+AD124+AF124+AH124+AJ124)","v":0},{"$f":"SUM(G124+I124+K124+M124+O124+Q124+S124+U124+W124+Y124+AA124+AC124+AE124+AG124+AI124+AK124)","v":0}]
["REAGUDIZACIÓN DE SBOR",null,0,{"$f":"SUM(F125+H125)","v":0},{"$f":"SUM(G125+I125)","v":0}]
["REAGUDIZACIÓN DE ASMA",null,0,{"$f":"SUM(H126+J126+L126+N126+P126+R126+T126+V126+X126+Z126+AB126+AD126+AF126+AH126+AJ126)","v":0},{"$f":"SUM(I126+K126+M126+O126+Q126+S126+U126+W126+Y126+AA126+AC126+AE126+AG126+AI126+AK126)","v":0}]
["NEUMONÍA",null,0,{"$f":"SUM(F127+H127+J127+L127+N127+P127+R127+T127+V127+X127+Z127+AB127+AD127+AF127+AH127+AJ127)","v":0},{"$f":"SUM(G127+I127+K127+M127+O127+Q127+S127+U127+W127+Y127+AA127+AC127+AE127+AG127+AI127+AK127)","v":0}]
["REAGUDIZACIÓN DE EPOC",null,0,{"$f":"SUM(T128+V128+X128+Z128+AB128+AD128+AF128+AH128+AJ128)","v":0},{"$f":"SUM(U128+W128+Y128+AA128+AC128+AE128+AG128+AI128+AK128)","v":0}]
["OTRAS RESPIRATORIAS",null,0,{"$f":"SUM(F129+H129+J129+L129+N129+P129+R129+T129+V129+X129+Z129+AB129+AD129+AF129+AH129+AJ129)","v":0},{"$f":"SUM(G129+I129+K129+M129+O129+Q129+S129+U129+W129+Y129+AA129+AC129+AE129+AG129+AI129+AK129)","v":0}]
["TOTAL",null,{"$f":"SUM(C124:C129)","v":0},0,0,{"$f":"SUM(F124:F129)","v":0},0,{"$f":"SUM(H124:H129)","v":0},0,0,0,0,0,0,0,0,0,0,0,0,0,0,0,0,0,0,0,0,0,0,0,0,0,0,0,0,0,{"$f":"SUM(AL124:AL129)","v":0}]
["SECCIÓN M: EDUCACIÓN EN SALAS"]
["SECCIÓN M.1: EDUCACIÓN INDIVIDUAL EN SALA IRA ERA"]
["TEMAS",null,null,"TOTAL","Menor de 20 años","De 20 años y más"]
["ANTITABACO",null,null,{"$f":"SUM(E134+F134)","v":0}]
["AUTOCUIDADO SEGÚN PATOLOGÍA",null,null,0]
["USO DE TERAPIA INHALATORIA",null,null,0]
["EDUCACION INTEGRAL EN SALUD RESPIRATORIA ",null,null,0]
["ESTILO DE VIDA SALUDABLES",null,null,0]
["OTRAS",null,null,0]
["TOTAL",null,null,{"$f":"SUM(D134:D139)","v":0},{"$f":"SUM(E134:E139)","v":0},{"$f":"SUM(F134:F139)","v":0}]
["SECCIÓN M.2: EDUCACIÓN GRUPAL EN SALA (AGENDADA Y PROGRAMADA)"]
["TEMAS",null,null,"Nº SESIONES","Nº PARTICIPANTES","UN PROFESIONAL","DOS O MÁS PROFESIONA-LES"]
["EDUCACION INTEGRAL EN SALUD RESPIRATORIA ","PACIENTES, PADRES O CUIDADORES",null,null,null,null,null,null,null,null,null,null,null,null,null,null,null,null,null,null,null,null,null,null,null,null,null,null,null,null,null,null,null,null,null,null,null,null,null,null,null,null,null,null,null,null,null,null,null,null,null,null,null,null,null,null,null,null,null,null,null,null,null,null,null,null,null,null,null,null,null,null,null,null,null,null,null,null,null,null,null,null,null,null,0]
[null,"SALAS CUNAS Y JARDINES INFANTILES",null,null,null,null,null,null,null,null,null,null,null,null,null,null,null,null,null,null,null,null,null,null,null,null,null,null,null,null,null,null,null,null,null,null,null,null,null,null,null,null,null,null,null,null,null,null,null,null,null,null,null,null,null,null,null,null,null,null,null,null,null,null,null,null,null,null,null,null,null,null,null,null,null,null,null,null,null,null,null,null,null,null,0]
[null,"ESTABLECIMIENTOS EDUCACIONALES",null,null,null,null,null,null,null,null,null,null,null,null,null,null,null,null,null,null,null,null,null,null,null,null,null,null,null,null,null,null,null,null,null,null,null,null,null,null,null,null,null,null,null,null,null,null,null,null,null,null,null,null,null,null,null,null,null,null,null,null,null,null,null,null,null,null,null,null,null,null,null,null,null,null,null,null,null,null,null,null,null,null,0]
[null,"INTERSECTOR",null,null,null,null,null,null,null,null,null,null,null,null,null,null,null,null,null,null,null,null,null,null,null,null,null,null,null,null,null,null,null,null,null,null,null,null,null,null,null,null,null,null,null,null,null,null,null,null,null,null,null,null,null,null,null,null,null,null,null,null,null,null,null,null,null,null,null,null,null,null,null,null,null,null,null,null,null,null,null,null,null,null,0]
["REHABILITACION PULMONAR","PACIENTES Y/O CUIDADORES",null,null,null,null,null,null,null,null,null,null,null,null,null,null,null,null,null,null,null,null,null,null,null,null,null,null,null,null,null,null,null,null,null,null,null,null,null,null,null,null,null,null,null,null,null,null,null,null,null,null,null,null,null,null,null,null,null,null,null,null,null,null,null,null,null,null,null,null,null,null,null,null,null,null,null,null,null,null,null,null,null,null,0]
["ANTITABACO","PACIENTES, PADRES O CUIDADORES",null,null,null,null,null,null,null,null,null,null,null,null,null,null,null,null,null,null,null,null,null,null,null,null,null,null,null,null,null,null,null,null,null,null,null,null,null,null,null,null,null,null,null,null,null,null,null,null,null,null,null,null,null,null,null,null,null,null,null,null,null,null,null,null,null,null,null,null,null,null,null,null,null,null,null,null,null,null,null,null,null,null,0]
[null,"SALAS CUNAS Y JARDINES INFANTILES",null,null,null,null,null,null,null,null,null,null,null,null,null,null,null,null,null,null,null,null,null,null,null,null,null,null,null,null,null,null,null,null,null,null,null,null,null,null,null,null,null,null,null,null,null,null,null,null,null,null,null,null,null,null,null,null,null,null,null,null,null,null,null,null,null,null,null,null,null,null,null,null,null,null,null,null,null,null,null,null,null,null,0]
[null,"ESTABLECIMIENTOS EDUCACIONALES",null,null,null,null,null,null,null,null,null,null,null,null,null,null,null,null,null,null,null,null,null,null,null,null,null,null,null,null,null,null,null,null,null,null,null,null,null,null,null,null,null,null,null,null,null,null,null,null,null,null,null,null,null,null,null,null,null,null,null,null,null,null,null,null,null,null,null,null,null,null,null,null,null,null,null,null,null,null,null,null,null,null,0]
[null,"INTERSECTOR",null,null,null,null,null,null,null,null,null,null,null,null,null,null,null,null,null,null,null,null,null,null,null,null,null,null,null,null,null,null,null,null,null,null,null,null,null,null,null,null,null,null,null,null,null,null,null,null,null,null,null,null,null,null,null,null,null,null,null,null,null,null,null,null,null,null,null,null,null,null,null,null,null,null,null,null,null,null,null,null,null,null,0]
["TOTAL",null,null,{"$f":"SUM(D143:D151)","v":0},{"$f":"SUM(E143:E151)","v":0},{"$f":"SUM(F143:F151)","v":0},{"$f":"SUM(G143:G151)","v":0}]
["SECCIÓN N: VISITAS DOMICILIARIAS REALIZADAS POR EQUIPO IRA-ERA "]
["CONCEPTOS",null,"TOTAL",null,null,"POR EDAD"]
[null,null,null,null,null,"Menos \n1 año",null,"1 - 4 \naños",null,"5 - 9 \naños",null,"10 - 14\naños",null,"15 - 19\naños",null,"20 a 24 años\n",null,"25 a 39 años",null,"40 - 44 años",null,"45 - 49 años",null,"50 - 54 años",null,"55 - 59 años",null,"60 - 64 años",null,"65 - 69 años",null,"70 - 74 años",null,"75 - 79 años",null,"80 y mas años"]
[null,null,"Ambos Sexos","Hombres","Mujeres","Hombres","Mujeres","Hombres","Mujeres","Hombres","Mujeres","Hombres","Mujeres","Hombres","Mujeres","Hombres","Mujeres","Hombres","Mujeres","Hombres","Mujeres","Hombres","Mujeres","Hombres","Mujeres","Hombres","Mujeres","Hombres","Mujeres","Hombres","Mujeres","Hombres","Mujeres","Hombres","Mujeres","Hombres","Mujeres"]
["HOGAR LIBRE DEL HUMO DEL TABACO",null,{"$f":"SUM(D157:E157)","v":0},{"$f":"+F157+H157+J157+L157+N157+P157+R157+T157+V157+X157+Z157+AB157+AD157+AF157+AH157+AJ157","v":0},{"$f":"+G157+I157+K157+M157+O157+Q157+S157+U157+W157+Y157+AA157+AC157+AE157+AG157+AI157+AK157","v":0}]
["POR MUERTE DE NEUMONÍA EN DOMICILIO",null,{"$f":"SUM(D158:E158)","v":0},{"$f":"+F158+H158+J158+L158+N158+P158+R158+T158+V158+X158+Z158+AB158+AD158+AF158+AH158+AJ158","v":0},0]
["PROGRAMA OXIGENOTERAPIA AMBULATORIA, AVNI, AVI, AVNIA, AVIA",null,0,{"$f":"+F159+H159+J159+L159+N159+P159+R159+T159+V159+X159+Z159+AB159+AD159+AF159+AH159+AJ159","v":0},0]
["OTRAS VISITAS",null,0,0,0]
["SECCIÓN O: PROGRAMA DE REHABILITACION PULMONAR "]
["ACTIVIDADES",null,null,"INGRESOS","EGRESOS"]
[null,null,null,null,"Por término de tratamiento ","Por abandono"]
["REHABILITACIÓN PULMONAR "]
["SECCIÓN P: APLICACIÓN Y RESULTADO DE ENCUESTA CALIDAD DE VIDA"]
["TIPO DE ENCUESTA",null,"TOTAL","RESULTADOS "]
[null,null,null,"Mejorado ","No mejorado"]
["CALIDAD DE VIDA AL INGRESO"]
["CALIDAD DE VIDA DE CONTROL (A LOS 12 MESES)",null,{"$f":"SUM(D169+E169)","v":0}]
[]
[]
[]
[]
[]
[]
[]
[]
[]
[]
[]
[]
[]
[]
[]
[]
[]
[]
[]
[]
[]
[]
[]
[]
[]
[]
[]
[{"$f":"SUM(C24,C43,C49:C56,C62,C70,C75:C77,C88,C95,C100:C107,C110:C112,C115:C119,C130,D140,D152:G152,C157:C160,C169,D164:F164)","v":0},{"$f":"SUM(CG28:CM159)","v":0}]

{"sheet":"A24","index":15,"n_rows":200,"n_cols":90,"rows_kept":200,"cut":false,"hidden":false,"merged":[[63,0,63,1],[57,0,59,1],[22,19,23,19],[57,2,58,4],[57,5,57,14],[58,5,58,6],[58,7,58,8],[58,9,58,10],[58,11,58,12],[58,13,58,14],[22,18,23,18],[34,10,34,11],[32,0,32,5],[33,0,33,5],[22,1,23,1],[22,12,22,14],[8,19,9,19],[5,0,5,11],[8,0,9,0],[8,1,8,2],[8,7,8,11],[8,12,8,14],[8,18,9,18],[8,3,8,6],[62,0,62,1],[46,5,47,5],[34,0,35,0],[39,0,40,0],[34,2,34,9],[60,0,60,1],[57,15,59,15],[57,16,59,16],[8,15,8,17],[61,0,61,1],[22,2,22,11],[22,17,23,17],[47,0,48,0],[47,2,47,4],[47,1,48,1],[39,1,40,1],[34,1,35,1],[22,15,22,16],[22,0,24,0]]}
["SERVICIO DE SALUD"]
[{"$f":"CONCATENATE(\"COMUNA: \",NOMBRE!B2,\" - \",\"( \",NOMBRE!C2,NOMBRE!D2,NOMBRE!E2,NOMBRE!F2,NOMBRE!G2,\" )\")","v":"COMUNA:  - (  )"}]
[{"$f":"CONCATENATE(\"ESTABLECIMIENTO/ESTRATEGIA: \",NOMBRE!B3,\" - \",\"( \",NOMBRE!C3,NOMBRE!D3,NOMBRE!E3,NOMBRE!F3,NOMBRE!G3,NOMBRE!H3,\" )\")","v":"ESTABLECIMIENTO/ESTRATEGIA:  - (  )"}]
[{"$f":"CONCATENATE(\"MES: \",NOMBRE!B6,\" - \",\"( \",NOMBRE!C6,NOMBRE!D6,\" )\")","v":"MES:  - (  )"}]
[{"$f":"CONCATENATE(\"AÑO: \",NOMBRE!B7)","v":"AÑO: 2020"}]
["REM-A24.   ATENCIÓN EN MATERNIDAD"]
[]
["SECCIÓN A: INFORMACIÓN DE PARTOS Y ABORTOS ATENDIDOS "]
["TÉRMINO \nDEL \nEMBARAZO","PARTOS Y ABORTOS",null,"PARTOS PREMATUROS",null,null,null,"ANESTESIA",null,null,null,null,"ANALGESIA",null,null,"APEGO\nPRECOZ",null,null,"Pueblos Originarios","Migrantes"]
[null,"Total **","Beneficiarias\n","Partos prematuros menos de 24 semanas","Partos prematuros de 24 a 28 semanas","Partos prematuros de 29 a 32 semanas","Partos prematuros de 33 a 36 semanas","Total anestesia","Epidural","Raquídea","General","Local","Total analgesia","Analgesia inhalatoria","Medidas analgésicas no farmacológicas ","Contacto mayor a 30 minutos (RN con peso menor o igual a 2.499 grs.)","Contacto mayor a 30 minutos  (RN con peso de 2.500 grs. o más)","Lactancia materna en los primeros  60 minutos de vida  (RN con peso de 2.500 grs. o más)"]
["TOTAL PARTOS",{"$f":"SUM(B12:B15)","v":0},0,0,0,0,0,0,0,0,0,0,0,0,0,0,0,0,0,0]
["NORMAL/VAGINAL",null,null,null,null,null,null,{"$f":"SUM(I12:L12)","v":0},null,null,null,null,{"$f":"SUM(N12:O12)","v":0},null,null,null,null,null,null,null,{"$f":"CA12&CB12&CC12&CD12&CE12&CF12","v":""},null,null,null,null,null,null,null,null,null,null,null,null,null,null,null,null,null,null,null,null,null,null,null,null,null,null,null,null,null,null,null,null,null,null,null,null,null,null,null,null,null,null,null,null,null,null,null,null,null,null,null,null,null,null,null,null,null,{"$f":"IF($B12<$D12,\"* El número de \"&D$10&\" NO DEBE ser mayor que el Total. \",\"\")","v":""},{"$f":"IF($B12<$E12,\"* El número de \"&E$10&\" NO DEBE ser mayor que el Total. \",\"\")","v":""},{"$f":"IF($B12<$F12,\"* El número de \"&F$10&\" NO DEBE ser mayor que el Total. \",\"\")","v":""},{"$f":"IF($B12<$G12,\"* El número de \"&G$10&\" NO DEBE ser mayor que el Total. \",\"\")","v":""},{"$f":"IF(AND($B12<>\"\",$C12=\"\"),\"* No olvide digitar las beneficiarias (Digite Cero si no tiene). \",IF($B12<$C12,\"* El Número de Beneficiarias NO DEBE ser mayor que el Total. \",\"\"))","v":""},{"$f":"IF(AND($B12<>0,OR($S12=\"\",$T12=\"\")),\"* No olvide digitar los campos Pueblo Originario y/o Migrantes (Digite Cero si no tiene). \",IF(OR($B12<$S12,$B12<$T12),\"* Pueblo Originario y/o Migrantes NO DEBEN ser mayor que el Total. \",\"\"))","v":""},{"$f":"IF($B12<$D12,1,0)","v":0},{"$f":"IF($B12<$E12,1,0)","v":0},{"$f":"IF($B12<$F12,1,0)","v":0},{"$f":"IF($B12<$G12,1,0)","v":0},{"$f":"IF(AND($B12<>\"\",$C12=\"\"),1,IF($B12<$C12,1,0))","v":0},{"$f":"IF(AND($B12<>0,OR($S12=\"\",$T12=\"\")),1,IF(OR($B12<$S12,$B12<$T12),1,0))","v":0}]
["DISTÓCICO VAGINAL",null,null,null,null,null,null,{"$f":"SUM(I13:L13)","v":0},null,null,null,null,{"$f":"SUM(N13:O13)","v":0},null,null,null,null,null,null,null,"",null,null,null,null,null,null,null,null,null,null,null,null,null,null,null,null,null,null,null,null,null,null,null,null,null,null,null,null,null,null,null,null,null,null,null,null,null,null,null,null,null,null,null,null,null,null,null,null,null,null,null,null,null,null,null,null,null,{"$f":"IF($B13<$D13,\"* El número de \"&D$10&\" NO DEBE ser mayor que el Total. \",\"\")","v":""},{"$f":"IF($B13<$E13,\"* El número de \"&E$10&\" NO DEBE ser mayor que el Total. \",\"\")","v":""},{"$f":"IF($B13<$F13,\"* El número de \"&F$10&\" NO DEBE ser mayor que el Total. \",\"\")","v":""},{"$f":"IF($B13<$G13,\"* El número de \"&G$10&\" NO DEBE ser mayor que el Total. \",\"\")","v":""},{"$f":"IF(AND($B13<>\"\",$C13=\"\"),\"* No olvide digitar las beneficiarias (Digite Cero si no tiene). \",IF($B13<$C13,\"* El Número de Beneficiarias NO DEBE ser mayor que el Total. \",\"\"))","v":""},{"$f":"IF(AND($B13<>0,OR($S13=\"\",$T13=\"\")),\"* No olvide digitar los campos Pueblo Originario y/o Migrantes (Digite Cero si no tiene). \",IF(OR($B13<$S13,$B13<$T13),\"* Pueblo Originario y/o Migrantes NO DEBEN ser mayor que el Total. \",\"\"))","v":""},{"$f":"IF($B13<$D13,1,0)","v":0},{"$f":"IF($B13<$E13,1,0)","v":0},{"$f":"IF($B13<$F13,1,0)","v":0},{"$f":"IF($B13<$G13,1,0)","v":0},{"$f":"IF(AND($B13<>\"\",$C13=\"\"),1,IF($B13<$C13,1,0))","v":0},{"$f":"IF(AND($B13<>0,OR($S13=\"\",$T13=\"\")),1,IF(OR($B13<$S13,$B13<$T13),1,0))","v":0}]
["CESÁREA ELECTIVA",null,null,null,null,null,null,{"$f":"SUM(I14:L14)","v":0},null,null,null,null,{"$f":"SUM(N14:O14)","v":0},null,null,null,null,null,null,null,"",null,null,null,null,null,null,null,null,null,null,null,null,null,null,null,null,null,null,null,null,null,null,null,null,null,null,null,null,null,null,null,null,null,null,null,null,null,null,null,null,null,null,null,null,null,null,null,null,null,null,null,null,null,null,null,null,null,{"$f":"IF($B14<$D14,\"* El número de \"&D$10&\" NO DEBE ser mayor que el Total. \",\"\")","v":""},{"$f":"IF($B14<$E14,\"* El número de \"&E$10&\" NO DEBE ser mayor que el Total. \",\"\")","v":""},{"$f":"IF($B14<$F14,\"* El número de \"&F$10&\" NO DEBE ser mayor que el Total. \",\"\")","v":""},{"$f":"IF($B14<$G14,\"* El número de \"&G$10&\" NO DEBE ser mayor que el Total. \",\"\")","v":""},{"$f":"IF(AND($B14<>\"\",$C14=\"\"),\"* No olvide digitar las beneficiarias (Digite Cero si no tiene). \",IF($B14<$C14,\"* El Número de Beneficiarias NO DEBE ser mayor que el Total. \",\"\"))","v":""},{"$f":"IF(AND($B14<>0,OR($S14=\"\",$T14=\"\")),\"* No olvide digitar los campos Pueblo Originario y/o Migrantes (Digite Cero si no tiene). \",IF(OR($B14<$S14,$B14<$T14),\"* Pueblo Originario y/o Migrantes NO DEBEN ser mayor que el Total. \",\"\"))","v":""},{"$f":"IF($B14<$D14,1,0)","v":0},{"$f":"IF($B14<$E14,1,0)","v":0},{"$f":"IF($B14<$F14,1,0)","v":0},{"$f":"IF($B14<$G14,1,0)","v":0},{"$f":"IF(AND($B14<>\"\",$C14=\"\"),1,IF($B14<$C14,1,0))","v":0},{"$f":"IF(AND($B14<>0,OR($S14=\"\",$T14=\"\")),1,IF(OR($B14<$S14,$B14<$T14),1,0))","v":0}]
["CESÁREA URGENCIA",null,null,null,null,null,null,{"$f":"SUM(I15:L15)","v":0},null,null,null,null,{"$f":"SUM(N15:O15)","v":0},null,null,null,null,null,null,null,"",null,null,null,null,null,null,null,null,null,null,null,null,null,null,null,null,null,null,null,null,null,null,null,null,null,null,null,null,null,null,null,null,null,null,null,null,null,null,null,null,null,null,null,null,null,null,null,null,null,null,null,null,null,null,null,null,null,{"$f":"IF($B15<$D15,\"* El número de \"&D$10&\" NO DEBE ser mayor que el Total. \",\"\")","v":""},{"$f":"IF($B15<$E15,\"* El número de \"&E$10&\" NO DEBE ser mayor que el Total. \",\"\")","v":""},{"$f":"IF($B15<$F15,\"* El número de \"&F$10&\" NO DEBE ser mayor que el Total. \",\"\")","v":""},{"$f":"IF($B15<$G15,\"* El número de \"&G$10&\" NO DEBE ser mayor que el Total. \",\"\")","v":""},{"$f":"IF(AND($B15<>\"\",$C15=\"\"),\"* No olvide digitar las beneficiarias (Digite Cero si no tiene). \",IF($B15<$C15,\"* El Número de Beneficiarias NO DEBE ser mayor que el Total. \",\"\"))","v":""},{"$f":"IF(AND($B15<>0,OR($S15=\"\",$T15=\"\")),\"* No olvide digitar los campos Pueblo Originario y/o Migrantes (Digite Cero si no tiene). \",IF(OR($B15<$S15,$B15<$T15),\"* Pueblo Originario y/o Migrantes NO DEBEN ser mayor que el Total. \",\"\"))","v":""},{"$f":"IF($B15<$D15,1,0)","v":0},{"$f":"IF($B15<$E15,1,0)","v":0},{"$f":"IF($B15<$F15,1,0)","v":0},{"$f":"IF($B15<$G15,1,0)","v":0},{"$f":"IF(AND($B15<>\"\",$C15=\"\"),1,IF($B15<$C15,1,0))","v":0},{"$f":"IF(AND($B15<>0,OR($S15=\"\",$T15=\"\")),1,IF(OR($B15<$S15,$B15<$T15),1,0))","v":0}]
["ABORTOS",null,null,null,null,null,null,{"$f":"SUM(I16:L16)","v":0},null,null,null,null,{"$f":"SUM(N16:O16)","v":0},null,null,null,null,null,null,null,"",null,null,null,null,null,null,null,null,null,null,null,null,null,null,null,null,null,null,null,null,null,null,null,null,null,null,null,null,null,null,null,null,null,null,null,null,null,null,null,null,null,null,null,null,null,null,null,null,null,null,null,null,null,null,null,null,null,null,null,null,null,{"$f":"IF(AND($B16<>\"\",$C16=\"\"),\"* No olvide digitar las beneficiarias (Digite Cero si no tiene). \",IF($B16<$C16,\"* El Número de Beneficiarias NO DEBE ser mayor que el Total. \",\"\"))","v":""},null,null,null,null,null,{"$f":"IF(AND($B16<>\"\",$C16=\"\"),1,IF($B16<$C16,1,0))","v":0}]
["PARTO NORMAL VERTICAL (*)",null,null,null,null,null,null,null,null,null,null,null,null,null,null,null,null,null,null,null,""]
["ENTREGA DE PLACENTA A SOLICITUD DE LA MUJER",null,null,null,null,null,null,null,null,null,null,null,null,null,null,null,null,null,null,null,"",null,null,null,null,null,null,null,null,null,null,null,null,null,null,null,null,null,null,null,null,null,null,null,null,null,null,null,null,null,null,null,null,null,null,null,null,null,null,null,null,null,null,null,null,null,null,null,null,null,null,null,null,null,null,null,null,null,null,null,null,null,null,{"$f":"IF(AND($B18<>0,OR($S18=\"\",$T18=\"\")),\"* No olvide digitar los campos Pueblo Originario y/o Migrantes (Digite Cero si no tiene). \",IF(OR($B18<$S18,$B18<$T18),\"* Pueblo Originario y/o Migrantes NO DEBEN ser mayor que el Total. \",\"\"))","v":""},null,null,null,null,null,{"$f":"IF(AND($B18<>0,OR($S18=\"\",$T18=\"\")),1,IF(OR($B18<$S18,$B18<$T18),1,0))","v":0}]
["PARTO FUERA ESTABLECIMIENTO DE SALUD",null,null,null,null,null,null,null,null,null,null,null,null,null,null,null,null,null,null,null,""]
["EMBARAZO NO CONTROLADO",null,null,null,null,null,null,null,null,null,null,null,null,null,null,null,null,null,null,null,""]
["(*) Incluido en Parto Normal","(**) Partos de Término y Pre-Término"]
["SECCIÓN A.1: INTERRUPCIÓN VOLUNTARIA DEL EMBARAZO"]
["CAUSALES","TOTAL      ","Grupos de edad en años",null,null,null,null,null,null,null,null,null,"Abortos",null,null,"Partos ",null,"Beneficiarias","Pueblos Originarios","Migrantes"]
[null,null,"Menor de 14 años","14 a 19 años","20 a 24 años","25 a 29 años","30 a 34 años","35 a 39 años","40 a 44 años","45 a 49 años","50 a 54 años","55 y más años","Hasta 12 semanas y cero días","12 semanas y un día hasta 14 semanas y cero días","de 14 hasta 21 semanas y 6 días","Partos vaginales inducidos","Cesáreas"]
[null,{"$f":"SUM(B26:B28)","v":0},0,0,0,0,0,0,0,0,0,0,0,0,0,{"$f":"SUM(P26:P27)","v":0},{"$f":"SUM(Q26:Q27)","v":0},{"$f":"SUM(R26:R28)","v":0},{"$f":"SUM(S26:S28)","v":0},{"$f":"SUM(T26:T28)","v":0}]
["CAUSAL N° 1: MUJER EMBARAZADA CON RIESGO VITAL ",{"$f":"SUM(C26:L26)","v":0},null,null,null,null,null,null,null,null,null,null,null,null,null,null,null,null,null,null,{"$f":"CA26&CB26&CC26&CD26&CE26&CF26","v":""},null,null,null,null,null,null,null,null,null,null,null,null,null,null,null,null,null,null,null,null,null,null,null,null,null,null,null,null,null,null,null,null,null,null,null,null,null,null,null,null,null,null,null,null,null,null,null,null,null,null,null,null,null,null,null,null,null,{"$f":"IF(CG26=1,\"* La suma de los Abortos y Partos DEBE ser igual al Total de IVE realizada según causal. \",\"\")","v":""},{"$f":"IF(CH26=1,\"* No olvide digitar los campos Beneficiarios y/o Pueblo Originario y/o Migrantes (Digite CEROS si no tiene). \",\"\")","v":""},{"$f":"IF(CI26=1,\"* Beneficiarios y/o Pueblo Originario y/o Migrantes NO DEBEN ser Mayor al Total. \",\"\")","v":""},null,null,null,{"$f":"IF(B26<>(M26+N26+O26+P26+Q26),1,0)","v":0},{"$f":"IF(AND(B26<>0,OR(R26=\"\",S26=\"\",T26=\"\")),1,0)","v":0},{"$f":"IF(OR(B26<R26,B26<S26,B26<T26),1,0)","v":0}]
["CAUSAL N° 2: INVIABILIDAD FETAL DE CARÁCTER LETAL",{"$f":"SUM(C27:L27)","v":0},null,null,null,null,null,null,null,null,null,null,null,null,null,null,null,null,null,null,{"$f":"CA27&CB27&CC27&CD27&CE27&CF27","v":""},null,null,null,null,null,null,null,null,null,null,null,null,null,null,null,null,null,null,null,null,null,null,null,null,null,null,null,null,null,null,null,null,null,null,null,null,null,null,null,null,null,null,null,null,null,null,null,null,null,null,null,null,null,null,null,null,null,{"$f":"IF(CG27=1,\"* La suma de los Abortos y Partos DEBE ser igual al Total de IVE realizada según causal. \",\"\")","v":""},{"$f":"IF(CH27=1,\"* No olvide digitar los campos Beneficiarios y/o Pueblo Originario y/o Migrantes (Digite CEROS si no tiene). \",\"\")","v":""},{"$f":"IF(CI27=1,\"* Beneficiarios y/o Pueblo Originario y/o Migrantes NO DEBEN ser Mayor al Total. \",\"\")","v":""},null,null,null,{"$f":"IF(B27<>(M27+N27+O27+P27+Q27),1,0)","v":0},{"$f":"IF(AND(B27<>0,OR(R27=\"\",S27=\"\",T27=\"\")),1,0)","v":0},{"$f":"IF(OR(B27<R27,B27<S27,B27<T27),1,0)","v":0}]
["CAUSAL N° 3: POR VIOLACIÓN",{"$f":"SUM(C28:L28)","v":0},null,null,null,null,null,null,null,null,null,null,null,null,null,null,null,null,null,null,{"$f":"CA28&CB28&CC28&CD28&CE28&CF28","v":""},null,null,null,null,null,null,null,null,null,null,null,null,null,null,null,null,null,null,null,null,null,null,null,null,null,null,null,null,null,null,null,null,null,null,null,null,null,null,null,null,null,null,null,null,null,null,null,null,null,null,null,null,null,null,null,null,null,{"$f":"IF(CG28=1,\"* La suma de los Abortos y Partos DEBE ser igual al Total de IVE realizada según causal. \",\"\")","v":""},{"$f":"IF(CH28=1,\"* No olvide digitar los campos Beneficiarios y/o Pueblo Originario y/o Migrantes (Digite CEROS si no tiene). \",\"\")","v":""},{"$f":"IF(CI28=1,\"* Beneficiarios y/o Pueblo Originario y/o Migrantes NO DEBEN ser Mayor al Total. \",\"\")","v":""},null,null,null,{"$f":"IF(B28<>(M28+N28+O28+P28+Q28),1,0)","v":0},{"$f":"IF(AND(B28<>0,OR(R28=\"\",S28=\"\",T28=\"\")),1,0)","v":0},{"$f":"IF(OR(B28<R28,B28<S28,B28<T28),1,0)","v":0}]
["SECCIÓN B: ACOMPAÑAMIENTO EN EL PROCESO REPRODUCTIVO"]
["EVENTO","TOTAL","BENEFICIARIAS "," "]
["SOLO EN EL PARTO",null,null,null,null,null,null,null,null,null,null,null,null,null,null,null,null,null,null,null,null,null,null,null,null,null,null,null,null,null,null,null,null,null,null,null,null,null,null,null,null,null,null,null,null,null,null,null,null,null,null,null,null,null,null,null,null,null,null,null,null,null,null,null,null,null,null,null,null,null,null,null,null,null,null,null,null,null,{"$f":"IF(B31=0,\"\",IF(C31=\"\",IF(B31=\"\",\"\",\"* No olvide digitar la columna Beneficiarios. \"),\"\"))","v":""},{"$f":"IF(B31<C31,\"* El número de Beneficiarios NO DEBE ser mayor que el Total. \",\"\")","v":""},null,null,null,null,{"$f":"IF(B31=0,\"\",IF(C31=\"\",IF(B23=\"\",\"\",1),0))","v":""},{"$f":"IF(B31<C31,1,0)","v":0}]
["PRE PARTO Y PARTO",null,null,null,null,null,null,null,null,null,null,null,null,null,null,null,null,null,null,null,null,null,null,null,null,null,null,null,null,null,null,null,null,null,null,null,null,null,null,null,null,null,null,null,null,null,null,null,null,null,null,null,null,null,null,null,null,null,null,null,null,null,null,null,null,null,null,null,null,null,null,null,null,null,null,null,null,null,{"$f":"IF(B32=0,\"\",IF(C32=\"\",IF(B32=\"\",\"\",\"* No olvide digitar la columna Beneficiarios. \"),\"\"))","v":""},{"$f":"IF(B32<C32,\"* El número de Beneficiarios NO DEBE ser mayor que el Total. \",\"\")","v":""}]
["SECCIÓN C: INFORMACIÓN RECIÉN NACIDOS"]
["SECCIÓN C.1: NACIDOS  SEGÚN PESO AL NACER  "]
["TIPO","TOTAL","PESO AL NACER (EN GRAMOS)",null,null,null,null,null,null,null,"PROGRAMA FENILQUETONURIA (PKU) E HIPOTIROIDISMO CONGÉNITO (HC)"]
[null,null,"Menos de 500","500 a 999","1.000 a \n1.499","1.500 a \n1.999","2.000 a \n2.499","2.500 a \n2.999","3.000 a \n3.999","4.000 y \nmás","Primeras Muestras","Muestras Repetidas"]
["NACIDOS VIVOS",{"$f":"SUM(C37:J37)","v":0},null,null,null,null,null,null,null,null,null,null,{"$f":"CA37&CB37","v":""},null,null,null,null,null,null,null,null,null,null,null,null,null,null,null,null,null,null,null,null,null,null,null,null,null,null,null,null,null,null,null,null,null,null,null,null,null,null,null,null,null,null,null,null,null,null,null,null,null,null,null,null,null,null,null,null,null,null,null,null,null,null,null,null,null,{"$f":"IF(CG37=1,\"* Los Recién Nacidos de 2.500 y más gramos NO DEBE ser menot al Total de partos con Apego Precoz de RN del mismo peso Sección A. \",\"\")","v":""},{"$f":"IF(CH37=1,\"* Los Recién Nacidos de menor o igual a 2.499 gramos NO DEBE ser menot al Total de partos con Apego Precoz de RN del mismo peso Sección A. \",\"\")","v":""},null,null,null,null,{"$f":"IF(SUM(H37:J37)>=Q11,0,1)","v":0},{"$f":"IF(SUM(C37:G37)>=P11,0,1)","v":0}]
["NACIDOS FALLECIDOS",{"$f":"SUM(C38:J38)","v":0}]
["SECCIÓN C.2: RECIÉN NACIDOS CON MALFORMACIÓN CONGÉNITA"]
["TIPO","TOTAL"]
[null,null," "]
["NACIDOS VIVOS",null,{"$f":"CA42","v":""},null,null,null,null,null,null,null,null,null,null,null,null,null,null,null,null,null,null,null,null,null,null,null,null,null,null,null,null,null,null,null,null,null,null,null,null,null,null,null,null,null,null,null,null,null,null,null,null,null,null,null,null,null,null,null,null,null,null,null,null,null,null,null,null,null,null,null,null,null,null,null,null,null,null,null,{"$f":"IF(CG42=1,\"* Total Nacidos Vivos con Malformación Congénita NO DEBE ser MAYOR a Nacidos Vivos según peso al Nacer. \",\"\")","v":""},null,null,null,null,null,{"$f":"IF(B42>B37,1,0)","v":0}]
["NACIDOS FALLECIDOS",null,{"$f":"CA43","v":""},null,null,null,null,null,null,null,null,null,null,null,null,null,null,null,null,null,null,null,null,null,null,null,null,null,null,null,null,null,null,null,null,null,null,null,null,null,null,null,null,null,null,null,null,null,null,null,null,null,null,null,null,null,null,null,null,null,null,null,null,null,null,null,null,null,null,null,null,null,null,null,null,null,null,null,{"$f":"IF(CG43=1,\"* Total Nacidos Fallecidos con Malformación Congénita NO DEBE ser MAYOR a Nacidos fallecidos según peso al Nacer. \",\"\")","v":""},null,null,null,null,null,{"$f":"IF(B43>B38,1,0)","v":0}]
["SECCIÓN C.3: APGAR MENOR O IGUAL A 3 AL MINUTO Y APGAR MENOR O IGUAL A 6 A LOS 5 MINUTOS"]
["TIPO","APGAR MENOR O IGUAL A  3 AL MINUTO","APGAR MENOR O IGUAL A 6 A LOS 5  MINUTOS"]
["NACIDOS VIVOS",null,null,null,null,null,null,null,null,null,null,null,""]
["SECCIÓN D: ESTERILIZACIONES SEGÚN SEXO"]
["SEXO","TOTAL      ","EDAD (en años)"]
[null,null,"Menor \nde 20","20 - 34","35 y más "]
["MUJER",{"$f":"SUM(C50:E50)","v":0}]
["HOMBRE",{"$f":"SUM(C51:E51)","v":0}]
["SECCIÓN E: EGRESOS DE MATERNIDAD Y NEONATOLOGÍA, SEGÚN LACTANCIA MATERNA EXCLUSIVA"]
["TIPO DE ALIMENTACIÓN","MATERNIDAD (PUÉRPERAS CON RN VIVO)","NEONATOLOGÍA"]
["TOTAL DE EGRESOS"]
["EGRESADOS CON LACTANCIA MATERNA EXCLUSIVA ",null,null,{"$f":"CA55&CB55","v":""},null,null,null,null,null,null,null,null,null,null,null,null,null,null,null,null,null,null,null,null,null,null,null,null,null,null,null,null,null,null,null,null,null,null,null,null,null,null,null,null,null,null,null,null,null,null,null,null,null,null,null,null,null,null,null,null,null,null,null,null,null,null,null,null,null,null,null,null,null,null,null,null,null,null,{"$f":"IF(B55>B54,\"* Egresos con LME NO DEBE ser mayor que Total de Egresos Maternidad. \",\"\")","v":""},{"$f":"IF(C55>C54,\"* Egresos con LME NO DEBE ser mayor que Total de Egresos Neonatología. \",\"\")","v":""},null,null,null,null,{"$f":"IF(B55>B54,1,0)","v":0},{"$f":"IF(C55>C54,1,0)","v":0}]
[]
["SECCIÓN F:  TIPOS DE LACTANCIA EN NIÑOS Y NIÑAS AL EGRESO DE LA HOSPITALIZACIÓN"]
["TIPO DE ALIMENTACIÓN",null,"TOTAL",null,null,"POR RANGO ETARIO",null,null,null,null,null,null,null,null,null,"Pueblos Originarios","Migrantes"]
[null,null,null,null,null," De 0 a 29 días",null,"De 1 mes a 2 meses 29 días",null,"De 3 meses a 5 meses 29 días",null,"De 6 meses a 11 meses 29 días",null,"De 1 año a 2 años"]
[null,null,"Ambos Sexos","Hombres","Mujeres","Hombres","Mujeres","Hombres","Mujeres","Hombres","Mujeres","Hombres","Mujeres","Hombres","Mujeres",null,"Mujeres"]
["LACTANCIA MATERNA EXCLUSIVA",null,{"$f":"SUM(D61+E61)","v":0},{"$f":"SUM(F61+H61+J61+L61+N61)","v":0},0,null,null,null,null,null,null,null,null,null,null,null,null,{"$f":"CA61&CB61","v":""},null,null,null,null,null,null,null,null,null,null,null,null,null,null,null,null,null,null,null,null,null,null,null,null,null,null,null,null,null,null,null,null,null,null,null,null,null,null,null,null,null,null,null,null,null,null,null,null,null,null,null,null,null,null,null,null,null,null,null,null,{"$f":"IF(CG61=1,\"* Recuerde digitar los campos Pueblo Originario y/o Migrantes (Digite Cero si no tiene). \",\"\")","v":""},{"$f":"IF(CH61=1,\"* Pueblo Originario y/o Migrante NO DEBE ser mayor al Total. \",\"\")","v":""},null,null,null,null,{"$f":"IF(AND(C61<>0,OR(P61=\"\",Q61=\"\")),1,0)","v":0},{"$f":"IF(OR(C61<P61,C61<Q61),1,0)","v":0}]
["LACTANCIA MATERNA MAS LACTANCIA ARTIFICIAL",null,{"$f":"SUM(D62+E62)","v":0},0,0,null,null,null,null,null,null,null,null,null,null,null,null,{"$f":"CA62&CB62","v":""},null,null,null,null,null,null,null,null,null,null,null,null,null,null,null,null,null,null,null,null,null,null,null,null,null,null,null,null,null,null,null,null,null,null,null,null,null,null,null,null,null,null,null,null,null,null,null,null,null,null,null,null,null,null,null,null,null,null,null,null,{"$f":"IF(CG62=1,\"* Recuerde digitar los campos Pueblo Originario y/o Migrantes (Digite Cero si no tiene). \",\"\")","v":""},{"$f":"IF(CH62=1,\"* Pueblo Originario y/o Migrante NO DEBE ser mayor al Total. \",\"\")","v":""},null,null,null,null,{"$f":"IF(AND(C62<>0,OR(P62=\"\",Q62=\"\")),1,0)","v":0},{"$f":"IF(OR(C62<P62,C62<Q62),1,0)","v":0}]
["LACTANCIA ARTIFICIAL",null,{"$f":"SUM(D63+E63)","v":0},0,0,null,null,null,null,null,null,null,null,null,null,null,null,{"$f":"CA63&CB63","v":""},null,null,null,null,null,null,null,null,null,null,null,null,null,null,null,null,null,null,null,null,null,null,null,null,null,null,null,null,null,null,null,null,null,null,null,null,null,null,null,null,null,null,null,null,null,null,null,null,null,null,null,null,null,null,null,null,null,null,null,null,{"$f":"IF(CG63=1,\"* Recuerde digitar los campos Pueblo Originario y/o Migrantes (Digite Cero si no tiene). \",\"\")","v":""},{"$f":"IF(CH63=1,\"* Pueblo Originario y/o Migrante NO DEBE ser mayor al Total. \",\"\")","v":""},null,null,null,null,{"$f":"IF(AND(C63<>0,OR(P63=\"\",Q63=\"\")),1,0)","v":0},{"$f":"IF(OR(C63<P63,C63<Q63),1,0)","v":0}]
["LACTANCIA MATERNA EXCLUSIVA CON SÓLIDOS",null,{"$f":"SUM(D64+E64)","v":0},{"$f":"SUM(J64+L64+N64)","v":0},{"$f":"SUM(K64+M64+O64)","v":0},null,null,null,null,null,null,null,null,null,null,null,null,{"$f":"CA64&CB64","v":""},null,null,null,null,null,null,null,null,null,null,null,null,null,null,null,null,null,null,null,null,null,null,null,null,null,null,null,null,null,null,null,null,null,null,null,null,null,null,null,null,null,null,null,null,null,null,null,null,null,null,null,null,null,null,null,null,null,null,null,null,{"$f":"IF(CG64=1,\"* Recuerde digitar los campos Pueblo Originario y/o Migrantes (Digite Cero si no tiene). \",\"\")","v":""},{"$f":"IF(CH64=1,\"* Pueblo Originario y/o Migrante NO DEBE ser mayor al Total. \",\"\")","v":""},null,null,null,null,{"$f":"IF(AND(C64<>0,OR(P64=\"\",Q64=\"\")),1,0)","v":0},{"$f":"IF(OR(C64<P64,C64<Q64),1,0)","v":0}]
["SECCIÓN G:  TAMIZAJE AUDITIVO"]
["EVALUACIÓN","Menores de 1 año","Pueblos Originarios","Migrantes"]
["RECIEN NACIDOS CON FACTORES DE RIESGO CON TAMIZAJE AUDITIVO",null,null,null,{"$f":"CA67&CB67","v":""},null,null,null,null,null,null,null,null,null,null,null,null,null,null,null,null,null,null,null,null,null,null,null,null,null,null,null,null,null,null,null,null,null,null,null,null,null,null,null,null,null,null,null,null,null,null,null,null,null,null,null,null,null,null,null,null,null,null,null,null,null,null,null,null,null,null,null,null,null,null,null,null,null,{"$f":"IF(CG67=1,\"* Pueblo Originario NO DEBE ser mayor al Total de Menores de 1 mes. \",\"\")","v":""},{"$f":"IF(CH67=1,\"*Migrantes NO DEBE ser mayor al Total de Menores de 1 mes. \",\"\")","v":""},null,null,null,null,{"$f":"IF(B67<C67,1,0)","v":0},{"$f":"IF(B67<D67,1,0)","v":0}]
["RECIEN NACIDOS CON TAMIZAJE AUDITIVO",null,null,null,{"$f":"CA68&CB68","v":""},null,null,null,null,null,null,null,null,null,null,null,null,null,null,null,null,null,null,null,null,null,null,null,null,null,null,null,null,null,null,null,null,null,null,null,null,null,null,null,null,null,null,null,null,null,null,null,null,null,null,null,null,null,null,null,null,null,null,null,null,null,null,null,null,null,null,null,null,null,null,null,null,null,{"$f":"IF(CG68=1,\"* Pueblo Originario NO DEBE ser mayor al Total de Menores de 1 mes. \",\"\")","v":""},{"$f":"IF(CH68=1,\"*Migrantes NO DEBE ser mayor al Total de Menores de 1 mes. \",\"\")","v":""},null,null,null,null,{"$f":"IF(B68<C68,1,0)","v":0},{"$f":"IF(B68<D68,1,0)","v":0}]
["RECIEN NACIDOS CON TAMIZAJE AUDITIVO ALTERADO (referido)",null,null,null,{"$f":"CA69&CB69","v":""},null,null,null,null,null,null,null,null,null,null,null,null,null,null,null,null,null,null,null,null,null,null,null,null,null,null,null,null,null,null,null,null,null,null,null,null,null,null,null,null,null,null,null,null,null,null,null,null,null,null,null,null,null,null,null,null,null,null,null,null,null,null,null,null,null,null,null,null,null,null,null,null,null,{"$f":"IF(CG69=1,\"* Pueblo Originario NO DEBE ser mayor al Total de Menores de 1 mes. \",\"\")","v":""},{"$f":"IF(CH69=1,\"*Migrantes NO DEBE ser mayor al Total de Menores de 1 mes. \",\"\")","v":""},null,null,null,null,{"$f":"IF(B69<C69,1,0)","v":0},{"$f":"IF(B69<D69,1,0)","v":0}]
[]
[]
[]
[]
[]
[]
[]
[]
[]
[]
[]
[]
[]
[]
[]
[]
[]
[]
[]
[]
[]
[]
[]
[]
[]
[]
[]
[]
[]
[]
[]
[]
[]
[]
[]
[]
[]
[]
[]
[]
[]
[]
[]
[]
[]
[]
[]
[]
[]
[]
[]
[]
[]
[]
[]
[]
[]
[]
[]
[]
[]
[]
[]
[]
[]
[]
[]
[]
[]
[]
[]
[]
[]
[]
[]
[]
[]
[]
[]
[]
[]
[]
[]
[]
[]
[]
[]
[]
[]
[]
[]
[]
[]
[]
[]
[]
[]
[]
[]
[]
[]
[]
[]
[]
[]
[]
[]
[]
[]
[]
[]
[]
[]
[]
[]
[]
[]
[]
[]
[]
[]
[]
[]
[]
[]
[]
[]
[]
[]
[]
[{"$f":"SUM(B11:T11,B37:B38,C61:C64,B26:B28,B54:B55,B50:B51,B31:B32,B42:B43,B46:C46,B16:B20,B67:D69)","v":0},{"$f":"SUM(CG10:CL69)","v":0}]

{"sheet":"A25","index":16,"n_rows":195,"n_cols":79,"rows_kept":195,"cut":false,"hidden":false,"merged":[[138,3,139,3],[138,4,139,4],[132,0,132,1],[134,0,134,1],[135,0,136,0],[138,0,139,0],[138,1,139,1],[138,2,139,2],[124,3,124,4],[124,5,124,6],[126,0,126,1],[127,0,129,0],[130,0,130,1],[131,0,131,1],[115,0,115,1],[116,0,118,0],[119,0,119,1],[120,0,120,1],[124,0,125,1],[124,2,125,2],[97,0,97,1],[99,0,99,4],[106,0,106,3],[111,3,112,3],[111,4,112,4],[114,0,114,1],[89,0,89,8],[90,0,91,1],[90,2,91,2],[92,0,92,1],[93,0,95,0],[96,0,96,1],[80,0,80,7],[81,0,81,1],[82,0,82,1],[83,0,85,0],[86,0,86,1],[87,0,87,1],[73,0,73,1],[74,0,74,1],[75,0,75,1],[76,0,76,1],[77,0,77,1],[78,0,78,1],[65,0,65,1],[66,0,66,1],[67,0,67,1],[68,0,68,1],[70,0,70,11],[71,0,72,1],[71,2,72,2],[71,3,72,3],[71,4,71,6],[71,7,72,7],[55,0,58,0],[59,0,60,0],[61,0,61,1],[62,0,62,8],[63,0,64,1],[63,2,64,2],[63,3,64,3],[63,4,63,6],[63,7,64,7],[44,0,45,0],[44,1,45,1],[50,0,51,0],[50,1,51,1],[50,2,51,2],[52,0,54,0],[37,1,37,2],[38,1,38,2],[39,0,42,0],[39,1,40,1],[41,1,42,1],[43,0,43,7],[28,0,28,9],[29,0,29,2],[30,0,38,0],[30,1,30,2],[31,1,31,2],[32,1,32,2],[33,1,33,2],[34,1,34,2],[35,1,35,2],[36,1,36,2],[19,24,19,25],[21,0,24,0],[21,1,22,1],[23,1,24,1],[25,0,26,1],[27,0,27,2],[18,6,18,25],[19,6,19,7],[19,8,19,9],[19,10,19,11],[19,12,19,13],[19,14,19,15],[19,16,19,17],[19,18,19,19],[19,20,19,21],[19,22,19,23],[14,0,14,2],[15,0,15,2],[16,0,16,2],[18,0,20,0],[18,1,20,2],[18,3,19,5],[9,18,9,19],[9,20,9,21],[9,22,9,23],[9,24,9,25],[11,0,12,0],[13,0,13,1],[8,0,10,0],[8,1,10,2],[8,3,9,5],[8,6,8,25],[9,6,9,7],[9,8,9,9],[9,10,9,11],[9,12,9,13],[9,14,9,15],[9,16,9,17]]}
["SERVICIO DE SALUD",null,null,null,null,null,null,null,null,null,null,null,null,null,null,null,null,null,null,null,null,null,null,null,null,null,null,null,null,null,null,null,null,null,null,null,null,null,null,null,null,null,null,null,null,null,null,null,null,null,null,null,null,null,null,null,null,null,null,null,null,null,null,null,null,null,null,null,null,null,null,null,null,null,null,null,null,null,"CG5:CN157"]
[{"$f":"CONCATENATE(\"COMUNA: \",NOMBRE!B2,\" - \",\"( \",NOMBRE!C2,NOMBRE!D2,NOMBRE!E2,NOMBRE!F2,NOMBRE!G2,\" )\")","v":"COMUNA:  - (  )"}]
[{"$f":"CONCATENATE(\"ESTABLECIMIENTO/ESTRATEGIA: \",NOMBRE!B3,\" - \",\"( \",NOMBRE!C3,NOMBRE!D3,NOMBRE!E3,NOMBRE!F3,NOMBRE!G3,NOMBRE!H3,\" )\")","v":"ESTABLECIMIENTO/ESTRATEGIA:  - (  )"}]
[{"$f":"CONCATENATE(\"MES: \",NOMBRE!B6,\" - \",\"( \",NOMBRE!C6,NOMBRE!D6,\" )\")","v":"MES:  - (  )"}]
[{"$f":"CONCATENATE(\"AÑO: \",NOMBRE!B7)","v":"AÑO: 2020"}]
[null,null,null,null,null,"REM-25.  SERVICIOS DE SANGRE"]
[]
["SECCIÓN A.1: POBLACIÓN DONANTE (CS-UMT-BS)"]
["DONANTES","DESCRIPCIÓN",null,"TOTAL",null,null,"POR EDAD"]
[null,null,null,null,null,null,"18-19",null,"20-24",null,"25-29",null,"30-34",null,"35-39",null,"40-44",null,"45-49",null,"50-54",null,"55-59",null,"60-64"]
[null,null,null,"Ambos Sexos","Hombres","Mujeres","Hombres","Mujeres","Hombres","Mujeres","Hombres","Mujeres","Hombres","Mujeres","Hombres","Mujeres","Hombres","Mujeres","Hombres","Mujeres","Hombres","Mujeres","Hombres","Mujeres","Hombres","Mujeres"]
["ALTRUISTAS","NUEVOS","Aceptados",{"$f":"SUM(E12+F12)","v":0},{"$f":"SUM(G12+I12+K12+M12+O12+Q12+S12+U12+W12+Y12)","v":0},0]
[null,"REPETIDOS","Aceptados",{"$f":"SUM(E13+F13)","v":0},0,0]
["FAMILIARES O REPOSICIÓN",null,"Aceptados",{"$f":"SUM(E14+F14)","v":0},0,0]
["TOTAL",null,null,{"$f":"SUM(E15+F15)","v":0},0,0,{"$f":"SUM(G12:G14)","v":0},0,0,0,0,0,0,0,0,0,0,0,0,0,0,0,0,0,0,0]
["TOTAL DÍAS ATENCIÓN OTORGADOS"]
["TOTAL COLECTAS MÓVILES REALIZADAS"]
["SECCIÓN A.2:  TIPO DE DONANTES RECHAZADOS"]
["DONANTES","DESCRIPCIÓN",null,"TOTAL",null,null,"POR EDAD"]
[null,null,null,null,null,null,"18-19",null,"20-24",null,"25-29",null,"30-34",null,"35-39",null,"40-44",null,"45-49",null,"50-54",null,"55-59",null,"60-64"]
[null,null,null,"Ambos Sexos","Hombres","Mujeres","Hombres","Mujeres","Hombres","Mujeres","Hombres","Mujeres","Hombres","Mujeres","Hombres","Mujeres","Hombres","Mujeres","Hombres","Mujeres","Hombres","Mujeres","Hombres","Mujeres","Hombres","Mujeres"]
["ALTRUISTAS","NUEVOS","Rechazados Transitorios",{"$f":"SUM(E22+F22)","v":0},{"$f":"SUM(G22+I22+K22+M22+O22+Q22+S22+U22+W22+Y22)","v":0},0]
[null,null,"Rechazados Permanentes",0,0,0]
[null,"REPETIDOS","Rechazados Transitorios",0,0,0]
[null,null,"Rechazados Permanentes",0,0,0]
["FAMILIARES O REPOSICIÓN",null,"Rechazados Transitorios",0,0,0]
[null,null,"Rechazados Permanentes",0,0,0]
["TOTAL",null,null,{"$f":"SUM(D22:D27)","v":0},0,0,0,0,0,0,0,0,0,0,0,0,0,0,0,0,0,0,0,0,0,0]
["SECCIÓN A.3: REACCIONES ADVERSAS A LA DONACIÓN (CS - UMT - BS)"]
["TIPO",null,null,"TOTAL"," ALTRUISTAS","REPOSICIÓN"]
["CON SÍNTOMAS LOCALES","HEMATOMA",null,{"$f":"SUM(E31+F31)","v":0}]
[null,"PUNCIÓN ARTERIAL",null,0]
[null,"SANGRAMIENTO POSTERIOR",null,0]
[null,"IRRITACION DE UN NERVIO",null,0]
[null,"LESIÓN NERVIOSA",null,0]
[null,"LESIÓN DE TENDÓN",null,0]
[null,"BRAZO DOLOROSO",null,0]
[null,"TROMBOFLEBITIS",null,0]
[null,"ALERGIA LOCAL",null,0]
["CON SÍNTOMAS GENERALES","RVV INMEDIATA","Sin Lesión",0]
[null,null,"Con Lesión",0]
[null,"RVV TARDÍA","Sin Lesión",0]
[null,null,"Con Lesión",0]
["SECCIÓN B: INGRESO UNIDADES DE SANGRE A PRODUCIÓN  (CS-BS)"]
["UNIDADES DE SANGRE","TOTAL"]
[]
["APTAS"]
["NO APTAS"]
["TOTAL",{"$f":"SUM(B47+B48)","v":0}]
["SECCIÓN C: PRODUCCIÓN DE COMPONENTES SANGUÍNEOS (CS-BS)"]
["PRODUCCIÓN","DESCRIPCIÓN","TOTAL"]
[]
["GLÓBULOS ROJOS","DESPLAMATIZADOS"]
[null,"LEUCOREDUCIDOS"]
[null,"FILTRADOS"]
["PLAQUETAS","ESTÁNDAR"]
[null,"LEUCORREDUCIDA POOL"]
[null,"LEUCODEPLETADA POOL"]
[null,"AFÉRESIS"]
["PLASMAS","PLASMA FRESCO CONGELADO TERAPÉUTICO"]
[null,"PLASMA USO NO TERAPÉUTICO"]
["CRIOPRECIPITADOS"]
["SECCIÓN C.1: COMPONENTES SANGUÍNEOS ELIMINADOS (CS-BS )"]
["CAUSA",null,"GLOBULOS ROJOS*","PLASMAS*","PLAQUETAS",null,null,"CRIOPRECIPI-TADOS"]
[null,null,null,null,"Estándar","Pool*","Aféresis"]
["CALIFICACIÓN MICROBIOLÓGICA REACTIVA"]
["OBSOLESCENCIA"]
["OTROS"]
["TOTAL",null,{"$f":"SUM(C66:C68)","v":0},0,0,0,0,0]
["* Cualquier tipo"]
["SECCIÓN C.2 .: COMPONENTES SANGUÍNEOS ELIMINADOS O DEVUELTOS AL CENTRO DE SANGRE ( UMT)"]
["CAUSA",null,"GLOBULOS ROJOS*","PLASMAS*","PLAQUETAS",null,null,"CRIOPRECIPI-TADOS"]
[null,null,null,null,"Estándar","Pool*","Aféresis"]
["OBSOLESCENCIA"]
["FALLA POR CADENA DE FRÍO"]
["DEVOLUCIONES POR PRODUCTO POR NO CUMPLIR ESTÁNDAR"]
["DESCONGELAMIENTO SIN USO"]
["OTROS"]
["TOTAL",null,{"$f":"SUM(C74:C78)","v":0},0,0,0,0,0]
["* Cualquier tipo"]
["SECCIÓN C.3 : COMPONENTES SANGUÍNEOS TRANSFORMACIONES (CS-BS-UMT)"]
["COMPONENTES",null,"TOTAL","UNIDADES PEDIÁTRICAS","IRRADIACIÓN","RECONSTITU-CIÓN PARA USO PEDIÁTRICO (RECAMBIO)","REDUCCIÓN VOLUMEN","DESPLASMATI-ZACIÓN"]
["GLOBULOS ROJOS*"]
["PLAQUETAS","ESTÁNDAR"]
[null,"POOL*"]
[null,"AFÉRESIS"]
["PLASMAS*"]
["CRIOPRECIPITADOS"]
["* Cualquier tipo"]
["SECCIÓN C.4: COMPONENTES SANGUÍNEOS DISTRIBUÍBLES (CS)"]
["CAUSA",null,"TOTAL"]
[]
["GLOBULOS ROJOS*"]
["PLAQUETAS","ESTÁNDAR"]
[null,"POOL*"]
[null,"AFÉRESIS"]
["PLASMAS*"]
["CRIOPRECIPITADOS"]
["* Cualquier tipo"]
["SECCIÓN C.5: SATISFACCION STOCK (7 DÍAS) CS"]
["GR","NÚMERO DÍAS BAJO STOCK ÓPTIMO"]
["O +"]
["A +"]
["B +"]
["O ( - )"]
["A ( - )"]
["SECCIÓN C.6: SATISFACCION STOCK CRITICO (3 DÍAS) UMT"]
["GR","NÚMERO DÍAS BAJO STOCK ÓPTIMO"]
["O +"]
["A +"]
["B +"]
["O ( - )"]
["A ( - )"]
["SECCIÓN D: COMPONENTES SANGUINEOS DISTRIBUIDOS (CS) O TRANSFERIDOS (BS Y UMT)"]
["DESCRIPCIÓN",null,"TOTAL","PÚBLICO","PRIVADO**","F.F.A.A."]
["GLOBULOS ROJOS*",null,{"$f":"SUM(D116:F116)","v":0}]
["PLAQUETAS","ESTANDAR",0]
[null,"POOL*",0]
[null,"AFERESIS",0]
["PLASMAS*",null,0]
["CRIOPRECIPITADOS",null,0]
["* Cualquier tipo"]
["**Universitarios, Clínicas Privadas, Otros"]
["SECCIÓN D.1: TRANSFUSIONES (UMT - BS )"]
["TRANSFUSIONES                                                   (Nº DE UNIDADES)",null,"TOTAL","MENORES DE 15 AÑOS",null,"DE 15 Y MAS AÑOS"]
[null,null,null,"Normales ","Irradiados","Normales","Irradiados"]
["GLOBULOS ROJOS*",null,{"$f":"SUM(D127:G127)","v":0}]
["PLAQUETAS","ESTANDAR",0]
[null,"POOL*",0]
[null,"AFERESIS",0]
["PLASMAS*",null,0]
["CRIOPRECIPITADOS",null,0]
["TOTAL",null,0,{"$f":"SUM(D127:D132)","v":0},{"$f":"SUM(E127:E132)","v":0},{"$f":"SUM(F127:F132)","v":0},{"$f":"SUM(G127:G132)","v":0}]
["SECCIÓN E: DEMANDA GLÓBULOS ROJOS PARA TRANSFUSIÓN (UMT-BS)"]
["TIPO",null,"TOTAL"]
["UNIDADES","SOLICITADAS"]
[null,"DESPACHADAS"]
["SECCIÓN F: REACCIONES ADVERSAS POR ACTO* TRANSFUSIONAL  (UMT-BS)"]
["TIPO","TOTAL","GLÓBULOS ROJOS","PLASMAS","PLAQUETAS"]
[]
["RASH ALÉRGICO",{"$f":"SUM(C141:E141)","v":0}]
["ANAFILAXIA",0]
["REACCIÓN FEBRIL NO HEMOLÍTICA",0]
["REACCIÓN HEMOLÍTICA AGUDA POR INCOMPATIBILIDAD ABO",0]
["REACCIÓN HEMOLÍTICA AGUDA POR OTRA CAUSA",0]
["SOBRECARGA CIRCULATORIA",0]
["REACCIÓN HEMOLÍTICA TARDÍA",0]
["SEPTICEMIA",0]
["TRALI",0]
["OTRAS",0]
["* Cada vez que el paciente se transfunde."]
[]
[]
[]
[]
[]
[]
[]
[]
[]
[]
[]
[]
[]
[]
[]
[]
[]
[]
[]
[]
[]
[]
[]
[]
[]
[]
[]
[]
[]
[]
[]
[]
[]
[]
[]
[]
[]
[]
[]
[]
[]
[]
[]
[{"$f":"SUM(D12:D15,D22:D27,D31:D43,B49,C69:H69,C79:H79,C83:H88,C93:C98,C116:C121,C133,B141:B150,C53:C62,B102:B106,B109:B113,D16:D17,C136:C137)","v":0},{"$f":"SUM(CG5:CN157)","v":0}]

{"sheet":"A26","index":17,"n_rows":195,"n_cols":86,"rows_kept":195,"cut":false,"hidden":false,"merged":[[70,0,70,1],[60,0,60,1],[62,0,64,1],[62,2,62,6],[66,0,66,1],[67,0,67,1],[68,0,68,1],[69,0,69,1],[82,0,83,0],[82,1,83,1],[82,2,83,2],[73,0,74,0],[73,1,74,1],[73,2,73,6],[78,0,79,0],[78,1,79,1],[78,2,78,6],[62,7,63,8],[63,2,64,2],[63,3,63,5],[63,6,64,6],[65,0,65,1],[59,0,59,1],[46,0,46,1],[47,0,47,1],[50,0,50,1],[51,0,51,1],[52,0,52,1],[53,0,54,0],[55,0,55,1],[56,0,56,1],[57,0,57,1],[58,0,58,1],[27,0,27,1],[28,0,28,1],[29,0,29,1],[45,0,45,1],[40,0,40,1],[41,0,41,1],[42,0,44,0],[37,0,37,1],[38,0,38,1],[39,0,39,1],[30,0,30,1],[31,0,35,0],[22,0,22,1],[23,0,23,1],[24,0,24,1],[25,0,25,1],[26,0,26,1],[8,0,8,1],[9,0,9,1],[10,0,10,1],[11,0,11,1],[12,0,12,1],[19,0,19,1],[20,0,20,1],[21,0,21,1],[18,0,18,1],[13,0,13,1],[14,0,14,1],[15,0,15,1],[16,0,16,1],[17,0,17,1]]}
["SERVICIO DE SALUD"]
[{"$f":"CONCATENATE(\"COMUNA: \",NOMBRE!B2,\" - \",\"( \",NOMBRE!C2,NOMBRE!D2,NOMBRE!E2,NOMBRE!F2,NOMBRE!G2,\" )\")","v":"COMUNA:  - (  )"}]
[{"$f":"CONCATENATE(\"ESTABLECIMIENTO/ESTRATEGIA: \",NOMBRE!B3,\" - \",\"( \",NOMBRE!C3,NOMBRE!D3,NOMBRE!E3,NOMBRE!F3,NOMBRE!G3,NOMBRE!H3,\" )\")","v":"ESTABLECIMIENTO/ESTRATEGIA:  - (  )"}]
[{"$f":"CONCATENATE(\"MES: \",NOMBRE!B6,\" - \",\"( \",NOMBRE!C6,NOMBRE!D6,\" )\")","v":"MES:  - (  )"}]
[{"$f":"CONCATENATE(\"AÑO: \",NOMBRE!B7)","v":"AÑO: 2020"}]
[null,null,"REM-26.  ACTIVIDADES EN DOMICILIO Y OTROS ESPACIOS"]
[]
["SECCIÓN A: VISITAS DOMICILIARIAS INTEGRALES A FAMILIAS (ESTABLECIMIENTOS APS)"]
["CONCEPTOS",null,"TOTAL","UN PROFESIONAL","DOS O MÁS PROFESIONALES","UN PROFESIONAL Y UN TÉCNICO PARAMÉDICO","TÉCNICO PARAMÉDICO","FACILITADOR/A INTERCULTURAL PUEBLOS ORIGINARIOS","AGENTE COMUNITARIO","PRIMERA VISITA","SEGUNDA VISITA","TERCERA O MÁS VISITAS DE SEGUIMIENTO","PROGRAMA DE ACOMPAÑAMIENTO PSICOSOCIAL EN APS","MIGRANTES"]
["FAMILIA CON NIÑO PREMATURO",null,{"$f":"SUM(D10:G10)","v":0},null,null,null,null,null,null,null,null,null,null,null,{"$f":"CA10&CB10","v":""},null,null,null,null,null,null,null,null,null,null,null,null,null,null,null,null,null,null,null,null,null,null,null,null,null,null,null,null,null,null,null,null,null,null,null,null,null,null,null,null,null,null,null,null,null,null,null,null,null,null,null,null,null,null,null,null,null,null,null,null,null,null,null,{"$f":"IF(CG10=1,\"* La suma del número de Primera, Segunda y Tercera o más Visitas de Seguimiento debe coincidir con el Total. \",\"\")","v":""},{"$f":"IF(CH10=1,\"* Programa de Atención Domiciliaria a Personas con Dependencia Severa debe ser MENOR O IGUAL al Total. \",\"\")","v":""},null,null,null,null,{"$f":"IF((K10+J10+L10)<>C10,1,0)","v":0}]
["FAMILIA CON NIÑO RECIÉN NACIDO",null,{"$f":"SUM(D11:G11)","v":0},null,null,null,null,null,null,null,null,null,null,null,{"$f":"CA11&CB11","v":""},null,null,null,null,null,null,null,null,null,null,null,null,null,null,null,null,null,null,null,null,null,null,null,null,null,null,null,null,null,null,null,null,null,null,null,null,null,null,null,null,null,null,null,null,null,null,null,null,null,null,null,null,null,null,null,null,null,null,null,null,null,null,null,{"$f":"IF(CG11=1,\"* La suma del número de Primera, Segunda y Tercera o más Visitas de Seguimiento debe coincidir con el Total. \",\"\")","v":""},"",null,null,null,null,{"$f":"IF((K11+J11+L11)<>C11,1,0)","v":0}]
["FAMILIA CON NIÑO CON DÉFICIT DEL DSM",null,{"$f":"SUM(D12:G12)","v":0},null,null,null,null,null,null,null,null,null,null,null,"",null,null,null,null,null,null,null,null,null,null,null,null,null,null,null,null,null,null,null,null,null,null,null,null,null,null,null,null,null,null,null,null,null,null,null,null,null,null,null,null,null,null,null,null,null,null,null,null,null,null,null,null,null,null,null,null,null,null,null,null,null,null,null,"","",null,null,null,null,0]
["FAMILIA CON NIÑO EN RIESGO VINCULAR AFECTIVO",null,0,null,null,null,null,null,null,null,null,null,null,null,"",null,null,null,null,null,null,null,null,null,null,null,null,null,null,null,null,null,null,null,null,null,null,null,null,null,null,null,null,null,null,null,null,null,null,null,null,null,null,null,null,null,null,null,null,null,null,null,null,null,null,null,null,null,null,null,null,null,null,null,null,null,null,null,"","",null,null,null,null,0]
["FAMILIA CON NIÑO < 7 MESES CON SCORE DE RIESGO MODERADO DE MORIR POR NEUMONÍA",null,0,null,null,null,null,null,null,null,null,null,null,null,"",null,null,null,null,null,null,null,null,null,null,null,null,null,null,null,null,null,null,null,null,null,null,null,null,null,null,null,null,null,null,null,null,null,null,null,null,null,null,null,null,null,null,null,null,null,null,null,null,null,null,null,null,null,null,null,null,null,null,null,null,null,null,null,"","",null,null,null,null,0]
["FAMILIA CON NIÑO < 7 MESES CON SCORE DE RIESGO GRAVE DE MORIR POR NEUMONÍA",null,0,null,null,null,null,null,null,null,null,null,null,null,"",null,null,null,null,null,null,null,null,null,null,null,null,null,null,null,null,null,null,null,null,null,null,null,null,null,null,null,null,null,null,null,null,null,null,null,null,null,null,null,null,null,null,null,null,null,null,null,null,null,null,null,null,null,null,null,null,null,null,null,null,null,null,null,"","",null,null,null,null,0]
["FAMILIA CON NIÑO CON PROBLEMA RESPIRATORIO CRÓNICO O NO CONTROLADO",null,0,null,null,null,null,null,null,null,null,null,null,null,"",null,null,null,null,null,null,null,null,null,null,null,null,null,null,null,null,null,null,null,null,null,null,null,null,null,null,null,null,null,null,null,null,null,null,null,null,null,null,null,null,null,null,null,null,null,null,null,null,null,null,null,null,null,null,null,null,null,null,null,null,null,null,null,"","",null,null,null,null,0]
["FAMILIA CON NIÑO MALNUTRIDO",null,0,null,null,null,null,null,null,null,null,null,null,null,"",null,null,null,null,null,null,null,null,null,null,null,null,null,null,null,null,null,null,null,null,null,null,null,null,null,null,null,null,null,null,null,null,null,null,null,null,null,null,null,null,null,null,null,null,null,null,null,null,null,null,null,null,null,null,null,null,null,null,null,null,null,null,null,"","",null,null,null,null,0]
["FAMILIA CON NIÑO CON RIESGO PSICOSOCIAL (EXCLUYE VINCULAR AFECTIVO)",null,0,null,null,null,null,null,null,null,null,null,null,null,"",null,null,null,null,null,null,null,null,null,null,null,null,null,null,null,null,null,null,null,null,null,null,null,null,null,null,null,null,null,null,null,null,null,null,null,null,null,null,null,null,null,null,null,null,null,null,null,null,null,null,null,null,null,null,null,null,null,null,null,null,null,null,null,"",{"$f":"IF(CH18=1,\"* Programa de Atención Domiciliaria a Personas con Dependencia Severa debe ser MENOR O IGUAL al Total. \",\"\")","v":""},null,null,null,null,0,{"$f":"IF(M18>C18,1,0)","v":0}]
["FAMILIA CON ADOLESCENTE EN RIESGO O PROBLEMA PSICOSOCIAL",null,0,null,null,null,null,null,null,null,null,null,null,null,"",null,null,null,null,null,null,null,null,null,null,null,null,null,null,null,null,null,null,null,null,null,null,null,null,null,null,null,null,null,null,null,null,null,null,null,null,null,null,null,null,null,null,null,null,null,null,null,null,null,null,null,null,null,null,null,null,null,null,null,null,null,null,null,"","",null,null,null,null,0,0]
["FAMILIA CON INTEGRANTE CON PATOLOGÍA CRÓNICA DESCOMPENSADA",null,0,null,null,null,null,null,null,null,null,null,null,null,"",null,null,null,null,null,null,null,null,null,null,null,null,null,null,null,null,null,null,null,null,null,null,null,null,null,null,null,null,null,null,null,null,null,null,null,null,null,null,null,null,null,null,null,null,null,null,null,null,null,null,null,null,null,null,null,null,null,null,null,null,null,null,null,"","",null,null,null,null,0,0]
["FAMILIA CON ADULTO MAYOR DEPENDEDIENTE (EXCLUYE DEPENDIENTE SEVERO)",null,0,null,null,null,null,null,null,null,null,null,null,null,"",null,null,null,null,null,null,null,null,null,null,null,null,null,null,null,null,null,null,null,null,null,null,null,null,null,null,null,null,null,null,null,null,null,null,null,null,null,null,null,null,null,null,null,null,null,null,null,null,null,null,null,null,null,null,null,null,null,null,null,null,null,null,null,"","",null,null,null,null,0]
["FAMILIA CON ADULTO MAYOR EN RIESGO PSICOSOCIAL",null,0,null,null,null,null,null,null,null,null,null,null,null,"",null,null,null,null,null,null,null,null,null,null,null,null,null,null,null,null,null,null,null,null,null,null,null,null,null,null,null,null,null,null,null,null,null,null,null,null,null,null,null,null,null,null,null,null,null,null,null,null,null,null,null,null,null,null,null,null,null,null,null,null,null,null,null,"",{"$f":"IF(CH22=1,\"* Programa de Atención Domiciliaria a Personas con Dependencia Severa debe ser MENOR O IGUAL al Total. \",\"\")","v":""},null,null,null,null,0]
["FAMILIA CON GESTANTE ADOLESCENTE 10 A 14 AÑOS",null,{"$f":"SUM(D23:G23)","v":0},null,null,null,null,null,null,null,null,null,null,null,"",null,null,null,null,null,null,null,null,null,null,null,null,null,null,null,null,null,null,null,null,null,null,null,null,null,null,null,null,null,null,null,null,null,null,null,null,null,null,null,null,null,null,null,null,null,null,null,null,null,null,null,null,null,null,null,null,null,null,null,null,null,null,null,"","",null,null,null,null,0,0]
["FAMILIA CON GESTANTE >20 AÑOS EN RIESGO PSICOSOCIAL",null,0,null,null,null,null,null,null,null,null,null,null,null,"",null,null,null,null,null,null,null,null,null,null,null,null,null,null,null,null,null,null,null,null,null,null,null,null,null,null,null,null,null,null,null,null,null,null,null,null,null,null,null,null,null,null,null,null,null,null,null,null,null,null,null,null,null,null,null,null,null,null,null,null,null,null,null,"","",null,null,null,null,0,0]
["FAMILIA CON GESTANTE ADOLESCENTE EN RIESGO PSICOSOCIAL 15 A 19 AÑOS",null,{"$f":"SUM(D25:G25)","v":0},null,null,null,null,null,null,null,null,null,null,null,"",null,null,null,null,null,null,null,null,null,null,null,null,null,null,null,null,null,null,null,null,null,null,null,null,null,null,null,null,null,null,null,null,null,null,null,null,null,null,null,null,null,null,null,null,null,null,null,null,null,null,null,null,null,null,null,null,null,null,null,null,null,null,null,"","",null,null,null,null,0,0]
["FAMILIA CON ADOLESCENTE CON PROBLEMA RESPIRATORIO CRÓNICO O NO CONTROLADO",null,0,null,null,null,null,null,null,null,null,null,null,null,"",null,null,null,null,null,null,null,null,null,null,null,null,null,null,null,null,null,null,null,null,null,null,null,null,null,null,null,null,null,null,null,null,null,null,null,null,null,null,null,null,null,null,null,null,null,null,null,null,null,null,null,null,null,null,null,null,null,null,null,null,null,null,null,"","",null,null,null,null,0]
["FAMILIA CON ADULTO CON PROBLEMA RESPIRATORIO CRÓNICO O NO CONTROLADO",null,0,null,null,null,null,null,null,null,null,null,null,null,"",null,null,null,null,null,null,null,null,null,null,null,null,null,null,null,null,null,null,null,null,null,null,null,null,null,null,null,null,null,null,null,null,null,null,null,null,null,null,null,null,null,null,null,null,null,null,null,null,null,null,null,null,null,null,null,null,null,null,null,null,null,null,null,"","",null,null,null,null,0]
["FAMILIA CON GESTANTE EN RIESGO BIOMÉDICO",null,0,null,null,null,null,null,null,null,null,null,null,null,"",null,null,null,null,null,null,null,null,null,null,null,null,null,null,null,null,null,null,null,null,null,null,null,null,null,null,null,null,null,null,null,null,null,null,null,null,null,null,null,null,null,null,null,null,null,null,null,null,null,null,null,null,null,null,null,null,null,null,null,null,null,null,null,"","",null,null,null,null,0]
["FAMILIA CON OTRO RIESGO PSICOSOCIAL",null,0,null,null,null,null,null,null,null,null,null,null,null,"",null,null,null,null,null,null,null,null,null,null,null,null,null,null,null,null,null,null,null,null,null,null,null,null,null,null,null,null,null,null,null,null,null,null,null,null,null,null,null,null,null,null,null,null,null,null,null,null,null,null,null,null,null,null,null,null,null,null,null,null,null,null,null,"","",null,null,null,null,0,0]
["FAMILIA CON INTEGRANTE CON PROBLEMA DE SALUD MENTAL",null,0,null,null,null,null,null,null,null,null,null,null,null,"",null,null,null,null,null,null,null,null,null,null,null,null,null,null,null,null,null,null,null,null,null,null,null,null,null,null,null,null,null,null,null,null,null,null,null,null,null,null,null,null,null,null,null,null,null,null,null,null,null,null,null,null,null,null,null,null,null,null,null,null,null,null,null,"","",null,null,null,null,0,0]
["FAMILIA CON NIÑOS/AS DE 5 A 9 AÑOS CON PROBLEMAS Y/O TRASTORNOS DE SALUD MENTAL",null,{"$f":"SUM(D31:G31)","v":0},null,null,null,null,null,null,null,null,null,null,null,"",null,null,null,null,null,null,null,null,null,null,null,null,null,null,null,null,null,null,null,null,null,null,null,null,null,null,null,null,null,null,null,null,null,null,null,null,null,null,null,null,null,null,null,null,null,null,null,null,null,null,null,null,null,null,null,null,null,null,null,null,null,null,null,"","",null,null,null,null,0,0]
[" A PERSONAS CON DEPENDENCIA SEVERA","FAMILIA CON ADULTO MAYOR CON DEMENCIA",{"$f":"SUM(D32:G32)","v":0},null,null,null,null,null,null,null,null,null,null,null,"",null,null,null,null,null,null,null,null,null,null,null,null,null,null,null,null,null,null,null,null,null,null,null,null,null,null,null,null,null,null,null,null,null,null,null,null,null,null,null,null,null,null,null,null,null,null,null,null,null,null,null,null,null,null,null,null,null,null,null,null,null,null,null,"","",null,null,null,null,0]
[null,"FAMILIA CON INTEGRANTE CON ENFERMEDAD TERMINAL",0,null,null,null,null,null,null,null,null,null,null,null,"",null,null,null,null,null,null,null,null,null,null,null,null,null,null,null,null,null,null,null,null,null,null,null,null,null,null,null,null,null,null,null,null,null,null,null,null,null,null,null,null,null,null,null,null,null,null,null,null,null,null,null,null,null,null,null,null,null,null,null,null,null,null,null,"","",null,null,null,null,0]
[null,"FAMILIA CON INTEGRANTE ALTA HOSPITALIZACIÓN PRECOZ",0,null,null,null,null,null,null,null,null,null,null,null,"",null,null,null,null,null,null,null,null,null,null,null,null,null,null,null,null,null,null,null,null,null,null,null,null,null,null,null,null,null,null,null,null,null,null,null,null,null,null,null,null,null,null,null,null,null,null,null,null,null,null,null,null,null,null,null,null,null,null,null,null,null,null,null,"","",null,null,null,null,0]
[null,"FAMILIA CON INTEGRANTE CON DEPENDENCIA SEVERA (excluye adulto mayor)",{"$f":"SUM(D35:G35)","v":0},null,null,null,null,null,null,null,null,null,null,null,"",null,null,null,null,null,null,null,null,null,null,null,null,null,null,null,null,null,null,null,null,null,null,null,null,null,null,null,null,null,null,null,null,null,null,null,null,null,null,null,null,null,null,null,null,null,null,null,null,null,null,null,null,null,null,null,null,null,null,null,null,null,null,null,"","",null,null,null,null,0]
[null,"FAMILIA CON ADULTO MAYOR DEPENDIENTE SEVERO",{"$f":"SUM(D36:G36)","v":0},null,null,null,null,null,null,null,null,null,null,null,"",null,null,null,null,null,null,null,null,null,null,null,null,null,null,null,null,null,null,null,null,null,null,null,null,null,null,null,null,null,null,null,null,null,null,null,null,null,null,null,null,null,null,null,null,null,null,null,null,null,null,null,null,null,null,null,null,null,null,null,null,null,null,null,"","",null,null,null,null,0]
["SECCIÓN B: OTRAS VISITAS INTEGRALES"]
["CONCEPTOS",null,"TOTAL","UN PROFESIONAL","DOS O MÁS \nPROFESIONALES","UN PROFESIONAL Y \nUN TÉCNICO PARAMÉDICO","TÉCNICO PARAMÉDICO","FACILITADOR/A INTERCULTURAL PUEBLOS ORIGINARIOS","AGENTE COMUNITARIO","MIGRANTES"]
["VISITA EPIDEMIOLÓGICA",null,{"$f":"SUM(D39:F39)","v":0}]
["A LUGAR DE TRABAJO (*)",null,{"$f":"SUM(D40:F40)","v":0}]
["A COLEGIO, SALAS CUNA, JARDÍN INFANTIL (*)",null,0]
["A GRUPO COMUNITARIO",null,0]
["VISITA INTEGRAL DE SALUD MENTAL","A DOMICILIO (NIVEL SECUNDARIO)",0]
[null,"A LUGAR DE TRABAJO",0]
[null,"A ESTABLECIMIENTOS EDUCACIONALES",0]
["EN SECTOR RURAL",null,{"$f":"SUM(D46:G46)","v":0}]
["OTRAS",null,{"$f":"SUM(D47:G47)","v":0}]
["TOTAL",null,{"$f":"SUM(C39:C47)","v":0},{"$f":"SUM(D39:D47)","v":0},0,0,{"$f":"SUM(G46:G47)","v":0},0,0,0]
["(*) Excluye visita integral de salud mental"]
["SECCIÓN C:  VISITAS CON FINES DE TRATAMIENTOS Y/O PROCEDIMIENTOS EN DOMICILIO"]
["CONCEPTOS",null,"TOTAL","PROFESIONAL","TÉCNICO \nPARAMÉDICO","PROGRAMA DE ATENCIÓN DOMICILIARIA A PERSONAS CON DEPENDENCIA SEVERA"]
["A PERSONAS CON DEPENDENCIA LEVE",null,{"$f":"SUM(D52:E52)","v":0}]
["A PERSONAS CON DEPENDENCIA MODERADA",null,0]
[" A PERSONAS CON DEPENDENCIA SEVERA","ONCOLÓGICOS (Excluye cuidados paliativos)",0,null,null,null,{"$f":"CA54&CB54","v":""},null,null,null,null,null,null,null,null,null,null,null,null,null,null,null,null,null,null,null,null,null,null,null,null,null,null,null,null,null,null,null,null,null,null,null,null,null,null,null,null,null,null,null,null,null,null,null,null,null,null,null,null,null,null,null,null,null,null,null,null,null,null,null,null,null,null,null,null,null,null,null,{"$f":"IF(CG54=1,\"* Programa de Atención domiciliaria apersonas con Dependencia Severa debe ser MENOR O IGUAL al Total.\",\"\")","v":""},{"$f":"IF(CH54=1,\"* Recuerde digitar la Columna Programa de Atención Domiciliaria a Personas con Dependencia Severa (Digite Cero si no tiene). \",\"\")","v":""},null,null,null,null,{"$f":"IF(F54>C54,1,0)","v":0},{"$f":"IF(AND(C54<>0,F54=\"\"),1,0)","v":0}]
[null,"NO ONCOLÓGICOS",0,null,null,null,{"$f":"CA55&CB55","v":""},null,null,null,null,null,null,null,null,null,null,null,null,null,null,null,null,null,null,null,null,null,null,null,null,null,null,null,null,null,null,null,null,null,null,null,null,null,null,null,null,null,null,null,null,null,null,null,null,null,null,null,null,null,null,null,null,null,null,null,null,null,null,null,null,null,null,null,null,null,null,null,{"$f":"IF(CG55=1,\"* Programa de Atención domiciliaria apersonas con Dependencia Severa debe ser MENOR O IGUAL al Total.\",\"\")","v":""},{"$f":"IF(CH55=1,\"* Recuerde digitar la Columna Programa de Atención Domiciliaria a Personas con Dependencia Severa (Digite Cero si no tiene). \",\"\")","v":""},null,null,null,null,{"$f":"IF(F55>C55,1,0)","v":0},{"$f":"IF(AND(C55<>0,F55=\"\"),1,0)","v":0}]
["A PERSONAS EN CUIDADOS PALIATIVOS",null,0,null,null,null,{"$f":"CA56&CB56","v":""},null,null,null,null,null,null,null,null,null,null,null,null,null,null,null,null,null,null,null,null,null,null,null,null,null,null,null,null,null,null,null,null,null,null,null,null,null,null,null,null,null,null,null,null,null,null,null,null,null,null,null,null,null,null,null,null,null,null,null,null,null,null,null,null,null,null,null,null,null,null,null,{"$f":"IF(CG56=1,\"* Programa de Atención domiciliaria apersonas con Dependencia Severa debe ser MENOR O IGUAL al Total.\",\"\")","v":""},{"$f":"IF(CH56=1,\"* Recuerde digitar la Columna Programa de Atención Domiciliaria a Personas con Dependencia Severa (Digite Cero si no tiene). \",\"\")","v":""},null,null,null,null,{"$f":"IF(F56>C56,1,0)","v":0},{"$f":"IF(AND(C56<>0,F56=\"\"),1,0)","v":0}]
["OTROS",null,0]
["VISITAS CON FINES DE TRATAMIENTO Y/O PROCEDIMIENTOS A PERSONAS CON DEPENDENCIA SEVERA",null,0,null,null,null,{"$f":"CA58&CB58","v":""},null,null,null,null,null,null,null,null,null,null,null,null,null,null,null,null,null,null,null,null,null,null,null,null,null,null,null,null,null,null,null,null,null,null,null,null,null,null,null,null,null,null,null,null,null,null,null,null,null,null,null,null,null,null,null,null,null,null,null,null,null,null,null,null,null,null,null,null,null,null,null,{"$f":"IF(CG58=1,\"* Programa de Atención domiciliaria apersonas con Dependencia Severa debe ser MENOR O IGUAL al Total.\",\"\")","v":""},{"$f":"IF(CH58=1,\"* Recuerde digitar la Columna Programa de Atención Domiciliaria a Personas con Dependencia Severa (Digite Cero si no tiene). \",\"\")","v":""},null,null,null,null,{"$f":"IF(F58>C58,1,0)","v":0},{"$f":"IF(AND(C58<>0,F58=\"\"),1,0)","v":0}]
["ATENCIÓN ODONTOLÓGICA EN DOMICILIO",null,{"$f":"D59","v":0},null,null,null,{"$f":"CA59&CB59","v":""},null,null,null,null,null,null,null,null,null,null,null,null,null,null,null,null,null,null,null,null,null,null,null,null,null,null,null,null,null,null,null,null,null,null,null,null,null,null,null,null,null,null,null,null,null,null,null,null,null,null,null,null,null,null,null,null,null,null,null,null,null,null,null,null,null,null,null,null,null,null,null,{"$f":"IF(CG59=1,\"* Programa de Atención domiciliaria apersonas con Dependencia Severa debe ser MENOR O IGUAL al Total.\",\"\")","v":""},{"$f":"IF(CH59=1,\"* Recuerde digitar la Columna Programa de Atención Domiciliaria a Personas con Dependencia Severa (Digite Cero si no tiene). \",\"\")","v":""},null,null,null,null,{"$f":"IF(F59>C59,1,0)","v":0},{"$f":"IF(AND(C59<>0,F59=\"\"),1,0)","v":0}]
["ATENCIÓN  FARMACÉUTICA EN DOMICILIO",null,{"$f":"D60","v":0}]
["ATENCIÓN NUTRICIONAL A PERSONAS CON INDICACIÓN NUTRICIONAL ENTERAL DOMICILIARIA (NED)",null,{"$f":"+F61","v":0},null,null,null,{"$f":"CA61&CB61","v":""},null,null,null,null,null,null,null,null,null,null,null,null,null,null,null,null,null,null,null,null,null,null,null,null,null,null,null,null,null,null,null,null,null,null,null,null,null,null,null,null,null,null,null,null,null,null,null,null,null,null,null,null,null,null,null,null,null,null,null,null,null,null,null,null,null,null,null,null,null,null,null,{"$f":"IF(CG61=1,\"* Programa de Atención domiciliaria apersonas con Dependencia Severa debe ser MENOR O IGUAL al Total.\",\"\")","v":""},{"$f":"IF(CH61=1,\"* Recuerde digitar la Columna Programa de Atención Domiciliaria a Personas con Dependencia Severa (Digite Cero si no tiene). \",\"\")","v":""},null,null,null,null,{"$f":"IF(F61>C61,1,0)","v":0},{"$f":"IF(AND(C61<>0,F61=\"\"),1,0)","v":0}]
["SECCIÓN D: RESCATE DE PACIENTES INASISTENTES"]
["GRUPO ETARIO",null,"RESCATE EN DOMICILIO",null,null,null,null,"RESCATE TELEFÓNICO"]
[null,null,"TOTAL","FUNCIONARIO",null,null,"COMPRA DE SERVICIO (*)"]
[null,null,null,"Técnico paramédico","Administrativo","Otro",null,"Desde el establecimiento","Compra de servicio (*)"]
["MENOR DE 1 AÑO",null,{"$f":"SUM(D66:F66)","v":0}]
["1 a 4 AÑOS",null,{"$f":"SUM(D67:F67)","v":0}]
["5 a 9 AÑOS",null,0]
["10 a 24 AÑOS",null,0]
["25 a 64 AÑOS",null,0]
["65 Y MÁS",null,0]
["* No incluidas como producción del establecimiento."]
["SECCIÓN E: OTRAS VISITAS PROGRAMA DE ACOMPAÑAMIENTO PSICOSOCIAL EN ATENCIÓN PRIMARIA"]
["GRUPOS","TOTAL VISITAS","NÚMERO DE OTRAS VISITAS SEGÚN RANGO ETARIO"]
[null,null,"0 - 4","5 - 9","10 - 14","15 - 19","20 - 24"]
["ESTABLECIMIENTO EDUCACIONAL",{"$f":"SUM(C76:G76)","v":0}]
["A LUGAR DE TRABAJO",{"$f":"SUM(C77:G77)","v":0}]
["SECCIÓN F: APOYO TELEFÓNICO DEL PROGRAMA DE ACOMPAÑAMIENTO PSICOSOCIAL EN APS"]
["GRUPOS","TOTAL ACCIONES","NÚMERO DE ACCIONES DE ACOMPAÑAMIENTO TELEFÓNICO"]
[null,null,"0 - 4","5 - 9","10 - 14","15 - 19","20 - 24"]
["ACCIONES TELEFÓNICAS REALIZADAS (LLAMADAS O MENSAJERÍA)",{"$f":"SUM(C81:G81)","v":0}]
["SECCIÓN G: VISITA A ESTABLECIMIENTO EDUCACIONAL PROGRAMA DE APOYO A LA SALUD MENTAL INFANTIL (PASMI) EN ATENCIÓN PRIMARIA"]
["CONCEPTO","TOTAL VISITAS\n5 A 9 AÑOS","NÚMERO DE NIÑOS/AS VISITADOS\n5 A 9 AÑOS"]
[]
["ESTABLECIMIENTO EDUCACIONAL"]
[]
[]
[]
[]
[]
[]
[]
[]
[]
[]
[]
[]
[]
[]
[]
[]
[]
[]
[]
[]
[]
[]
[]
[]
[]
[]
[]
[]
[]
[]
[]
[]
[]
[]
[]
[]
[]
[]
[]
[]
[]
[]
[]
[]
[]
[]
[]
[]
[]
[]
[]
[]
[]
[]
[]
[]
[]
[]
[]
[]
[]
[]
[]
[]
[]
[]
[]
[]
[]
[]
[]
[]
[]
[]
[]
[]
[]
[]
[]
[]
[]
[]
[]
[]
[]
[]
[]
[]
[]
[]
[]
[]
[]
[]
[]
[]
[]
[]
[]
[]
[]
[]
[]
[]
[]
[]
[]
[]
[]
[{"$f":"SUM(C10:C34,C48,C52:C60,C66:C71,B76:B77,B81)","v":0},{"$f":"SUM(CG7:CO82)","v":0}]

{"sheet":"A27","index":18,"n_rows":198,"n_cols":88,"rows_kept":198,"cut":false,"hidden":false,"merged":[[130,0,131,0],[130,1,131,1],[130,2,130,7],[106,0,108,1],[109,0,111,1],[116,0,117,0],[116,1,116,8],[121,0,122,0],[121,1,121,12],[99,0,99,2],[101,0,102,2],[101,3,102,3],[101,4,101,9],[101,10,101,11],[103,0,105,1],[95,7,95,20],[95,21,96,21],[126,0,127,0],[126,1,127,1],[126,2,126,12],[95,22,96,22],[97,0,97,2],[98,0,98,2],[91,0,91,2],[92,0,92,2],[93,0,93,2],[95,0,96,2],[95,3,96,3],[95,4,96,4],[95,5,95,6],[85,4,85,5],[86,0,86,2],[86,4,86,5],[87,0,87,2],[89,0,90,2],[89,3,90,3],[89,4,90,4],[79,0,79,2],[80,0,80,2],[81,0,81,2],[82,0,82,2],[84,0,84,2],[84,4,84,5],[77,0,77,2],[78,0,78,2],[63,1,63,2],[64,1,65,1],[66,1,66,2],[67,1,67,2],[68,1,68,2],[69,1,69,2],[85,0,85,2],[55,1,55,2],[56,1,56,2],[57,1,59,1],[60,1,62,1],[39,1,39,2],[40,1,40,2],[41,1,41,2],[43,0,43,2],[44,0,75,0],[44,1,44,2],[45,1,48,1],[49,1,49,2],[50,1,50,2],[51,1,51,2],[70,1,72,1],[73,1,73,2],[74,1,74,2],[75,1,75,2],[10,0,41,0],[10,1,10,2],[11,1,14,1],[15,1,15,2],[54,1,54,2],[52,1,52,2],[8,28,9,28],[16,1,16,2],[17,1,17,2],[18,1,18,2],[30,1,31,1],[32,1,32,2],[33,1,33,2],[34,1,34,2],[35,1,35,2],[19,1,19,2],[21,1,21,2],[22,1,22,2],[23,1,25,1],[26,1,28,1],[29,1,29,2],[20,1,20,2],[53,1,53,2],[5,0,5,14],[8,0,9,2],[8,3,9,3],[8,4,8,8],[8,9,8,23],[8,24,8,25],[8,26,9,26],[8,27,9,27],[36,1,38,1]]}
["SERVICIO DE SALUD"]
[{"$f":"CONCATENATE(\"COMUNA: \",NOMBRE!B2,\" - \",\"( \",NOMBRE!C2,NOMBRE!D2,NOMBRE!E2,NOMBRE!F2,NOMBRE!G2,\" )\")","v":"COMUNA:  - (  )"}]
[{"$f":"CONCATENATE(\"ESTABLECIMIENTO/ESTRATEGIA: \",NOMBRE!B3,\" - \",\"( \",NOMBRE!C3,NOMBRE!D3,NOMBRE!E3,NOMBRE!F3,NOMBRE!G3,NOMBRE!H3,\" )\")","v":"ESTABLECIMIENTO/ESTRATEGIA:  - (  )"}]
[{"$f":"CONCATENATE(\"MES: \",NOMBRE!B6,\" - \",\"( \",NOMBRE!C6,NOMBRE!D6,\" )\")","v":"MES:  - (  )"}]
[{"$f":"CONCATENATE(\"AÑO: \",NOMBRE!B7)","v":"AÑO: 2020"}]
["REM-27.  EDUCACIÓN PARA LA SALUD"]
[]
["SECCIÓN A: PERSONAS QUE INGRESAN A EDUCACIÓN GRUPAL SEGÚN ÁREAS TEMÁTICAS Y EDAD"]
["ÁREAS TEMÁTICAS DE PREVENCIÓN",null,null,"TOTAL","MADRE, PADRE O CUIDADOR DE :",null,null,null,null,"GRUPO DE EDAD (en años)",null,null,null,null,null,null,null,null,null,null,null,null,null,null,"GESTANTES",null,"GESTANTES ALTO RIESGO OBSTÉTRICO","MUJERES EN EDADES DE CLIMATERIO 45 A 64 AÑOS","FAMILIAS DE RIESGO"]
[null,null,null,null,"Menores de 1 año","Niños 12 a 23 meses","Niños de 2 a 5 años","Niños de 6 a 9 años","10 a 14 años","10 a 14","15 a 19","20 a 24","25 - 29","30 - 34","35 - 39","40 - 44","45 - 49","50 - 54","55 - 59","60 - 64","65 - 69","70 - 74","75 - 79","80 y mas","APS","Maternidad"]
["EDUCACIÓN DE GRUPO","ESTIMULACIÓN DESARROLLO PSICOMOTOR",null,{"$f":"SUM(E11:G11)","v":0}]
[null,"NUTRICIÓN","RIESGO DE MALNUTRICIÓN POR EXCESO",{"$f":"SUM(E12:X12)","v":0},null,null,null,null,null,null,null,null,null,null,null,null,null,null,null,null,null,null,null,null,null,null,null,null,null,{"$f":"CA12","v":""},null,null,null,null,null,null,null,null,null,null,null,null,null,null,null,null,null,null,null,null,null,null,null,null,null,null,null,null,null,null,null,null,null,null,null,null,null,null,null,null,null,null,null,null,null,null,null,null,{"$f":"IF(CG12=1,\"* Total por edad NO DEBE ser menor que la suma de los subgrupos. \",\"\")","v":""},null,null,null,null,null,{"$f":"IF(D12<SUM(Y12:AC12),1,0)","v":0}]
[null,null,"MALNUTRICIÓN POR EXCESO",{"$f":"SUM(E13:X13)","v":0},null,null,null,null,null,null,null,null,null,null,null,null,null,null,null,null,null,null,null,null,null,null,null,null,null,{"$f":"CA13","v":""},null,null,null,null,null,null,null,null,null,null,null,null,null,null,null,null,null,null,null,null,null,null,null,null,null,null,null,null,null,null,null,null,null,null,null,null,null,null,null,null,null,null,null,null,null,null,null,null,{"$f":"IF(CG13=1,\"* Total por edad NO DEBE ser menor que la suma de los subgrupos. \",\"\")","v":""},null,null,null,null,null,{"$f":"IF(D13<SUM(Y13:AC13),1,0)","v":0}]
[null,null,"MALNUTRICIÓN DE DÉFICIT",{"$f":"SUM(E14:X14)","v":0},null,null,null,null,null,null,null,null,null,null,null,null,null,null,null,null,null,null,null,null,null,null,null,null,null,"",null,null,null,null,null,null,null,null,null,null,null,null,null,null,null,null,null,null,null,null,null,null,null,null,null,null,null,null,null,null,null,null,null,null,null,null,null,null,null,null,null,null,null,null,null,null,null,null,"",null,null,null,null,null,0]
[null,null,"SIN RIESGO DE MALNUTRICIÓN",0,null,null,null,null,null,null,null,null,null,null,null,null,null,null,null,null,null,null,null,null,null,null,null,null,null,"",null,null,null,null,null,null,null,null,null,null,null,null,null,null,null,null,null,null,null,null,null,null,null,null,null,null,null,null,null,null,null,null,null,null,null,null,null,null,null,null,null,null,null,null,null,null,null,null,"",null,null,null,null,null,0]
[null,"PREVENCIÓN DE IRA - ERA",null,{"$f":"SUM(E16:X16)","v":0},null,null,null,null,null,null,null,null,null,null,null,null,null,null,null,null,null,null,null,null,null,null,null,null,null,"",null,null,null,null,null,null,null,null,null,null,null,null,null,null,null,null,null,null,null,null,null,null,null,null,null,null,null,null,null,null,null,null,null,null,null,null,null,null,null,null,null,null,null,null,null,null,null,null,"",null,null,null,null,null,0]
[null,"PREVENCIÓN DE ACCIDENTES",null,0,null,null,null,null,null,null,null,null,null,null,null,null,null,null,null,null,null,null,null,null,null,null,null,null,null,"",null,null,null,null,null,null,null,null,null,null,null,null,null,null,null,null,null,null,null,null,null,null,null,null,null,null,null,null,null,null,null,null,null,null,null,null,null,null,null,null,null,null,null,null,null,null,null,null,"",null,null,null,null,null,0]
[null,"SALUD BUCO-DENTAL",null,0,null,null,null,null,null,null,null,null,null,null,null,null,null,null,null,null,null,null,null,null,null,null,null,null,null,"",null,null,null,null,null,null,null,null,null,null,null,null,null,null,null,null,null,null,null,null,null,null,null,null,null,null,null,null,null,null,null,null,null,null,null,null,null,null,null,null,null,null,null,null,null,null,null,null,"",null,null,null,null,null,0]
[null,"PREVENCIÓN VIOLENCIA DE GÉNERO",null,0,null,null,null,null,null,null,null,null,null,null,null,null,null,null,null,null,null,null,null,null,null,null,null,null,null,"",null,null,null,null,null,null,null,null,null,null,null,null,null,null,null,null,null,null,null,null,null,null,null,null,null,null,null,null,null,null,null,null,null,null,null,null,null,null,null,null,null,null,null,null,null,null,null,null,"",null,null,null,null,null,0]
[null,"SALUD SEXUAL Y REPRODUCTIVA",null,0,null,null,null,null,null,null,null,null,null,null,null,null,null,null,null,null,null,null,null,null,null,null,null,null,null,"",null,null,null,null,null,null,null,null,null,null,null,null,null,null,null,null,null,null,null,null,null,null,null,null,null,null,null,null,null,null,null,null,null,null,null,null,null,null,null,null,null,null,null,null,null,null,null,null,"",null,null,null,null,null,0]
[null,"TALLERES DE CLIMATERIO",null,{"$f":"SUM(E21:X21)","v":0},null,null,null,null,null,null,null,null,null,null,null,null,null,null,null,null,null,null,null,null,null,null,null,null,null,"",null,null,null,null,null,null,null,null,null,null,null,null,null,null,null,null,null,null,null,null,null,null,null,null,null,null,null,null,null,null,null,null,null,null,null,null,null,null,null,null,null,null,null,null,null,null,null,null,"",null,null,null,null,null,0]
[null,"EDUCACIÓN PRENATAL (NUTRICIÓN - LACTANCIA - CRIANZA - AUTOCUIDADO - PREPARACIÓN PARTO Y OTROS)",null,{"$f":"SUM(J22:S22)","v":0},null,null,null,null,null,null,null,null,null,null,null,null,null,null,null,null,null,null,null,null,null,null,null,null,null,"",null,null,null,null,null,null,null,null,null,null,null,null,null,null,null,null,null,null,null,null,null,null,null,null,null,null,null,null,null,null,null,null,null,null,null,null,null,null,null,null,null,null,null,null,null,null,null,null,"",null,null,null,null,null,0]
[null,"PROMOCIÓN DE SALUD MENTAL",null,{"$f":"SUM(H23:X23)","v":0},null,null,null,null,null,null,null,null,null,null,null,null,null,null,null,null,null,null,null,null,null,null,null,null,null,"",null,null,null,null,null,null,null,null,null,null,null,null,null,null,null,null,null,null,null,null,null,null,null,null,null,null,null,null,null,null,null,null,null,null,null,null,null,null,null,null,null,null,null,null,null,null,null,null,"",null,null,null,null,null,0]
[null,"PROMOCIÓN DEL DESARROLLO INFANTIL TEMPRANO","DEL LENGUAJE",{"$f":"SUM(E24:F24)","v":0},null,null,null,null,null,null,null,null,null,null,null,null,null,null,null,null,null,null,null,null,null,null,null,null,null,"",null,null,null,null,null,null,null,null,null,null,null,null,null,null,null,null,null,null,null,null,null,null,null,null,null,null,null,null,null,null,null,null,null,null,null,null,null,null,null,null,null,null,null,null,null,null,null,null,"",null,null,null,null,null,0]
[null,null,"MOTOR",{"$f":"SUM(E25:G25)","v":0},null,null,null,null,null,null,null,null,null,null,null,null,null,null,null,null,null,null,null,null,null,null,null,null,null,"",null,null,null,null,null,null,null,null,null,null,null,null,null,null,null,null,null,null,null,null,null,null,null,null,null,null,null,null,null,null,null,null,null,null,null,null,null,null,null,null,null,null,null,null,null,null,null,null,"",null,null,null,null,null,0]
[null,null,"OTROS",{"$f":"SUM(E26:G26)","v":0},null,null,null,null,null,null,null,null,null,null,null,null,null,null,null,null,null,null,null,null,null,null,null,null,null,"",null,null,null,null,null,null,null,null,null,null,null,null,null,null,null,null,null,null,null,null,null,null,null,null,null,null,null,null,null,null,null,null,null,null,null,null,null,null,null,null,null,null,null,null,null,null,null,null,"",null,null,null,null,null,0]
[null,"HABILIDADES PARENTALES","NADIE ES PERFECTO",{"$f":"SUM(E27:H27)","v":0},null,null,null,null,null,null,null,null,null,null,null,null,null,null,null,null,null,null,null,null,null,null,null,null,null,"",null,null,null,null,null,null,null,null,null,null,null,null,null,null,null,null,null,null,null,null,null,null,null,null,null,null,null,null,null,null,null,null,null,null,null,null,null,null,null,null,null,null,null,null,null,null,null,null,"",null,null,null,null,null,0]
[null,null,"FAMILIAS FUERTES",{"$f":"SUM(E28:J28)","v":0},null,null,null,null,null,null,null,null,null,null,null,null,null,null,null,null,null,null,null,null,null,null,null,null,null,"",null,null,null,null,null,null,null,null,null,null,null,null,null,null,null,null,null,null,null,null,null,null,null,null,null,null,null,null,null,null,null,null,null,null,null,null,null,null,null,null,null,null,null,null,null,null,null,null,"",null,null,null,null,null,0]
[null,null,"OTROS",{"$f":"SUM(E29:I29)","v":0},null,null,null,null,null,null,null,null,null,null,null,null,null,null,null,null,null,null,null,null,null,null,null,null,null,"",null,null,null,null,null,null,null,null,null,null,null,null,null,null,null,null,null,null,null,null,null,null,null,null,null,null,null,null,null,null,null,null,null,null,null,null,null,null,null,null,null,null,null,null,null,null,null,null,"",null,null,null,null,null,0]
[null,"APOYO MADRE A MADRE",null,{"$f":"SUM(E30:X30)","v":0},null,null,null,null,null,null,null,null,null,null,null,null,null,null,null,null,null,null,null,null,null,null,null,null,null,"",null,null,null,null,null,null,null,null,null,null,null,null,null,null,null,null,null,null,null,null,null,null,null,null,null,null,null,null,null,null,null,null,null,null,null,null,null,null,null,null,null,null,null,null,null,null,null,null,"",null,null,null,null,null,0]
[null,"PREVENCIÓN DE SALUD MENTAL ","PREVENCIÓN SUICIDIO",0,null,null,null,null,null,null,null,null,null,null,null,null,null,null,null,null,null,null,null,null,null,null,null,null,null,"",null,null,null,null,null,null,null,null,null,null,null,null,null,null,null,null,null,null,null,null,null,null,null,null,null,null,null,null,null,null,null,null,null,null,null,null,null,null,null,null,null,null,null,null,null,null,null,null,"",null,null,null,null,null,0]
[null,null,"PREVENCIÓN TRASTORNO MENTAL",0,null,null,null,null,null,null,null,null,null,null,null,null,null,null,null,null,null,null,null,null,null,null,null,null,null,"",null,null,null,null,null,null,null,null,null,null,null,null,null,null,null,null,null,null,null,null,null,null,null,null,null,null,null,null,null,null,null,null,null,null,null,null,null,null,null,null,null,null,null,null,null,null,null,null,"",null,null,null,null,null,0]
[null,"PREVENCIÓN ALCOHOL Y DROGAS",null,0,null,null,null,null,null,null,null,null,null,null,null,null,null,null,null,null,null,null,null,null,null,null,null,null,null,"",null,null,null,null,null,null,null,null,null,null,null,null,null,null,null,null,null,null,null,null,null,null,null,null,null,null,null,null,null,null,null,null,null,null,null,null,null,null,null,null,null,null,null,null,null,null,null,null,"",null,null,null,null,null,0]
[null,"ANTITABÁQUICA (excluye REM 23)",null,0,null,null,null,null,null,null,null,null,null,null,null,null,null,null,null,null,null,null,null,null,null,null,null,null,null,"",null,null,null,null,null,null,null,null,null,null,null,null,null,null,null,null,null,null,null,null,null,null,null,null,null,null,null,null,null,null,null,null,null,null,null,null,null,null,null,null,null,null,null,null,null,null,null,null,"",null,null,null,null,null,0]
[null,"PREVENCIÓN DE LA TRANSMISIÓN VERTICAL DE VIH-SÍFILIS",null,{"$f":"SUM(J35:S35)","v":0},null,null,null,null,null,null,null,null,null,null,null,null,null,null,null,null,null,null,null,null,null,null,null,null,null,"",null,null,null,null,null,null,null,null,null,null,null,null,null,null,null,null,null,null,null,null,null,null,null,null,null,null,null,null,null,null,null,null,null,null,null,null,null,null,null,null,null,null,null,null,null,null,null,null,"",null,null,null,null,null,0]
[null,"OTRAS ÁREAS TEMÁTICAS",null,{"$f":"SUM(E36:X36)","v":0},null,null,null,null,null,null,null,null,null,null,null,null,null,null,null,null,null,null,null,null,null,null,null,null,null,"",null,null,null,null,null,null,null,null,null,null,null,null,null,null,null,null,null,null,null,null,null,null,null,null,null,null,null,null,null,null,null,null,null,null,null,null,null,null,null,null,null,null,null,null,null,null,null,null,"",null,null,null,null,null,0]
[null,"EDUCACIÓN ESPECIAL EN ADULTO MAYOR","ESTIMULACIÓN DE MEMORIA",{"$f":"SUM(U37:X37)","v":0}]
[null,null,"PREVENCIÓN CAÍDAS",{"$f":"SUM(U38:X38)","v":0}]
[null,null,"ESTIMULACIÓN DE ACTIVIDAD FÍSICA",{"$f":"SUM(U39:X39)","v":0}]
[null,"USO RACIONAL DE MEDICAMENTOS",null,{"$f":"SUM(E40:X40)","v":0}]
[null,"RESISTENCIA ANTIMICROBIANOS",null,{"$f":"SUM(E41:X41)","v":0}]
[null,"TOTAL",null,{"$f":"SUM(E42:X42)","v":0},{"$f":"SUM(E11:E41)","v":0},{"$f":"SUM(F11:F41)","v":0},0,0,0,0,0,0,0,0,0,0,0,0,0,0,0,0,{"$f":"SUM(W11:W41)","v":0},0,0,0,0,0,{"$f":"SUM(AC11:AC41)","v":0}]
["SECCIÓN B: ACTIVIDADES DE EDUCACIÓN PARA LA SALUD SEGÚN PERSONAL QUE LAS REALIZA (SESIONES)"]
["ÁREAS TEMÁTICAS DE PREVENCIÓN",null,null,"TOTAL","UN PROFESIONAL","DOS O MÁS PROFESIO- NALES","UN PROFESIONAL Y UN TÉCNICO PARAMÉDICO","TÉCNICO \nPARAMÉ-\nDICO","FACILITADOR/A INTERCULTURAL PUEBLOS ORIGINARIOS"]
["EDUCACIÓN DE GRUPO","ESTIMULACIÓN DESARROLLO PSICOMOTOR",null,{"$f":"SUM(E45:H45)","v":0},null,null,null,null,null,{"$f":"CA45","v":""},null,null,null,null,null,null,null,null,null,null,null,null,null,null,null,null,null,null,null,null,null,null,null,null,null,null,null,null,null,null,null,null,null,null,null,null,null,null,null,null,null,null,null,null,null,null,null,null,null,null,null,null,null,null,null,null,null,null,null,null,null,null,null,null,null,null,null,null,{"$f":"IF(CG45=1,\"* En esta área en Sección A se consignan personas pero falta registrar la Sesión. \",\"\")","v":""},null,null,null,null,null,{"$f":"IF(AND(D45=0,D11<>0),1,0)","v":0}]
[null,"NUTRICIÓN","RIESGO DE MALNUTRICIÓN POR EXCESO",0,null,null,null,null,null,{"$f":"CA46","v":""},null,null,null,null,null,null,null,null,null,null,null,null,null,null,null,null,null,null,null,null,null,null,null,null,null,null,null,null,null,null,null,null,null,null,null,null,null,null,null,null,null,null,null,null,null,null,null,null,null,null,null,null,null,null,null,null,null,null,null,null,null,null,null,null,null,null,null,null,{"$f":"IF(CG46=1,\"* En esta área en Sección A se consignan personas pero falta registrar la Sesión. \",\"\")","v":""},null,null,null,null,null,0]
[null,null,"MALNUTRICIÓN POR EXCESO",0,null,null,null,null,null,"",null,null,null,null,null,null,null,null,null,null,null,null,null,null,null,null,null,null,null,null,null,null,null,null,null,null,null,null,null,null,null,null,null,null,null,null,null,null,null,null,null,null,null,null,null,null,null,null,null,null,null,null,null,null,null,null,null,null,null,null,null,null,null,null,null,null,null,null,"",null,null,null,null,null,0]
[null,null,"MALNUTRICIÓN DE DÉFICIT",0,null,null,null,null,null,"",null,null,null,null,null,null,null,null,null,null,null,null,null,null,null,null,null,null,null,null,null,null,null,null,null,null,null,null,null,null,null,null,null,null,null,null,null,null,null,null,null,null,null,null,null,null,null,null,null,null,null,null,null,null,null,null,null,null,null,null,null,null,null,null,null,null,null,null,"",null,null,null,null,null,0]
[null,null,"SIN RIESGO DE MALNUTRICIÓN",0,null,null,null,null,null,"",null,null,null,null,null,null,null,null,null,null,null,null,null,null,null,null,null,null,null,null,null,null,null,null,null,null,null,null,null,null,null,null,null,null,null,null,null,null,null,null,null,null,null,null,null,null,null,null,null,null,null,null,null,null,null,null,null,null,null,null,null,null,null,null,null,null,null,null,"",null,null,null,null,null,0]
[null,"PREVENCIÓN DE IRA - ERA",null,0,null,null,null,null,null,"",null,null,null,null,null,null,null,null,null,null,null,null,null,null,null,null,null,null,null,null,null,null,null,null,null,null,null,null,null,null,null,null,null,null,null,null,null,null,null,null,null,null,null,null,null,null,null,null,null,null,null,null,null,null,null,null,null,null,null,null,null,null,null,null,null,null,null,null,"",null,null,null,null,null,0]
[null,"PREVENCIÓN DE ACCIDENTES",null,0,null,null,null,null,null,"",null,null,null,null,null,null,null,null,null,null,null,null,null,null,null,null,null,null,null,null,null,null,null,null,null,null,null,null,null,null,null,null,null,null,null,null,null,null,null,null,null,null,null,null,null,null,null,null,null,null,null,null,null,null,null,null,null,null,null,null,null,null,null,null,null,null,null,null,"",null,null,null,null,null,0]
[null,"SALUD BUCO-DENTAL",null,0,null,null,null,null,null,"",null,null,null,null,null,null,null,null,null,null,null,null,null,null,null,null,null,null,null,null,null,null,null,null,null,null,null,null,null,null,null,null,null,null,null,null,null,null,null,null,null,null,null,null,null,null,null,null,null,null,null,null,null,null,null,null,null,null,null,null,null,null,null,null,null,null,null,null,"",null,null,null,null,null,0]
[null,"PREVENCIÓN VIOLENCIA DE GÉNERO",null,0,null,null,null,null,null,"",null,null,null,null,null,null,null,null,null,null,null,null,null,null,null,null,null,null,null,null,null,null,null,null,null,null,null,null,null,null,null,null,null,null,null,null,null,null,null,null,null,null,null,null,null,null,null,null,null,null,null,null,null,null,null,null,null,null,null,null,null,null,null,null,null,null,null,null,"",null,null,null,null,null,0]
[null,"SALUD SEXUAL Y REPRODUCTIVA",null,0,null,null,null,null,null,"",null,null,null,null,null,null,null,null,null,null,null,null,null,null,null,null,null,null,null,null,null,null,null,null,null,null,null,null,null,null,null,null,null,null,null,null,null,null,null,null,null,null,null,null,null,null,null,null,null,null,null,null,null,null,null,null,null,null,null,null,null,null,null,null,null,null,null,null,"",null,null,null,null,null,0]
[null,"TALLERES DE CLIMATERIO",null,0]
[null,"EDUCACIÓN PRENATAL (NUTRICIÓN - LACTANCIA - CRIANZA - AUTOCUIDADO - PREPARACIÓN PARTO Y OTROS)",null,0,null,null,null,null,null,"",null,null,null,null,null,null,null,null,null,null,null,null,null,null,null,null,null,null,null,null,null,null,null,null,null,null,null,null,null,null,null,null,null,null,null,null,null,null,null,null,null,null,null,null,null,null,null,null,null,null,null,null,null,null,null,null,null,null,null,null,null,null,null,null,null,null,null,null,"",null,null,null,null,null,{"$f":"IF(AND(D56=0,D22<>0),1,0)","v":0}]
[null,"PROMOCIÓN DE SALUD MENTAL",null,0,null,null,null,null,null,"",null,null,null,null,null,null,null,null,null,null,null,null,null,null,null,null,null,null,null,null,null,null,null,null,null,null,null,null,null,null,null,null,null,null,null,null,null,null,null,null,null,null,null,null,null,null,null,null,null,null,null,null,null,null,null,null,null,null,null,null,null,null,null,null,null,null,null,null,"",null,null,null,null,null,0]
[null,"PROMOCIÓN DEL DESARROLLO INFANTIL TEMPRANO","DEL LENGUAJE",0,null,null,null,null,null,"",null,null,null,null,null,null,null,null,null,null,null,null,null,null,null,null,null,null,null,null,null,null,null,null,null,null,null,null,null,null,null,null,null,null,null,null,null,null,null,null,null,null,null,null,null,null,null,null,null,null,null,null,null,null,null,null,null,null,null,null,null,null,null,null,null,null,null,null,"",null,null,null,null,null,0]
[null,null,"MOTOR",0,null,null,null,null,null,"",null,null,null,null,null,null,null,null,null,null,null,null,null,null,null,null,null,null,null,null,null,null,null,null,null,null,null,null,null,null,null,null,null,null,null,null,null,null,null,null,null,null,null,null,null,null,null,null,null,null,null,null,null,null,null,null,null,null,null,null,null,null,null,null,null,null,null,null,"",null,null,null,null,null,0]
[null,null,"OTROS",0,null,null,null,null,null,"",null,null,null,null,null,null,null,null,null,null,null,null,null,null,null,null,null,null,null,null,null,null,null,null,null,null,null,null,null,null,null,null,null,null,null,null,null,null,null,null,null,null,null,null,null,null,null,null,null,null,null,null,null,null,null,null,null,null,null,null,null,null,null,null,null,null,null,null,"",null,null,null,null,null,0]
[null,"HABILIDADES PARENTALES","NADIE ES PERFECTO",0,null,null,null,null,null,"",null,null,null,null,null,null,null,null,null,null,null,null,null,null,null,null,null,null,null,null,null,null,null,null,null,null,null,null,null,null,null,null,null,null,null,null,null,null,null,null,null,null,null,null,null,null,null,null,null,null,null,null,null,null,null,null,null,null,null,null,null,null,null,null,null,null,null,null,"",null,null,null,null,null,0]
[null,null,"FAMILIAS FUERTES",0,null,null,null,null,null,"",null,null,null,null,null,null,null,null,null,null,null,null,null,null,null,null,null,null,null,null,null,null,null,null,null,null,null,null,null,null,null,null,null,null,null,null,null,null,null,null,null,null,null,null,null,null,null,null,null,null,null,null,null,null,null,null,null,null,null,null,null,null,null,null,null,null,null,null,"",null,null,null,null,null,0]
[null,null,"OTROS",0,null,null,null,null,null,"",null,null,null,null,null,null,null,null,null,null,null,null,null,null,null,null,null,null,null,null,null,null,null,null,null,null,null,null,null,null,null,null,null,null,null,null,null,null,null,null,null,null,null,null,null,null,null,null,null,null,null,null,null,null,null,null,null,null,null,null,null,null,null,null,null,null,null,null,"",null,null,null,null,null,0]
[null,"APOYO MADRE A MADRE",null,0,null,null,null,null,null,"",null,null,null,null,null,null,null,null,null,null,null,null,null,null,null,null,null,null,null,null,null,null,null,null,null,null,null,null,null,null,null,null,null,null,null,null,null,null,null,null,null,null,null,null,null,null,null,null,null,null,null,null,null,null,null,null,null,null,null,null,null,null,null,null,null,null,null,null,"",null,null,null,null,null,0]
[null,"PREVENCIÓN DE SALUD MENTAL ","PREVENCIÓN SUICIDIO",0,null,null,null,null,null,"",null,null,null,null,null,null,null,null,null,null,null,null,null,null,null,null,null,null,null,null,null,null,null,null,null,null,null,null,null,null,null,null,null,null,null,null,null,null,null,null,null,null,null,null,null,null,null,null,null,null,null,null,null,null,null,null,null,null,null,null,null,null,null,null,null,null,null,null,"",null,null,null,null,null,0]
[null,null,"PREVENCIÓN TRASTORNO MENTAL",0,null,null,null,null,null,"",null,null,null,null,null,null,null,null,null,null,null,null,null,null,null,null,null,null,null,null,null,null,null,null,null,null,null,null,null,null,null,null,null,null,null,null,null,null,null,null,null,null,null,null,null,null,null,null,null,null,null,null,null,null,null,null,null,null,null,null,null,null,null,null,null,null,null,null,"",null,null,null,null,null,0]
[null,"PREVENCIÓN ALCOHOL Y DROGAS",null,0,null,null,null,null,null,"",null,null,null,null,null,null,null,null,null,null,null,null,null,null,null,null,null,null,null,null,null,null,null,null,null,null,null,null,null,null,null,null,null,null,null,null,null,null,null,null,null,null,null,null,null,null,null,null,null,null,null,null,null,null,null,null,null,null,null,null,null,null,null,null,null,null,null,null,"",null,null,null,null,null,0]
[null,"ANTITABÁQUICA (excluye REM 23)",null,0,null,null,null,null,null,"",null,null,null,null,null,null,null,null,null,null,null,null,null,null,null,null,null,null,null,null,null,null,null,null,null,null,null,null,null,null,null,null,null,null,null,null,null,null,null,null,null,null,null,null,null,null,null,null,null,null,null,null,null,null,null,null,null,null,null,null,null,null,null,null,null,null,null,null,"",null,null,null,null,null,0]
[null,"PREVENCIÓN DE LA TRANSMISIÓN VERTICAL DE VIH-SÍFILIS",null,0,null,null,null,null,null,"",null,null,null,null,null,null,null,null,null,null,null,null,null,null,null,null,null,null,null,null,null,null,null,null,null,null,null,null,null,null,null,null,null,null,null,null,null,null,null,null,null,null,null,null,null,null,null,null,null,null,null,null,null,null,null,null,null,null,null,null,null,null,null,null,null,null,null,null,"",null,null,null,null,null,0]
[null,"OTRAS ÁREAS TEMÁTICAS",null,0,null,null,null,null,null,"",null,null,null,null,null,null,null,null,null,null,null,null,null,null,null,null,null,null,null,null,null,null,null,null,null,null,null,null,null,null,null,null,null,null,null,null,null,null,null,null,null,null,null,null,null,null,null,null,null,null,null,null,null,null,null,null,null,null,null,null,null,null,null,null,null,null,null,null,"",null,null,null,null,null,0]
[null,"EDUCACIÓN ESPECIAL EN ADULTO MAYOR","ESTIMULACIÓN DE MEMORIA",0,null,null,null,null,null,"",null,null,null,null,null,null,null,null,null,null,null,null,null,null,null,null,null,null,null,null,null,null,null,null,null,null,null,null,null,null,null,null,null,null,null,null,null,null,null,null,null,null,null,null,null,null,null,null,null,null,null,null,null,null,null,null,null,null,null,null,null,null,null,null,null,null,null,null,"",null,null,null,null,null,0]
[null,null,"PREVENCIÓN CAÍDAS",0,null,null,null,null,null,"",null,null,null,null,null,null,null,null,null,null,null,null,null,null,null,null,null,null,null,null,null,null,null,null,null,null,null,null,null,null,null,null,null,null,null,null,null,null,null,null,null,null,null,null,null,null,null,null,null,null,null,null,null,null,null,null,null,null,null,null,null,null,null,null,null,null,null,null,"",null,null,null,null,null,0]
[null,null,"ESTIMULACIÓN DE ACTIVIDAD FÍSICA",0,null,null,null,null,null,"",null,null,null,null,null,null,null,null,null,null,null,null,null,null,null,null,null,null,null,null,null,null,null,null,null,null,null,null,null,null,null,null,null,null,null,null,null,null,null,null,null,null,null,null,null,null,null,null,null,null,null,null,null,null,null,null,null,null,null,null,null,null,null,null,null,null,null,null,"",null,null,null,null,null,0]
[null,"USO RACIONAL DE MEDICAMENTOS",null,{"$f":"SUM(E74:H74)","v":0},null,null,null,null,null,"",null,null,null,null,null,null,null,null,null,null,null,null,null,null,null,null,null,null,null,null,null,null,null,null,null,null,null,null,null,null,null,null,null,null,null,null,null,null,null,null,null,null,null,null,null,null,null,null,null,null,null,null,null,null,null,null,null,null,null,null,null,null,null,null,null,null,null,null,"",null,null,null,null,null,0]
[null,"RESISTENCIA ANTIMICROBIANOS",null,{"$f":"SUM(E75:H75)","v":0},null,null,null,null,null,"",null,null,null,null,null,null,null,null,null,null,null,null,null,null,null,null,null,null,null,null,null,null,null,null,null,null,null,null,null,null,null,null,null,null,null,null,null,null,null,null,null,null,null,null,null,null,null,null,null,null,null,null,null,null,null,null,null,null,null,null,null,null,null,null,null,null,null,null,"",null,null,null,null,null,0]
[null,"TOTAL",null,{"$f":"SUM(E76:H76)","v":0},{"$f":"SUM(E45:E75)","v":0},{"$f":"SUM(F45:F75)","v":0},0,0,0]
["SECCIÓN C: ACTIVIDAD FÍSICA GRUPAL PARA PROGRAMA SALUD CARDIOVASCULAR (SESIONES)"]
["GRUPO DE EDAD",null,null,"TOTAL SESIONES","PROFESOR\nEDUCACIÓN FÍSICA","KINESIÓLOGO","OTROS PROFESIONALES","TÉCNICO PARAMÉDICO"]
["10 A 19 AÑOS",null,null,{"$f":"SUM(E79:H79)","v":0}]
["20 A 24 AÑOS",null,null,{"$f":"SUM(E80:H80)","v":0}]
["25 A 64 AÑOS",null,null,{"$f":"SUM(E81:H81)","v":0}]
["65 Y MÁS",null,null,{"$f":"SUM(E82:H82)","v":0}]
["TOTAL",null,null,{"$f":"SUM(E83:H83)","v":0},{"$f":"SUM(E79:E82)","v":0},{"$f":"SUM(F79:F82)","v":0},{"$f":"SUM(G79:G82)","v":0},{"$f":"SUM(H79:H82)","v":0}]
["SECCIÓN D: EDUCACIÓN GRUPAL A GESTANTES DE ALTO RIESGO OBSTÉTRICO (Nivel Secundario)"]
["TEMAS",null,null,"TOTAL \nSESIONES"]
["AUTOCUIDADO SEGÚN PATOLOGÍA"]
["PREPARACIÓN PARA EL PARTO"]
["TALLER DE EDUCACIÓN PRENATAL"]
["SECCIÓN E: TALLERES PROGRAMA \"MÁS A.M AUTOVALENTES\""]
["TALLER",null,null,"Nº DE SESIONES","Nº DE PARTICIPANTES"]
[]
["ESTIMULACIÓN DE FUNCIONES MOTORAS Y PREVENCIÓN DE CAÍDAS"]
["ESTIMULACIÓN DE FUNCIONES  COGNITIVA"]
["AUTOCUIDADO Y ESTILOS DE VIDA SALUDABLE"]
["SECCIÓN F: TALLERES PROGRAMA ELIGE VIDA SANA"]
["TALLER",null,null,"Nº DE SESIONES","Nº DE PARTICIPAN- TES","MADRE, PADRE O CUIDADOR DE :",null,"POR EDAD",null,null,null,null,null,null,null,null,null,null,null,null,null,"Gestantes","Post Parto"]
[null,null,null,null,null,"Menores de 1 año","Niños 12 a 23 meses","menor de 2 años","2 a 4","5 a 9","10 a 14","15 a 19","20 a 24","25 - 29","30 - 34","35 - 39","40 - 44","45 - 49","50 - 54","55 - 59","60 - 64"]
["CIRCULO DE ACTIVIDAD FÍSICA",null,null,null,{"$f":"+F98+G98+H98+I98+J98+K98+L98+M98+N98+O98+P98+Q98+R98+S98+T98+U98","v":0},null,null,null,null,null,null,null,null,null,null,null,null,null,null,null,null,null,null,{"$f":"CA98&CB98","v":""},null,null,null,null,null,null,null,null,null,null,null,null,null,null,null,null,null,null,null,null,null,null,null,null,null,null,null,null,null,null,null,null,null,null,null,null,null,null,null,null,null,null,null,null,null,null,null,null,null,null,null,null,null,null,{"$f":"IF(CG98=1,\" * No olvide agregar la columna Gestantes y/o Post Parto (Digite Cero si no tiene). \",\"\")","v":""},{"$f":"IF(CH98=1,\" * La suma de Gestantes y Post Parto debe ser menor o igual al total de participantes.\",\"\")","v":""},null,null,null,null,{"$f":"IF(AND(E98<>0,OR(V98=\"\",W98=\"\")),1,0)","v":0},{"$f":"IF((V98+W98)>E98,1,0)","v":0}]
["CIRCULO DE VIDA SANA",null,null,null,{"$f":"+F99+G99+H99+I99+J99+K99+L99+M99+N99+O99+P99+Q99+R99+S99+T99+U99","v":0},null,null,null,null,null,null,null,null,null,null,null,null,null,null,null,null,null,null,{"$f":"CA99&CB99","v":""},null,null,null,null,null,null,null,null,null,null,null,null,null,null,null,null,null,null,null,null,null,null,null,null,null,null,null,null,null,null,null,null,null,null,null,null,null,null,null,null,null,null,null,null,null,null,null,null,null,null,null,null,null,null,{"$f":"IF(CG99=1,\" * No olvide agregar la columna Gestantes y/o Post Parto (Digite Cero si no tiene). \",\"\")","v":""},{"$f":"IF(CH99=1,\" * La suma de Gestantes y Post Parto debe ser menor o igual al total de participantes.\",\"\")","v":""},null,null,null,null,{"$f":"IF(AND(E99<>0,OR(V99=\"\",W99=\"\")),1,0)","v":0},{"$f":"IF((V99+W99)>E99,1,0)","v":0}]
["ACTIVIDADES MASIVAS",null,null,null,{"$f":"+F100+G100+H100+I100+J100+K100+L100+M100+N100+O100+P100+Q100+R100+S100+T100+U100","v":0},null,null,null,null,null,null,null,null,null,null,null,null,null,null,null,null,null,null,"",null,null,null,null,null,null,null,null,null,null,null,null,null,null,null,null,null,null,null,null,null,null,null,null,null,null,null,null,null,null,null,null,null,null,null,null,null,null,null,null,null,null,null,null,null,null,null,null,null,null,null,null,null,null,"","",null,null,null,null,{"$f":"IF(AND(E100<>0,OR(V100=\"\",W100=\"\")),1,0)","v":0},0]
["SECCIÓN G: INTERVENCIONES POR PATRÓN DE CONSUMO DE ALCOHOL, TABACO Y OTRAS DROGAS"]
["TIPO DE INTERVENCIÓN",null,null,"Nº DE INTERVENCIONES","POR EDAD",null,null,null,null,null,"SEXO"]
[null,null,null,null,"10-14 años","15-19 años","20-24 años","25-44 años","45-64 años","65 o más","Hombres","Mujeres"]
["INTERVENCIÓN MÍNIMA\n(BAJO RIESGO)",null," ALCOHOL",{"$f":"SUM(E104:J104)","v":0},null,null,null,null,null,null,null,null,{"$f":"CA104","v":""},null,null,null,null,null,null,null,null,null,null,null,null,null,null,null,null,null,null,null,null,null,null,null,null,null,null,null,null,null,null,null,null,null,null,null,null,null,null,null,null,null,null,null,null,null,null,null,null,null,null,null,null,null,null,null,null,null,null,null,null,null,null,null,null,null,{"$f":"IF(CG104=1,\"* La Suma por edad NO DEBE ser distinto al total por Sexo. \",\"\")","v":""},null,null,null,null,null,{"$f":"IF((K104+L104)<>(E104+F104+G104+H104+I104+J104),1,0)","v":0}]
[null,null," TABACO",{"$f":"SUM(E105:J105)","v":0},null,null,null,null,null,null,null,null,{"$f":"CA105","v":""},null,null,null,null,null,null,null,null,null,null,null,null,null,null,null,null,null,null,null,null,null,null,null,null,null,null,null,null,null,null,null,null,null,null,null,null,null,null,null,null,null,null,null,null,null,null,null,null,null,null,null,null,null,null,null,null,null,null,null,null,null,null,null,null,null,{"$f":"IF(CG105=1,\"* La Suma por edad NO DEBE ser distinto al total por Sexo. \",\"\")","v":""},null,null,null,null,null,{"$f":"IF((K105+L105)<>(E105+F105+G105+H105+I105+J105),1,0)","v":0}]
[null,null," DROGAS",0,null,null,null,null,null,null,null,null,"",null,null,null,null,null,null,null,null,null,null,null,null,null,null,null,null,null,null,null,null,null,null,null,null,null,null,null,null,null,null,null,null,null,null,null,null,null,null,null,null,null,null,null,null,null,null,null,null,null,null,null,null,null,null,null,null,null,null,null,null,null,null,null,null,null,"",null,null,null,null,null,0]
["INTERVENCIÓN BREVE \n(RIESGO)",null," ALCOHOL",0,null,null,null,null,null,null,null,null,"",null,null,null,null,null,null,null,null,null,null,null,null,null,null,null,null,null,null,null,null,null,null,null,null,null,null,null,null,null,null,null,null,null,null,null,null,null,null,null,null,null,null,null,null,null,null,null,null,null,null,null,null,null,null,null,null,null,null,null,null,null,null,null,null,null,"",null,null,null,null,null,0]
[null,null," TABACO",0,null,null,null,null,null,null,null,null,"",null,null,null,null,null,null,null,null,null,null,null,null,null,null,null,null,null,null,null,null,null,null,null,null,null,null,null,null,null,null,null,null,null,null,null,null,null,null,null,null,null,null,null,null,null,null,null,null,null,null,null,null,null,null,null,null,null,null,null,null,null,null,null,null,null,"",null,null,null,null,null,0]
[null,null," DROGAS",0,null,null,null,null,null,null,null,null,"",null,null,null,null,null,null,null,null,null,null,null,null,null,null,null,null,null,null,null,null,null,null,null,null,null,null,null,null,null,null,null,null,null,null,null,null,null,null,null,null,null,null,null,null,null,null,null,null,null,null,null,null,null,null,null,null,null,null,null,null,null,null,null,null,null,"",null,null,null,null,null,0]
["INTERVENCIÓN REFERENCIA ASISTIDA\n(PERJUDICIAL O DEPENDENCIA)",null," ALCOHOL",0,null,null,null,null,null,null,null,null,"",null,null,null,null,null,null,null,null,null,null,null,null,null,null,null,null,null,null,null,null,null,null,null,null,null,null,null,null,null,null,null,null,null,null,null,null,null,null,null,null,null,null,null,null,null,null,null,null,null,null,null,null,null,null,null,null,null,null,null,null,null,null,null,null,null,"",null,null,null,null,null,0]
[null,null," TABACO",{"$f":"SUM(E111:J111)","v":0},null,null,null,null,null,null,null,null,"",null,null,null,null,null,null,null,null,null,null,null,null,null,null,null,null,null,null,null,null,null,null,null,null,null,null,null,null,null,null,null,null,null,null,null,null,null,null,null,null,null,null,null,null,null,null,null,null,null,null,null,null,null,null,null,null,null,null,null,null,null,null,null,null,null,"",null,null,null,null,null,0]
[null,null," DROGAS",0,null,null,null,null,null,null,null,null,"",null,null,null,null,null,null,null,null,null,null,null,null,null,null,null,null,null,null,null,null,null,null,null,null,null,null,null,null,null,null,null,null,null,null,null,null,null,null,null,null,null,null,null,null,null,null,null,null,null,null,null,null,null,null,null,null,null,null,null,null,null,null,null,null,null,"",null,null,null,null,null,{"$f":"IF((K112+L112)<>(E112+F112+G112+H112+I112+J112),1,0)","v":0}]
["SECCIÓN H: PERSONAS QUE INGRESAN A TALLERES PARA PADRES DEL PROGRAMA DE APOYO A LA SALUD MENTAL INFANTIL (PASMI)"]
["Concepto","Total de padres, madres o cuidadores de 5 a 9 años","Total de talleres","Total de sesiones"]
["Taller Nadie es Perfecto (PASMI)"]
["SECCIÓN I: ORGANIZACIONES SOCIALES DE LA RED DEL PROGRAMA MÁS ADULTOS MAYORES AUTOVALENTES"]
["Concepto","POR TIPO DE ORGANIZACIÓN"]
[null,"N° Total  de Organizaciones","Clubes de Adultos Mayores","Centros de Madres","Clubes Deportivos","Uniones Comunales de Adultos Mayores","Junta de Vecinos","Organizaciones informales","Otras organizaciones formales"]
["Organizaciones ingresadas al Programa de Estimulación Funcional del programa Más Adultos Mayores Autovalentes",{"$f":"SUM(C119:I119)","v":0}]
["Organizaciones con Líderes Comunitarios Capacitados por el Programa Más Adultos Mayores Autovalentes",{"$f":"SUM(C120:I120)","v":0}]
["SECCIÓN J: SERVICIOS DE LA RED DEL PROGRAMA MÁS ADULTOS MAYORES AUTOVALENTES"]
["Concepto","POR TIPO DE SERVICIO"]
[null,"N° Total de Servicios","Unidad Municipal de Personas Mayores ","Unidad Municipal de Atención Social","Unidad Municipal de Deportes","Unidad Municipal Turismo ","Unidad Municipal Educación","Biblioteca Municipal","Unidad Cultura Municipal","Otras Unidades Municipales","Escuelas o Colegios","Universidades","Otras Unidades Externas al Municipio"]
["Servicios Locales con oferta programática para personas mayores (total o parcial) ",{"$f":"SUM(C124:M124)","v":0}]
["Servicios Locales con Planes Intersectoriales para el Fomento del Autocuidado y Estimulación Funcional desarrollados junto al Programa Más Adultos Mayores Autovalentes",{"$f":"SUM(C125:M125)","v":0}]
["SECCIÓN K: TALLER GRUPALES DE LACTANCIA MATERNA"]
["Concepto","Nº DE TALLERES","GRUPO DE EDAD (En años)"]
[null,null,"10 a 14 años","15 a 19 años","20 a 24 años","25 a 29 años","30 a 34 años","35 a 39 años","40 a 44 años","45 a 49 años","50 a 54 años","PUEBLOS ORIGINARIOS","MIGRANTES"]
["NUMERO DE TALLERES DE LACTANCIA MATERNA REALIZADA EN MATERNIDADES",null,null,null,null,null,null,null,null,null,null,null,null,{"$f":"CA129&CB129&CC129&CD129","v":""},null,null,null,null,null,null,null,null,null,null,null,null,null,null,null,null,null,null,null,null,null,null,null,null,null,null,null,null,null,null,null,null,null,null,null,null,null,null,null,null,null,null,null,null,null,null,null,null,null,null,null,null,null,null,null,null,null,null,null,null,null,null,null,null,{"$f":"IF(CG129=1,\"* No olvide ingresar la columna Pueblos Originarios (Digite cero si no tiene). \",\"\")","v":""},{"$f":"IF(CH129=1,\"* No olvide ingresar la columna Migrantes (Digite cero si no tiene). \",\"\")","v":""},{"$f":"IF(CI129=1,\"* El total de Pueblos Originarios NO DEBE superar la suma por grupo de edad. \",\"\")","v":""},{"$f":"IF(CJ129=1,\"* El total de Migrantes NO DEBE superar la suma por grupo de edad\",\"\")","v":""},null,null,{"$f":"IF(AND(L129=\"\",SUM(C129:K129)<>0),1,0)","v":0},{"$f":"IF(AND(M129=\"\",SUM(C129:K129)<>0),1,0)","v":0},{"$f":"IF(SUM(C129:K129)<L129,1,0)","v":0},{"$f":"IF(SUM(C129:K129)<M129,1,0)","v":0}]
["SECCIÓN L: TALLERES GRUPALES  DE LACTANCIA MATERNA EN ATENCIÓN PRIMARIA "]
["Concepto","Nº DE TALLERES","POR RANGO ETARIO"]
[null,null," De 0 a 29 días","De 1 mes a 2 meses 29 días","De 3 meses a 5 meses 29 días","De 6 meses a 11 meses 29 días","PUEBLOS ORIGINARIOS","MIGRANTES"]
["NUMERO DE TALLERES DE LACTANCIA MATERNA REALIZADA EN ATENCIÓN PRIMARIA A MENORES DE UN AÑO",null,null,null,null,null,null,null,{"$f":"CA133&CB133&CC133&CD133","v":""},null,null,null,null,null,null,null,null,null,null,null,null,null,null,null,null,null,null,null,null,null,null,null,null,null,null,null,null,null,null,null,null,null,null,null,null,null,null,null,null,null,null,null,null,null,null,null,null,null,null,null,null,null,null,null,null,null,null,null,null,null,null,null,null,null,null,null,null,null,{"$f":"IF(CG133=1,\"* No olvide ingresar la columna Pueblos Originarios (Digite cero si no tiene). \",\"\")","v":""},{"$f":"IF(CH133=1,\"* No olvide ingresar la columna Migrantes (Digite cero si no tiene). \",\"\")","v":""},{"$f":"IF(CI133=1,\"* El total de Pueblos Originarios NO DEBE superar la suma por grupo de edad. \",\"\")","v":""},{"$f":"IF(CJ133=1,\"* El total de Migrantes NO DEBE superar la suma por grupo de edad\",\"\")","v":""},null,null,{"$f":"IF(AND(G133=\"\",SUM(C133:F133)<>0),1,0)","v":0},{"$f":"IF(AND(H133=\"\",SUM(C133:F133)<>0),1,0)","v":0},{"$f":"IF(SUM(C133:F133)<G133,1,0)","v":0},{"$f":"IF(SUM(C133:F133)<H133,1,0)","v":0}]
[]
[]
[]
[]
[]
[]
[]
[]
[]
[]
[]
[]
[]
[]
[]
[]
[]
[]
[]
[]
[]
[]
[]
[]
[]
[]
[]
[]
[]
[]
[]
[]
[]
[]
[]
[]
[]
[]
[]
[]
[]
[]
[]
[]
[]
[]
[]
[]
[]
[]
[]
[]
[]
[]
[]
[]
[]
[]
[]
[]
[]
[]
[]
[]
[{"$f":"SUM(D42,D76,D83,D86:D88,D92:E94,D98:E99,D104:L112)","v":0},{"$f":"SUM(CG8:CO113)","v":0}]

{"sheet":"A28","index":19,"n_rows":400,"n_cols":99,"rows_kept":400,"cut":false,"hidden":false,"merged":[[298,0,299,0],[298,2,298,20],[57,1,59,1],[199,0,201,0],[163,4,163,5],[163,6,163,7],[268,0,269,0],[199,1,200,3],[162,0,164,0],[162,1,163,3],[126,2,127,2],[126,0,127,1],[129,0,129,1],[131,0,132,2],[268,2,268,20],[268,1,269,1],[58,3,59,3],[58,4,59,4],[58,6,59,6],[273,0,274,0],[273,2,273,20],[57,2,57,6],[162,4,162,41],[163,16,163,17],[28,4,28,5],[28,6,28,7],[28,8,28,9],[28,10,28,11],[28,12,28,13],[58,5,59,5],[163,10,163,11],[163,12,163,13],[163,24,163,25],[163,20,163,21],[163,22,163,23],[28,43,29,43],[28,40,28,41],[28,28,28,29],[28,30,28,31],[9,42,9,46],[10,45,11,45],[10,46,11,46],[162,42,162,44],[163,43,163,44],[163,42,164,42],[163,40,163,41],[163,34,163,35],[163,36,163,37],[163,38,163,39],[10,44,11,44],[10,28,10,29],[10,43,11,43],[28,38,28,39],[28,32,28,33],[28,34,28,35],[28,36,28,37],[32,1,32,2],[36,1,36,2],[31,1,31,2],[31,0,51,0],[27,42,27,46],[28,45,29,45],[28,46,29,46],[27,3,29,3],[27,4,27,41],[37,1,37,2],[44,1,44,2],[38,1,38,2],[39,1,39,2],[40,1,40,2],[41,1,41,2],[28,16,28,17],[28,18,28,19],[28,20,28,21],[28,22,28,23],[28,24,28,25],[28,26,28,27],[28,14,28,15],[28,44,29,44],[28,42,29,42],[52,1,52,2],[53,1,53,2],[54,0,54,2],[55,0,55,2],[42,1,42,2],[43,1,43,2],[45,1,45,2],[46,1,46,2],[33,1,33,2],[34,1,34,2],[35,1,35,2],[48,1,48,2],[49,1,49,2],[50,1,50,2],[51,1,51,2],[58,2,59,2],[136,1,137,1],[142,0,143,0],[142,1,143,1],[142,2,142,3],[136,0,137,0],[163,28,163,29],[163,30,163,31],[163,32,163,33],[126,3,126,7],[131,4,131,8],[163,8,163,9],[163,14,163,15],[163,18,163,19],[163,26,163,27],[142,10,142,11],[10,4,10,5],[10,6,10,7],[10,8,10,9],[10,10,10,11],[10,12,10,13],[10,22,10,23],[10,24,10,25],[10,42,11,42],[10,30,10,31],[10,32,10,33],[10,16,10,17],[10,18,10,19],[10,20,10,21],[10,14,10,15],[10,34,10,35],[5,0,5,13],[9,0,11,0],[9,1,10,3],[9,4,9,41],[10,36,10,37],[10,38,10,39],[10,40,10,41],[153,0,158,0],[142,4,142,5],[142,6,142,7],[148,0,152,0],[57,0,59,0],[144,0,147,0],[142,8,142,9],[136,5,137,5],[136,7,136,11],[136,2,136,4],[136,6,137,6],[131,3,132,3],[47,1,47,2],[30,0,30,2],[27,0,29,0],[27,1,29,2],[10,26,10,27]]}
["SERVICIO DE SALUD"]
[{"$f":"CONCATENATE(\"COMUNA: \",NOMBRE!B2,\" - \",\"( \",NOMBRE!C2,NOMBRE!D2,NOMBRE!E2,NOMBRE!F2,NOMBRE!G2,\" )\")","v":"COMUNA:  - (  )"}]
[{"$f":"CONCATENATE(\"ESTABLECIMIENTO/ESTRATEGIA: \",NOMBRE!B3,\" - \",\"( \",NOMBRE!C3,NOMBRE!D3,NOMBRE!E3,NOMBRE!F3,NOMBRE!G3,NOMBRE!H3,\" )\")","v":"ESTABLECIMIENTO/ESTRATEGIA:  - (  )"}]
[{"$f":"CONCATENATE(\"MES: \",NOMBRE!B6,\" - \",\"( \",NOMBRE!C6,NOMBRE!D6,\" )\")","v":"MES:  - (  )"}]
[{"$f":"CONCATENATE(\"AÑO: \",NOMBRE!B7)","v":"AÑO: 2020"}]
["REM-28.  PROGRAMA DE REHABILITACIÓN INTEGRAL"]
[]
["SECCIÓN A:  NIVEL PRIMARIO "]
["SECCIÓN A.1: INGRESOS Y EGRESOS  AL PROGRAMA DE REHABILITACIÓN INTEGRAL"]
["TIPO DE INGRESO","TOTAL",null,null,"POR EDAD (en años)",null,null,null,null,null,null,null,null,null,null,null,null,null,null,null,null,null,null,null,null,null,null,null,null,null,null,null,null,null,null,null,null,null,null,null,null,null,"TIPO DE ESTRATEGIA "]
[null,null,null,null,"< 12 meses",null,"12 a 23 meses",null,"2 - 4",null,"5 - 9",null,"10 - 14",null,"15 - 19 ",null,"20 - 24 ",null,"25-29",null,"30-34",null,"35 - 39",null,"40 - 44",null,"45- 49",null,"50 - 54",null,"55 - 59",null,"60 - 64",null,"65 - 69",null,"70 - 74",null,"75 - 79",null,"80 y mas",null,"Rehabilitación Base Comunitaria (RBC)","Rehabilitación Integral(RI)","Rehabilitación Rural (RR)","Otros","UAPORRINO"]
[null,"Ambos Sexos","Hombres","Mujeres","Hombres","Mujeres","Hombres","Mujeres","Hombres","Mujeres","Hombres","Mujeres","Hombres","Mujeres","Hombres","Mujeres","Hombres","Mujeres","Hombres","Mujeres","Hombres","Mujeres","Hombres","Mujeres","Hombres","Mujeres","Hombres","Mujeres","Hombres","Mujeres","Hombres","Mujeres","Hombres","Mujeres","Hombres","Mujeres","Hombres","Mujeres","Hombres","Mujeres","Hombres","Mujeres"]
["INGRESOS",{"$f":"SUM(C13+D13)","v":0},{"$f":"SUM(E13+G13+I13+K13+M13+O13+Q13+S13+U13+W13+Y13+AA13+AC13+AE13+AG13+AI13+AK13+AM13+AO13)","v":0},{"$f":"SUM(F13+H13+J13+L13+N13+P13+R13+T13+V13+X13+Z13+AB13+AD13+AF13+AH13+AJ13+AL13+AN13+AP13)","v":0},null,null,null,null,null,null,null,null,null,null,null,null,null,null,null,null,null,null,null,null,null,null,null,null,null,null,null,null,null,null,null,null,null,null,null,null,null,null,null,null,null,null,null,{"$f":"CA13","v":""},null,null,null,null,null,null,null,null,null,null,null,null,null,null,null,null,null,null,null,null,null,null,null,null,null,null,null,null,null,null,{"$f":"IF(CG13=1,\"* Total Ingresos debe ser igual a la suma de los Tipos de Estrategia. \",\"\")","v":""},null,null,null,null,null,{"$f":"IF(B13<>(AQ13+AR13+AS13+AT13+AU13),1,0)","v":0}]
["INGRESOS CON PLAN DE TRATAMIENTO INTEGRAL (PTI)",{"$f":"SUM(C14+D14)","v":0},{"$f":"SUM(E14+G14+I14+K14+M14+O14+Q14+S14+U14+W14+Y14+AA14+AC14+AE14+AG14+AI14+AK14+AM14+AO14)","v":0},{"$f":"SUM(F14+H14+J14+L14+N14+P14+R14+T14+V14+X14+Z14+AB14+AD14+AF14+AH14+AJ14+AL14+AN14+AP14)","v":0},null,null,null,null,null,null,null,null,null,null,null,null,null,null,null,null,null,null,null,null,null,null,null,null,null,null,null,null,null,null,null,null,null,null,null,null,null,null,null,null,null,null,null,"",null,null,null,null,null,null,null,null,null,null,null,null,null,null,null,null,null,null,null,null,null,null,null,null,null,null,null,null,null,null,{"$f":"IF(CG14=1,\"* Total Ingresos debe ser igual a la suma de los Tipos de Estrategia. \",\"\")","v":""},null,null,null,null,null,0]
["INGRESOS CON PLAN DE TRATAMIENTO INTEGRAL (PTI) CON OBJETIVOS PARA EL TRABAJO",0,{"$f":"SUM(Q15+S15+U15+W15+Y15+AA15+AC15+AE15+AG15+AI15+AK15+AM15+AO15)","v":0},{"$f":"SUM(R15+T15+V15+X15+Z15+AB15+AD15+AF15+AH15+AJ15+AL15+AN15+AP15)","v":0},null,null,null,null,null,null,null,null,null,null,null,null,null,null,null,null,null,null,null,null,null,null,null,null,null,null,null,null,null,null,null,null,null,null,null,null,null,null,null,null,null,null,null,"",null,null,null,null,null,null,null,null,null,null,null,null,null,null,null,null,null,null,null,null,null,null,null,null,null,null,null,null,null,null,"",null,null,null,null,null,0]
["INGRESOS  DE USUARIOS CON CUIDADOR ",0,{"$f":"SUM(E16+G16+I16+K16+M16+O16+Q16+S16+U16+W16+Y16+AA16+AC16+AE16+AG16+AI16+AK16+AM16+AO16)","v":0},0,null,null,null,null,null,null,null,null,null,null,null,null,null,null,null,null,null,null,null,null,null,null,null,null,null,null,null,null,null,null,null,null,null,null,null,null,null,null,null,null,null,null,null,"",null,null,null,null,null,null,null,null,null,null,null,null,null,null,null,null,null,null,null,null,null,null,null,null,null,null,null,null,null,null,"",null,null,null,null,null,0]
["INGRESOS ACV REFERIDOS DESDE HOSPITAL",0,0,0,null,null,null,null,null,null,null,null,null,null,null,null,null,null,null,null,null,null,null,null,null,null,null,null,null,null,null,null,null,null,null,null,null,null,null,null,null,null,null,null,null,null,null,"",null,null,null,null,null,null,null,null,null,null,null,null,null,null,null,null,null,null,null,null,null,null,null,null,null,null,null,null,null,null,"",null,null,null,null,null,0]
["INGRESOS  POR AMPUTACIÓN",0,0,0,null,null,null,null,null,null,null,null,null,null,null,null,null,null,null,null,null,null,null,null,null,null,null,null,null,null,null,null,null,null,null,null,null,null,null,null,null,null,null,null,null,null,null,"",null,null,null,null,null,null,null,null,null,null,null,null,null,null,null,null,null,null,null,null,null,null,null,null,null,null,null,null,null,null,"",null,null,null,null,null,0]
["REINGRESO Al PROGRAMA ",0,0,0,null,null,null,null,null,null,null,null,null,null,null,null,null,null,null,null,null,null,null,null,null,null,null,null,null,null,null,null,null,null,null,null,null,null,null,null,null,null,null,null,null,null,null,"",null,null,null,null,null,null,null,null,null,null,null,null,null,null,null,null,null,null,null,null,null,null,null,null,null,null,null,null,null,null,"",null,null,null,null,null,0]
["INGRESOS CON PTI CUIDADOR",0,{"$f":"SUM(O20+Q20+S20+U20+W20+Y20+AA20+AC20+AE20+AG20+AI20+AK20+AM20+AO20)","v":0},{"$f":"SUM(P20+R20+T20+V20+X20+Z20+AB20+AD20+AF20+AH20+AJ20+AL20+AN20+AP20)","v":0},null,null,null,null,null,null,null,null,null,null,null,null,null,null,null,null,null,null,null,null,null,null,null,null,null,null,null,null,null,null,null,null,null,null,null,null,null,null,null,null,null,null,null,"",null,null,null,null,null,null,null,null,null,null,null,null,null,null,null,null,null,null,null,null,null,null,null,null,null,null,null,null,null,null,"",null,null,null,null,null,0]
["EGRESOS",{"$f":"SUM(C21+D21)","v":0},{"$f":"SUM(C22+C23+C24+C25)","v":0},{"$f":"SUM(D22+D23+D24+D25)","v":0},{"$f":"SUM(E22:E25)","v":0},0,0,0,0,0,0,0,0,0,0,0,0,0,0,0,0,0,0,0,0,0,0,0,0,0,0,0,0,0,0,0,0,0,0,0,0,0,0,0,0,0,0]
["EGRESOS POR ALTA",0,{"$f":"SUM(E22+G22+I22+K22+M22+O22+Q22+S22+U22+W22+Y22+AA22+AC22+AE22+AG22+AI22+AK22+AM22+AO22)","v":0},0,null,null,null,null,null,null,null,null,null,null,null,null,null,null,null,null,null,null,null,null,null,null,null,null,null,null,null,null,null,null,null,null,null,null,null,null,null,null,null,null,null,null,null,{"$f":"CA22","v":""},null,null,null,null,null,null,null,null,null,null,null,null,null,null,null,null,null,null,null,null,null,null,null,null,null,null,null,null,null,null,"",null,null,null,null,null,{"$f":"IF(B22<>(AQ22+AR22+AS22+AT22+AU22),1,0)","v":0}]
["EGRESOS POR ABANDONO",0,0,0,null,null,null,null,null,null,null,null,null,null,null,null,null,null,null,null,null,null,null,null,null,null,null,null,null,null,null,null,null,null,null,null,null,null,null,null,null,null,null,null,null,null,null,{"$f":"CA23","v":""},null,null,null,null,null,null,null,null,null,null,null,null,null,null,null,null,null,null,null,null,null,null,null,null,null,null,null,null,null,null,"",null,null,null,null,null,{"$f":"IF(B23<>(AQ23+AR23+AS23+AT23+AU23),1,0)","v":0}]
["EGRESOS POR FALLECIMIENTO",0,0,0,null,null,null,null,null,null,null,null,null,null,null,null,null,null,null,null,null,null,null,null,null,null,null,null,null,null,null,null,null,null,null,null,null,null,null,null,null,null,null,null,null,null,null,{"$f":"CA24","v":""},null,null,null,null,null,null,null,null,null,null,null,null,null,null,null,null,null,null,null,null,null,null,null,null,null,null,null,null,null,null,"",null,null,null,null,null,{"$f":"IF(B24<>(AQ24+AR24+AS24+AT24+AU24),1,0)","v":0}]
["EGRESOS POR OTRAS CAUSAS",0,0,0,null,null,null,null,null,null,null,null,null,null,null,null,null,null,null,null,null,null,null,null,null,null,null,null,null,null,null,null,null,null,null,null,null,null,null,null,null,null,null,null,null,null,null,{"$f":"CA25","v":""},null,null,null,null,null,null,null,null,null,null,null,null,null,null,null,null,null,null,null,null,null,null,null,null,null,null,null,null,null,null,"",null,null,null,null,null,{"$f":"IF(B25<>(AQ25+AR25+AS25+AT25+AU25),1,0)","v":0}]
["EGRESOS CON PTI CUIDADOR",0,0,0,null,null,null,null,null,null,null,null,null,null,null,null,null,null,null,null,null,null,null,null,null,null,null,null,null,null,null,null,null,null,null,null,null,null,null,null,null,null,null,null,null,null,null,{"$f":"CA26","v":""},null,null,null,null,null,null,null,null,null,null,null,null,null,null,null,null,null,null,null,null,null,null,null,null,null,null,null,null,null,null,"",null,null,null,null,null,{"$f":"IF(B26<>(AQ26+AR26+AS26+AT26+AU26),1,0)","v":0}]
["SECCIÓN A.2: INGRESOS POR CONDICIÓN DE SALUD"]
["CONDICIÓN DE SALUD","CONCEPTO",null,"TOTAL","POR EDAD (en años)",null,null,null,null,null,null,null,null,null,null,null,null,null,null,null,null,null,null,null,null,null,null,null,null,null,null,null,null,null,null,null,null,null,null,null,null,null,"TIPO DE ESTRATEGIA "]
[null,null,null,null,"< 12 meses",null,"12 a 23 meses",null,"2 - 4",null,"5 - 9",null,"10 - 14",null,"15 - 19 ",null,"20 - 24 ",null,"25-29",null,"30-34",null,"35 - 39",null,"40 - 44",null,"45- 49",null,"50 - 54",null,"55 - 59",null,"60 - 64",null,"65 - 69",null,"70 - 74",null,"75 - 79",null,"80 y mas",null,"Rehabilitación Base Comunitaria (RBC)","Rehabilitación Integral(RI)","Rehabilitación Rural (RR)","Otros","UAPORRINO"]
[null,null,null,null,"Hombres","Mujeres","Hombres","Mujeres","Hombres","Mujeres","Hombres","Mujeres","Hombres","Mujeres","Hombres","Mujeres","Hombres","Mujeres","Hombres","Mujeres","Hombres","Mujeres","Hombres","Mujeres","Hombres","Mujeres","Hombres","Mujeres","Hombres","Mujeres","Hombres","Mujeres","Hombres","Mujeres","Hombres","Mujeres","Hombres","Mujeres","Hombres","Mujeres","Hombres","Mujeres"]
["TOTAL INGRESO (N° DE PERSONAS)",null,null,{"$f":"SUM(E31:AP31)","v":0},null,null,null,null,null,null,null,null,null,null,null,null,null,null,null,null,null,null,null,null,null,null,null,null,null,null,null,null,null,null,null,null,null,null,null,null,null,null,null,null,null,null,null,{"$f":"CA31&CB31&CC31&CD31&CE31&CF31&CU31","v":""},null,null,null,null,null,null,null,null,null,null,null,null,null,null,null,null,null,null,null,null,null,null,null,null,null,null,null,null,null,null,{"$f":"IF(CG31=1,\"* Existen patologías que son mayores al Total de Ingresos-Persona. \",\"\")","v":""},{"$f":"IF(CH31=1,\"* EN RBC Existen Patologías que son Mayores a los Ingresos-Personas. \",\"\")","v":""},{"$f":"IF(CI31=1,\"* En RI existen Patologías que son mayores a los Ingresos-Personas. \",\"\")","v":""},{"$f":"IF(CJ31=1,\"* En RR Existen Patologías que son mayores a los Ingresos-Personas. \",\"\")","v":""},{"$f":"IF(CK31=1,\"* En Otros existen patologías que son mayores a los Ingresos-Persona. \",\"\")","v":""},{"$f":"IF(CL31=1,\"* En UAPORRINO existen patologías que son mayores a los Ingresos-personas. \",\"\")","v":""},{"$f":"IF(D31<MAX(D32:D54),1,0)","v":0},{"$f":"IF(AQ31<MAX(AQ32:AQ54),1,0)","v":0},{"$f":"IF(AR31<MAX(AR32:AR54),1,0)","v":0},{"$f":"IF(AS31<MAX(AS32:AS54),1,0)","v":0},{"$f":"IF(AT31<MAX(AT32:AT54),1,0)","v":0},{"$f":"IF(AU31<MAX(AU32:AU54),1,0)","v":0},{"$f":"IF(D31<>B13,1,0)","v":0},null,null,null,null,null,null,null,{"$f":"IF(CM31=1,\"* El número de Ingreso NO DEBE ser distinto al Total de Ingresos de la sección A.1. \",\"\")","v":""}]
["CONDICIÓN FÍSICA","SÍNDROME DOLOROSO DE ORIGEN TRAUMÁTICO",null,0,null,null,null,null,null,null,null,null,null,null,null,null,null,null,null,null,null,null,null,null,null,null,null,null,null,null,null,null,null,null,null,null,null,null,null,null,null,null,null,null,null,null,null,{"$f":"CA32","v":""},null,null,null,null,null,null,null,null,null,null,null,null,null,null,null,null,null,null,null,null,null,null,null,null,null,null,null,null,null,null,{"$f":"IF(CG32=1,\" * El total de Ingresos debe ser igual a la suma de los Tipos de Estrategia. \",\"\")","v":""},null,null,null,null,null,{"$f":"IF((AQ32+AR32+AS32+AT32+AU32)=D32,0,1)","v":0}]
[null,"ARTROSIS LEVE Y MODERADA DE RODILLA Y CADERA",null,0,null,null,null,null,null,null,null,null,null,null,null,null,null,null,null,null,null,null,null,null,null,null,null,null,null,null,null,null,null,null,null,null,null,null,null,null,null,null,null,null,null,null,null,{"$f":"CA33","v":""},null,null,null,null,null,null,null,null,null,null,null,null,null,null,null,null,null,null,null,null,null,null,null,null,null,null,null,null,null,null,{"$f":"IF(CG33=1,\" * El total de Ingresos debe ser igual a la suma de los Tipos de Estrategia. \",\"\")","v":""},null,null,null,null,null,{"$f":"IF((AQ33+AR33+AS33+AT33+AU33)=D33,0,1)","v":0}]
[null,"NEUROLÓGICOS ACCIDENTE CEREBRO VASCULAR (ACV)",null,0,null,null,null,null,null,null,null,null,null,null,null,null,null,null,null,null,null,null,null,null,null,null,null,null,null,null,null,null,null,null,null,null,null,null,null,null,null,null,null,null,null,null,null,"",null,null,null,null,null,null,null,null,null,null,null,null,null,null,null,null,null,null,null,null,null,null,null,null,null,null,null,null,null,null,"",null,null,null,null,null,0]
[null,"NEUROLÓGICOS  TRAUMATISMO ENCÉFALO CRANEANO (TEC)",null,0,null,null,null,null,null,null,null,null,null,null,null,null,null,null,null,null,null,null,null,null,null,null,null,null,null,null,null,null,null,null,null,null,null,null,null,null,null,null,null,null,null,null,null,"",null,null,null,null,null,null,null,null,null,null,null,null,null,null,null,null,null,null,null,null,null,null,null,null,null,null,null,null,null,null,"",null,null,null,null,null,0]
[null,"NEUROLÓGICOS LESIÓN MEDULAR",null,0,null,null,null,null,null,null,null,null,null,null,null,null,null,null,null,null,null,null,null,null,null,null,null,null,null,null,null,null,null,null,null,null,null,null,null,null,null,null,null,null,null,null,null,"",null,null,null,null,null,null,null,null,null,null,null,null,null,null,null,null,null,null,null,null,null,null,null,null,null,null,null,null,null,null,"",null,null,null,null,null,0]
[null,"QUEMADOS (NO GES)",null,0,null,null,null,null,null,null,null,null,null,null,null,null,null,null,null,null,null,null,null,null,null,null,null,null,null,null,null,null,null,null,null,null,null,null,null,null,null,null,null,null,null,null,null,"",null,null,null,null,null,null,null,null,null,null,null,null,null,null,null,null,null,null,null,null,null,null,null,null,null,null,null,null,null,null,"",null,null,null,null,null,0]
[null,"GRAN QUEMADO (GES)",null,0,null,null,null,null,null,null,null,null,null,null,null,null,null,null,null,null,null,null,null,null,null,null,null,null,null,null,null,null,null,null,null,null,null,null,null,null,null,null,null,null,null,null,null,"",null,null,null,null,null,null,null,null,null,null,null,null,null,null,null,null,null,null,null,null,null,null,null,null,null,null,null,null,null,null,"",null,null,null,null,null,0]
[null,"ENFERMEDAD DE PARKINSON",null,0,null,null,null,null,null,null,null,null,null,null,null,null,null,null,null,null,null,null,null,null,null,null,null,null,null,null,null,null,null,null,null,null,null,null,null,null,null,null,null,null,null,null,null,"",null,null,null,null,null,null,null,null,null,null,null,null,null,null,null,null,null,null,null,null,null,null,null,null,null,null,null,null,null,null,"",null,null,null,null,null,0]
[null,"NEUROLÓGICOS DISRAFIA",null,0,null,null,null,null,null,null,null,null,null,null,null,null,null,null,null,null,null,null,null,null,null,null,null,null,null,null,null,null,null,null,null,null,null,null,null,null,null,null,null,null,null,null,null,"",null,null,null,null,null,null,null,null,null,null,null,null,null,null,null,null,null,null,null,null,null,null,null,null,null,null,null,null,null,null,"",null,null,null,null,null,0]
[null,"OTRO DÉFICIT SECUNDARIO CON COMPROMISO NEUROMUSCULAR EN MENOR DE 20 AÑOS CONGÉNITO",null,0,null,null,null,null,null,null,null,null,null,null,null,null,null,null,null,null,null,null,null,null,null,null,null,null,null,null,null,null,null,null,null,null,null,null,null,null,null,null,null,null,null,null,null,"",null,null,null,null,null,null,null,null,null,null,null,null,null,null,null,null,null,null,null,null,null,null,null,null,null,null,null,null,null,null,"",null,null,null,null,null,0]
[null,"OTRO DÉFICIT SECUNDARIO CON COMPROMISO NEUROMUSCULAR EN MENOR DE 20 AÑOS ADQUIRIDO",null,0,null,null,null,null,null,null,null,null,null,null,null,null,null,null,null,null,null,null,null,null,null,null,null,null,null,null,null,null,null,null,null,null,null,null,null,null,null,null,null,null,null,null,null,"",null,null,null,null,null,null,null,null,null,null,null,null,null,null,null,null,null,null,null,null,null,null,null,null,null,null,null,null,null,null,"",null,null,null,null,null,0]
[null,"OTRO DÉFICIT SECUNDARIO CON COMPROMISO NEUROMUSCULAR  EN MAYOR DE 20 AÑOS ",null,0,null,null,null,null,null,null,null,null,null,null,null,null,null,null,null,null,null,null,null,null,null,null,null,null,null,null,null,null,null,null,null,null,null,null,null,null,null,null,null,null,null,null,null,"",null,null,null,null,null,null,null,null,null,null,null,null,null,null,null,null,null,null,null,null,null,null,null,null,null,null,null,null,null,null,"",null,null,null,null,null,0]
[null,"OTROS",null,0,null,null,null,null,null,null,null,null,null,null,null,null,null,null,null,null,null,null,null,null,null,null,null,null,null,null,null,null,null,null,null,null,null,null,null,null,null,null,null,null,null,null,null,"",null,null,null,null,null,null,null,null,null,null,null,null,null,null,null,null,null,null,null,null,null,null,null,null,null,null,null,null,null,null,"",null,null,null,null,null,0]
[null,"DIABETES MELLITUS",null,0,null,null,null,null,null,null,null,null,null,null,null,null,null,null,null,null,null,null,null,null,null,null,null,null,null,null,null,null,null,null,null,null,null,null,null,null,null,null,null,null,null,null,null,"",null,null,null,null,null,null,null,null,null,null,null,null,null,null,null,null,null,null,null,null,null,null,null,null,null,null,null,null,null,null,"",null,null,null,null,null,0]
[null,"AMPUTACIÓN POR DIABETES",null,0,null,null,null,null,null,null,null,null,null,null,null,null,null,null,null,null,null,null,null,null,null,null,null,null,null,null,null,null,null,null,null,null,null,null,null,null,null,null,null,null,null,null,null,"",null,null,null,null,null,null,null,null,null,null,null,null,null,null,null,null,null,null,null,null,null,null,null,null,null,null,null,null,null,null,"",null,null,null,null,null,0]
[null,"AMPUTACIÓN POR OTRAS CAUSAS",null,0,null,null,null,null,null,null,null,null,null,null,null,null,null,null,null,null,null,null,null,null,null,null,null,null,null,null,null,null,null,null,null,null,null,null,null,null,null,null,null,null,null,null,null,"",null,null,null,null,null,null,null,null,null,null,null,null,null,null,null,null,null,null,null,null,null,null,null,null,null,null,null,null,null,null,"",null,null,null,null,null,0]
[null,"ARTROSIS SEVERA DE RODILLA Y CADERA",null,0,null,null,null,null,null,null,null,null,null,null,null,null,null,null,null,null,null,null,null,null,null,null,null,null,null,null,null,null,null,null,null,null,null,null,null,null,null,null,null,null,null,null,null,"",null,null,null,null,null,null,null,null,null,null,null,null,null,null,null,null,null,null,null,null,null,null,null,null,null,null,null,null,null,null,"",null,null,null,null,null,0]
[null,"OTRAS ARTROSIS",null,0,null,null,null,null,null,null,null,null,null,null,null,null,null,null,null,null,null,null,null,null,null,null,null,null,null,null,null,null,null,null,null,null,null,null,null,null,null,null,null,null,null,null,null,"",null,null,null,null,null,null,null,null,null,null,null,null,null,null,null,null,null,null,null,null,null,null,null,null,null,null,null,null,null,null,"",null,null,null,null,null,0]
[null,"REUMATOLÓGICAS",null,0,null,null,null,null,null,null,null,null,null,null,null,null,null,null,null,null,null,null,null,null,null,null,null,null,null,null,null,null,null,null,null,null,null,null,null,null,null,null,null,null,null,null,null,"",null,null,null,null,null,null,null,null,null,null,null,null,null,null,null,null,null,null,null,null,null,null,null,null,null,null,null,null,null,null,"",null,null,null,null,null,0]
[null,"DOLOR LUMBAR",null,0,null,null,null,null,null,null,null,null,null,null,null,null,null,null,null,null,null,null,null,null,null,null,null,null,null,null,null,null,null,null,null,null,null,null,null,null,null,null,null,null,null,null,null,"",null,null,null,null,null,null,null,null,null,null,null,null,null,null,null,null,null,null,null,null,null,null,null,null,null,null,null,null,null,null,"",null,null,null,null,null,0]
[null,"HOMBRO DOLOROSO",null,0,null,null,null,null,null,null,null,null,null,null,null,null,null,null,null,null,null,null,null,null,null,null,null,null,null,null,null,null,null,null,null,null,null,null,null,null,null,null,null,null,null,null,null,"",null,null,null,null,null,null,null,null,null,null,null,null,null,null,null,null,null,null,null,null,null,null,null,null,null,null,null,null,null,null,"",null,null,null,null,null,0]
[null,"CUIDADOS PALIATIVOS",null,0,null,null,null,null,null,null,null,null,null,null,null,null,null,null,null,null,null,null,null,null,null,null,null,null,null,null,null,null,null,null,null,null,null,null,null,null,null,null,null,null,null,null,null,"",null,null,null,null,null,null,null,null,null,null,null,null,null,null,null,null,null,null,null,null,null,null,null,null,null,null,null,null,null,null,"",null,null,null,null,null,0]
[null,"OTROS SÍNDROMES DOLOROSOS NO TRAUMÁTICOS",null,0,null,null,null,null,null,null,null,null,null,null,null,null,null,null,null,null,null,null,null,null,null,null,null,null,null,null,null,null,null,null,null,null,null,null,null,null,null,null,null,null,null,null,null,"",null,null,null,null,null,null,null,null,null,null,null,null,null,null,null,null,null,null,null,null,null,null,null,null,null,null,null,null,null,null,"",null,null,null,null,null,0]
["CONDICIÓN SENSORIAL VISUAL",null,null,0,null,null,null,null,null,null,null,null,null,null,null,null,null,null,null,null,null,null,null,null,null,null,null,null,null,null,null,null,null,null,null,null,null,null,null,null,null,null,null,null,null,null,null,"",null,null,null,null,null,null,null,null,null,null,null,null,null,null,null,null,null,null,null,null,null,null,null,null,null,null,null,null,null,null,"",null,null,null,null,null,0]
["CONDICIÓN SENSORIAL AUDITIVO",null,null,0,null,null,null,null,null,null,null,null,null,null,null,null,null,null,null,null,null,null,null,null,null,null,null,null,null,null,null,null,null,null,null,null,null,null,null,null,null,null,null,null,null,null,null,"",null,null,null,null,null,null,null,null,null,null,null,null,null,null,null,null,null,null,null,null,null,null,null,null,null,null,null,null,null,null,"",null,null,null,null,null,0]
["SECCIÓN A.3: EVALUACIÓN INICIAL"]
["PROFESIONAL","TOTAL      ","TIPO DE ESTRATEGIA "]
[null,null,"Rehabilitación Base Comunitaria (RBC)","Rehabilitación Integral(RI)","Rehabilitación Rural (RR)","UAPORRINO","OTROS"]
[]
["MÉDICO",{"$f":"SUM(C61:G61)","v":0}]
["KINESIÓLOGO",{"$f":"SUM(C62:G62)","v":0}]
["TERAPEUTA OCUPACIONAL",0]
["FONOAUDIÓLOGO",0]
["PSICÓLOGO/A",0]
["TOTAL",{"$f":"SUM(B61:B65)","v":0},{"$f":"SUM(C61:C65)","v":0},0,0,0,0]
["SECCIÓN A.4: EVALUACIÓN INTERMEDIA"]
["PROFESIONAL","TOTAL      ","Rehabilitación Base Comunitaria (RBC)","Rehabilitación Integral (RI)","Rehabilitación Rural (RR)","UAPORRINO","Otros"]
["KINESIÓLOGO",{"$f":"SUM(C69:G69)","v":0}]
["TERAPEUTA OCUPACIONAL",{"$f":"SUM(C70:G70)","v":0}]
["FONOAUDIÓLOGO",{"$f":"SUM(C71:G71)","v":0}]
["PSICÓLOGO/A",{"$f":"SUM(C72:G72)","v":0}]
["TOTAL",{"$f":"SUM(B69:B72)","v":0},0,0,0,0,0]
["SECCIÓN A.5: SESIONES DE REHABILITACIÓN"]
["PROFESIONAL","TOTAL      ","Rehabilitación Base Comunitaria (RBC)","Rehabilitación Integral (RI)","Rehabilitación Rural (RR)","UAPORRINO","Otros"]
["KINESIÓLOGO",{"$f":"SUM(C76:G76)","v":0}]
["TERAPEUTA OCUPACIONAL",{"$f":"SUM(C77:G77)","v":0}]
["FONOAUDIÓLOGO",{"$f":"SUM(C78:G78)","v":0}]
["PSICÓLOGO/A",{"$f":"SUM(C79:G79)","v":0}]
["TOTAL",{"$f":"SUM(B76:B79)","v":0},0,0,0,0,0]
["SECCIÓN A.6: PROCEDIMIENTOS Y ACTIVIDADES"]
["TIPO","Total Rehabilitacion Base Comunitaria","Total Rehabilitación Integral","Total Rehabilitacion  Rural ","Otros","UAPORRINO"]
["EVALUACIÓN AYUDAS TÉCNICAS"]
["ENTRENAMIENTO DE AYUDAS TÉCNICAS"]
["FISIOTERAPIA"]
["TRATAMIENTO COMPRESIVO"]
["ENTRENAMIENTO PROTÉSICO"]
["EJERCICIOS TERAPÉUTICOS"]
["TRATAMIENTO (VOZ, HABLA Y/O LENGUAJE)"]
["TRATAMIENTO FUNCIONES MOTORAS ORALES "]
["ESTIMULACIÓN COGNITIVA"]
["PREVENCIÓN DE DETERIORO DE ÓRGANOS FONO ARTICULATORIOS (OFA)"]
["REHABILITACIÓN DEGLUCIÓN"]
["CONFECCIÓN ÓRTESIS Y/O ADAPTACIONES"]
["HABILITACIÓN Y REHABILITACIÓN EN ACTIVIDADES DE LA VIDA DIARIA (AVD)"]
["HABILITACIÓN Y REHABILITACIÓN EDUCACIONAL"]
["ACTIVIDADES RECREATIVAS"]
["ACTIVIDADES TERAPÉUTICAS"]
["INTEGRACIÓN SENSORIAL"]
["PSICOTERAPIA "]
["MASOTERAPIA"]
["ADAPTACIÓN DEL HOGAR"]
["ORIENTACIÓN Y MOVILIDAD"]
["ORIENTACIÓN SOCIOLABORAL"]
["ORIENTACIÓN FAMILIAR Y A LA RED DE APOYO PARA EL TRABAJO"]
["GESTIÓN DE LA RED LOCAL PARA EL TRABAJO"]
["REHABILITACIÓN AUDITIVA INDIVIDUAL"]
["REHABILITACIÓN AUDITIVA GRUPAL"]
["TOTAL",{"$f":"SUM(B83:B108)","v":0},{"$f":"SUM(C83:C108)","v":0},{"$f":"SUM(D83:D108)","v":0},{"$f":"SUM(E83:E108)","v":0},{"$f":"SUM(F83:F108)","v":0}]
["SECCIÓN A.7: CONSEJERÍA INDIVIDUAL AGENDADA"]
["PROFESIONAL","Total Rehabilitacion Base Comunitaria","Total Rehabilitación Integral","Total Rehabilitacion  Rural ","Otros","UAPORRINO"]
["KINESIÓLOGO"]
["TERAPEUTA OCUPACIONAL"]
["FONOAUDIÓLOGO"]
["PSICÓLOGO/A"]
["ASISTENTE SOCIAL"]
["TOTAL",{"$f":"SUM(B112:B116)","v":0},{"$f":"SUM(C112:C116)","v":0},{"$f":"SUM(D112:D116)","v":0},{"$f":"SUM(E112:E116)","v":0},{"$f":"SUM(F112:F116)","v":0}]
["SECCIÓN A.8: CONSEJERÍA FAMILIAR AGENDADA"]
["PROFESIONAL","Total Rehabilitacion Base Comunitaria","Total Rehabilitación Integral","Total Rehabilitacion  Rural ","Otros","UAPORRINO"]
["KINESIÓLOGO"]
["TERAPEUTA OCUPACIONAL"]
["FONOAUDIÓLOGO"]
["PSICÓLOGO/A"]
["ASISTENTE SOCIAL"]
["TOTAL",{"$f":"SUM(B120:B124)","v":0},{"$f":"SUM(C120:C124)","v":0},{"$f":"SUM(D120:D124)","v":0},{"$f":"SUM(E120:E124)","v":0},{"$f":"SUM(F120:F124)","v":0}]
["SECCIÓN A.9: VISITAS DOMICILIARIAS INTEGRALES"]
["FAMILIA",null,"TOTAL","TIPO DE ESTRATEGIA "]
[null,null,null,"Rehabilitación Base Comunitaria (RBC)","Rehabilitación Integral(RI)","Rehabilitación Rural (RR)","Otros","UAPORRINO"]
["VISITA DOMICILIARIA INTEGRAL",null,{"$f":"SUM(D129:H129)","v":0}]
["VISITA DE TRATAMIENTO Y/O PROCEDIMIENTO",null,{"$f":"SUM(D130:H130)","v":0}]
["SECCIÓN A.10: INTERVENCIONES TERAPÉUTICAS GRUPALES "]
["ÁREA TEMÁTICA DE PREVENCIÓN Y TRATAMIENTO",null,null,"TOTAL","TIPO DE ESTRATEGIA "]
[null,null,null,null,"Rehabilitación Base Comunitaria (RBC)","Rehabilitación Integral(RI)","Rehabilitación Rural (RR)","Otros","UAPORRINO"]
["NÚMERO DE PERSONAS ",null,null,{"$f":"SUM(E134:I134)","v":0}]
["NÙMERO DE SESIONES",null,null,{"$f":"SUM(E135:I135)","v":0}]
["SECCIÓN A.11: PERSONAS QUE LOGRAN PARTICIPACIÓN EN COMUNIDAD "]
["COMPONENTE (Nº PERSONAS)","TOTAL","LABORAL",null,null,"Educativa","Comunitario","TIPO DE ESTRATEGIA "]
[null,null,"Trabajo con objetivos de habilitación y rehabilitación","Trabajo sin objetivos de habilitación y rehabilitación","Dueña/o de casa",null,null,"Rehabilitación Base Comunitaria (RBC)","Rehabilitación Integral(RI)","Rehabilitación Rural (RR)","Otros","UAPORRINO"]
["CONDICIÓN FÍSICA",{"$f":"SUM(C139:G139)","v":0},null,null,null,null,null,null,null,null,null,null,{"$f":"CA139","v":""},null,null,null,null,null,null,null,null,null,null,null,null,null,null,null,null,null,null,null,null,null,null,null,null,null,null,null,null,null,null,null,null,null,null,null,null,null,null,null,null,null,null,null,null,null,null,null,null,null,null,null,null,null,null,null,null,null,null,null,null,null,null,null,null,null,{"$f":"IF(CG139=1,\"* Total Personas debe ser igual que según Tipo estrategia + Otros + UAPORRINO. \",\"\")","v":""},null,null,null,null,null,{"$f":"IF(B139<>SUM(H139:L139),1,0)","v":0}]
["CONDICIÓN SENSORIAL VISUAL",{"$f":"SUM(C140:G140)","v":0},null,null,null,null,null,null,null,null,null,null,{"$f":"CA140","v":""},null,null,null,null,null,null,null,null,null,null,null,null,null,null,null,null,null,null,null,null,null,null,null,null,null,null,null,null,null,null,null,null,null,null,null,null,null,null,null,null,null,null,null,null,null,null,null,null,null,null,null,null,null,null,null,null,null,null,null,null,null,null,null,null,null,{"$f":"IF(CG140=1,\"* Total Personas debe ser igual que según Tipo estrategia + Otros + UAPORRINO. \",\"\")","v":""},null,null,null,null,null,{"$f":"IF(B140<>SUM(H140:L140),1,0)","v":0}]
["CONDICIÓN SENSORIAL AUDITIVO",{"$f":"SUM(C141:G141)","v":0},null,null,null,null,null,null,null,null,null,null,{"$f":"CA141","v":""},null,null,null,null,null,null,null,null,null,null,null,null,null,null,null,null,null,null,null,null,null,null,null,null,null,null,null,null,null,null,null,null,null,null,null,null,null,null,null,null,null,null,null,null,null,null,null,null,null,null,null,null,null,null,null,null,null,null,null,null,null,null,null,null,null,{"$f":"IF(CG141=1,\"* Total Personas debe ser igual que según Tipo estrategia + Otros + UAPORRINO. \",\"\")","v":""},null,null,null,null,null,{"$f":"IF(B141<>SUM(H141:L141),1,0)","v":0}]
["SECCIÓN A.12: ACTIVIDADES Y PARTICIPACIÓN"]
["MODALIDADES DE INTERVENCIÓN","GRUPO OBJETIVO","TOTALES RBC",null,"TOTALES RI",null,"TOTALES RR",null,"OTROS TOTALES",null,"UAPORRINO"]
[null,null," Actividades ","Participantes "," Actividades ","Participantes "," Actividades ","Participantes "," Actividades ","Participantes ","Actividades","Participantes "]
["DIAGNÓSTICO O PLANIFICACIÓN PARTICIPATIVA ","COMUNAS, COMUNIDADES"]
[null,"ORGANIZACIONES ASOCIADAS A DISCAPACIDAD"]
[null,"ORGANIZACIONES COMUNITARIAS"]
[null,"COMUNIDAD EDUCATIVA"]
["ACTIVIDADES DE PROMOCIÓN DE LA SALUD","COMUNAS, COMUNIDADES."]
[null,"EMPLEADORES Y COMPAÑEROS DE TRABAJO"]
[null,"COMUNIDAD EDUCATIVA"]
[null,"RED DE APOYO"]
[null,"CUIDADORES"]
["ACTIVIDADES PARA FORTALECER LOS CONOCIMIENTOS Y DESTREZAS PERSONALES","PROFESIONALES DE SALUD"]
[null,"EMPLEADORES Y COMPAÑEROS DE TRABAJO"]
[null,"COMUNIDAD EDUCATIVA"]
[null,"MONITORES"]
[null,"RED DE APOYO"]
[null,"CUIDADORES"]
["ASESORÍA A GRUPOS COMUNITARIOS","ORGANIZACIONES COMUNITARIAS"]
["SECCIÓN B: NIVEL HOSPITALARIO"]
["SECCIÓN B.1: INGRESOS Y EGRESOS  AL PROGRAMA DE REHABILITACIÓN INTEGRAL"]
["INGRESOS","TOTAL",null,null,"POR DE EDAD (en años)",null,null,null,null,null,null,null,null,null,null,null,null,null,null,null,null,null,null,null,null,null,null,null,null,null,null,null,null,null,null,null,null,null,null,null,null,null,"TIPO ATENCIÓN"]
[null,null,null,null,"< 12 meses",null,"12 a 23 meses",null,"2 - 4",null,"5 - 9",null,"10 - 14",null,"15 - 19 ",null,"20 - 24 ",null,"25-29",null,"30-34",null,"35 - 39",null,"40 - 44",null,"45- 49",null,"50 - 54",null,"55 - 59",null,"60 - 64",null,"65 - 69",null,"70 - 74",null,"75 - 79",null,"80 y mas",null,"Abierta","CERRADA"]
[null,"Ambos Sexos","Hombres","Mujeres","Hombres","Mujeres","Hombres","Mujeres","Hombres","Mujeres","Hombres","Mujeres","Hombres","Mujeres","Hombres","Mujeres","Hombres","Mujeres","Hombres","Mujeres","Hombres","Mujeres","Hombres","Mujeres","Hombres","Mujeres","Hombres","Mujeres","Hombres","Mujeres","Hombres","Mujeres","Hombres","Mujeres","Hombres","Mujeres","Hombres","Mujeres","Hombres","Mujeres","Hombres","Mujeres",null,"UPC","Cuidados Medios y Básicos"]
["TOTAL INGRESO (N° DE PERSONAS)",{"$f":"SUM(C166+D166)","v":0},{"$f":"SUM(E166+G166+I166+K166+M166+O166+Q166+S166+U166+W166+Y166+AA166+AC166+AE166+AG166+AI166+AK166+AM166+AO166)","v":0},{"$f":"SUM(F166+H166+J166+L166+N166+P166+R166+T166+V166+X166+Z166+AB166+AD166+AF166+AH166+AJ166+AL166+AN166+AP166)","v":0},null,null,null,null,null,null,null,null,null,null,null,null,null,null,null,null,null,null,null,null,null,null,null,null,null,null,null,null,null,null,null,null,null,null,null,null,null,null,null,null,null,{"$f":"CA166","v":""},null,null,null,null,null,null,null,null,null,null,null,null,null,null,null,null,null,null,null,null,null,null,null,null,null,null,null,null,null,null,null,null,{"$f":"IF(CG166=1,\"* El número de Consultas Según tipo de atención NO DEBE ser diferente al Total. \",\"\")","v":""},null,null,null,null,null,{"$f":"IF(B166<>SUM(AQ166:AS166),1,0)","v":0}]
["INGRESOS CON PLAN DE TRATAMIENTO INTEGRAL (PTI)",0,0,0,null,null,null,null,null,null,null,null,null,null,null,null,null,null,null,null,null,null,null,null,null,null,null,null,null,null,null,null,null,null,null,null,null,null,null,null,null,null,null,null,null,"",null,null,null,null,null,null,null,null,null,null,null,null,null,null,null,null,null,null,null,null,null,null,null,null,null,null,null,null,null,null,null,null,"",null,null,null,null,null,0]
["NEUROLÓGICOS TRAUMATISMO ENCÉFALO CRANEANO (TEC)",0,0,0,null,null,null,null,null,null,null,null,null,null,null,null,null,null,null,null,null,null,null,null,null,null,null,null,null,null,null,null,null,null,null,null,null,null,null,null,null,null,null,null,null,"",null,null,null,null,null,null,null,null,null,null,null,null,null,null,null,null,null,null,null,null,null,null,null,null,null,null,null,null,null,null,null,null,"",null,null,null,null,null,0]
["NEUROLÓGICOS LESIÓN MEDULAR ",0,0,0,null,null,null,null,null,null,null,null,null,null,null,null,null,null,null,null,null,null,null,null,null,null,null,null,null,null,null,null,null,null,null,null,null,null,null,null,null,null,null,null,null,"",null,null,null,null,null,null,null,null,null,null,null,null,null,null,null,null,null,null,null,null,null,null,null,null,null,null,null,null,null,null,null,null,"",null,null,null,null,null,0]
["NEUROLÓGICOS ACCIDENTE CEREBRO VASCULAR (ACV)",0,0,0,null,null,null,null,null,null,null,null,null,null,null,null,null,null,null,null,null,null,null,null,null,null,null,null,null,null,null,null,null,null,null,null,null,null,null,null,null,null,null,null,null,"",null,null,null,null,null,null,null,null,null,null,null,null,null,null,null,null,null,null,null,null,null,null,null,null,null,null,null,null,null,null,null,null,"",null,null,null,null,null,0]
["NEUROLÓGICOS DISRAFIA",0,0,0,null,null,null,null,null,null,null,null,null,null,null,null,null,null,null,null,null,null,null,null,null,null,null,null,null,null,null,null,null,null,null,null,null,null,null,null,null,null,null,null,null,"",null,null,null,null,null,null,null,null,null,null,null,null,null,null,null,null,null,null,null,null,null,null,null,null,null,null,null,null,null,null,null,null,"",null,null,null,null,null,0]
["NEUROLÓGICAS TUMORES",0,0,0,null,null,null,null,null,null,null,null,null,null,null,null,null,null,null,null,null,null,null,null,null,null,null,null,null,null,null,null,null,null,null,null,null,null,null,null,null,null,null,null,null,"",null,null,null,null,null,null,null,null,null,null,null,null,null,null,null,null,null,null,null,null,null,null,null,null,null,null,null,null,null,null,null,null,"",null,null,null,null,null,0]
["PARÁLISIS CEREBRAL",0,0,0,null,null,null,null,null,null,null,null,null,null,null,null,null,null,null,null,null,null,null,null,null,null,null,null,null,null,null,null,null,null,null,null,null,null,null,null,null,null,null,null,null,"",null,null,null,null,null,null,null,null,null,null,null,null,null,null,null,null,null,null,null,null,null,null,null,null,null,null,null,null,null,null,null,null,"",null,null,null,null,null,0]
["QUEMADOS (NO GES)",0,0,0,null,null,null,null,null,null,null,null,null,null,null,null,null,null,null,null,null,null,null,null,null,null,null,null,null,null,null,null,null,null,null,null,null,null,null,null,null,null,null,null,null,"",null,null,null,null,null,null,null,null,null,null,null,null,null,null,null,null,null,null,null,null,null,null,null,null,null,null,null,null,null,null,null,null,"",null,null,null,null,null,0]
["GRAN QUEMADO (GES)",0,0,0,null,null,null,null,null,null,null,null,null,null,null,null,null,null,null,null,null,null,null,null,null,null,null,null,null,null,null,null,null,null,null,null,null,null,null,null,null,null,null,null,null,"",null,null,null,null,null,null,null,null,null,null,null,null,null,null,null,null,null,null,null,null,null,null,null,null,null,null,null,null,null,null,null,null,"",null,null,null,null,null,0]
["SENSORIALES AUDITIVOS",{"$f":"SUM(C176+D176)","v":0},0,0,null,null,null,null,null,null,null,null,null,null,null,null,null,null,null,null,null,null,null,null,null,null,null,null,null,null,null,null,null,null,null,null,null,null,null,null,null,null,null,null,null,{"$f":"CA176","v":""},null,null,null,null,null,null,null,null,null,null,null,null,null,null,null,null,null,null,null,null,null,null,null,null,null,null,null,null,null,null,null,null,{"$f":"IF(CG176=1,\"* El número de Consultas Según tipo de atención NO DEBE ser diferente al Total. \",\"\")","v":""},null,null,null,null,null,{"$f":"IF(B176<>SUM(AQ176:AS176),1,0)","v":0}]
["SENSORIALES VISUALES",0,0,0,null,null,null,null,null,null,null,null,null,null,null,null,null,null,null,null,null,null,null,null,null,null,null,null,null,null,null,null,null,null,null,null,null,null,null,null,null,null,null,null,null,"",null,null,null,null,null,null,null,null,null,null,null,null,null,null,null,null,null,null,null,null,null,null,null,null,null,null,null,null,null,null,null,null,"",null,null,null,null,null,0]
["TRAUMATOLÓGICOS",0,0,0,null,null,null,null,null,null,null,null,null,null,null,null,null,null,null,null,null,null,null,null,null,null,null,null,null,null,null,null,null,null,null,null,null,null,null,null,null,null,null,null,null,"",null,null,null,null,null,null,null,null,null,null,null,null,null,null,null,null,null,null,null,null,null,null,null,null,null,null,null,null,null,null,null,null,"",null,null,null,null,null,0]
["AMPUTADOS POR OTRAS CAUSAS",0,0,0,null,null,null,null,null,null,null,null,null,null,null,null,null,null,null,null,null,null,null,null,null,null,null,null,null,null,null,null,null,null,null,null,null,null,null,null,null,null,null,null,null,"",null,null,null,null,null,null,null,null,null,null,null,null,null,null,null,null,null,null,null,null,null,null,null,null,null,null,null,null,null,null,null,null,"",null,null,null,null,null,0]
["AMPUTADOS POR DIABETES",0,0,0,null,null,null,null,null,null,null,null,null,null,null,null,null,null,null,null,null,null,null,null,null,null,null,null,null,null,null,null,null,null,null,null,null,null,null,null,null,null,null,null,null,"",null,null,null,null,null,null,null,null,null,null,null,null,null,null,null,null,null,null,null,null,null,null,null,null,null,null,null,null,null,null,null,null,"",null,null,null,null,null,0]
["ENFERMEDADES DEL CORAZÓN",0,0,0,null,null,null,null,null,null,null,null,null,null,null,null,null,null,null,null,null,null,null,null,null,null,null,null,null,null,null,null,null,null,null,null,null,null,null,null,null,null,null,null,null,"",null,null,null,null,null,null,null,null,null,null,null,null,null,null,null,null,null,null,null,null,null,null,null,null,null,null,null,null,null,null,null,null,"",null,null,null,null,null,0]
["RESPIRATORIO",0,0,0,null,null,null,null,null,null,null,null,null,null,null,null,null,null,null,null,null,null,null,null,null,null,null,null,null,null,null,null,null,null,null,null,null,null,null,null,null,null,null,null,null,"",null,null,null,null,null,null,null,null,null,null,null,null,null,null,null,null,null,null,null,null,null,null,null,null,null,null,null,null,null,null,null,null,"",null,null,null,null,null,0]
["NEUROMUSCULARES AGUDAS",0,0,0,null,null,null,null,null,null,null,null,null,null,null,null,null,null,null,null,null,null,null,null,null,null,null,null,null,null,null,null,null,null,null,null,null,null,null,null,null,null,null,null,null,"",null,null,null,null,null,null,null,null,null,null,null,null,null,null,null,null,null,null,null,null,null,null,null,null,null,null,null,null,null,null,null,null,"",null,null,null,null,null,0]
["NEUROMUSCULARES CRÓNICAS",0,0,0,null,null,null,null,null,null,null,null,null,null,null,null,null,null,null,null,null,null,null,null,null,null,null,null,null,null,null,null,null,null,null,null,null,null,null,null,null,null,null,null,null,"",null,null,null,null,null,null,null,null,null,null,null,null,null,null,null,null,null,null,null,null,null,null,null,null,null,null,null,null,null,null,null,null,"",null,null,null,null,null,0]
["REUMATOLÓGICAS",0,0,0,null,null,null,null,null,null,null,null,null,null,null,null,null,null,null,null,null,null,null,null,null,null,null,null,null,null,null,null,null,null,null,null,null,null,null,null,null,null,null,null,null,"",null,null,null,null,null,null,null,null,null,null,null,null,null,null,null,null,null,null,null,null,null,null,null,null,null,null,null,null,null,null,null,null,"",null,null,null,null,null,0]
["NEUROLÓGICAS ESCLEROSIS LATERAL AMIOTRÓFICA (ELA)",0,0,0,null,null,null,null,null,null,null,null,null,null,null,null,null,null,null,null,null,null,null,null,null,null,null,null,null,null,null,null,null,null,null,null,null,null,null,null,null,null,null,null,null,"",null,null,null,null,null,null,null,null,null,null,null,null,null,null,null,null,null,null,null,null,null,null,null,null,null,null,null,null,null,null,null,null,"",null,null,null,null,null,0]
["RETRASO EN EL DESARROLLO PSICOMOTOR",0,0,0,null,null,null,null,null,null,null,null,null,null,null,null,null,null,null,null,null,null,null,null,null,null,null,null,null,null,null,null,null,null,null,null,null,null,null,null,null,null,null,null,null,"",null,null,null,null,null,null,null,null,null,null,null,null,null,null,null,null,null,null,null,null,null,null,null,null,null,null,null,null,null,null,null,null,"",null,null,null,null,null,0]
["ONCOLÓGICOS ",0,0,0,null,null,null,null,null,null,null,null,null,null,null,null,null,null,null,null,null,null,null,null,null,null,null,null,null,null,null,null,null,null,null,null,null,null,null,null,null,null,null,null,null,"",null,null,null,null,null,null,null,null,null,null,null,null,null,null,null,null,null,null,null,null,null,null,null,null,null,null,null,null,null,null,null,null,"",null,null,null,null,null,0]
["SINDROME DE INMOVILIZACIÓN",0,0,0,null,null,null,null,null,null,null,null,null,null,null,null,null,null,null,null,null,null,null,null,null,null,null,null,null,null,null,null,null,null,null,null,null,null,null,null,null,null,null,null,null,"",null,null,null,null,null,null,null,null,null,null,null,null,null,null,null,null,null,null,null,null,null,null,null,null,null,null,null,null,null,null,null,null,"",null,null,null,null,null,0]
["CUIDADOS PALIATIVOS",0,0,0,null,null,null,null,null,null,null,null,null,null,null,null,null,null,null,null,null,null,null,null,null,null,null,null,null,null,null,null,null,null,null,null,null,null,null,null,null,null,null,null,null,"",null,null,null,null,null,null,null,null,null,null,null,null,null,null,null,null,null,null,null,null,null,null,null,null,null,null,null,null,null,null,null,null,"",null,null,null,null,null,0]
["CIRUGÍA MAYOR ABDOMINAL",{"$f":"SUM(C191+D191)","v":0},0,0,null,null,null,null,null,null,null,null,null,null,null,null,null,null,null,null,null,null,null,null,null,null,null,null,null,null,null,null,null,null,null,null,null,null,null,null,null,null,null,null,null,"",null,null,null,null,null,null,null,null,null,null,null,null,null,null,null,null,null,null,null,null,null,null,null,null,null,null,null,null,null,null,null,null,"",null,null,null,null,null,0]
["OTROS",0,0,0,null,null,null,null,null,null,null,null,null,null,null,null,null,null,null,null,null,null,null,null,null,null,null,null,null,null,null,null,null,null,null,null,null,null,null,null,null,null,null,null,null,"",null,null,null,null,null,null,null,null,null,null,null,null,null,null,null,null,null,null,null,null,null,null,null,null,null,null,null,null,null,null,null,null,"",null,null,null,null,null,0]
["EGRESOS",{"$f":"SUM(B194:B198)","v":0},0,0,0,0,0,0,0,0,0,0,0,0,0,0,0,0,0,0,0,0,0,0,0,0,0,0,0,0,0,0,0,0,0,0,0,0,0,0,0,0,0,0,0]
["EGRESOS POR ALTA",{"$f":"SUM(C194+D194)","v":0},{"$f":"SUM(E194+G194+I194+K194+M194+O194+Q194+S194+U194+W194+Y194+AA194+AC194+AE194+AG194+AI194+AK194+AM194+AO194)","v":0},0,null,null,null,null,null,null,null,null,null,null,null,null,null,null,null,null,null,null,null,null,null,null,null,null,null,null,null,null,null,null,null,null,null,null,null,null,null,null,null,null,null,"",null,null,null,null,null,null,null,null,null,null,null,null,null,null,null,null,null,null,null,null,null,null,null,null,null,null,null,null,null,null,null,null,{"$f":"IF(CG194=1,\"* El número de Egresos Según tipo de atención NO DEBE ser diferente al Total. \",\"\")","v":""},null,null,null,null,null,{"$f":"IF(B194<>SUM(AQ194:AS194),1,0)","v":0}]
["EGRESOS POR ABANDONO",{"$f":"SUM(C195+D195)","v":0},0,0,null,null,null,null,null,null,null,null,null,null,null,null,null,null,null,null,null,null,null,null,null,null,null,null,null,null,null,null,null,null,null,null,null,null,null,null,null,null,null,null,null,"",null,null,null,null,null,null,null,null,null,null,null,null,null,null,null,null,null,null,null,null,null,null,null,null,null,null,null,null,null,null,null,null,{"$f":"IF(CG195=1,\"* El número de Egresos Según tipo de atención NO DEBE ser diferente al Total. \",\"\")","v":""},null,null,null,null,null,0]
["EGRESOS POR FALLECIMIENTO",{"$f":"SUM(C196+D196)","v":0},0,0,null,null,null,null,null,null,null,null,null,null,null,null,null,null,null,null,null,null,null,null,null,null,null,null,null,null,null,null,null,null,null,null,null,null,null,null,null,null,null,null,null,"",null,null,null,null,null,null,null,null,null,null,null,null,null,null,null,null,null,null,null,null,null,null,null,null,null,null,null,null,null,null,null,null,"",null,null,null,null,null,0]
["EGRESOS ACV REFERIDO A APS",{"$f":"SUM(C197+D197)","v":0},0,0,null,null,null,null,null,null,null,null,null,null,null,null,null,null,null,null,null,null,null,null,null,null,null,null,null,null,null,null,null,null,null,null,null,null,null,null,null,null,null,null,null,"",null,null,null,null,null,null,null,null,null,null,null,null,null,null,null,null,null,null,null,null,null,null,null,null,null,null,null,null,null,null,null,null,"",null,null,null,null,null,0]
["OTROS",{"$f":"SUM(C198+D198)","v":0},0,0,null,null,null,null,null,null,null,null,null,null,null,null,null,null,null,null,null,null,null,null,null,null,null,null,null,null,null,null,null,null,null,null,null,null,null,null,null,null,null,null,null,"",null,null,null,null,null,null,null,null,null,null,null,null,null,null,null,null,null,null,null,null,null,null,null,null,null,null,null,null,null,null,null,null,"",null,null,null,null,null,{"$f":"IF(B198<>SUM(AQ198:AS198),1,0)","v":0}]
["SECCIÓN B.2: EVALUACIÓN INICIAL"]
["PROFESIONAL","TOTAL      "]
[]
[null,"Ambos Sexos","Hombres","Mujeres"]
["KINESIÓLOGO",{"$f":"SUM(C203+D203)","v":0}]
["TERAPEUTA OCUPACIONAL",0]
["FONOAUDIÓLOGO",0]
["PSICÓLOGO/A",0]
["ASISTENTE SOCIAL",0]
["ORTOPROTESISTA",0]
["TOTAL",{"$f":"SUM(B203:B208)","v":0},{"$f":"SUM(C203:C208)","v":0},0]
["SECCIÓN B.3: EVALUACIÓN INTERMEDIA"]
["PROFESIONAL","TOTAL      "]
["KINESIÓLOGO"]
["TERAPEUTA OCUPACIONAL"]
["FONOAUDIÓLOGO"]
["PSICÓLOGO/A"]
["ORTOPROTESISTA"]
["TOTAL",{"$f":"SUM(B212:B216)","v":0}]
["SECCIÓN B.4: SESIONES DE REHABILITACIÓN"]
["PROFESIONAL","TOTAL      "]
["KINESIÓLOGO"]
["TERAPEUTA OCUPACIONAL"]
["FONOAUDIÓLOGO"]
["PSICÓLOGO/A"]
["TOTAL",{"$f":"SUM(B220:B223)","v":0}]
["SECCIÓN B.5: DERIVACIONES Y CONTINUIDAD EN LOS CUIDADOS"]
["DERIVACIÓN","TOTAL      "]
["A OTRO HOSPITAL (hospitalizado)"]
["A NIVEL SECUNDARIO (ambulatorio)"]
["A NIVEL PRIMARIO"]
["SECCIÓN B.6: PROCEDIMIENTOS Y ACTIVIDADES"]
["TIPO","TOTAL"]
["EVALUACIÓN AYUDAS TÉCNICAS"]
["ENTRENAMIENTO DE AYUDAS TÉCNICAS"]
["FISIOTERAPIA"]
["TRATAMIENTO COMPRESIVO"]
["ENTRENAMIENTO PROTÉSICO"]
["EDUCACIÓN GRUPAL"]
["EDUCACIÓN FAMILIAR"]
["EJERCICIOS TERAPÉUTICOS"]
["TRATAMIENTO (VOZ, HABLA Y/O LENGUAJE)"]
["TRATAMIENTO FUNCIONES MOTORAS ORALES "]
["ESTIMULACIÓN COGNITIVA"]
["PREVENCIÓN DE DETERIORO DE ÓRGANOS FONO ARTICULATORIOS (OFA)"]
["REHABILITACIÓN  DEGLUCIÓN"]
["CONFECCIÓN ÓRTESIS Y/O ADAPTACIONES"]
["HABILITACIÓN Y REHABILITACIÓN EN ACTIVIDADES DE LA VIDA DIARIA (AVD)"]
["HABILITACIÓN Y REHABILITACIÓN EDUCACIONAL"]
["ACTIVIDADES RECREATIVAS"]
["ACTIVIDADES TERAPÉUTICAS"]
["INTEGRACIÓN SENSORIAL"]
["PSICOTERAPIA "]
["MASOTERAPIA"]
["ADAPTACIÓN DEL HOGAR"]
["ORIENTACIÓN Y MOVILIDAD"]
["ORIENTACIÓN SOCIOLABORAL"]
["ORIENTACIÓN FAMILIAR Y A LA RED DE APOYO PARA EL TRABAJO"]
["GESTIÓN DE LA RED LOCAL PARA EL TRABAJO"]
["TOMA DE MOLDE DE ÓRTESIS Y PRÓTESIS"]
["PRUEBA DE ÓRTESIS Y PRÓTESIS"]
["CONFECCIÓN DE ÓRTESIS Y PRÓTESIS"]
["REPARACIÓN DE ÓRTESIS Y PRÓTESIS"]
["REHABILITACIÓN AUDITIVA INDIVIDUAL"]
["REHABILITACIÓN AUDITIVA GRUPAL"]
["TERAPIA RESPIRATORIA Y FUNCIONAL PULMONAR"]
["EDUCACIÓN INDIVIDUAL"]
["TOTAL",{"$f":"SUM(B232:B263)","v":0}]
["SECCIÓN C: AYUDAS TÉCNICAS DE SALUD, NIVEL APS Y HOSPITALARIO"]
["SECCIÓN C.1: NÚMERO DE PERSONAS QUE RECIBEN AYUDAS TÉCNICAS"]
["AYUDAS TÉCNICAS","TOTAL","POR DE EDAD (en años)"]
[null,null,"< 12 meses","12 a 23 meses","2 - 4","5 - 9","10 - 14","15 - 19 ","20 - 24 ","25-29","30-34","35 - 39","40 - 44","45- 49","50 - 54","55 - 59","60 - 64","65 - 69","70 - 74","75 - 79","80 y mas"]
["Número de personas con Ayuda técnica entregada"]
["NÚMERO DE PERSONAS CON AYUDA TÉCNICA ENTREGADA",{"$f":"SUM(C272:U272)","v":0}]
["SECCIÓN C.2: NÚMERO DE  AYUDAS TÉCNICAS ENTREGADAS POR TIPO"]
["TOTAL DE AYUDAS TÉCNICAS ENTREGADAS","TOTAL ","POR DE EDAD (en años)"]
[null,{"$f":"SUM(B276:B297)","v":0},"< 12 meses","12 a 23 meses","2 - 4","5 - 9","10 - 14","15 - 19 ","20 - 24 ","25-29","30-34","35 - 39","40 - 44","45- 49","50 - 54","55 - 59","60 - 64","65 - 69","70 - 74","75 - 79","80 y mas"]
["SILLAS DE RUEDAS ESTÁNDAR",{"$f":"SUM(C276:U276)","v":0}]
["SILLA DE RUEDAS NEUROLÓGICA",0]
["COJÍN ANTI ESCARAS",0]
["COLCHÓN ANTI ESCARAS",0]
["BASTONES",0]
["ANDADORES",0]
["CORSÉ",0]
["ORTESIS BAJA TEMPERATURA (palmeta, cock up, digitales entre otras)",0]
["ORTESIS ALTA TEMPERATURA (OTP, canaletas, canaleta con yugo, entre otras)",0]
["SISTEMA COMPRESIVO",0]
["PRÓTESIS EXTREMIDAD INFERIOR",0]
["PRÓTESIS EXTREMIDAD SUPERIOR",0]
["AYUDA TÉCNICA AUDITIVAS AUDÍFONOS",0]
["AYUDA TÉCNICA VISUALES LENTES",0]
["PLANTILLA ORTOPÉDICA",0]
["BOTA O BOTÍN DE DESCARGA",0]
["ZAPATO ORTOPÉDICO",0]
["BAÑO PORTÁTIL",0]
["TECNOLOGÍAS DE LA COMUNICACIÓN AUMENTATIVA Y ALTERNATIVAS",0]
["EQUIPO VENTILADOR MECÁNICO NO INVASIVO",0]
["ASPIRADOR DE SECRECIONES",0]
["OTRAS",0]
["SECCIÓN C.3: AYUDAS TÉCNICAS POR CONDICIÓN DE SALUD"]
["TOTAL AYUDA TÉCNICA POR CONDICIÓN DE SALUD CONDICIÓN DE SALUD","TOTAL","POR DE EDAD (en años)"]
[null,{"$f":"SUM(B301:B323)","v":0},"< 12 meses","12 a 23 meses","2 - 4","5 - 9","10 - 14","15 - 19 ","20 - 24 ","25-29","30-34","35 - 39","40 - 44","45- 49","50 - 54","55 - 59","60 - 64","65 - 69","70 - 74","75 - 79","80 y mas"]
["NEUROLÓGICO  TRAUMATISMO ENCÉFALO CRANEANO ",{"$f":"SUM(C301:U301)","v":0}]
["NEUROLÓGICOS DISRAFIA",0]
["NEUROLÓGICO LESIÓN MEDULAR",0]
["NEUROLÓGICO ACCIDENTE CEREBRO VASCULAR HEMORRÁGICO",0]
["NEUROLÓGICO ACCIDENTE CEREBRO VASCULAR  ISQUÉMICO",{"$f":"SUM(C305:U305)","v":0}]
["NEUROLÓGICO TUMORES",0]
["NEUROLÓGICO PARÁLISIS CEREBRAL",0]
["NEUROLÓGICO PARKINSON",0]
["NEUROLÓGICO ESCLEROSIS LATERAL AMIOTRÓFICA",0]
["OTROS NEUROLÓGICOS ",0]
["ARTROSIS CADERA/RODILLA GES",0]
["ARTROSIS CADERA/RODILLA NO GES",0]
["OTRAS ARTROSIS  (hombro, columna)",0]
["DIABETES MELLITUS",0]
["AMPUTACIÓN POR DIABETES",0]
["AMPUTACIÓN POR OTRAS CAUSAS",0]
["ONCOLÓGICOS",0]
["CUIDADOS PALIATIVOS",0]
["QUEMADOS (NO GES)",0]
["GRAN QUEMADO (GES)",0]
["SENSORIAL AUDITIVO",0]
["SENSORIAL VISUAL",0]
["OTRAS CONDICIONES DE SALUD",0]
[]
[]
[]
[]
[]
[]
[]
[]
[]
[]
[]
[]
[]
[]
[]
[]
[]
[]
[]
[]
[]
[]
[]
[]
[]
[]
[]
[]
[]
[]
[]
[]
[]
[]
[]
[]
[]
[]
[]
[]
[]
[]
[]
[]
[]
[]
[]
[]
[]
[]
[]
[]
[]
[]
[]
[]
[]
[]
[]
[]
[]
[]
[]
[]
[]
[]
[]
[]
[]
[]
[]
[]
[]
[]
[]
[]
[{"$f":"SUM(B13:B26,D31:D56,B61:B65,B69:B72,B76:B79,B109:F109,B117:F117,B125:F125,C129:C130,D134:D135,B139:B141,C145:J160,B166:B198,B203:B208,B217,B224,B227:B229,B266,B272,B275,B300)","v":0},{"$f":"SUM(CG6:CT395)","v":0}]

{"sheet":"A29","index":20,"n_rows":228,"n_cols":82,"rows_kept":228,"cut":false,"hidden":false,"merged":[[89,3,90,4],[89,5,90,6],[92,0,92,1],[77,1,77,2],[73,1,73,2],[84,1,84,2],[85,1,85,2],[86,1,86,2],[87,1,87,2],[93,0,93,1],[89,0,91,1],[89,2,91,2],[74,1,74,2],[75,1,75,2],[83,0,87,0],[83,1,83,2],[60,0,61,0],[60,1,61,2],[57,0,58,0],[60,3,61,3],[62,0,82,0],[79,1,79,2],[80,1,80,2],[81,1,81,2],[66,1,66,2],[68,1,68,2],[67,1,67,2],[69,1,69,2],[82,1,82,2],[62,1,62,2],[70,1,70,2],[71,1,71,2],[72,1,72,2],[63,1,63,2],[64,1,64,2],[65,1,65,2],[78,1,78,2],[76,1,76,2],[10,0,10,1],[11,0,11,1],[27,12,27,14],[29,0,36,0],[40,0,42,0],[37,0,39,0],[27,0,28,1],[27,3,27,11],[27,2,28,2],[5,0,5,19],[8,0,9,1],[8,2,8,4],[8,5,8,6],[8,7,8,8],[8,9,8,10],[8,11,8,12],[8,13,8,14],[8,15,8,16],[49,0,52,0],[53,0,56,0],[12,0,12,1],[13,0,13,1],[14,0,14,1],[43,0,48,0],[20,0,20,1],[23,0,23,1],[24,0,24,1],[25,0,25,1]]}
["SERVICIO DE SALUD"]
[{"$f":"CONCATENATE(\"COMUNA: \",NOMBRE!B2,\" - \",\"( \",NOMBRE!C2,NOMBRE!D2,NOMBRE!E2,NOMBRE!F2,NOMBRE!G2,\" )\")","v":"COMUNA:  - (  )"}]
[{"$f":"CONCATENATE(\"ESTABLECIMIENTO/ESTRATEGIA: \",NOMBRE!B3,\" - \",\"( \",NOMBRE!C3,NOMBRE!D3,NOMBRE!E3,NOMBRE!F3,NOMBRE!G3,NOMBRE!H3,\" )\")","v":"ESTABLECIMIENTO/ESTRATEGIA:  - (  )"}]
[{"$f":"CONCATENATE(\"MES: \",NOMBRE!B6,\" - \",\"( \",NOMBRE!C6,NOMBRE!D6,\" )\")","v":"MES:  - (  )"}]
[{"$f":"CONCATENATE(\"AÑO: \",NOMBRE!B7)","v":"AÑO: 2020"}]
["REM-29.  PROGRAMA DE IMÁGENES DIAGNÓSTICAS Y/O RESOLUTIVIDAD EN ATENCIÓN PRIMARIA"]
[]
["SECCIÓN A: PROGRAMA DE RESOLUTIVIDAD ATENCIÓN PRIMARIA DE SALUD"]
["CONSULTAS",null,"TOTAL",null,null,"<15",null,"15 - 19",null,"20 - 64",null,"65 Y MÁS",null,"TOTAL INTERCONSULTAS GENERADAS EN APS PARA RESOLUCIÓN POR ESPECIALIDAD OFTALMOLOGÍA (UAPO Y CANASTA INTEGRAL)",null,"TOTAL INTERCONSULTAS GENERADAS EN APS PARA RESOLUCIÓN POR ESPECIALIDAD OTORRINOLARINGOLOGÍA (UAPORRINO Y CANASTA INTEGRAL)"]
[null,null,"Ambos Sexos","Hombres","Mujeres","Hombres","Mujeres","Hombres","Mujeres","Hombres","Mujeres","Hombres","Mujeres","Menos 15 años","15 y más años","Menos 15 años","15 y más años"]
["CONSULTAS MÉDICAS DE ESPECIALIDADES"]
["OFTALMOLOGÍA /UAPO",null,{"$f":"SUM(D12+E12)","v":0},{"$f":"SUM(F12+H12+J12+L12)","v":0},{"$f":"SUM(G12+I12+K12+M12)","v":0}]
["OTORRINOLARINGOLOGÍA/UAPORRINO",null,{"$f":"SUM(D13+E13)","v":0},{"$f":"SUM(F13+H13+J13+L13)","v":0},{"$f":"SUM(G13+I13+K13+M13)","v":0}]
["CONSULTAS OTROS PROFESIONALES"]
["TECNÓLOGO MÉDICO POR VICIO DE REFRACCIÓN ",null,{"$f":"SUM(D15+E15)","v":0},{"$f":"SUM(F15+H15+J15+L15)","v":0},0]
["TECNÓLOGO MÉDICO (OFTALMOLOGÍA) OTRAS CONSULTAS ",null,0,0,0]
["TECNÓLOGO MÉDICO O FONOAUDIÓLOGO POR HIPOACUSIA (UAPORRINO)",null,0,0,0]
["TECNÓLOGO MÉDICO O FONOAUDIÓLOGO CONSULTAS (UAPORRINO)",null,0,0,0]
["CONSULTA DE CALIFICACIÓN DE URGENCIA POR TECNÓLOGO MÉDICO (UAPO)",null,0,0,0]
["TERAPEUTA OCUPACIONAL ",null,0,0,0]
["INGRESOS Y EGRESOS GLAUCOMA UAPO"]
["INGRESOS GLAUCOMA UAPO",null,{"$f":"SUM(D22+E22)","v":0},{"$f":"SUM(F22+H22+J22+L22)","v":0},{"$f":"SUM(G22+I22+K22+M22)","v":0}]
["EGRESOS GLAUCOMA UAPO",null,{"$f":"SUM(D23+E23)","v":0},{"$f":"SUM(F23+H23+J23+L23)","v":0},{"$f":"SUM(G23+I23+K23+M23)","v":0}]
["GLAUCOMA (por médico)"]
["CONTROLES DE GLAUCOMA UAPO",null,{"$f":"SUM(D25+E25)","v":0},{"$f":"SUM(F25+H25+J25+L25)","v":0},{"$f":"SUM(G25+I25+K25+M25)","v":0}]
["CONSULTA DESCARTE GLAUCOMA",null,{"$f":"SUM(D26+E26)","v":0},{"$f":"SUM(F26+H26+J26+L26)","v":0},{"$f":"SUM(G26+I26+K26+M26)","v":0}]
["SECCIÓN B: PROCEDIMIENTOS DE IMÁGENES DIAGNOSTICAS Y PROGRAMA DE RESOLUTIVIDAD EN APS  "]
["TIPO DE EXAMEN Y PROCEDIMIENTO DIAGNOSTICO",null,"TOTAL","POR EDAD (EN AÑOS)",null,null,null,null,null,null,null,null,"MODALIDAD"]
[null,null,null,"< 35","35 A 49","50 a 54","55 a 59","60 a 64","65 a 69","70 a 74","75 a 79","80 y más","INSTITUCIONAL","COMPRA AL SISTEMA","COMPRA EXTRASISTEMA"]
["MAMOGRAFÍA","SOLICITADAS",{"$f":"SUM(D30:L30)","v":0}]
[null,"INFORMADAS",0,{"$f":"SUM(D32:D36)","v":0},0,0,0,0,0,0,0,0,null,null,null,{"$f":"CA31","v":""},null,null,null,null,null,null,null,null,null,null,null,null,null,null,null,null,null,null,null,null,null,null,null,null,null,null,null,null,null,null,null,null,null,null,null,null,null,null,null,null,null,null,null,null,null,null,null,null,null,null,null,null,null,null,null,null,null,null,null,null,null,null,{"$f":"IF(CD31=1,\"* La Suma de Institucional, Compra al Sistema y Compra Extrasistema NO DEBE ser mayor al Total. \",\"\")","v":""},null,null,{"$f":"IF(C31<SUM(M31:O31),1,0)","v":0}]
[null,"CON BIRADS 0",0]
[null,"CON BIRADS 1 o 2",0]
[null,"CON BIRADS  3",0]
[null,"CON BIRADS  4, 5 o 6",0]
[null,"SIN INFORME BIRADS",0]
[null,"MAGNIFICACIONES",0]
["ECOTOMOGRAFÍA MAMARIA","SOLICITADAS",0]
[null,"INFORMADAS",0,null,null,null,null,null,null,null,null,null,null,null,null,{"$f":"CA39","v":""},null,null,null,null,null,null,null,null,null,null,null,null,null,null,null,null,null,null,null,null,null,null,null,null,null,null,null,null,null,null,null,null,null,null,null,null,null,null,null,null,null,null,null,null,null,null,null,null,null,null,null,null,null,null,null,null,null,null,null,null,null,null,{"$f":"IF(CD39=1,\"* La Suma de Institucional, Compra al Sistema y Compra Extrasistema NO DEBE ser mayor al Total. \",\"\")","v":""},null,null,{"$f":"IF(C39<SUM(M39:O39),1,0)","v":0}]
[null,"CON INFORME DE SOSPECHA DE MALIGNIDAD",0]
["ECOTOMOGRAFÍA ABDOMINAL","SOLICITADAS",0]
[null,"INFORMADAS",0,null,null,null,null,null,null,null,null,null,null,null,null,{"$f":"CA42","v":""},null,null,null,null,null,null,null,null,null,null,null,null,null,null,null,null,null,null,null,null,null,null,null,null,null,null,null,null,null,null,null,null,null,null,null,null,null,null,null,null,null,null,null,null,null,null,null,null,null,null,null,null,null,null,null,null,null,null,null,null,null,null,{"$f":"IF(CD42=1,\"* La Suma de Institucional, Compra al Sistema y Compra Extrasistema NO DEBE ser mayor al Total. \",\"\")","v":""},null,null,{"$f":"IF(C42<SUM(M42:O42),1,0)","v":0}]
[null,"CON RESULTADO LITIASIS BILIAR",0]
["ENDOSCOPIA DIGESTIVA ALTA","SOLICITADAS",0]
[null,"INFORMADAS",0,null,null,null,null,null,null,null,null,null,null,null,null,{"$f":"CA45","v":""},null,null,null,null,null,null,null,null,null,null,null,null,null,null,null,null,null,null,null,null,null,null,null,null,null,null,null,null,null,null,null,null,null,null,null,null,null,null,null,null,null,null,null,null,null,null,null,null,null,null,null,null,null,null,null,null,null,null,null,null,null,null,{"$f":"IF(CD45=1,\"* La Suma de Institucional, Compra al Sistema y Compra Extrasistema NO DEBE ser mayor al Total. \",\"\")","v":""},null,null,{"$f":"IF(C45<SUM(M45:O45),1,0)","v":0}]
[null,"TOMA DE BIOPSIA",0]
[null,"CON INFORME DE SOSPECHA DE MALIGNIDAD",0]
[null,"TEST DE UREASA SOLICITADAS",0]
[null,"TEST DE UREASA POSITIVAS (+) H PYLORI",0]
["CIRUGÍA MENOR","SOLICITADAS",0]
[null,"REALIZADAS",0,null,null,null,null,null,null,null,null,null,null,null,null,{"$f":"CA51","v":""},null,null,null,null,null,null,null,null,null,null,null,null,null,null,null,null,null,null,null,null,null,null,null,null,null,null,null,null,null,null,null,null,null,null,null,null,null,null,null,null,null,null,null,null,null,null,null,null,null,null,null,null,null,null,null,null,null,null,null,null,null,null,{"$f":"IF(CD51=1,\"* La Suma de Institucional, Compra al Sistema y Compra Extrasistema NO DEBE ser mayor al Total. \",\"\")","v":""},null,null,{"$f":"IF(C51<SUM(M51:O51),1,0)","v":0}]
[null,"BIOPSIAS DE CIRUGÍA MENOR ENVIADAS A ANATOMÍA PATOLÓGICA",0]
[null,"N° BIOPSIAS DE CIRUGÍA MENOR CON INFORME DE SOSPECHA DE MALIGNIDAD",0]
["RADIOGRAFÍA TÓRAX POR SOSPECHA NEUMONÍA Y SOSPECHA DE OTRA PATOLOGÍA RESPIRATORIA CRÓNICA","SOLICITADAS"]
[null,"REALIZADAS",{"$f":"SUM(D55:L55)","v":0},{"$f":"SUM(D56:D57)","v":0},0,0,0,0,0,0,0,0,null,null,null,{"$f":"CA55","v":""},null,null,null,null,null,null,null,null,null,null,null,null,null,null,null,null,null,null,null,null,null,null,null,null,null,null,null,null,null,null,null,null,null,null,null,null,null,null,null,null,null,null,null,null,null,null,null,null,null,null,null,null,null,null,null,null,null,null,null,null,null,null,{"$f":"IF(CD55=1,\"* La Suma de Institucional, Compra al Sistema y Compra Extrasistema NO DEBE ser mayor al Total. \",\"\")","v":""},null,null,{"$f":"IF(C55<SUM(M55:O55),1,0)","v":0}]
[null,"ANTERO POSTERIOR (FRONTAL)",{"$f":"SUM(D56:L56)","v":0}]
[null,"ANTERO POSTERIOR  Y LATERAL",{"$f":"SUM(D57:L57)","v":0}]
["RADIOGRAFÍA DE CADERAS 3-6 MESES (SCREENING) ","SOLICITADAS"]
[null,"INFORMADAS",null,null,null,null,null,null,null,null,null,null,null,null,null,{"$f":"CA59","v":""},null,null,null,null,null,null,null,null,null,null,null,null,null,null,null,null,null,null,null,null,null,null,null,null,null,null,null,null,null,null,null,null,null,null,null,null,null,null,null,null,null,null,null,null,null,null,null,null,null,null,null,null,null,null,null,null,null,null,null,null,null,null,{"$f":"IF(CD59=1,\"* La Suma de Institucional, Compra al Sistema y Compra Extrasistema NO DEBE ser mayor al Total. \",\"\")","v":""},null,null,{"$f":"IF(C59<SUM(M59:O59),1,0)","v":0}]
["SECCIÓN C: PROCEDIMIENTOS APOYO CLÍNICO Y TERAPÉUTICO"]
["ESPECIALIDAD","PROCEDIMIENTOS",null,"TOTAL"]
[]
["OFTALMOLOGÍA","CUANTIFICACIÓN DE LAGRIMACIÓN (TEST DE SCHIMER), UNO O AMBOS OJOS"]
[null,"CURVA DE TENSIÓN APLANÁTICA (POR CADA DÍA), C/OJO"]
[null,"DISPLOSCOPIA CUANTITATIVA, AMBOS OJOS"]
[null,"EXPLORACIÓN SENSORIOMOTORA: ESTRABISMO, ESTUDIO COMPLETO, AMBOS OJOS"]
[null,"RETINOGRAFÍA, AMBOS OJOS"]
[null,"TONOMETRÍA APLANÁTICA C/OJO"]
[null,"TRATAMIENTO ORTÓPTICO Y/O PLEÓPTICO (POR SESIÓN), AMBOS OJOS"]
[null,"EXPLORACIÓN VITREORRETINAL, AMBOS OJOS (FONDO DE OJO)"]
[null,"CUERPO EXTRAÑO CONJUNTIVAL Y/O CORNEAL"]
[null,"CAMPIMETRÍA COMPUTARIZADA, C/OJO (EN UAPO)"]
[null,"TOMOGRAFIA COHERENTE ÓPTICA, C/OJO"]
[null,"AGUDEZA VISUAL AISLADA CADA OJO"]
[null,"TOMOGRAFÍA COHERENTE ÓPTICA"]
[null,"TAQUIMETRÍA"]
[null,"AUTOREFRACTOMIA"]
[null,"LENSOMETRIA"]
[null,"EXTRACCIÓN CUERPO EXTRAÑO OJO (CONJUNTIVAL Y/O CORNEAL)"]
[null,"HEMOGLUCOTEST PREVIO A CONSULTA VICIO DE REFRACCIÓN EN PACIENTE DIABÉTICO"]
[null,"AUTORREFRACCIÓN BAJO CICLOPLEJIA"]
[null,"IRRIGACIÓN DE LA VÍA LAGRIMAL"]
[null,"PRUEBA DE PROVOCACIÓN OSCURIDAD MÁS PRONACIÓN"]
["OTORRINOLARINGOLOGÍA ","AUDIMETRÍAS (REALIZADAS)"]
[null,"IMPEDANCIOMETRÍA"]
[null,"EMISIONES OTOACUSTICAS"]
[null,"CALIBRACION AUDÍFONOS"]
[null,"EXAMEN FUNCIONAL VIII PAR"]
["SECCIÓN D: ENTREGA DE AYUDAS TÉCNICAS"]
["CONCEPTO",null,"Ambos Sexos","< 65 Años",null,"De 65 años y más"]
[]
[null,null,null,"Hombres","Mujeres","Hombres","Mujeres"]
["LENTES (Entregados)",null,{"$f":"+D93+E93+F93+G93","v":0}]
["AUDÍFONOS (Entregados)",null,{"$f":"+D94+E94+F94+G94","v":0}]
[]
[]
[]
[]
[]
[]
[]
[]
[]
[]
[]
[]
[]
[]
[]
[]
[]
[]
[]
[]
[]
[]
[]
[]
[]
[]
[]
[]
[]
[]
[]
[]
[]
[]
[]
[]
[]
[]
[]
[]
[]
[]
[]
[]
[]
[]
[]
[]
[]
[]
[]
[]
[]
[]
[]
[]
[]
[]
[]
[]
[]
[]
[]
[]
[]
[]
[]
[]
[]
[]
[]
[]
[]
[]
[]
[]
[]
[]
[]
[]
[]
[]
[]
[]
[]
[]
[]
[]
[]
[]
[]
[]
[]
[]
[]
[]
[]
[]
[]
[]
[]
[]
[]
[]
[]
[]
[]
[]
[]
[]
[]
[]
[]
[]
[]
[]
[]
[]
[]
[]
[]
[]
[]
[]
[]
[]
[]
[]
[]
[]
[]
[]
[]
[{"$f":"SUM(C12:C13,C15:C18,C22:C23,C25,C30:C59,D63:D88)","v":0},{"$f":"SUM(CD30:CE59)","v":0}]

{"sheet":"A30 ","index":21,"n_rows":181,"n_cols":27,"rows_kept":181,"cut":false,"hidden":false,"merged":[[14,23,14,24],[14,25,14,26],[13,0,15,0],[14,18,14,19],[13,16,13,19],[14,16,14,17],[13,23,13,26],[14,1,14,2],[14,3,14,4],[14,5,14,6],[14,7,14,8],[14,9,14,10],[14,11,14,12],[14,13,15,13],[14,14,14,15],[13,1,13,4],[13,5,13,8],[13,9,13,12],[13,13,13,15],[13,20,13,22],[14,20,15,20],[14,21,14,22],[78,0,80,0],[78,1,78,4],[78,5,78,7],[78,8,78,11],[79,1,79,2],[79,3,79,4],[79,6,79,7],[79,8,79,9],[79,10,79,11],[85,0,88,0],[85,1,85,7],[85,8,85,14],[86,1,86,2],[86,3,86,4],[86,5,86,7],[86,8,86,9],[86,10,86,11],[86,12,86,14],[87,1,88,1],[87,2,88,2],[87,3,88,3],[87,4,88,4],[87,5,88,5],[87,6,87,7],[87,8,88,8],[104,0,106,0],[104,1,104,4],[104,5,104,8],[104,9,104,12],[104,13,104,15],[87,9,88,9],[87,10,88,10],[87,11,88,11],[87,12,88,12],[87,13,87,14],[104,16,104,19],[105,1,105,2],[105,3,105,4],[105,5,105,6],[105,7,105,8],[105,9,105,10],[105,11,105,12],[105,14,105,15],[105,16,105,17],[105,18,105,19],[122,8,122,9],[122,10,122,11],[130,0,132,0],[130,1,130,3],[131,2,131,3],[120,0,123,0],[120,1,120,7],[120,8,121,11],[121,1,121,2],[121,3,121,4],[121,5,121,7],[122,1,123,1],[122,2,123,2],[122,3,123,3],[122,4,123,4],[122,6,122,7]]}
["SERVICIO DE SALUD"]
[{"$f":"CONCATENATE(\"COMUNA: \",NOMBRE!B2,\" - \",\"( \",NOMBRE!C2,NOMBRE!D2,NOMBRE!E2,NOMBRE!F2,NOMBRE!G2,\" )\")","v":"COMUNA:  - (  )"}]
[{"$f":"CONCATENATE(\"ESTABLECIMIENTO/ESTRATEGIA: \",NOMBRE!B3,\" - \",\"( \",NOMBRE!C3,NOMBRE!D3,NOMBRE!E3,NOMBRE!F3,NOMBRE!G3,NOMBRE!H3,\" )\")","v":"ESTABLECIMIENTO/ESTRATEGIA:  - (  )"}]
[{"$f":"CONCATENATE(\"MES: \",NOMBRE!B6,\" - \",\"( \",NOMBRE!C6,NOMBRE!D6,\" )\")","v":"MES:  - (  )"}]
[{"$f":"CONCATENATE(\"AÑO: \",NOMBRE!B7)","v":"AÑO: 2020"}]
[null,null,null,null,"REM-30: ATENCIONES POR TELEMEDICINA EN LA RED ASISTENCIAL"]
[]
[]
[]
["SECCIÓN A: TELECONSULTA MEDICA DE ESPECIALIDAD "]
[]
[]
[]
["ESPECIALIDADES  ","TELECONSULTA  MEDICA DE ESPECIALIDAD AMBULATORIA  NUEVA",null,null,null,"TELECONSULTA MEDICA  DE ESPECIALIDAD AMBULATORIA  CONTROL ",null,null,null,"TOTAL TELECONSULTAS  MEDICAS AMBULATORIAS DE ESPECIALIDAD REALIZADAS  POR TELEMEDICINA",null,null,null,"MODALIDAD",null,null,"TELECONSULTA MEDICA DE ESPECIALIDAD REALIZADAS   A PACIENTES HOSPITALIZADOS ",null,null,null,"MODALIDAD",null,null,"CONSULTAS POR TELEMEDICINA SOLICITADAS DESDE APS O NIVEL SECUNDARIO RESUELTAS POR OTRO ESTABLECIMIENTO "]
[null,"MENORES DE 15 AÑOS ",null,"15 AÑOS Y MÁS",null,"MENORES DE 15 AÑOS ",null,"15 AÑOS Y MÁS",null,"MENORES DE 15 AÑOS ",null,"15 AÑOS Y MÁS",null,"Institucional","Compra de Servicio",null,"MENORES DE 15 AÑOS ",null,"15 AÑOS Y MÁS",null,"Institucional","Compra de Servicio",null,"MENORES DE 15 AÑOS ",null,"15 AÑOS Y MÁS"]
[null,"Hombres","Mujeres","Hombres","Mujeres","Hombres","Mujeres","Hombres","Mujeres","Hombres","Mujeres","Hombres","Mujeres",null,"Sistema","Extrasistema","Hombres","Mujeres","Hombres","Mujeres",null,"Sistema","Extrasistema","Hombres","Mujeres","Hombres","Mujeres"]
["TOTAL",{"$f":"SUM(B18:B77)","v":0},0,0,0,0,0,0,0,0,0,0,0,0,0,0,0,0,0,0,0,0,0,0,0,0,0]
["PEDIATRÍA",null,null,null,null,null,null,null,null,{"$f":"SUM(B18+F18)","v":0},{"$f":"SUM(C18+G18)","v":0},{"$f":"SUM(D18+H18)","v":0},{"$f":"SUM(E18+I18)","v":0}]
["MEDICINA INTERNA",null,null,null,null,null,null,null,null,0,0,0,0]
["NEONATOLOGÍA",null,null,null,null,null,null,null,null,0,0,0,0]
["ENFERMEDAD RESPIRATORIA PEDIÁTRICA (BRONCOPULMONAR INFANTIL)",null,null,null,null,null,null,null,null,0,0,0,0]
["ENFERMEDAD RESPIRATORIA DE ADULTO (BRONCOPULMONAR)",null,null,null,null,null,null,null,null,0,0,0,0]
["CARDIOLOGÍA PEDIÁTRICA",null,null,null,null,null,null,null,null,0,0,0,0]
["CARDIOLOGÍA ADULTO",null,null,null,null,null,null,null,null,0,0,0,0]
["ENDOCRINOLOGÍA PEDIÁTRICA",null,null,null,null,null,null,null,null,0,0,0,0]
["ENDOCRINOLOGÍA ADULTO",null,null,null,null,null,null,null,null,0,0,0,0]
["GASTROENTEROLOGÍA PEDIÁTRICA",null,null,null,null,null,null,null,null,0,0,0,0]
["GASTROENTEROLOGÍA ADULTO",null,null,null,null,null,null,null,null,0,0,0,0]
["GENÉTICA CLÍNICA",null,null,null,null,null,null,null,null,0,0,0,0]
["HEMATO-ONCOLOGÍA INFANTIL",null,null,null,null,null,null,null,null,0,0,0,0]
["HEMATOLOGÍA ADULTO",null,null,null,null,null,null,null,null,0,0,0,0]
["NEFROLOGÍA PEDIÁTRICA",null,null,null,null,null,null,null,null,0,0,0,0]
["NEFROLOGÍA ADULTO",null,null,null,null,null,null,null,null,0,0,0,0]
["NUTRIÓLOGO PEDIÁTRICO",null,null,null,null,null,null,null,null,0,0,0,0]
["NUTRIÓLOGO ADULTO",null,null,null,null,null,null,null,null,0,0,0,0]
["REUMATOLOGÍA PEDIÁTRICA",null,null,null,null,null,null,null,null,0,0,0,0]
["REUMATOLOGÍA ADULTO",null,null,null,null,null,null,null,null,0,0,0,0]
["DERMATOLOGÍA",null,null,null,null,null,null,null,null,0,0,0,0]
["INFECTOLOGÍA PEDIÁTRICA",null,null,null,null,null,null,null,null,0,0,0,0]
["INFECTOLOGÍA ADULTO",null,null,null,null,null,null,null,null,0,0,0,0]
["INMUNOLOGÍA",null,null,null,null,null,null,null,null,0,0,0,0]
["GERIATRÍA",null,null,null,null,null,null,null,null,0,0,0,0]
["MEDICINA FÍSICA Y REHABILITACIÓN PEDIÁTRICA (FISIATRÍA PEDIÁTRICA)",null,null,null,null,null,null,null,null,0,0,0,0]
["MEDICINA FÍSICA Y REHABILITACIÓN ADULTO (FISIATRÍA ADULTO)",null,null,null,null,null,null,null,null,0,0,0,0]
["NEUROLOGÍA PEDIÁTRICA",null,null,null,null,null,null,null,null,0,0,0,0]
["NEUROLOGÍA ADULTO",null,null,null,null,null,null,null,null,0,0,0,0]
["ONCOLOGÍA MÉDICA",null,null,null,null,null,null,null,null,0,0,0,0]
["PSIQUIATRÍA PEDIÁTRICA Y DE LA ADOLESCENCIA",null,null,null,null,null,null,null,null,0,0,0,0]
["PSIQUIATRÍA ADULTO",null,null,null,null,null,null,null,null,0,0,0,0]
["CIRUGÍA PEDIÁTRICA",null,null,null,null,null,null,null,null,{"$f":"SUM(B50+F50)","v":0},{"$f":"SUM(C50+G50)","v":0},{"$f":"SUM(D50+H50)","v":0},{"$f":"SUM(E50+I50)","v":0}]
["CIRUGÍA GENERAL ADULTO",null,null,null,null,null,null,null,null,0,0,0,0]
["CIRUGÍA DIGESTIVA (ALTA)",null,null,null,null,null,null,null,null,0,0,0,0]
["CIRUGÍA DE CABEZA, CUELLO Y MAXILOFACIAL",null,null,null,null,null,null,null,null,0,0,0,0]
["CIRUGÍA PLÁSTICA Y REPARADORA PEDIÁTRICA",null,null,null,null,null,null,null,null,0,0,0,0]
["CIRUGÍA PLÁSTICA Y REPARADORA ADULTO",null,null,null,null,null,null,null,null,0,0,0,0]
["COLOPROCTOLOGÍA (CIRUGIA DIGESTIVA BAJA)",null,null,null,null,null,null,null,null,0,0,0,0]
["CIRUGÍA TÓRAX",null,null,null,null,null,null,null,null,0,0,0,0]
["CIRUGÍA VASCULAR PERIFÉRICA",null,null,null,null,null,null,null,null,0,0,0,0]
["NEUROCIRUGÍA",null,null,null,null,null,null,null,null,0,0,0,0]
["CIRUGÍA CARDIOVASCULAR",null,null,null,null,null,null,null,null,0,0,0,0]
["ANESTESIOLOGÍA",null,null,null,null,null,null,null,null,0,0,0,0]
["OBSTETRICIA",null,null,null,null,null,null,null,null,0,0,0,0]
["GINECOLOGÍA PEDIÁTRICA Y DE LA ADOLESCENCIA",null,null,null,null,null,null,null,null,0,0,0,0]
["GINECOLOGÍA ADULTO",null,null,null,null,null,null,null,null,0,0,0,0]
["OFTALMOLOGÍA",null,null,null,null,null,null,null,null,0,0,0,0]
["OTORRINOLARINGOLOGÍA",null,null,null,null,null,null,null,null,0,0,0,0]
["TRAUMATOLOGÍA Y ORTOPEDIA PEDIÁTRICA",null,null,null,null,null,null,null,null,0,0,0,0]
["TRAUMATOLOGÍA Y ORTOPEDIA ADULTO",null,null,null,null,null,null,null,null,0,0,0,0]
["UROLOGÍA PEDIÁTRICA",null,null,null,null,null,null,null,null,0,0,0,0]
["UROLOGÍA ADULTO",null,null,null,null,null,null,null,null,0,0,0,0]
["MEDICINA FAMILIAR DEL NIÑO",null,null,null,null,null,null,null,null,0,0,0,0]
["MEDICINA FAMILIAR",null,null,null,null,null,null,null,null,0,0,0,0]
["MEDICINA FAMILIAR ADULTO",null,null,null,null,null,null,null,null,0,0,0,0]
["DIABETOLOGÍA",null,null,null,null,null,null,null,null,0,0,0,0]
["MEDICINA INTENSIVA",null,null,null,null,null,null,null,null,0,0,0,0]
["IMAGENOLOGÍA",null,null,null,null,null,null,null,null,0,0,0,0]
["RADIOTERAPIA ONCOLÓGICA",null,null,null,null,null,null,null,null,0,0,0,0]
["SECCIÓN B : TELECONSULTA MÉDICA EN ESTABLECIMIENTOS DE ATENCIÓN SECUNDARIA DE URGENCIA "]
["TIPO DE CONSULTA URGENCIA"," TELECONSULTA MEDICA DE URGENCIA DE UEH DE HOSPITALES DE ALTA Y MEDIANA COMPLEJIDAD",null,null,null,"MODALIDAD",null,null,"CONSULTAS POR TELEMEDICINA SOLICITADAS DESDE APS O NIVEL SECUNDARIO RESUELTAS POR OTRO ESTABLECIMIENTO "]
[null,"MENORES DE 15 AÑOS ",null,"15 AÑOS Y MÁS",null,"Institucional ","Compra de Servicio",null,"MENORES DE 15 AÑOS ",null,"15 AÑOS Y MÁS"]
[null,"Hombres ","Mujeres","Hombres","Mujeres","Establecimiento de la Red","Sistema","Extrasistema","Hombres","Mujeres","Hombres","Mujeres"]
["CONSULTA URGENCIA OTROS"]
["ACCIDENTE CEREBRO VASCULAR (ACV)"]
["QUEMADOS"]
["SECCIÓN C : TELEINFORMES  EN ESTABLECIMIENTOS DE ATENCIÓN PRIMARIA, SECUNDARIA Y TERCIARIA"]
["INFORMES REALIZADOS POR TELEMEDICINA ","ESTABLECIMIENTOS DE NIVEL PRIMARIO DE SALUD",null,null,null,null,null,null,"ESTABLECIMIENTOS DE NIVEL SECUNDARIO Y TERCIARIO"]
[null,"MENORES DE 15 AÑOS ",null,"15 AÑOS Y MÁS",null,"MODALIDAD",null,null,"MENORES DE 15 AÑOS ",null,"15 AÑOS Y MÁS",null,"MODALIDAD"]
[null,"Hombres","Mujeres","Hombres","Mujeres","Institucional","Compra de Servicio",null,"Hombres","Mujeres","Hombres","Mujeres","Institucional","Compra de Servicio"]
[null,null,null,null,null,null,"Sistema","Extrasistema",null,null,null,null,null,"Sistema","Extrasistema"]
["TOTAL EMISIONES DE INFORMES",{"$f":"SUM(B91:B103)","v":0},0,0,0,0,0,0,0,0,0,0,0,0,0]
["N° DE INFORMES ECOGRAFÍAS OBSTETRICA"]
["N° DE INFORMES ELECTROCARDIOGRAMA"]
["N° DE INFORMES ELECTROENCEFALOGRAMA"]
["N° DE INFORMES ESPIROMETRÍAS"]
["N° DE INFORMES FONDO DE OJO"]
["N° DE INFORMES HOLTER DE PRESIÓN ARTERIAL"]
["N° DE INFORMES TEST DE ESFUERZO"]
["N° DE INFORMES RADIOGRAFÍAS SIMPLES"]
["N° DE INFORMES RADIOGRAFÍAS DENTALES"]
["N° DE INFORMES DE TOMOGRAFÍA AXIAL COMPUTARIZADA"]
["N° DE INFORMES DE RESONANCIA MAGNÉTICA NUCLEAR"]
["N° DE INFORMES ECOGRAFÍAS ABDOMINAL"]
["N° DE MAMOGRAFÍAS"]
["SECCIÓN D: TELECONSULTA AMBULATORIA EN ESPECIALIDAD ODONTOLÓGICA"]
["ESPECIALIDADES ODONTOLÓGICAS","TELECONSULTA  MEDICA DE ESPECIALIDAD AMBULATORIA  NUEVA",null,null,null,"TELECONSULTA MEDICA  DE ESPECIALIDAD AMBULATORIA  CONTROL ",null,null,null,"TOTAL TELECONSULTAS  MEDICAS AMBULATORIAS DE ESPECIALIDAD REALIZADAS  POR TELEMEDICINA",null,null,null,"MODALIDAD",null,null,"CONSULTAS POR TELEMEDICINA SOLICITADAS DESDE APS O NIVEL SECUNDARIO RESUELTAS POR OTRO ESTABLECIMIENTO "]
[null,"MENORES DE 15 AÑOS ",null,"15 AÑOS Y MÁS",null,"MENORES DE 15 AÑOS ",null,"15 AÑOS Y MÁS",null,"MENORES DE 15 AÑOS ",null,"15 AÑOS Y MÁS",null,"Institucional","Compra de Servicio",null,"MENORES DE 15 AÑOS ",null,"15 AÑOS Y MÁS"]
[null,"Hombres","Mujeres","Hombres","Mujeres","Hombres","Mujeres","Hombres","Mujeres","Hombres","Mujeres","Hombres","Mujeres","Establecimiento de la Red","Sistema","Extrasistema","Hombres","Mujeres","Hombres","Mujeres"]
["TOTAL",{"$f":"SUM(B109:B119)","v":0},0,0,0,0,0,0,0,0,0,0,0,0,0,0,0,0,0,0]
["CIRUGÍA BUCAL",null,null,null,null,null,null,null,null,{"$f":"SUM(B109+F109)","v":0},{"$f":"SUM(C109+G109)","v":0},{"$f":"SUM(D109+H109)","v":0},{"$f":"SUM(E109+I109)","v":0}]
["CIRUGÍA Y TRAUMATOLOGÍA MAXILOFACIAL",null,null,null,null,null,null,null,null,{"$f":"SUM(B110+F110)","v":0},0,{"$f":"SUM(D110+H110)","v":0},0]
["ENDODONCIA",null,null,null,null,null,null,null,null,0,0,0,0]
["ODONTOPEDIATRÍA",null,null,null,null,null,null,null,null,0,0,0,0]
["ORTODONCIA Y ORTOPEDIA DENTO MAXILOFACIAL",null,null,null,null,null,null,null,null,0,0,0,0]
["PERIODONCIA",null,null,null,null,null,null,null,null,0,0,0,0]
["REHABILITACIÓN: PRÓTESIS FIJA",null,null,null,null,null,null,null,null,0,0,0,0]
["REHABILITACIÓN: PRÓTESIS REMOVIBLE",null,null,null,null,null,null,null,null,0,0,0,0]
["IMPLANTOLOGÍA BUCO MAXILOFACIAL",null,null,null,null,null,null,null,null,0,0,0,0]
["PATOLOGÍA ORAL",null,null,null,null,null,null,null,null,0,0,0,0]
["TRASTORNOS TEMPOROMANDIBULARES Y DOLOR OROFACIAL",null,null,null,null,null,null,null,null,0,0,0,0]
["SECCIÓN E: TELEPROCEDIMIENTOS EN ATENCIÓN SECUNDARIA Y TERCIARIA"]
["TELEPROCEDIMIENTOS","ESTABLECIMIENTOS DE NIVEL SECUNDARIO Y TERCIARIO",null,null,null,null,null,null,"PROCEDIMIENTOS POR TELEMEDICINA SOLICITADOS DESDE  NIVEL SECUNDARIO Y TERCIARIO Y RESUELTOS POR OTRO ESTABLECIMIENTO "]
[null,"MENORES DE 15 AÑOS ",null,"15 AÑOS Y MÁS",null,"MODALIDAD"]
[null,"Hombres","Mujeres","Hombres","Mujeres","Institucional","Compra de Servicio",null,"MENORES DE 15 AÑOS ",null,"15 AÑOS Y MÁS"]
[null,null,null,null,null,"Establecimiento de la Red","Sistema","Extrasistema","Hombres","Mujeres","Hombres","Mujeres"]
["TOTAL",{"$f":"SUM(B126:B129)","v":0},0,0,0,{"$f":"SUM(F126:F129)","v":0},0,0,0,0,0,0]
["ECOCARDIOGRAMA"]
["TROMBOLISIS DE URGENCIA INFARTO CEREBRAL (ACV)"]
["TROMBOLISIS INTRACORONARIA (IAM)"]
["ECOGRAFÍA GINECO-OBSTÉTRICA"]
["SECCIÓN F : TELECONSULTA ABREVIADA "]
["TIPO DE CONSULTA URGENCIA","MODALIDAD"]
[null,"Institucional","Compra de Servicio"]
[null,"Establecimiento de la Red","Sistema","Extrasistema"]
["TRATAMIENTO ANTICOAGULANTE ORAL "]
["OTROS"]
[]
[]
[]
[]
[]
[]
[]
[]
[]
[]
[]
[]
[]
[]
[]
[]
[]
[]
[]
[]
[]
[]
[]
[]
[]
[]
[]
[]
[]
[]
[]
[]
[]
[]
[]
[]
[]
[]
[]
[]
[]
[]
[]
[]
[]
[{"$f":"SUM(B17:AA17,B84:L84,B90:O90, B108:T108,B125:L125)","v":0},0]

{"sheet":"A31","index":22,"n_rows":175,"n_cols":87,"rows_kept":175,"cut":false,"hidden":false,"merged":[[80,0,80,1],[81,0,81,1],[82,0,82,1],[83,0,83,1],[84,0,84,1],[71,0,71,1],[72,0,72,1],[74,0,74,1],[75,0,75,1],[73,0,73,1],[76,0,76,1],[77,0,77,1],[78,0,78,1],[68,20,70,20],[66,0,66,1],[68,0,70,1],[68,2,70,2],[68,3,69,5],[68,6,68,13],[68,14,70,14],[69,6,69,7],[69,8,69,9],[69,10,69,11],[69,12,69,13],[68,15,70,15],[68,16,70,16],[68,17,70,17],[68,18,70,18],[68,19,70,19],[64,0,64,1],[30,4,31,4],[30,5,30,31],[48,0,49,1],[48,2,49,2],[48,3,49,3],[48,4,49,4],[48,5,49,5],[48,6,48,32],[30,3,31,3],[50,0,50,1],[51,0,51,1],[52,0,52,1],[9,44,11,44],[53,0,53,1],[59,0,59,1],[15,0,27,0],[28,0,28,1],[30,0,31,0],[30,1,31,1],[10,35,10,36],[30,2,31,2],[12,0,14,0],[9,47,11,47],[9,48,11,48],[10,5,10,6],[10,7,10,8],[10,9,10,10],[10,11,10,12],[10,13,10,14],[10,15,10,16],[10,17,10,18],[10,19,10,20],[9,41,11,41],[9,42,11,42],[9,43,11,43],[10,37,10,38],[9,45,11,45],[9,46,11,46],[6,0,6,19],[9,0,11,1],[9,2,10,4],[9,5,9,38],[9,39,11,39],[9,40,11,40],[10,21,10,22],[10,23,10,24],[10,25,10,26],[10,27,10,28],[10,29,10,30],[10,31,10,32],[10,33,10,34]]}
["SERVICIO DE SALUD"]
[{"$f":"CONCATENATE(\"COMUNA: \",NOMBRE!B2,\" - \",\"( \",NOMBRE!C2,NOMBRE!D2,NOMBRE!E2,NOMBRE!F2,NOMBRE!G2,\" )\")","v":"COMUNA:  - (  )"}]
[{"$f":"CONCATENATE(\"ESTABLECIMIENTO/ESTRATEGIA: \",NOMBRE!B3,\" - \",\"( \",NOMBRE!C3,NOMBRE!D3,NOMBRE!E3,NOMBRE!F3,NOMBRE!G3,NOMBRE!H3,\" )\")","v":"ESTABLECIMIENTO/ESTRATEGIA:  - (  )"}]
[{"$f":"CONCATENATE(\"MES: \",NOMBRE!B6,\" - \",\"( \",NOMBRE!C6,NOMBRE!D6,\" )\")","v":"MES:  - (  )"}]
[{"$f":"CONCATENATE(\"AÑO: \",NOMBRE!B7)","v":"AÑO: 2020"}]
[]
["REM-31.  MEDICINA COMPLEMENTARIA Y PRÁCTICAS DE BIENESTAR DE LA SALUD"]
[]
["SECCIÓN A: TIPOS DE MEDICINA COMPLEMENTARIA Y PRÁCTICAS DE BIENESTAR DE LA SALUD ENTREGADAS EN ATENCIÓN INDIVIDUAL"]
["TIPO DE MEDICINA COMPLEMENTARIA O PRÁCTICA DE BIENESTAR DE LA SALUD",null,"Total",null,null,"POR EDAD ",null,null,null,null,null,null,null,null,null,null,null,null,null,null,null,null,null,null,null,null,null,null,null,null,null,null,null,null,null,null,null,null,null,"Atenciones realizadas durante otras consultas","Beneficiarios","Pueblos Originarios","Migrantes","Niños, Niñas, Adolescentes y Jóvenes población SENAME","Ingresos a Medicina Complementaria","Controles","Pacientes","Familiares / Cuidadores de los pacientes","Funcionarios"]
[null,null,null,null,null," 0  -  4",null," 5  -  9",null," 10 - 14  ",null,"15 a 19",null,"20 - 24",null,"25 - 29",null,"30 - 34",null,"35 - 39",null,"40 - 44",null,"45 - 49",null,"50 - 54",null,"55 - 59",null,"60 - 64",null,"65 - 69",null,"70 - 74",null,"75 - 79",null,"80 y mas"]
[null,null,"Ambos Sexos","Hombres","Mujeres","Hombres","Mujeres","Hombres","Mujeres","Hombres","Mujeres","Hombres","Mujeres","Hombres","Mujeres","Hombres","Mujeres","Hombres","Mujeres","Hombres","Mujeres","Hombres","Mujeres","Hombres","Mujeres","Hombres","Mujeres","Hombres","Mujeres","Hombres","Mujeres","Hombres","Mujeres","Hombres","Mujeres","Hombres","Mujeres","Hombres","Mujeres"]
["Reguladas","Acupuntura",{"$f":"+D13+E13","v":0},{"$f":"+F13+H13+J13+L13+N13+P13+R13+T13+V13+X13+Z13+AB13+AD13+AF13+AH13+AJ13+AL13","v":0},{"$f":"+G13+I13+K13+M13+O13+Q13+S13+U13+W13+Y13+AA13+AC13+AE13+AG13+AI13+AK13+AM13","v":0},null,null,null,null,null,null,null,null,null,null,null,null,null,null,null,null,null,null,null,null,null,null,null,null,null,null,null,null,null,null,null,null,null,null,null,null,null,null,null,null,null,null,null,null,{"$f":"CA13&CB13&CC13","v":""},null,null,null,null,null,null,null,null,null,null,null,null,null,null,null,null,null,null,null,null,null,null,null,null,null,null,null,null,{"$f":"IF(CG13=1,\"* No olvide digitar la columna Beneficiarios y/o Pueblos Originario y/o Migrantes y/o Población SENAME (Digite Cero si no tiene). \",\"\")","v":""},{"$f":"IF(CH13=1,\"* El número de Beneficiarios y/o Pueblos Originarios y/o Migrantes y/o Población SENAME NO DEBE ser mayor que el Total.\",\"\")","v":""},{"$f":"IF(CI13=1,\"* La suma de Pacientes, Familiares/Cuidadores de los pacientes y Funcionarios debe ser mayor o igual al Total. \",\"\")","v":""},null,null,null,{"$f":"IF(AND(C13<>0,OR(AO13=\"\",AP13=\"\",AQ13=\"\",AR13=\"\")),1,0)","v":0},{"$f":"IF(OR(C13<AO13,C13<AP13,C13<AQ13,C13<AR13),1,0)","v":0},{"$f":"IF(C13>(AU13+AV13+AW13),1,0)","v":0}]
[null,"Homeopatía",{"$f":"+D14+E14","v":0},{"$f":"+F14+H14+J14+L14+N14+P14+R14+T14+V14+X14+Z14+AB14+AD14+AF14+AH14+AJ14+AL14","v":0},0,null,null,null,null,null,null,null,null,null,null,null,null,null,null,null,null,null,null,null,null,null,null,null,null,null,null,null,null,null,null,null,null,null,null,null,null,null,null,null,null,null,null,null,null,{"$f":"CA14&CB14&CC14","v":""},null,null,null,null,null,null,null,null,null,null,null,null,null,null,null,null,null,null,null,null,null,null,null,null,null,null,null,null,{"$f":"IF(CG14=1,\"* No olvide digitar la columna Beneficiarios y/o Pueblos Originario y/o Migrantes y/o Población SENAME (Digite Cero si no tiene). \",\"\")","v":""},{"$f":"IF(CH14=1,\"* El número de Beneficiarios y/o Pueblos Originarios y/o Migrantes y/o Población SENAME NO DEBE ser mayor que el Total.\",\"\")","v":""},{"$f":"IF(CI14=1,\"* La suma de Pacientes, Familiares/Cuidadores de los pacientes y Funcionarios debe ser mayor o igual al Total. \",\"\")","v":""},null,null,null,{"$f":"IF(AND(C14<>0,OR(AO14=\"\",AP14=\"\",AQ14=\"\",AR14=\"\")),1,0)","v":0},{"$f":"IF(OR(C14<AO14,C14<AP14,C14<AQ14,C14<AR14),1,0)","v":0},{"$f":"IF(C14>(AU14+AV14+AW14),1,0)","v":0}]
[null,"Naturopatía",0,0,0,null,null,null,null,null,null,null,null,null,null,null,null,null,null,null,null,null,null,null,null,null,null,null,null,null,null,null,null,null,null,null,null,null,null,null,null,null,null,null,null,null,null,null,null,"",null,null,null,null,null,null,null,null,null,null,null,null,null,null,null,null,null,null,null,null,null,null,null,null,null,null,null,null,"","","",null,null,null,0,0,0]
["No reguladas","Apiterapia",0,0,0,null,null,null,null,null,null,null,null,null,null,null,null,null,null,null,null,null,null,null,null,null,null,null,null,null,null,null,null,null,null,null,null,null,null,null,null,null,null,null,null,null,null,null,null,"",null,null,null,null,null,null,null,null,null,null,null,null,null,null,null,null,null,null,null,null,null,null,null,null,null,null,null,null,"","","",null,null,null,0,0,0]
[null,"Aurículoterapia",0,0,0,null,null,null,null,null,null,null,null,null,null,null,null,null,null,null,null,null,null,null,null,null,null,null,null,null,null,null,null,null,null,null,null,null,null,null,null,null,null,null,null,null,null,null,null,"",null,null,null,null,null,null,null,null,null,null,null,null,null,null,null,null,null,null,null,null,null,null,null,null,null,null,null,null,"","","",null,null,null,0,0,0]
[null,"Biomagnetismo",0,{"$f":"+F18+H18+J18+L18+N18+P18+R18+T18+V18+X18+Z18+AB18+AD18+AF18+AH18+AJ18+AL18","v":0},0,null,null,null,null,null,null,null,null,null,null,null,null,null,null,null,null,null,null,null,null,null,null,null,null,null,null,null,null,null,null,null,null,null,null,null,null,null,null,null,null,null,null,null,null,"",null,null,null,null,null,null,null,null,null,null,null,null,null,null,null,null,null,null,null,null,null,null,null,null,null,null,null,null,"","","",null,null,null,0,0,0]
[null,"Fitoterapia ",0,0,0,null,null,null,null,null,null,null,null,null,null,null,null,null,null,null,null,null,null,null,null,null,null,null,null,null,null,null,null,null,null,null,null,null,null,null,null,null,null,null,null,null,null,null,null,"",null,null,null,null,null,null,null,null,null,null,null,null,null,null,null,null,null,null,null,null,null,null,null,null,null,null,null,null,"","","",null,null,null,0,0,0]
[null,"Masoterapia",0,0,0,null,null,null,null,null,null,null,null,null,null,null,null,null,null,null,null,null,null,null,null,null,null,null,null,null,null,null,null,null,null,null,null,null,null,null,null,null,null,null,null,null,null,null,null,"",null,null,null,null,null,null,null,null,null,null,null,null,null,null,null,null,null,null,null,null,null,null,null,null,null,null,null,null,"","","",null,null,null,0,0,0]
[null,"Medicina Antroposófica",0,0,0,null,null,null,null,null,null,null,null,null,null,null,null,null,null,null,null,null,null,null,null,null,null,null,null,null,null,null,null,null,null,null,null,null,null,null,null,null,null,null,null,null,null,null,null,"",null,null,null,null,null,null,null,null,null,null,null,null,null,null,null,null,null,null,null,null,null,null,null,null,null,null,null,null,"","","",null,null,null,0,0,0]
[null,"Quiropraxia",0,0,0,null,null,null,null,null,null,null,null,null,null,null,null,null,null,null,null,null,null,null,null,null,null,null,null,null,null,null,null,null,null,null,null,null,null,null,null,null,null,null,null,null,null,null,null,"",null,null,null,null,null,null,null,null,null,null,null,null,null,null,null,null,null,null,null,null,null,null,null,null,null,null,null,null,"","","",null,null,null,0,0,0]
[null,"Reiki",0,0,0,null,null,null,null,null,null,null,null,null,null,null,null,null,null,null,null,null,null,null,null,null,null,null,null,null,null,null,null,null,null,null,null,null,null,null,null,null,null,null,null,null,null,null,null,"",null,null,null,null,null,null,null,null,null,null,null,null,null,null,null,null,null,null,null,null,null,null,null,null,null,null,null,null,"","","",null,null,null,0,0,0]
[null,"Sanación Pránica ",0,0,0,null,null,null,null,null,null,null,null,null,null,null,null,null,null,null,null,null,null,null,null,null,null,null,null,null,null,null,null,null,null,null,null,null,null,null,null,null,null,null,null,null,null,null,null,"",null,null,null,null,null,null,null,null,null,null,null,null,null,null,null,null,null,null,null,null,null,null,null,null,null,null,null,null,"","","",null,null,null,0,0,0]
[null,"Sintergética",0,0,0,null,null,null,null,null,null,null,null,null,null,null,null,null,null,null,null,null,null,null,null,null,null,null,null,null,null,null,null,null,null,null,null,null,null,null,null,null,null,null,null,null,null,null,null,"",null,null,null,null,null,null,null,null,null,null,null,null,null,null,null,null,null,null,null,null,null,null,null,null,null,null,null,null,"","","",null,null,null,0,0,0]
[null,"Terapia Floral",0,0,0,null,null,null,null,null,null,null,null,null,null,null,null,null,null,null,null,null,null,null,null,null,null,null,null,null,null,null,null,null,null,null,null,null,null,null,null,null,null,null,null,null,null,null,null,"",null,null,null,null,null,null,null,null,null,null,null,null,null,null,null,null,null,null,null,null,null,null,null,null,null,null,null,null,"","","",null,null,null,0,0,0]
[null,"Terapia Neural",0,0,0,null,null,null,null,null,null,null,null,null,null,null,null,null,null,null,null,null,null,null,null,null,null,null,null,null,null,null,null,null,null,null,null,null,null,null,null,null,null,null,null,null,null,null,null,"",null,null,null,null,null,null,null,null,null,null,null,null,null,null,null,null,null,null,null,null,null,null,null,null,null,null,null,null,"","","",null,null,null,0,0,0]
[null,"Otras",0,0,0,null,null,null,null,null,null,null,null,null,null,null,null,null,null,null,null,null,null,null,null,null,null,null,null,null,null,null,null,null,null,null,null,null,null,null,null,null,null,null,null,null,null,null,null,"",null,null,null,null,null,null,null,null,null,null,null,null,null,null,null,null,null,null,null,null,null,null,null,null,null,null,null,null,{"$f":"IF(CG28=1,\"* No olvide digitar la columna Beneficiarios y/o Pueblos Originario y/o Migrantes y/o Población SENAME (Digite Cero si no tiene). \",\"\")","v":""},{"$f":"IF(CH28=1,\"* El número de Beneficiarios y/o Pueblos Originarios y/o Migrantes y/o Población SENAME NO DEBE ser mayor que el Total.\",\"\")","v":""},"",null,null,null,{"$f":"IF(AND(C28<>0,OR(AO28=\"\",AP28=\"\",AQ28=\"\",AR28=\"\")),1,0)","v":0},{"$f":"IF(OR(C28<AO28,C28<AP28,C28<AQ28,C28<AR28),1,0)","v":0},0]
["Total",null,{"$f":"SUM(D29:E29)","v":0},{"$f":"+F29+H29+J29+L29+N29+P29+R29+T29+V29+X29+Z29+AB29+AD29+AF29+AH29+AJ29+AL29","v":0},{"$f":"+G29+I29+K29+M29+O29+Q29+S29+U29+W29+Y29+AA29+AC29+AE29+AG29+AI29+AK29+AM29","v":0},{"$f":"SUM(F13:F28)","v":0},{"$f":"SUM(G13:G28)","v":0},{"$f":"SUM(H13:H28)","v":0},0,0,0,0,0,0,0,0,0,0,0,0,0,0,0,0,0,0,0,0,0,0,0,0,0,0,0,0,0,0,0,0,0,0,0,0,0,0,0,{"$f":"SUM(AV13:AV28)","v":0},0]
["SECCIÓN B: MEDICINA COMPLEMENTARIA Y PRÁCTICAS DE BIENESTAR DE LA SALUD EN ATENCIONES INDIVIDUALES O GRUPALES, SEGÚN PROFESIONAL "]
["PERFIL PROFESIONAL ","Total","Acupuntura","Homeopatía","Naturopatía","No reguladas"]
[null,null,null,null,null,"Apiterapia","Arte terapia","Aurículoterapia","Biodanza","Biomagnetismo","Qi Gong","Fitoterapia","Huertos Medicinales o Alimenticio/ Medicinales","Masoterapia","Medicina Antroposófica","Meditación ","Quiropraxia","Reiki","Sanación Pránica","Sintergética","Sonoterapia","Tai Chi ","Terapia Floral","Terapia Neural","Yoga","Constelaciones Familiares","Circulos de escucha","Musicoterapia","Danzaterapia","Dramaterapia","Otras Individuales","Otras Grupales"]
["Médico",{"$f":"SUM(C33:AF33)","v":0}]
["Odontólogo",{"$f":"SUM(C34:AF34)","v":0}]
["Enfermera (o)",{"$f":"SUM(C35:AF35)","v":0}]
["Matrona (on)",0]
["Psicólogo",0]
["Fonoaudiólogo",0]
["Kinesiólogo",0]
["Farmacéutico",0]
["Paramédico",0]
["Nutricionista",0]
["Tecnólogo Médico",0]
["Asistente Social",0]
["Terapeuta Ocupacional",0]
["Terapeuta Complementario",0]
["Total",{"$f":"SUM(B33:B46)","v":0},{"$f":"SUM(C33:C46)","v":0},{"$f":"SUM(D33:D46)","v":0},0,0,0,0," ",0,0,0,0,0,0,0,0,0,0,0,0,0,0,0,0,0,0,0,0,0,0,0]
["SECCIÓN C: ORIGEN DE LA ATENCIÓN CON MEDICINA COMPLEMENTARIA Y PRÁCTICAS DE BIENESTAR DE LA SALUD"]
["ORIGEN DE LA ATENCIÓN",null,"Total","Acupuntura","Homeopatía","Naturopatía","No reguladas"]
[null,null,null,null,null,null,"Apiterapia","Arte terapia","Aurículoterapia","Biodanza","Biomagnetismo","Qi Gong","Fitoterapia","Huertos Medicinales o Alimenticio/Medicinales","Masoterapia","Medicina Antroposófica","Meditación ","Quiropraxia","Reiki","Sanación Pránica","Sintergética","Sonoterapia","Tai Chi ","Terapia Floral","Terapia Neural","Yoga","Constelaciones Familiares","Circulos de escucha","Musicoterapia","Danzaterapia","Dramaterapia","Otras Individuales","Otras Grupales"]
["Consulta Espontánea",null,{"$f":"SUM(D51:AG51)","v":0}]
["Derivado desde Morbilidad",null,{"$f":"SUM(D52:AG52)","v":0}]
["Derivado desde Especialidad",null,0]
["Paciente Hospitalizado",null,0]
["Programa Crónicos Cardiovascular",null,0]
["Otros programas de crónicos",null,0]
["Programa de Salud Mental",null,0]
["Programa de Salud Oral",null,0]
["Programa de Salud sexual y reproductiva ",null,0]
["Chile Crece Contigo/Programa Infantil",null,0]
["Programa de Cáncer (QT/RT)",null,0]
["Programa de Dependencia  severa",null,0]
["Programa de Hospitalización Domiciliaria",null,0]
["Programa de Rehabilitación física",null,0]
["Programa de Cuidados Paliativos y Manejo del Dolor",null,0]
["Otros programas",null,0]
["Total",null,{"$f":"SUM(C51:C66)","v":0},{"$f":"SUM(D51:D66)","v":0},{"$f":"SUM(E51:E66)","v":0},{"$f":"SUM(F51:F66)","v":0},0,0,0,0,0,0,0,0,0,0,0,0,0,0,0,0,0,0,0,0,0,0,0,{"$f":"SUM(AD51:AD66)","v":0},0,0,0]
["SECCIÓN D: TIPOS DE MEDICINA COMPLEMENTARIA Y PRÁCTICAS DE BIENESTAR DE LA SALUD ENTREGADAS EN ATENCION GRUPAL Y COMUNITARIA"]
["TIPO DE  MEDICINA COMPLEMENTARIA O PRÁCTICA DE BIENESTAR DE LA SALUD",null,"Total de sesiones grupales","Nº de participantes",null,null,"PARTICIPANTES POR EDAD ",null,null,null,null,null,null,null,"Pacientes","Familiares / Cuidadores de los pacientes","Funcionarios","Beneficiarios","Pueblos Originarios","Migrantes","Niños, Niñas, Adolescentes y Jóvenes población SENAME"]
[null,null,null,null,null,null,"Menor de 10 años",null,"10-19 años",null,"20-64 años",null,"Mayor de 64 años"]
[null,null,null,"Ambos Sexos","Hombres","Mujeres","Hombres","Mujeres","Hombres","Mujeres","Hombres","Mujeres","Hombres","Mujeres"]
["Arte terapia",null,null,{"$f":"SUM(E72:F72)","v":0},{"$f":"SUM(G72+I72+K72+M72)","v":0},{"$f":"SUM(H72+J72+L72+N72)","v":0},null,null,null,null,null,null,null,null,null,null,null,null,null,null,null,{"$f":"CA72&CC72&CB72","v":""},null,null,null,null,null,null,null,null,null,null,null,null,null,null,null,null,null,null,null,null,null,null,null,null,null,null,null,null,null,null,null,null,null,null,null,null,null,null,null,null,null,null,null,null,null,null,null,null,null,null,null,null,null,null,null,null,{"$f":"IF(CG72=1,\"* No olvide digitar la columna Pacientes y/o Familiares y/o Funcionarios y/o Beneficiarios y/o Pueblos Originario y/o Migrantes y/o Población SENAME (Digite Cero si no tiene). \",\"\")","v":""},{"$f":"IF(CH72=1,\"* El número de Beneficiarios y/o Pueblos Originarios y/o Migrantes y/o Población SENAME NO DEBE ser mayor que el Total. \",\"\")","v":""},{"$f":"IF(CI72=1,\"* La suma de Pacientes, Familiares/Cuidadores de los pacientes y Funcionarios debe ser mayor o igual al Total de Participantes.\",\"\")","v":""},null,null,null,{"$f":"IF(AND(D72<>0,OR(R72=\"\",O72=\"\",P72=\"\",Q72=\"\",R72=\"\",S72=\"\",T72=\"\")),1,0)","v":0},{"$f":"IF(OR(D72<R72,D72<S72,D72<T72),1,0)","v":0},{"$f":"IF(D72>(O72+P72+Q72),1,0)","v":0}]
["Biodanza",null,null,{"$f":"SUM(E73:F73)","v":0},{"$f":"SUM(G73+I73+K73+M73)","v":0},{"$f":"SUM(H73+J73+L73+N73)","v":0},null,null,null,null,null,null,null,null,null,null,null,null,null,null,null,{"$f":"CA73&CC73&CB73","v":""},null,null,null,null,null,null,null,null,null,null,null,null,null,null,null,null,null,null,null,null,null,null,null,null,null,null,null,null,null,null,null,null,null,null,null,null,null,null,null,null,null,null,null,null,null,null,null,null,null,null,null,null,null,null,null,null,{"$f":"IF(CG73=1,\"* No olvide digitar la columna Pacientes y/o Familiares y/o Funcionarios y/o Beneficiarios y/o Pueblos Originario y/o Migrantes y/o Población SENAME (Digite Cero si no tiene). \",\"\")","v":""},{"$f":"IF(CH73=1,\"* El número de Beneficiarios y/o Pueblos Originarios y/o Migrantes y/o Población SENAME NO DEBE ser mayor que el Total. \",\"\")","v":""},{"$f":"IF(CI73=1,\"* La suma de Pacientes, Familiares/Cuidadores de los pacientes y Funcionarios debe ser mayor o igual al Total de Participantes.\",\"\")","v":""},null,null,null,{"$f":"IF(AND(D73<>0,OR(R73=\"\",O73=\"\",P73=\"\",Q73=\"\",R73=\"\",S73=\"\",T73=\"\")),1,0)","v":0},{"$f":"IF(OR(D73<R73,D73<S73,D73<T73),1,0)","v":0},{"$f":"IF(D73>(O73+P73+Q73),1,0)","v":0}]
["Huertos Medicinales o Alimenticio/Medicinales",null,null,0,0,0,null,null,null,null,null,null,null,null,null,null,null,null,null,null,null,"",null,null,null,null,null,null,null,null,null,null,null,null,null,null,null,null,null,null,null,null,null,null,null,null,null,null,null,null,null,null,null,null,null,null,null,null,null,null,null,null,null,null,null,null,null,null,null,null,null,null,null,null,null,null,null,null,{"$f":"IF(CG74=1,\"* No olvide digitar la columna Pacientes y/o Familiares y/o Funcionarios y/o Beneficiarios y/o Pueblos Originario y/o Migrantes y/o Población SENAME (Digite Cero si no tiene). \",\"\")","v":""},{"$f":"IF(CH74=1,\"* El número de Beneficiarios y/o Pueblos Originarios y/o Migrantes y/o Población SENAME NO DEBE ser mayor que el Total. \",\"\")","v":""},"",null,null,null,0,0,0]
["Meditación",null,null,0,0,0,null,null,null,null,null,null,null,null,null,null,null,null,null,null,null,"",null,null,null,null,null,null,null,null,null,null,null,null,null,null,null,null,null,null,null,null,null,null,null,null,null,null,null,null,null,null,null,null,null,null,null,null,null,null,null,null,null,null,null,null,null,null,null,null,null,null,null,null,null,null,null,null,"","","",null,null,null,0,0,0]
["Sonoterapia",null,null,{"$f":"SUM(E76:F76)","v":0},0,0,null,null,null,null,null,null,null,null,null,null,null,null,null,null,null,"",null,null,null,null,null,null,null,null,null,null,null,null,null,null,null,null,null,null,null,null,null,null,null,null,null,null,null,null,null,null,null,null,null,null,null,null,null,null,null,null,null,null,null,null,null,null,null,null,null,null,null,null,null,null,null,null,"","","",null,null,null,0,0,0]
["Tai Chi",null,null,0,0,0,null,null,null,null,null,null,null,null,null,null,null,null,null,null,null,"",null,null,null,null,null,null,null,null,null,null,null,null,null,null,null,null,null,null,null,null,null,null,null,null,null,null,null,null,null,null,null,null,null,null,null,null,null,null,null,null,null,null,null,null,null,null,null,null,null,null,null,null,null,null,null,null,"","","",null,null,null,0,0,0]
["Yoga",null,null,0,0,0,null,null,null,null,null,null,null,null,null,null,null,null,null,null,null,"",null,null,null,null,null,null,null,null,null,null,null,null,null,null,null,null,null,null,null,null,null,null,null,null,null,null,null,null,null,null,null,null,null,null,null,null,null,null,null,null,null,null,null,null,null,null,null,null,null,null,null,null,null,null,null,null,"","","",null,null,null,0,0,0]
["Constelaciones familiares",null,null,0,0,0,null,null,null,null,null,null,null,null,null,null,null,null,null,null,null,"",null,null,null,null,null,null,null,null,null,null,null,null,null,null,null,null,null,null,null,null,null,null,null,null,null,null,null,null,null,null,null,null,null,null,null,null,null,null,null,null,null,null,null,null,null,null,null,null,null,null,null,null,null,null,null,null,"","","",null,null,null,0,0,0]
["Cìrculos de Escucha",null,null,{"$f":"SUM(E80:F80)","v":0},0,0,null,null,null,null,null,null,null,null,null,null,null,null,null,null,null,"",null,null,null,null,null,null,null,null,null,null,null,null,null,null,null,null,null,null,null,null,null,null,null,null,null,null,null,null,null,null,null,null,null,null,null,null,null,null,null,null,null,null,null,null,null,null,null,null,null,null,null,null,null,null,null,null,"","","",null,null,null,0,0,0]
["Qi Gong",null,null,0,0,0,null,null,null,null,null,null,null,null,null,null,null,null,null,null,null,"",null,null,null,null,null,null,null,null,null,null,null,null,null,null,null,null,null,null,null,null,null,null,null,null,null,null,null,null,null,null,null,null,null,null,null,null,null,null,null,null,null,null,null,null,null,null,null,null,null,null,null,null,null,null,null,null,"","","",null,null,null,0,0,0]
["Danzaterapia",null,null,0,0,0,null,null,null,null,null,null,null,null,null,null,null,null,null,null,null,"",null,null,null,null,null,null,null,null,null,null,null,null,null,null,null,null,null,null,null,null,null,null,null,null,null,null,null,null,null,null,null,null,null,null,null,null,null,null,null,null,null,null,null,null,null,null,null,null,null,null,null,null,null,null,null,null,"","","",null,null,null,0,0,0]
["Musicoterapia",null,null,0,0,0,null,null,null,null,null,null,null,null,null,null,null,null,null,null,null,"",null,null,null,null,null,null,null,null,null,null,null,null,null,null,null,null,null,null,null,null,null,null,null,null,null,null,null,null,null,null,null,null,null,null,null,null,null,null,null,null,null,null,null,null,null,null,null,null,null,null,null,null,null,null,null,null,"","","",null,null,null,0,0,0]
["Dramaterapia",null,null,0,0,0,null,null,null,null,null,null,null,null,null,null,null,null,null,null,null,"",null,null,null,null,null,null,null,null,null,null,null,null,null,null,null,null,null,null,null,null,null,null,null,null,null,null,null,null,null,null,null,null,null,null,null,null,null,null,null,null,null,null,null,null,null,null,null,null,null,null,null,null,null,null,null,null,"","","",null,null,null,0,0,0]
["Otras",null,null,0,0,0,null,null,null,null,null,null,null,null,null,null,null,null,null,null,null,"",null,null,null,null,null,null,null,null,null,null,null,null,null,null,null,null,null,null,null,null,null,null,null,null,null,null,null,null,null,null,null,null,null,null,null,null,null,null,null,null,null,null,null,null,null,null,null,null,null,null,null,null,null,null,null,null,"","","",null,null,null,0,0,0]
["Total",null,{"$f":"SUM(C72:C85)","v":0},{"$f":"SUM(E86:F86)","v":0},{"$f":"SUM(E72:E85)","v":0},0,{"$f":"SUM(G72:G85)","v":0},0,0,0,0,0,0,0,0,0,0,0,0,0,0]
[]
[]
[]
[]
[]
[]
[]
[]
[]
[]
[]
[]
[]
[]
[]
[]
[]
[]
[]
[]
[]
[]
[]
[]
[]
[]
[]
[]
[]
[]
[]
[]
[]
[]
[]
[]
[]
[]
[]
[]
[]
[]
[]
[]
[]
[]
[]
[]
[]
[]
[]
[]
[]
[]
[]
[]
[]
[]
[]
[]
[]
[]
[]
[]
[]
[]
[]
[]
[]
[]
[]
[]
[]
[]
[]
[]
[]
[]
[]
[]
[]
[]
[]
[]
[]
[]
[]
[]
[{"$f":"SUM(C29:AQ29,B33:B47, C51:C67,D72:D86)","v":0},{"$f":"SUM(CG12:CH68)","v":0}]

{"sheet":"Contro","index":23,"n_rows":31,"n_cols":24,"rows_kept":31,"cut":false,"hidden":false,"merged":[]}
[null,null,"NUMERO DE ERRORES  SEGÚN:"]
[null,null,"A.- DIFERENCIAS ENTRE TOTAL Y BENEFICIARIO "]
[null,null,"B.- ENTRE TOTAL Y DESGLOSE SEGÚN SEXO"]
[null,null,"C.- ENTRE EVALUACIONES Y RESULTADOS, INGRESOS A PROGRAMAS Y APLICACIÓN DE INSTRUMENTOS, ETC."]
[null,null,{"$f":"CONCATENATE(\"ESTABLECIMIENTO/ESTRATEGIA: \",NOMBRE!$B$3,\" - \",\"( \",NOMBRE!$C$3,NOMBRE!$D$3,NOMBRE!$E$3,NOMBRE!$F$3,NOMBRE!$G$3,NOMBRE!$H$3,NOMBRE!$I$3,\" )\")","v":"ESTABLECIMIENTO/ESTRATEGIA:  - ( Falta Cód. Est. )"}]
[null,null,"REM","Nº ERRORES","JUSTIFICAR ERRORES (indicar)","REM\nSIN DATOS","CAUSAL","OTRA CAUSAL (indicar)"]
[null,null,"HOJA NOMBRE",{"$f":"NOMBRE!AG7","v":5},null,null,null,null,null,null,null,null,null,null,null,null,null,null,null,null,null,null,null,"Licencia médica"]
[null,null,"REMA01",{"$f":"'A01'!B186","v":0},null,{"$f":"IF('A01'!A$186>0,\"\",\"SIN DATOS\")","v":"SIN DATOS"},null,null,null,null,null,null,null,null,null,null,null,null,null,null,null,null,null,"Feriado Legal"]
[null,null,"REMA02",{"$f":"+'A02'!B195","v":0},null,{"$f":"IF('A02'!A$195>0,\"\",\"SIN DATOS\")","v":"SIN DATOS"},null,null,null,null,null,null,null,null,null,null,null,null,null,null,null,null,null,"No hubo profesional"]
[null,null,"REMA03",{"$f":"+'A03'!B251","v":0},null,{"$f":"IF('A03'!A251>0,\"\",\"SIN DATOS\")","v":"SIN DATOS"},null,null,null,null,null,null,null,null,null,null,null,null,null,null,null,null,null,"No corresponde REM"]
[null,null,"REMA04",{"$f":"+'A04'!B208","v":0},null,{"$f":"IF('A04'!A208>0,\"\",\"SIN DATOS\")","v":"SIN DATOS"},null,null,null,null,null,null,null,null,null,null,null,null,null,null,null,null,null,"Otra causa justificada"]
[null,null,"REMA05",{"$f":"+'A05'!B315","v":0},null,{"$f":"IF('A05'!A315>0,\"\",\"SIN DATOS\")","v":"SIN DATOS"}]
[null,null,"REMA06",{"$f":"+'A06'!B172","v":0},null,{"$f":"IF('A06'!A172>0,\"\",\"SIN DATOS\")","v":"SIN DATOS"}]
[null,null,"REMA07",{"$f":"+'A07'!B193","v":0},null,{"$f":"IF('A07'!A193>0,\"\",\"SIN DATOS\")","v":"SIN DATOS"}]
[null,null,"REMA08",{"$f":"'A08'!B199","v":0},null,{"$f":"IF('A08'!A199>0,\"\",\"SIN DATOS\")","v":{"$error":"#REF!"}}]
[null,null,"REMA09",{"$f":"'A09'!B349","v":0},null,{"$f":"IF('A09'!A349>0,\"\",\"SIN DATOS\")","v":"SIN DATOS"}]
[null,null,"REMA11",{"$f":"'A11'!B283","v":0},null,{"$f":"IF('A11'!A283>0,\"\",\"SIN DATOS\")","v":"SIN DATOS"}]
[null,null,"REMA19-a",{"$f":"A19a!B194","v":0},null,{"$f":"IF(A19a!A194>0,\"\",\"SIN DATOS\")","v":"SIN DATOS"}]
[null,null,"REMA19-b",{"$f":"A19b!B195","v":0},null,{"$f":"IF(A19b!A195>0,\"\",\"SIN DATOS\")","v":"SIN DATOS"}]
[null,null,"REMA21",{"$f":"'A21'!B197","v":0},null,{"$f":"IF('A21'!A197>0,\"\",\"SIN DATOS\")","v":"SIN DATOS"}]
[null,null,"REMA23",{"$f":"'A23'!B197","v":0},null,{"$f":"IF('A23'!A197>0,\"\",\"SIN DATOS\")","v":"SIN DATOS"}]
[null,null,"REMA24",{"$f":"+'A24'!B200","v":0},null,{"$f":"IF('A24'!A200>0,\"\",\"SIN DATOS\")","v":"SIN DATOS"}]
[null,null,"REMA25",{"$f":"+'A25'!B195","v":0},null,{"$f":"IF('A25'!A195>0,\"\",\"SIN DATOS\")","v":"SIN DATOS"}]
[null,null,"REMA26",{"$f":"+'A26'!B194","v":0},null,{"$f":"IF('A26'!A194>0,\"\",\"SIN DATOS\")","v":"SIN DATOS"}]
[null,null,"REMA27",{"$f":"+'A27'!B199","v":0},null,{"$f":"IF('A27'!A$199>0,\"\",\"SIN DATOS\")","v":"SIN DATOS"}]
[null,null,"REMA28",{"$f":"+'A28'!B400","v":0},null,{"$f":"IF('A28'!A400>0,\"\",\"SIN DATOS\")","v":"SIN DATOS"}]
[null,null,"REMA29",{"$f":"+'A29'!B228","v":0},null,{"$f":"IF('A29'!A$228>0,\"\",\"SIN DATOS\")","v":"SIN DATOS"}]
[null,null,"REMA30",{"$f":"'A30 '!B181","v":0},null,{"$f":"IF('A30 '!A181>0,\"\",\"SIN DATOS\")","v":"SIN DATOS"}]
[null,null,"REMA31",{"$f":"+'A31'!B175","v":0},null,{"$f":"IF('A31'!A$175>0,\"\",\"SIN DATOS\")","v":"SIN DATOS"}]
[]
[null,null,"TOTAL",{"$f":"SUM(D7:D29)","v":5}]

{"sheet":"MACROS","index":24,"n_rows":10,"n_cols":2,"rows_kept":10,"cut":false,"hidden":false,"merged":[[0,0,0,13],[6,1,7,7]]}
["Hoja de Macros y Utilidades"]
[]
[{"$f":"CONCATENATE(\"ESTABLECIMIENTO/ESTRATEGIA: \",NOMBRE!B3,\" - \",\"( \",NOMBRE!C3,NOMBRE!D3,NOMBRE!E3,NOMBRE!F3,NOMBRE!G3,NOMBRE!H3,\" )\")","v":"ESTABLECIMIENTO/ESTRATEGIA:  - (  )"}]
[]
[null,"CREA UNA COPIA  DEL ARCHIVO  (TRANFORMA HOJAS A VALORES)"]
[]
[null,{"$f":"IF(Contro!D31>0,\"ANTES DE EJECUTAR SUS MACROS REVISE LA HOJA CONTROL, EXISTEN ERRORES\",\"\")","v":"ANTES DE EJECUTAR SUS MACROS REVISE LA HOJA CONTROL, EXISTEN ERRORES"}]
[]
[]
[null,"Contraseña para copia del archivo :DEIS"]